{"text_format":"1","workbook":"xlsx","n_sheets":35,"sheets":["Datos2018","Control","F3A","F3AR","F3B","F3BR","F3_Inmunizaciones","F3_Anexo_Vivienda","Piramide","FORTIN BELGRANO","SAN PATRICIO","LAS PALOMAS","EL GRITAO","LOS BALDES","POZO EL CHAÑAR","EL TALAR","Kilometro 2","PLUMA DE PATO","Buena Vista","LA MORA","CAPITAN PAGE","SAN NICOLAS","MATADERO","VILLA PRIMAVERA","LA CORTADA","CHAÑAR 2","1 DE MAYO","VILLA LAS ROSAS","JUAN PABLO II","40 VIVIENDAS","LA REPRESA","SAN PANTALEON","ROBERTO ROMERO","SAN LORENZO","Sector__"],"not_rendered":{"charts":1,"images":0,"macros":1,"external_links":0,"defined_names":9,"comments":0,"pivot_tables":0},"unopened":[],"bounds":{"document_bytes":16777216,"sheet_cells":100000,"rows_first":2000,"rows_last":500,"rows_between":2000,"halvings":0,"cell_chars":16384,"cell_head_chars":4096},"cells_cut":0,"cells_raw":0,"read":"whole","date_system":"1900"}

{"sheet":"Datos2018","index":0,"n_rows":147,"n_cols":90,"rows_kept":147,"cut":false,"hidden":true,"merged":[[2,67,2,79],[2,86,2,87],[3,8,3,23],[3,46,3,53],[3,56,3,57],[3,58,3,59],[3,60,3,61],[3,74,3,79],[3,84,3,87],[0,86,0,87],[1,8,1,9],[1,15,1,25],[1,46,1,53],[1,56,1,57],[1,58,1,59],[1,60,1,61],[1,67,1,84],[1,86,1,87],[0,27,3,45],[0,46,0,52],[0,56,0,57],[0,58,0,59],[0,60,0,61],[0,81,0,84],[2,46,2,53],[2,56,2,57],[2,58,2,59],[2,60,2,61],[6,0,6,89],[7,0,7,46],[7,47,7,89],[8,0,10,2],[8,3,10,5],[8,6,10,7],[8,8,8,16],[8,17,10,18],[8,19,10,20],[8,21,10,23],[4,54,4,61],[4,80,4,87],[5,8,5,24],[5,33,5,46],[5,57,5,67],[5,75,5,77],[5,82,5,87],[8,86,8,89],[9,8,10,9],[9,10,10,11],[9,12,10,13],[9,14,10,16],[9,26,10,27],[9,28,10,30],[9,37,10,40],[9,41,10,46],[9,47,10,48],[8,66,8,68],[8,69,8,72],[8,73,8,75],[8,76,8,79],[8,80,8,82],[8,83,8,85],[8,51,8,53],[8,54,8,55],[8,56,8,57],[8,58,8,59],[8,60,8,62],[8,63,8,65],[8,24,10,25],[8,26,8,30],[8,31,10,36],[8,37,8,46],[8,47,8,48],[8,49,8,50],[9,49,10,50],[11,0,14,2],[11,3,14,5],[11,6,14,7],[11,8,14,9],[11,10,14,11],[11,12,14,13],[12,69,12,74],[12,75,12,78],[12,79,12,80],[12,81,12,84],[12,85,12,89],[13,47,13,52],[13,53,13,57],[13,58,13,62],[13,63,13,68],[13,69,13,74],[11,28,14,30],[11,31,14,36],[9,86,9,89],[10,69,10,72],[10,73,10,74],[10,76,10,78],[10,81,10,82],[10,83,10,84],[10,86,10,89],[9,66,10,68],[9,69,9,72],[9,73,9,74],[9,76,9,78],[9,81,9,82],[9,83,9,84],[9,51,10,53],[9,54,10,55],[9,56,10,57],[9,58,10,59],[9,60,10,62],[9,63,10,65],[11,37,14,40],[11,41,14,46],[11,47,11,68],[11,69,11,89],[12,47,12,52],[12,53,12,57],[12,58,12,62],[12,63,12,68],[16,0,18,2],[16,3,18,5],[16,6,18,6],[16,7,18,7],[16,8,18,8],[16,9,18,9],[14,79,14,80],[14,81,14,84],[14,85,14,89],[15,0,15,5],[15,6,15,11],[15,12,15,19],[15,20,15,28],[15,29,15,65],[15,66,15,81],[15,82,15,89],[13,75,13,78],[13,79,13,80],[13,81,13,84],[13,85,13,89],[14,47,14,52],[14,53,14,57],[14,58,14,62],[14,63,14,68],[14,69,14,74],[14,75,14,78],[11,14,14,16],[11,17,14,18],[11,19,14,20],[11,21,14,23],[11,24,14,25],[11,26,14,27],[19,0,20,2],[19,3,20,5],[19,12,19,13],[19,14,19,15],[19,18,19,19],[19,20,19,21],[19,22,19,23],[17,37,20,38],[17,39,20,40],[17,41,20,42],[17,43,18,46],[17,47,18,50],[17,51,18,55],[19,51,20,52],[19,53,20,54],[19,55,20,55],[16,74,19,75],[17,16,18,16],[17,17,18,17],[17,22,18,23],[17,24,18,24],[17,25,18,26],[16,20,18,21],[16,22,16,28],[16,29,16,65],[16,66,19,67],[16,68,19,70],[16,71,19,73],[17,27,18,28],[17,29,20,31],[17,32,20,34],[17,35,20,36],[19,82,20,85],[19,86,20,89],[20,6,20,11],[20,12,20,19],[20,20,21,24],[20,25,21,28],[20,66,22,67],[20,68,22,70],[19,25,19,26],[19,27,19,28],[19,43,20,44],[19,45,20,46],[19,47,20,49],[19,50,20,50],[17,56,20,57],[17,58,18,62],[17,63,20,65],[16,76,19,78],[16,79,19,81],[16,82,18,85],[16,86,18,89],[16,10,18,10],[16,11,18,11],[16,12,18,13],[16,14,18,15],[16,16,16,17],[16,18,18,19],[21,63,21,65],[21,82,21,85],[21,86,21,89],[22,12,22,16],[22,17,22,19],[22,20,22,24],[22,25,22,28],[22,29,22,31],[22,32,22,34],[22,35,22,36],[21,47,21,49],[21,51,21,52],[21,53,21,54],[21,56,21,57],[21,58,21,60],[21,61,21,62],[21,35,21,36],[21,37,21,38],[21,39,21,40],[21,41,21,42],[21,43,21,44],[21,45,21,46],[20,71,22,73],[20,74,22,75],[20,76,22,78],[20,79,22,81],[21,12,21,16],[21,17,21,19],[21,29,21,31],[21,32,21,34],[19,58,20,60],[19,61,20,62],[22,82,22,85],[22,86,22,89],[23,0,23,89],[24,0,24,2],[24,3,24,5],[24,6,24,7],[24,8,24,9],[24,10,24,11],[24,12,24,14],[24,15,24,17],[22,51,22,52],[22,53,22,54],[22,56,22,57],[22,58,22,60],[22,61,22,62],[22,63,22,65],[22,37,22,38],[22,39,22,40],[22,41,22,42],[22,43,22,44],[22,45,22,46],[22,47,22,49],[21,0,22,2],[21,3,22,5],[24,86,25,87],[24,88,25,89],[25,0,25,1],[25,3,25,4],[25,12,25,13],[24,64,24,67],[24,68,24,71],[24,72,24,75],[24,76,24,79],[24,80,24,84],[24,85,25,85],[25,74,25,75],[25,76,25,78],[25,80,25,81],[25,82,25,84],[24,39,24,42],[24,43,24,46],[24,47,24,50],[24,51,24,54],[24,55,24,59],[24,60,24,63],[24,18,24,20],[24,21,24,24],[24,25,24,26],[24,27,24,29],[24,30,24,35],[24,36,24,38],[26,0,26,1],[26,3,26,4],[26,12,26,13],[26,15,26,16],[26,18,26,19],[26,21,26,22],[25,62,25,63],[25,64,25,65],[25,66,25,67],[25,68,25,69],[25,70,25,71],[25,72,25,73],[25,47,25,49],[25,51,25,52],[25,53,25,54],[25,55,25,57],[25,58,25,59],[25,60,25,61],[25,30,25,32],[25,33,25,35],[25,37,25,38],[25,39,25,40],[25,41,25,42],[25,43,25,45],[25,15,25,16],[25,18,25,19],[25,21,25,22],[25,23,25,24],[25,27,25,28],[26,74,26,75],[26,76,26,78],[26,80,26,81],[26,82,26,84],[26,58,26,59],[26,60,26,61],[26,62,26,63],[26,64,26,65],[26,66,26,67],[26,68,26,69],[26,41,26,42],[26,43,26,45],[26,47,26,49],[26,51,26,52],[26,53,26,54],[26,55,26,57],[26,23,26,24],[26,27,26,28],[26,30,26,32],[26,33,26,35],[26,37,26,38],[26,39,26,40],[27,64,27,67],[27,68,27,71],[27,72,27,75],[27,76,27,79],[27,80,27,84],[28,0,28,11],[28,12,28,17],[28,29,28,89],[27,39,27,42],[27,43,27,46],[27,47,27,50],[27,51,27,54],[27,55,27,59],[27,60,27,63],[27,18,27,20],[27,21,27,24],[27,25,27,26],[27,27,27,29],[27,30,27,35],[27,36,27,38],[26,85,27,85],[26,86,27,87],[26,88,27,89],[27,0,27,2],[27,3,27,5],[27,6,27,7],[27,8,27,9],[27,10,27,11],[27,12,27,14],[27,15,27,17],[26,70,26,71],[26,72,26,73],[30,24,30,25],[30,26,30,28],[31,0,31,1],[31,5,31,6],[31,7,31,8],[31,9,31,11],[31,12,32,15],[31,16,32,17],[31,18,31,23],[31,24,31,25],[29,26,29,28],[29,29,35,89],[30,0,30,2],[30,3,30,4],[30,5,30,6],[30,7,30,8],[30,9,30,11],[30,12,30,15],[30,16,30,17],[30,18,30,23],[29,0,29,4],[29,5,29,8],[29,9,29,11],[29,12,29,17],[29,18,29,23],[29,24,29,25],[33,9,33,11],[33,12,35,15],[33,16,35,17],[34,0,34,2],[34,3,34,4],[34,5,34,6],[34,7,34,8],[34,9,35,11],[31,26,31,28],[32,0,32,1],[32,5,32,6],[32,7,32,8],[32,9,32,11],[32,18,33,23],[32,24,33,25],[32,26,33,28],[33,0,33,4],[33,5,33,8],[38,4,39,7],[38,8,39,11],[38,12,38,19],[38,20,39,21],[38,22,39,23],[36,0,37,40],[36,41,36,68],[36,69,36,89],[37,41,37,46],[37,47,37,58],[37,59,37,68],[37,69,37,79],[37,80,39,81],[37,82,39,85],[37,86,39,89],[34,18,35,23],[34,24,35,28],[35,0,35,2],[35,3,35,4],[35,5,35,6],[35,7,35,8],[40,0,41,1],[40,2,41,3],[40,4,41,5],[40,6,41,7],[40,8,41,9],[40,10,41,11],[38,66,39,68],[38,69,39,71],[38,72,39,75],[38,76,39,79],[39,12,39,13],[39,14,39,15],[39,16,39,17],[39,18,39,19],[39,47,39,48],[39,49,39,50],[38,46,39,46],[38,47,38,52],[38,53,38,56],[38,57,39,58],[38,59,39,61],[38,62,39,65],[39,51,39,52],[39,53,39,54],[39,55,39,56],[38,24,39,27],[38,28,39,31],[38,32,39,35],[38,36,39,40],[38,41,39,42],[38,43,39,45],[38,0,39,3],[40,47,40,48],[40,49,40,50],[40,24,41,25],[40,26,41,27],[40,28,41,29],[40,30,41,31],[40,32,41,33],[40,34,41,35],[40,18,41,18],[40,19,41,19],[40,20,41,20],[40,21,41,21],[40,22,41,22],[40,23,41,23],[40,12,41,12],[40,13,41,13],[40,14,41,14],[40,15,41,15],[40,16,41,16],[40,17,41,17],[42,10,44,11],[42,12,44,12],[42,13,44,13],[42,14,44,14],[42,15,44,15],[42,16,44,16],[40,86,40,89],[41,41,41,52],[41,53,41,60],[41,61,41,76],[41,77,41,89],[42,0,44,1],[42,2,44,3],[42,4,44,5],[42,6,44,7],[42,8,44,9],[40,66,40,68],[40,69,40,71],[40,72,40,75],[40,76,40,79],[40,80,40,81],[40,82,40,85],[40,51,40,52],[40,53,40,54],[40,55,40,56],[40,57,40,58],[40,59,40,61],[40,62,40,65],[40,36,41,38],[40,39,41,40],[40,41,40,42],[40,43,40,45],[42,70,43,76],[42,77,44,86],[42,87,44,89],[44,41,44,45],[44,46,44,48],[44,49,44,50],[44,51,44,52],[44,53,44,55],[44,56,44,58],[44,59,44,60],[42,51,43,52],[42,53,43,55],[42,56,43,58],[42,59,43,60],[42,61,43,64],[42,65,43,69],[42,34,44,35],[42,36,44,38],[42,39,44,40],[42,41,43,45],[42,46,43,48],[42,49,43,50],[46,70,46,71],[46,72,46,74],[46,75,46,84],[46,85,46,86],[46,87,46,89],[47,0,47,5],[47,8,47,13],[47,15,47,16],[47,17,47,21],[47,22,47,23],[44,61,44,64],[44,65,44,69],[44,70,44,76],[45,0,45,89],[46,0,46,5],[46,8,46,13],[46,15,46,16],[46,17,46,33],[46,34,46,60],[46,61,46,69],[42,23,44,23],[42,24,44,25],[42,26,44,27],[42,28,44,29],[42,30,44,31],[42,32,44,33],[42,17,44,17],[42,18,44,18],[42,19,44,19],[42,20,44,20],[42,21,44,21],[42,22,44,22],[47,72,47,74],[47,75,47,84],[47,85,47,86],[47,87,47,89],[48,0,48,5],[48,8,48,13],[48,15,48,16],[48,17,48,21],[48,22,49,23],[48,27,48,28],[47,51,47,53],[47,55,47,56],[47,57,47,58],[47,59,47,60],[47,61,47,69],[47,70,47,71],[47,27,47,28],[47,30,47,31],[47,32,47,33],[47,34,47,43],[47,44,47,46],[47,47,47,49],[49,75,50,84],[49,85,50,86],[49,87,50,89],[50,0,50,6],[50,8,50,13],[50,15,50,16],[50,17,50,21],[50,22,54,23],[50,27,50,28],[48,75,48,84],[48,85,48,86],[48,87,48,89],[49,0,49,5],[49,8,49,13],[49,15,49,16],[49,17,49,21],[49,27,49,28],[49,30,49,31],[49,34,49,43],[48,55,48,56],[48,57,48,58],[48,59,50,60],[48,61,48,69],[48,70,48,71],[48,72,48,74],[49,55,49,56],[49,57,49,58],[49,61,49,69],[49,70,49,71],[48,30,48,31],[48,32,49,33],[48,34,48,43],[50,70,50,71],[50,72,50,74],[51,0,51,6],[51,8,51,13],[51,15,51,16],[51,17,51,21],[51,27,51,28],[51,30,51,31],[51,34,51,43],[51,44,52,46],[50,34,50,43],[50,47,50,49],[50,51,50,53],[50,55,50,56],[50,57,50,58],[50,61,50,69],[49,72,49,74],[48,44,50,46],[48,47,48,49],[48,51,48,53],[49,47,49,49],[49,51,49,53],[50,30,50,31],[50,32,54,33],[51,70,51,71],[51,72,51,74],[52,34,52,43],[52,47,52,49],[52,51,52,53],[52,55,52,56],[52,57,52,58],[51,75,51,84],[51,85,51,86],[51,87,51,89],[52,0,52,6],[52,8,52,13],[52,15,52,16],[52,17,52,21],[52,27,52,28],[51,47,51,49],[51,51,51,53],[51,55,51,56],[51,57,51,58],[51,59,52,60],[51,61,51,69],[52,61,52,69],[53,44,54,46],[53,47,53,49],[53,51,53,53],[53,55,53,56],[54,51,54,53],[54,55,54,56],[52,70,52,71],[52,72,52,74],[52,75,52,84],[52,85,52,86],[52,87,52,89],[53,0,53,6],[53,8,53,13],[53,15,53,16],[53,17,53,21],[53,27,53,28],[52,30,52,31],[54,75,54,84],[54,85,54,86],[54,87,54,89],[55,0,55,6],[55,8,55,13],[55,15,55,16],[55,17,55,21],[55,22,61,23],[55,27,55,28],[55,30,55,31],[53,85,53,86],[53,87,53,89],[54,0,54,6],[54,8,54,13],[54,15,54,16],[54,17,54,21],[54,27,54,28],[54,30,54,31],[54,34,54,43],[54,47,54,49],[53,57,53,58],[53,59,54,60],[53,61,53,69],[53,70,53,71],[53,72,53,74],[53,75,53,84],[54,57,54,58],[54,61,54,69],[54,70,54,71],[54,72,54,74],[53,30,53,31],[53,34,53,43],[55,85,55,86],[55,87,55,89],[56,0,56,6],[56,8,56,13],[56,15,56,16],[56,17,56,21],[56,27,56,28],[56,30,56,31],[56,34,56,43],[56,47,56,49],[55,57,55,58],[55,59,56,60],[55,61,55,69],[55,70,55,71],[55,72,55,74],[55,75,55,84],[56,57,56,58],[56,61,56,69],[56,70,56,71],[56,72,56,74],[55,32,61,33],[55,34,55,43],[55,44,56,46],[55,47,55,49],[55,51,55,53],[55,55,55,56],[56,51,56,53],[56,55,56,56],[57,44,57,46],[57,47,57,49],[57,72,57,74],[57,75,57,84],[57,85,57,86],[57,87,57,89],[58,0,59,6],[58,7,59,7],[58,8,58,13],[58,15,58,16],[58,17,58,21],[58,27,58,28],[57,51,57,53],[57,55,57,56],[57,57,57,58],[57,59,57,60],[57,61,57,69],[57,70,57,71],[56,75,56,84],[56,85,56,86],[56,87,56,89],[57,0,57,6],[57,8,57,13],[57,15,57,16],[57,17,57,21],[57,27,57,28],[57,30,57,31],[57,34,57,43],[58,85,58,86],[58,87,58,89],[59,8,60,13],[59,14,60,14],[59,15,60,16],[59,17,59,21],[59,27,59,28],[59,30,59,31],[58,57,58,58],[58,59,59,60],[58,61,58,69],[58,70,58,71],[58,72,58,74],[58,75,58,84],[59,57,59,58],[59,61,60,69],[59,70,60,71],[59,72,60,74],[58,30,58,31],[58,34,58,43],[58,44,59,46],[58,47,58,49],[58,51,58,53],[58,55,58,56],[59,51,59,53],[59,55,59,56],[62,61,62,89],[60,85,60,86],[60,87,60,89],[61,0,61,6],[61,8,61,12],[61,13,61,14],[61,15,61,16],[61,17,61,21],[61,27,61,28],[61,30,61,31],[61,34,62,43],[59,75,59,84],[59,85,59,86],[59,87,59,89],[60,0,60,6],[60,17,60,21],[60,27,60,28],[60,30,60,31],[60,34,60,43],[60,44,60,60],[60,75,60,84],[59,34,59,43],[59,47,59,49],[63,66,63,70],[63,71,63,80],[63,81,63,85],[63,86,63,89],[64,0,64,6],[64,8,64,12],[64,13,64,14],[64,15,64,16],[64,17,66,19],[64,20,66,22],[63,0,63,6],[63,8,63,12],[63,13,63,14],[63,15,63,16],[63,17,63,60],[63,61,63,65],[61,87,61,89],[62,0,62,6],[62,8,62,12],[62,13,62,14],[62,15,62,16],[62,17,62,21],[62,22,62,23],[62,27,62,28],[62,30,62,31],[62,32,62,33],[61,44,62,60],[61,61,61,69],[61,70,61,71],[61,72,61,74],[61,75,61,84],[61,85,61,86],[65,69,65,70],[65,74,65,75],[65,76,65,79],[65,81,65,83],[65,84,65,85],[65,86,65,88],[65,0,65,6],[65,8,65,12],[65,13,65,14],[65,15,65,16],[65,23,65,26],[65,27,65,37],[64,69,64,70],[64,74,64,75],[64,76,64,79],[64,81,64,83],[64,84,64,85],[64,86,64,88],[64,23,64,26],[64,27,64,49],[64,50,66,54],[64,55,66,60],[64,61,64,64],[64,66,64,68],[65,38,65,49],[65,61,65,64],[65,66,65,68],[66,38,66,49],[66,81,66,83],[66,84,66,85],[66,86,67,88],[66,89,67,89],[67,0,67,6],[67,8,67,12],[67,13,67,14],[67,15,67,16],[67,17,67,19],[67,20,67,22],[66,61,66,64],[66,66,66,68],[66,69,66,70],[66,71,66,73],[66,74,66,75],[66,76,66,79],[66,0,66,6],[66,8,66,12],[66,13,66,14],[66,15,66,16],[66,23,66,26],[66,27,66,37],[68,75,71,78],[68,79,71,80],[68,81,71,83],[68,84,71,86],[68,87,71,89],[67,84,67,85],[68,0,68,6],[68,8,68,12],[68,13,68,14],[68,15,68,16],[68,17,68,60],[68,61,73,62],[68,63,71,65],[68,66,71,68],[68,69,71,71],[67,66,67,68],[67,69,67,70],[67,71,67,73],[67,74,67,75],[67,76,67,79],[67,81,67,83],[67,23,67,26],[67,27,67,37],[67,38,67,49],[67,50,67,54],[67,55,67,60],[67,61,67,64],[69,33,69,37],[69,38,69,41],[69,42,69,45],[69,46,69,55],[69,56,69,60],[69,0,69,6],[69,8,69,12],[69,13,69,14],[69,15,69,16],[69,17,69,23],[69,24,69,32],[68,72,71,74],[72,56,72,60],[72,63,73,65],[72,0,72,6],[72,8,73,12],[72,13,73,14],[72,15,73,16],[72,17,72,23],[72,24,72,32],[70,56,70,60],[71,17,71,23],[71,24,71,32],[71,33,71,37],[71,38,71,41],[71,42,71,45],[71,46,71,55],[71,56,71,60],[70,17,70,23],[70,24,70,32],[70,33,70,37],[70,38,70,41],[72,84,73,86],[72,87,73,89],[73,0,73,6],[73,17,73,23],[73,24,73,32],[73,33,73,37],[73,38,73,41],[73,42,73,45],[73,46,73,55],[73,56,73,60],[72,66,73,68],[72,69,73,71],[72,72,73,74],[72,75,73,78],[72,79,73,80],[72,81,73,83],[72,33,72,37],[72,38,72,41],[88,21,88,24],[88,25,88,26],[88,27,88,29],[88,30,88,35],[88,0,88,2],[88,3,88,5],[70,42,70,45],[70,46,70,55]],"merged_total":1121,"flags":["merged_cut"]}
[null,null,null,null,null,null,null,null,null,null,null,null,null,null,null,null,null,null,null,null,null,null,null,null,null,null,null,"DIRECCION - PROGRAMA  APS \nSUBSECRETARIA DE MEDICINA SOCIAL\nRONDA N°:______   AÑO:______",null,null,null,null,null,null,null,null,null,null,null,null,null,null,null,null,null,null,null,null,null,null,null,null,null,null,"1r","2r","3r",null,"4r",null,"T",null,null,null,null,null,null,null,null,null,null,null,null,null,null,null,null,null,null,null,"Informe y orden de Ronda: ",161,null,null,null,null,2]
[null,null,null,null,null,null,null,"Area Operativa N°: "," ",null,null,null,null,null,"Nombre: "," ",null,null,null,null,null,null,null,null,null,null,null,null,null,null,null,null,null,null,null,null,null,null,null,null,null,null,null,null,null,null,"Mort. Mater. Acum. Año",null,null,null,null,null,null,null,0,{"$f":"CE41","v":0},0,null,0,null,{"$f":"SUM(BC2:BH2)","v":0},null,null,null,null,"Sector:",null," ",null,null,null,null,null,null,null,null,null,null,null,null,null,null,null,null,null,"N°"," "]
[null,null,null,null,null,null,null,null,null,null,null,null,null,null,null,null,null,null,null,null,null,null,null,null,null,null,null,null,null,null,null,null,null,null,null,null,null,null,null,null,null,null,null,null,null,null,"Mort. 0-1 año Acum Año",null,null,null,null,null,null,null,0,{"$f":"BR41+BU41+BY41","v":0},0,null,0,null,{"$f":"SUM(BC3:BH3)","v":0},null,null,null,null,null,"Etnia: "," ",null,null,null,null,null,null,null,null,null,null,null,null,null,null,null,null,null,"Sector Riesgo:"]
[null,null,null,null,null,null,null,"Establec. Base: "," ",null,null,null,null,null,null,null,null,null,null,null,null,null,null,null,null,null,null,null,null,null,null,null,null,null,null,null,null,null,null,null,null,null,null,null,null,null,"Mort. 1-4 años Acum Año",null,null,null,null,null,null,null,0,{"$f":"CC41","v":0},0,null,0,null,0,null,null,null,null,null,null,null,null,null,null,null,null,"Desde: ","12/03/2018",null,null,null,null,null,null,null,null,"Hasta: ","01/06/2018"]
[null,null,null,null,null,null,null,null,null,null,null,null,null,null,null,null,null,null,null,null,null,null,null,null,null,null,null,null,null,null,null,null,null,null,null,null,null,null,null,null,null,null,null,null,null,null,null,null,null,null,null,null,null,"Coef. Sint.Resp.: ",8,null,null,null,null,null,null,null,null,null,null,null,null,null,null,null,null,null,null,null,null,null,null,null,null,"Cobertura: ","CUBIERTO"]
[null,null,null,null,null,null,null,"Sup. Intermedio: "," ",null,null,null,null,null,null,null,null,null,null,null,null,null,null,null,null,null,null,null,null,null,null,null,"Responsable A.P.S.: "," ",null,null,null,null,null,null,null,null,null,null,null,null,null,null,null,null,null,null,null,null,null,null,"Agente Sanitario: "," ",null,null,null,null,null,null,null,null,null,null,null,null,null,null,null,null,"Sit. Revista: ","PLANTA PERMANENTE",null,null,null,null,null,"Reg. Horario: ","30 HS."]
[]
["A) FAMILIAS VISITADAS EN LA RONDA",null,null,null,null,null,null,null,null,null,null,null,null,null,null,null,null,null,null,null,null,null,null,null,null,null,null,null,null,null,null,null,null,null,null,null,null,null,null,null,null,null,null,null,null,null,null,"B) FACTORES DE PRIORIZACION DE VISITAS"]
["ASIGNADAS",null,null,"VISITADAS",null,null,"TOTAL\nVISITAS",null,"NO VISITADAS",null,null,null,null,null,null,null,null,"FLIAS ORIG.",null,"FLIAS. URB.",null,"FLIAS. PERIURB",null,null,"FLIAS. RURALES",null,"GOLON MIGRANTES",null,null,null,null,"FLIAS. CON PL. SOCIALES Econ ($)",null,null,null,null,null,"AGROPROD. FLIAR.",null,null,null,null,null,null,null,null,null,1,null,2,null,3,null,null,4,null,5,null,6,null,7,null,null,8,null,null,9,null,null,10,null,null,null,11,null,null,12,null,null,null,13,null,null,14,null,null,15]
[null,null,null,null,null,null,null,null,"RECHAZO TOTAL",null,"AUSEN\n-TE",null,"NO VISITADAS",null,"TOT NO VISIT.",null,null,null,null,null,null,null,null,null,null,null,"HACIA EL\nAO",null,"DESDE EL AO",null,null,null,null,null,null,null,null,"HUERTA",null,null,null,"GRANJA",null,null,null,null,null,0,null,0,null,0,null,null,0,null,0,null,0,null,0,null,null,0,null,null,0,null,null,"Total",null,null,null,"Tot",null,"Trat","Tot.",null,null,"Trat.","Tot.","Trat.",null,"Tot.",null,"Trat","Total"]
[null,null,null,null,null,null,null,null,null,null,0,null,null,null,null,null,null,null,null,null,null,null,null,null,null,null,null,null,null,null,null,null,null,null,null,null,null,null,null,null,null,null,null,null,null,null,null,null,null,null,null,null,null,null,null,null,null,null,null,null,null,null,null,null,null,null,null,null,null,0,null,null,null,0,null,0,0,null,null,0,0,0,null,0,null,0,0]
[0,null,null,0,null,null,0,null,0,null,0,null,0,null,{"$f":"M12+K12+I12","v":0},null,null,0,null,0,null,0,null,null,0,null,0,null,0,null,null,0,null,null,null,null,null,0,null,null,null,0,null,null,null,null,null,"C) VISITAS A FLIAS. PRIORIZADAS",null,null,null,null,null,null,null,null,null,null,null,null,null,null,null,null,null,null,null,null,null,"D) SUPERV. A FLIAS. PRIORIZ."]
[null,null,null,null,null,null,null,null,null,null,null,null,null,null,null,null,null,null,null,null,null,null,null,null,null,null,null,null,null,null,null,null,null,null,null,null,null,null,null,null,null,null,null,null,null,null,null,"PRIORIDAD",null,null,null,null,null,3,null,null,null,null,2,null,null,null,null,"Total",null,null,null,null,null,"PRIORIDAD",null,null,null,null,null,3,null,null,null,2,null,1,null,null,null,"TOTAL"]
[null,null,null,null,null,null,null,null,null,null,null,null,null,null,null,null,null,null,null,null,null,null,null,null,null,null,null,null,null,null,null,null,null,null,null,null,null,null,null,null,null,null,null,null,null,null,null,"N° FAMILIAS",null,null,null,null,null,0,null,null,null,null,0,null,null,null,null,{"$f":"BG14+BB14","v":0},null,null,null,null,null,"INTERMEDIA",null,null,null,null,null,0,null,null,null,0,null,0,null,null,null,{"$f":"CB14+BX14","v":0}]
[null,null,null,null,null,null,null,null,null,null,null,null,null,null,null,null,null,null,null,null,null,null,null,null,null,null,null,null,null,null,null,null,null,null,null,null,null,null,null,null,null,null,null,null,null,null,null,"VISITAS",null,null,null,null,null,0,null,null,null,null,0,null,null,null,null,{"$f":"BG15+BB15","v":0},null,null,null,null,null,"PROFESIONAL",null,null,null,null,null,0,null,null,null,0,null,0,null,null,null,{"$f":"CB15+BX15","v":0}]
["E) EFERTIL",null,null,null,null,null,"F) EMBARAZADAS",null,null,null,null,null,"G) PARTOS",null,null,null,null,null,null,null,"H) R.N. EN LA RONDA",null,null,null,null,null,null,null,null,"I) EVALUACION ANTROPOMETRICA",null,null,null,null,null,null,null,null,null,null,null,null,null,null,null,null,null,null,null,null,null,null,null,null,null,null,null,null,null,null,null,null,null,null,null,null,"NIÑ MBP/BP/RBP CTRL. INT.",null,null,null,null,null,null,null,null,null,null,null,null,null,null,null,"LACT. MATERNA"]
["PAP",null,null,0,null,null,"ESP EN EL AÑO","ACUMULADAS","NUEVAS\nRONDA","TOTAL","DE RIESGO","<19 Años","TOTAL",null,"HOSPITALARIOS",null,"DOMIC.",null,"N° PUERPERAS",null,"NACIDOS VIVOS",null,"P AL NACER",null,null,null,null,null,null,"NIÑOS CONTROLADOS",null,null,null,null,null,null,null,null,null,null,null,null,null,null,null,null,null,null,null,null,null,null,null,null,null,null,null,null,null,null,null,null,null,null,null,null,"MELAN",null,"MEDICO",null,null,"ENFERMERIA",null,null,"LABORATORIO",null,"NUTRICION",null,null,"CONTROLES ANTROP.\n EN DOMIC. \nNIÑO BP o MBP",null,null,"6 M EN LA RONDA",null,null,null,{"$f":"CI20+CI22+CI23","v":0}]
[null,null,null,null,null,null,null,null,null,null,null,null,null,null,null,null,"DOM","ASIS",null,null,null,null,"ALTO PESO",null,"ADEC","BAJO PESO",null,"MB\nPESO",null,"EDAD",null,null,{"$f":"A27+C27+D27+F27+G27+H27","v":0},null,null,"ADECUADO",null,"BP\nBAJO PESO",null,"MBP\nMUY B. PESO",null,"ALTO PESO",null,"RIESGO",null,null,null,"RECUPERADOS",null,null,null,"TALLA / EDAD",null,null,null,null,"NUEVOS\nEPISODIOS",null,"PERDIDOS",null,null,null,null,"FALLECIDOS\nC/ANTEC. ANTROPOM."]
[]
["Antic.",null,null,0,null,null,{"$f":"IF(ISERROR(((CC92*2.5)/100)),0,(((CC92*2.5)/100)))","v":19.8},0,0,{"$f":"G23+H23+I23+J23+K23+L23","v":0},0,0,{"$f":"O20+Q20+R20","v":0},null,0,null,0,0,0,null,{"$f":"W20+Y20+Z20+AB20","v":0},null,0,null,0,0,null,0,null,null,null,null,null,null,null,null,null,null,null,null,null,null,null,"BP",null,"AP",null,"BP",null,null,"AP","BT",null,"MBT",null,"RGO\nBT",null,null,"BP\nMBP",null,null,"A.P.",null,null,null,null,null,null,null,null,null,null,null,null,null,null,null,null,null,null,null,null,"LME",null,null,null,0]
[null,null,null,null,null,null,"CONTROLES",null,null,null,null,null,"N° CONTROL MEDICO",null,null,null,null,null,null,null,"PREMATUROS",null,null,null,null,"PESQUISA",null,null,null,null,null,null,null,null,null,null,null,null,null,null,null,null,null,null,null,null,null,null,null,null,null,null,null,null,null,null,null,null,null,null,null,null,null,null,null,null,0,null,0,null,null,0,null,null,0,null,0,null,null,0]
["Aborto",null,null,0,null,null,"MELON","MEL","MED","ENF","LAB","S/C","PUERP",null,null,null,null,"R.N.",null,null,null,null,null,null,null,null,null,null,null,"< 2 años",null,null,{"$f":"A27+C27+D27+F27+G27+H27","v":0},null,null,0,null,0,null,0,null,0,null,0,null,0,null,0,null,null,0,0,null,0,null,0,0,null,0,null,null,0,null,0,null,null,null,null,null,null,null,null,null,null,null,null,null,null,null,null,null,null,"MIXTA",null,null,null,0]
[null,null,null,null,null,null,0,0,0,0,0,0,0,null,null,null,null,0,null,null,0,null,null,null,null,0,null,null,null,"2 a 6 años",null,null,{"$f":"I27+J27+K27+L27+M27+O27+P27+R27","v":0},null,null,0,null,0,null,0,null,0,null,0,null,0,null,0,null,null,0,0,null,0,null,0,0,null,0,null,null,0,null,0,null,null,null,null,null,null,null,null,null,null,null,null,null,null,null,null,null,null,"ARTIF",null,null,null,0]
["J) DATOS DE POBLACION"]
["0 a 5m",null,null,"6 a 11m",null,null,"1 AÑO",null,"2 AÑOS",null,"3 AÑOS",null,"4 AÑOS",null,null,"5 AÑOS",null,null,"6 AÑOS",null,null,"7 A 9 AÑOS",null,null,null,"10 AÑOS",null,"11 AÑOS",null,null,"12 A 14",null,null,null,null,null,"15 A 19",null,null,"20 A 24",null,null,null,"25 A 29",null,null,null,"30 A 34",null,null,null,"35 A 39",null,null,null,"40 A 44",null,null,null,null,"45 A 49",null,null,null,"50 A 54",null,null,null,"55 A 59",null,null,null,"60 A 64",null,null,null,"65 y +",null,null,null,"TOTAL",null,null,null,null,"MUJERES\n10 A 49","O. SOCIAL",null,"INDOCUM"]
["M",null,"F","M",null,"F","M","F","M","F","M","F","M",null,"F","M",null,"F","M",null,"F","M",null,"F",null,"M","F","M",null,"F","M",null,null,"F",null,null,"M","F",null,"M",null,"F",null,"M",null,null,"F","M",null,null,"F","M",null,"F",null,"M",null,null,"F",null,"M",null,"F",null,"M",null,"F",null,"M",null,"F",null,"M",null,"F",null,"M",null,null,"F","M",null,"F"]
[0,null,0,0,null,0,0,0,0,0,0,0,0,null,0,0,null,0,0,null,0,0,null,0,null,0,0,0,null,0,0,null,null,0,null,null,0,0,null,0,null,0,null,0,null,null,0,0,null,null,0,0,null,0,null,0,null,null,0,null,0,null,0,null,0,null,0,null,0,null,0,null,0,null,0,null,0,null,null,0,{"$f":"BY27+BU27+BQ27+BM27+BI27+BD27+AZ27+AV27+AR27+AN27+AK27+AE27+AB27+Z27+V27+S27+P27+M27+K27+I27+G27+D27+A27","v":0},null,{"$f":"CB27+BW27+BS27+BO27+BK27+BG27+BB27+AY27+AU27+AP27+AL27+AH27+AD27+AA27+X27+U27+R27+O27+L27+J27+H27+F27+C27","v":0},null,null,{"$f":"BK27+BG27+BB27+AY27+AU27+AP27+AL27+AH27+AD27+AA27","v":0},0,null,0]
[{"$f":"A27+C27","v":0},null,null,{"$f":"D27+F27","v":0},null,null,{"$f":"G27+H27","v":0},null,{"$f":"I27+J27","v":0},null,{"$f":"K27+L27","v":0},null,{"$f":"M27+O27","v":0},null,null,{"$f":"P27+R27","v":0},null,null,{"$f":"S27+U27","v":0},null,null,{"$f":"V27+X27","v":0},null,null,null,{"$f":"Z27+AA27","v":0},null,{"$f":"AB27+AD27","v":0},null,null,{"$f":"AE27+AH27","v":0},null,null,null,null,null,{"$f":"AL27+AK27","v":0},null,null,{"$f":"AN27+AP27","v":0},null,null,null,{"$f":"AR27+AU27","v":0},null,null,null,{"$f":"AV27+AY27","v":0},null,null,null,{"$f":"AZ27+BB27","v":0},null,null,null,{"$f":"BD27+BG27","v":0},null,null,null,null,{"$f":"BI27+BK27","v":0},null,null,null,{"$f":"BM27+BO27","v":0},null,null,null,{"$f":"BQ27+BS27","v":0},null,null,null,{"$f":"BU27+BW27","v":0},null,null,null,{"$f":"BY27+CB27","v":0},null,null,null,{"$f":"CC27+CE27","v":0}]
["K) TUBERCULOSIS ",null,null,null,null,null,null,null,null,null,null,null," CHAGAS ",null,null,null,null,null,"L) PERSONAS CON ENF. CRONICAS",null,null,null,null,null,null,null,null,null,null,"M) OBSERVACIONES"]
["MUESTRAS",null,null,null,null,"TRATAMIENTOS TBC",null,null,null,"SINTOM.",null,null,"TRATAMIENTOS CHAGAS",null,null,null,null,null,"PERSONAS CON",null,null,null,null,null,"TOTAL",null,"EN TRAT.",null,null,0]
["DIAGNOSTICOS",null,null,"CONTROL",null,"Total",null,"TAES",null,0,null,null,"INICIO ",null,null,null,0,null,"DIABETES",null,null,null,null,null,0,null,0]
["Tot",null,"(+)","Tot","(+)",0,null,0,null,"ABAND.",null,null,"FINALIZACION ",null,null,null,0,null,"HIPERTENSION \nARTERIAL",null,null,null,null,null,0,null,0]
[0,null,0,0,0,"QUIMIOP.",null,0,null,0,null,null,null,null,null,null,null,null,"PERSONAS CON OTRAS ENF. CRONICAS AL CUIDADO DE NIÑOS",null,null,null,null,null,0,null,0]
["CONTACTO",null,null,null,null,"CTRL. MEDICO",null,null,null,"FIN.",null,null,"ABANDONO ",null,null,null,0]
["< 14a",null,null,"> 14a",null,"Pcte/Rda",null,"A Cont",null,0,null,null,null,null,null,null,null,null,"ADULTOS MAYORES EN SITUACION DE RIESGO",null,null,null,null,null,0]
[0,null,null,0,null,0,null,0]
["N) DERIVACIONES",null,null,null,null,null,null,null,null,null,null,null,null,null,null,null,null,null,null,null,null,null,null,null,null,null,null,null,null,null,null,null,null,null,null,null,null,null,null,null,null,"Ñ) VIVIENDA Y SANEAMIENTO",null,null,null,null,null,null,null,null,null,null,null,null,null,null,null,null,null,null,null,null,null,null,null,null,null,null,null,"O) DEFUNCIONES EN LA RONDA"]
[null,null,null,null,null,null,null,null,null,null,null,null,null,null,null,null,null,null,null,null,null,null,null,null,null,null,null,null,null,null,null,null,null,null,null,null,null,null,null,null,null,"TRAT. AGUA",null,null,null,null,null,"DISP SANITARIA EXCRETAS",null,null,null,null,null,null,null,null,null,null,null,"TRATAM. SANIT BASURA",null,null,null,null,null,null,null,null,null,"MENORES 1 AÑO",null,null,null,null,null,null,null,null,null,null,"1 a 4 AÑOS",null,"MATERNA",null,null,null,"OTRAS"]
["EMB",null,null,null,"RN",null,null,null,"PUERP",null,null,null,"Menores de 6 años",null,null,null,null,null,null,null,"E. CRONICAS",null,"PAP",null,"CHAGAS",null,null,null,"TBC",null,null,null,"PSICOSOC",null,null,null,"TOTAL\nDERIVACIONES",null,null,null,null,"RED",null,"VIV",null,null,"S/T","ARRASTRE",null,null,null,null,null,"LETRINA",null,null,null,"S/T",null,"REC. DOMIC.",null,null,"POZO BASURA",null,null,null,"S/T",null,null,"<7d",null,null,"7 a 28d",null,null,null,"29d a 11 m"]
[null,null,null,null,null,null,null,null,null,null,null,null,"BP- MBP",null,"RGO BP",null,"Resp",null,"Diarr",null,null,null,null,null,null,null,null,null,null,null,null,null,null,null,null,null,null,null,null,null,null,null,null,null,null,null,null,"CLOACAS",null,"PC-CT",null,"PC-ST",null,"CT",null,"ST"]
["Env",null,"Rec",null,"Env",null,"Rec",null,"Env",null,"Rec",null,"Env","Rec","Env","Rec","Env","Rec","Env","Rec","Env","Rec","Env","Rec","Env",null,"Rec",null,"Env",null,"Rec",null,"Env",null,"Rec",null,"ENV",null,null,"Rec",null,0,null,0,null,null,0,0,null,0,null,0,null,0,null,0,null,0,null,0,null,null,0,null,null,null,0,null,null,0,null,null,0,null,null,null,0,null,null,null,0,null,0,null,null,null,0]
[null,null,null,null,null,null,null,null,null,null,null,null,null,null,null,null,null,null,null,null,null,null,null,null,null,null,null,null,null,null,null,null,null,null,null,null,null,null,null,null,null,"CASAS ",null,null,null,null,null,null,null,null,null,null,null,"CHAGAS",null,null,null,null,null,null,null,"DENGUE CHIKUNGUNYA",null,null,null,null,null,null,null,null,null,null,null,null,null,null,null,"P) PROM. SALUD"]
[0,null,0,null,0,null,0,null,0,null,0,null,0,0,0,0,0,0,0,0,0,0,0,0,0,null,0,null,0,null,0,null,0,null,0,null,{"$f":"AG43+AC43+Y43+W43+U43+S43+Q43+O43+M43+I43+E43+A43","v":0},null,null,{"$f":"AI43+AE43+AA43+X43+V43+T43+R43+P43+N43+K43+G43+C43","v":0},null,"Asignadas",null,null,null,null,"Visitadas",null,null,"Vacías",null,"DESTRUIDAS",null,"EVALUADAS",null,null,"POSITIVAS",null,null,"TRATADAS",null,"EVALUADAS",null,null,null,"POSITIVAS",null,null,null,null,"TRATADAS",null,null,null,null,null,null,"EN COMUNIDAD",null,null,null,null,null,null,null,null,null,0]
[]
[null,null,null,null,null,null,null,null,null,null,null,null,null,null,null,null,null,null,null,null,null,null,null,null,null,null,null,null,null,null,null,null,null,null,null,null,null,null,null,null,null,0,null,null,null,null,0,null,null,0,null,0,null,0,null,null,0,null,null,0,null,0,null,null,null,0,null,null,null,null,0]
["Q) INDICADORES"]
["DE ESTRUCTURA",null,null,null,null,null,"SI","NO","DE PRODUCCION",null,null,null,null,null,"%","META",null," DE INMUNIZACIONES",null,null,null,null,null,null,null,null,null,null,null,null,null,null,null,null," DE INMUNIZACIONES",null,null,null,null,null,null,null,null,null,null,null,null,null,null,null,null,null,null,null,null,null,null,null,null,null,null," DE RESULTADO",null,null,null,null,null,null,null,null,"%",null,"META",null,null," DE RESULTADO",null,null,null,null,null,null,null,null,null,"%",null,"META RDA"]
["Formularios",null,null,null,null,null,null,null,"Cobertura a Familias",null,null,null,null,null,{"$f":"IF(ISERROR(D12/A12),0,(D12/A12)*100)","v":0},100,null,"VACUNA",null,null,null,null,"P. REF",null,"1r","2r","3r","4r",null,"T","%",null,"META",null,"VACUNA",null,null,null,null,null,null,null,null,null,"P. REF",null,null,"1r",null,null,"2r","3r",null,null,"4r","T",null,"%",null,"META",null,"Ed Fértil c/Anticoncepción",null,null,null,null,null,null,null,null,{"$f":"IF(ISERROR(D20/CH27),0,(D20/CH27)*100)","v":0},null,null,null,null,"Niños 2a 6 Recup BP",null,null,null,null,null,null,null,null,null,{"$f":"IF(ISERROR(AV23/K79),0,(AV23/K79)*100)","v":0},null,100]
["Equipo",null,null,null,null,null,null,null,"Niños < 2 años Controlados",null,null,null,null,null,{"$f":"IF(ISERROR(((AJ22+AL22+AN22+AP22)/(A28+D28+G28))),0,(((AJ22+AL22+AN22+AP22)/(A28+D28+G28)))*100)","v":0},100,null,"BCG RN",null,null,null,null,{"$f":"U20","v":0},null,null,0,null,null,null,{"$f":"IF(ISERROR(AB49+AA49+Z49+Y49),0,(AB49+AA49+Z49+Y49))","v":0},{"$f":"IF(ISERROR(AD49/W49),0,(AD49/W49)*100)","v":0},null,{"$f":"IF(ISERROR(AA50/Y49),0,(AA50/Y49)*100)","v":0},null,"2° Ref. Antipolio Ingreso Escolar",null,null,null,null,null,null,null,null,null,{"$f":"P91+R91","v":10},null,null,null,null,null,0,null,null,null,null,{"$f":"IF(ISERROR(AX49/AU49),0,(AX49/AU49)*100)","v":0},null,{"$f":"IF(ISERROR(BD49/AS49),0,(BD49/AS49)*100)","v":0},null,25,null,"Ed Fértil PAP",null,null,null,null,null,null,null,null,{"$f":"IF(ISERROR(D17/CH27),0,(D17/CH27)*100)","v":0},null,"8.3%/Rda",null,null,"Niños 2a 6 Recup AP",null,null,null,null,null,null,null,null,null,{"$f":"IF(ISERROR(AY23/K81),0,(AY23/K81)*100)","v":0},null,100]
["Combustible",null,null,null,null,null,null,null,"Niños  (2 a 6 años) Controlados",null,null,null,null,null,{"$f":"IF(ISERROR(((AJ23+AL23+AN23+AP23)/(I28+K28+M28+P28))),0,(((AJ23+AL23+AN23+AP23)/(I28+K28+M28+P28)))*100)","v":0},100,null,"Hepatitis B RN","Hepatitis B RN",null,"Hepatitis B RN","Hepatitis B RN",null,null,null,0,null,null,null,{"$f":"IF(ISERROR(AB50+AA50+Z50+Y50),0,(AB50+AA50+Z50+Y50))","v":0},{"$f":"IF(ISERROR(AD50/W49),0,(AD50/W49)*100)","v":0},null,null,null,"2° Ref. DPT Ingreso Escolar",null,null,null,null,null,null,null,null,null,null,null,null,null,null,0,0,null,null,null,null,{"$f":"IF(ISERROR(AX50/AU49),0,(AX50/AU49)*100)","v":0},null,{"$f":"IF(ISERROR(BD50/AS49),0,(BD50/AS49)*100)","v":0},null,null,null,"Embarazadas Con MELON",null,null,null,null,null,null,null,null,{"$f":"IF(ISERROR(G23/J20),0,(G23/J20)*100)","v":0},null,80,null,null,"Niños 6 meses con LME",null,null,null,null,null,null,null,null,null,{"$f":"IF(ISERROR(CI20/CI17),0,(CI20/CI17)*100)","v":0},null,80]
[" DE DIAGNOSTICO",null,null,null,null,null,null,"%","Conc. Vis. Flias Prio",null,null,null,null,null,{"$f":"IF(ISERROR(BL15/BL14),0,(BL15/BL14))","v":0},25,null,"2° Neumococo < 1a","3ª SOT/Salk < 1a",null,"3ª SOT/Salk < 1a","3ª SOT/Salk < 1a",{"$f":"A91+C91+D91+F91","v":22},null,null,0,null,null,null,0,{"$f":"IF(ISERROR(AD51/W51),0,(AD51/W51)*100)","v":0},null,{"$f":"IF(ISERROR(AA55/Y51),0,(AA55/Y51)*100)","v":0},null,"2° TV Ingreso Escolar",null,null,null,null,null,null,null,null,null,null,null,null,null,null,0,0,null,null,null,null,{"$f":"IF(ISERROR(AX51/AU49),0,(AX51/AU49)*100)","v":0},null,{"$f":"IF(ISERROR(BD51/AS49),0,(BD51/AS49)*100)","v":0},null,null,null,"Partos Hospitalarios",null,null,null,null,null,null,null,null,{"$f":"IF(ISERROR(O20/M20),0,(O20/M20)*100)","v":0},null,100]
["Flias Priorizadas 3 + 2:",null,null,null,null,null,null,{"$f":"IF(ISERROR(BL14/D12),0,(BL14/D12)*100)","v":0},"Conc.C.Dom Niños Bp/MBP",null,null,null,null,null,{"$f":"IF(ISERROR(CB21/(AL22+AN22+AL23+AN23)),0,(CB21/(AL22+AN22+AL23+AN23)))","v":0},3,null,"2° Rotavirus <1 a","3º Pentavalente <1 a",null,"3º Pentavalente <1 a","3º Pentavalente <1 a",null,null,null,0,null,null,null,0,{"$f":"IF(ISERROR(AD52/W51),0,(AD52/W51)*100)","v":0},null,null,null,"dTpa 11 años",null,null,null,null,null,null,null,null,null,{"$f":"AB91+AD91","v":8},null,null,null,null,0,0,null,null,null,null,{"$f":"IF(ISERROR(AX52/AU52),0,(AX52/AU52)*100)","v":0},null,{"$f":"IF(ISERROR(BD52/AS52),0,(BD52/AS52)*100)","v":0},null,100,null,"Conc Control Médico a RN",null,null,null,null,null,null,null,null,{"$f":"IF(ISERROR(Q23/M20),0,(Q23/M20))","v":0},null,4,null,null,"% Niños BP MBP y RBP con MELaN",null,null,null,null,null,null,null,null,null,{"$f":"IF(ISERROR(BO21/(AL22+AN22+AR22+AL23+AN23+AR23)),0,(BO21/(AL22+AN22+AR22+AL23+AN23+AR23))*100)","v":0},null,100]
["Flias Urbanas",null,null,null,null,null,null,{"$f":"IF(ISERROR(T12/D12),0,(T12/D12)*100)","v":0},"Rel. Muestra/Sint Resp.",null,null,null,null,null,{"$f":"IF(ISERROR(A33/J31),0,(A33/J31))","v":0},2,null,"2° Meningococo < 1a",null,null,null,null,null,null,null,0,null,null,null,0,{"$f":"IF(ISERROR(AD53/W51),0,(AD53/W51)*100)","v":0},null,null,null,"U.D. Meningococo",null,null,null,null,null,null,null,null,null,null,null,null,null,null,0,0,null,null,null,null,{"$f":"IF(ISERROR(AX53/AU52),0,(AX53/AU52)*100)","v":0},null,{"$f":"IF(ISERROR(BD53/AS52),0,(BD53/AS52)*100)","v":0},null,null,null,"Conc Control Méd. a puérpera",null,null,null,null,null,null,null,null,{"$f":"IF(ISERROR(M23/S20),0,(M23/S20))","v":0},null,4,null,null,"Sint Resp Detect. Seg zona",null,null,null,null,null,null,null,null,null,{"$f":"IF(ISERROR((A31*100)/(((20*(AK28+AN28+AR28+AV28+AZ28+BD28+BI28+BM28+BQ28+BU28+BY28))/100)*BC4)),0,(A31*100)/((((20*(AK28+AN28+AR28+AV28+AZ28+BD28+BI28+BM28+BQ28+BU28+BY28))/100)*BC4)/100))","v":0},null,"S/Z"]
["Flias Periurbanas",null,null,null,null,null,null,{"$f":"IF(ISERROR(V12/D12),0,(V12/D12)*100)","v":0},"Casas Evaluadas Chagas",null,null,null,null,null,{"$f":"IF(ISERROR(BB45/AU45),0,(BB45/AU45)*100)","v":0},100,null,"3° Antipolio < 1 año","2ª Rotavirus < 1 año",null,"2ª Rotavirus < 1 año","2ª Rotavirus < 1 año",null,null,null,0,null,null,null,0,{"$f":"IF(ISERROR(AD54/W51),0,(AD54/W51)*100)","v":0},null,null,null,"1° HPV Niñas cumplen 11 a en año en curso",null,null,null,null,null,null,null,null,null,{"$f":"AD91","v":6},null,null,null,null,0,0,null,null,null,null,{"$f":"IF(ISERROR(AV54+AY54+AZ54+BC54),0,(AV54+AY54+AZ54+BC54))","v":0},null,0,null,"95% AL 1° SEM",null,"RN con Pesquisa",null,null,null,null,null,null,null,null,{"$f":"IF(ISERROR(Y23/U20),0,(Y23/U20))","v":0},null,100,null,null,"Pacientes TBC con Control Médico",null,null,null,null,null,null,null,null,null,{"$f":"IF(ISERROR(F32/F36),0,(F32/F36)*100)","v":0},null,100]
["Flias Rurales",null,null,null,null,null,null,{"$f":"IF(ISERROR(Y12/D12),0,(Y12/D12)*100)","v":0},"Casas Tratadas Chagas",null,null,null,null,null,{"$f":"IF(ISERROR(BJ45/BE45),0,(BJ45/BE45)*100)","v":0},100,null,"3° Pentavalente <1 año","TV 1 año",null,"TV 1 año","TV 1 año",null,null,null,0,null,null,null,0,{"$f":"IF(ISERROR(AD55/W51),0,(AD55/W51)*100)","v":0},null,null,null,"2° HPV Niñas cumplen 11 a en año en curso",null,null,null,null,null,null,null,null,null,null,null,null,null,null,0,0,null,null,null,null,0,null,{"$f":"IF(ISERROR(BD55/AS54),0,(BD55/AS54)*100)","v":0},null,null,null,"Deriv. Recibidas SP y Prog. ",null,null,null,null,null,null,null,null,{"$f":"IF(ISERROR(AN43/AK43),0,(AN43/AK43)*100)","v":0},null,100,null,null,"Contactos TBC Controlados",null,null,null,null,null,null,null,null,null,{"$f":"IF(ISERROR(H36/(D36+A36)),0,(H36/(D36+A36)))*100","v":0},null,100]
["Flias Originarias",null,null,null,null,null,null,{"$f":"IF(ISERROR(R12/D12),0,(R12/D12)*100)","v":0},"Casas Evaluadas Dengue",null,null,null,null,null,{"$f":"IF(ISERROR(BN45/AU45),0,(BN45/AU45)*100)","v":0},100,null,"1° TV","A HA 1 año",null,"A HA 1 año","A HA 1 año",{"$f":"G91+H91","v":24},null,null,0,null,null,null,0,0,null,{"$f":"IF(ISERROR(AA62/Y56),0,(AA62/Y56)*100)","v":0},null,"1° HPV Niños cumplen 11 a en año en curso",25,25,null,null,null,null,null,null,null,{"$f":"AB91","v":2},null,null,null,null,0,0,null,null,null,null,0,null,0,null,"95% AL 1° SEM",null,"Niños < 2 a Riesgo BP",null,null,null,null,null,null,null,null,{"$f":"IF(ISERROR(AR22/AJ22),0,(AR22/AJ22)*100)","v":0},null,null,null,null,"TAES de TBC",null,null,null,null,null,null,null,null,null,{"$f":"IF(ISERROR(K32/I32),0,(K32/I32)*100)","v":0},null,100]
["Flias Migr. desde AO",null,null,null,null,null,null,{"$f":"IF(ISERROR(AG12/A12),0,(AG12/A12)*100)","v":0},"Casas Tratadas Dengue",null,null,null,null,null,{"$f":"IF(ISERROR(BV45/BR45),0,(BV45/BR45)*100)","v":0},100,null,"Unica Dosis A HA",null,null,null,null,null,null,null,0,null,null,null,0,{"$f":"IF(ISERROR(AD57/W56),0,(AD57/W56)*100)","v":0},null,null,null,"2° HPV Niños cumplen 11 a en año en curso",null,null,null,null,null,null,null,null,null,null,null,null,null,null,0,0,null,null,null,null,0,null,{"$f":"IF(ISERROR(BD57/AS56),0,(BD57/AS56)*100)","v":0},null,null,null,"Niños < 2 a Riesgo AP",null,null,null,null,null,null,null,null,{"$f":"IF(ISERROR(AT22/AJ22),0,(AT22/AJ22)*100)","v":0},null,null,null,null,"Casas positivas Chagas",null,null,null,null,null,null,null,null,null,{"$f":"Q31","v":0},null,0]
["Flias Migr. hacia el AO",null,null,null,null,null,null,{"$f":"IF(ISERROR(AC12/A12),0,(AC12/A12)*100)","v":0},"Superv Int.F.Prio (2 y 3v)",null,null,null,null,null,{"$f":"IF(ISERROR(CH14/BL14),0,(CH14/BL14)*100)","v":0},100,null,"Ref Neumococo 1 año","Ref Neumoc 1 año",null,"Ref Neumoc 1 año","Ref Neumoc 1 año",null,null,null,0,null,null,null,0,{"$f":"IF(ISERROR(AD58/W56),0,(AD58/W56)*100)","v":0},null,null,null,"Emb. con dTpa",null,null,null,null,null,null,null,null,null,{"$f":"A91+C91+D91+F91","v":22},null,{"$f":"A91+C91+D91+F91","v":22},null,null,0,0,null,null,null,null,{"$f":"IF(ISERROR(AX58/AU58),0,(AX58/AU58)*100)","v":0},null,0,null,100,null,"Niños < 2 Recup BP",null,null,null,null,null,null,null,null,{"$f":"IF(ISERROR(AV22/K79),0,(AV22/K79)*100)","v":0},null,100,null,null,"Casas Positivas Aedes",null,null,null,null,null,null,null,null,null,{"$f":"IF(ISERROR(BE45/BB45),0,(BE45/BB45)*100)","v":0},null,0]
["Flias con Pl Soc Econ",null,null,null,null,null,null,{"$f":"IF(ISERROR(AF12/D12),0,(AF12/D12)*100)","v":0},"Superv Prof. Flias Prio (3v)",null,null,null,null,null,{"$f":"IF(ISERROR(BX15/BB14),0,(BX15/BB14)*100)","v":0},100,null,"Ref. Meningococo 1 año","Ref Cuádruple 1 año",null,"Ref Cuádruple 1 año","Ref Cuádruple 1 año",null,null,null,0,null,null,null,0,{"$f":"IF(ISERROR(AD59/W56),0,(AD59/W56)*100)","v":0},null,null,null,"dT  Vigente > 65 a",null,null,null,null,null,null,null,null,null,{"$f":"BY91+CB91","v":30},null,null,null,null,0,0,null,null,null,null,{"$f":"IF(ISERROR(AX59/AU59),0,(AX59/AU59)*100)","v":0},null,0,null,100,null,"Niños < 2 Recup AP",null,null,null,null,null,null,null,null,{"$f":"IF(ISERROR(AY22/K80),0,(AY22/K80)*100)","v":0},null,100,null,null,"UROCS 1/SEC",null,null,null,null,null,null,null,null,null,{"$f":"IF(ISERROR(BR45/BN45),0,(BR45/BN45)*100)","v":0},null,"1/SEC"]
[null,null,null,null,null,null,null,null,"% Activ Prom.Salud Comunitarias",null,null,null,null,null,{"$f":"IF(ISERROR(CJ43/D12),0,(CJ43/D12)*100)","v":0},100,null,"Unica Dosis Varicela","Ref SOT 1 año",null,"Ref SOT 1 año","Ref SOT 1 año",null,null,null,0,null,null,null,0,{"$f":"IF(ISERROR(AD60/W56),0,(AD60/W56)*100)","v":0},null,null,null,"Neumo 13 > 65 años",null,null,null,null,null,null,null,null,null,null,null,null,null,null,0,0,null,null,null,null,{"$f":"IF(ISERROR(AX60/AU59),0,(AX60/AU59)*100)","v":0},null,{"$f":"IF(ISERROR(BD60/AS59),0,(BD60/AS59)*100)","v":0},null,null,null,"Niños 2 a 6 Riesgo BP",null,null,null,null,null,null,null,null,{"$f":"IF(ISERROR(AR23/AJ23),0,(AR23/AJ23)*100)","v":0},null,null,null,null,"Flias con Huerta",null,null,null,null,null,null,null,null,null,0]
["F. c/Antec Mort Mat Inf",null,null,null,null,null,null,{"$f":"IF(ISERROR(AV10/D12),0,(AV10/D12)*100)","v":0},null,null,null,null,null,null,null,null,null,"1° Ref. Antipolio","Varicela 1 año",null,"Varicela 1 año","Varicela 1 año",null,null,null,0,null,null,null,0,{"$f":"IF(ISERROR(AD61/W56),0,(AD61/W56)*100)","v":0},null,null,null,"Aplic. Cargadas a Nomivac",null,null,null,null,null,null,null,null,null,0,null,null,null,null,null,null,null,null,null,null,null,null,null,null,null,null,null,null,null,null,null,null,null,null,null,null,null,null,null,null,"Flias con Granja",null,null,null,null,null,null,null,null,null,{"$f":"IF(ISERROR(AL12/D12),0,(AL12/D12)*100)","v":0}]
["F con 3 o más <6 años",null,null,null,null,null,null,{"$f":"IF(ISERROR(BI10/D12),0,(BI10/D12)*100)","v":0}," DE IMPACTO",null,null,null,null,"%",null,"META",null,"4° Dosis o 1° Ref. Pentavalente",null,null,null,null,null,null,null,0,null,null,null,0,{"$f":"IF(ISERROR(AD62/W56),0,(AD62/W56)*100)","v":0},null,null,null,"Total Aplic /AS",null,null,null,null,null,null,null,null,null,0,null,null,null,null,null,null,null,null,null,null,null,null,null,null,null,null,"Niños 2 a 6 Riesgo AP",null,null,null,null,null,null,null,null,{"$f":"IF(ISERROR(AT23/AJ23),0,(AT23/AJ23)*100)","v":0},null,null,null,null,null,null,null,null,null,null,null,null,null,null,{"$f":"IF(ISERROR(AP12/D12),0,(AP12/D12)*100)","v":0}]
["Flias con Hacinamiento",null,null,null,null,null,null,{"$f":"IF(ISERROR(BL10/D12),0,(BL10/D12)*100)","v":0},"Agua Seg (Trat Red o Viv)",null,null,null,null,{"$f":"IF(ISERROR((AP41+AR41)/D12),0,((AP41+AR41)/D12)*100)","v":0},null,100,null,"2° AG 6m a 24m",null,null,null,null,{"$f":"D91+F91+G91+H91","v":39},null,null,0,null,null,null,0,0,null,{"$f":"IF(ISERROR(AA63/Y63),0,(AA63/Y63)*100)","v":0},null,null,null,null,null,null,null,null,null,null,null,null,null,null,null,null,null,null,null,null,null,null,null,null,null,null,null,null,"U) A llenar en 1° Ronda del Año"]
["Flias con Analfabet",null,null,null,null,null,null,{"$f":"IF(ISERROR(BO10/D12),0,(BO10/D12)*100)","v":0},"DSE (Arrastre y letrinas)",null,null,null,null,{"$f":"IF(ISERROR((AV41+AY41+BB41)/D12),0,((AV41+AY41+BB41)/D12)*100)","v":0},null,100,null,"R) PRODUCCION Y RENDIMIENTO",null,null,null,null,null,null,null,null,null,null,null,null,null,null,null,null,null,null,null,null,null,null,null,null,null,null,null,null,null,null,null,null,null,null,null,null,null,null,null,null,null,null,null,"Piso",null,null,null,null,"Techo",null,null,null,null,"Paredes",null,null,null,null,null,null,null,null,null,"Cocina",null,null,null,null,"Tenencia"]
["Flias con Suicidio",null,null,null,null,null,null,{"$f":"IF(ISERROR(BT11/D12),0,(BT11/D12)*100)","v":0},"TSB (Recolección y Pozo)",null,null,null,null,{"$f":"IF(ISERROR((BH41+BK41)/D12),0,((BH41+BK41)/D12)*100)","v":0},null,100,null,"DIAS A TRAB. /RONDA",null,null,"DIAS INCLEM CLIMAT.",null,null,"DIAS Y NROS DE ARTICULOS TOMADOS",null,null,null,"CAPACITACIONES Y OTRAS ACTIVIDADES",null,null,null,null,null,null,null,null,null,null,null,null,null,null,null,null,null,null,null,null,null,null,"DIAS TRABAJADOS\nEN TERRENO",null,null,null,null,"PROM. DIARIO DE FLIAS VISIT.",null,null,null,null,null,"Mosaico/B.",null,null,null,0,"Losa",null,null,0,null,"Ladrillo",null,null,0,null,"Madera",null,null,null,0,"Gas",null,null,0,null,"Segura",null,null,0]
["Flias c /tentativa suicidio",null,null,null,null,null,null,{"$f":"IF(ISERROR(BV11/D12),0,(BV11/D12)*100)","v":0},"Emb Adolescente",null,null,null,null,{"$f":"IF(ISERROR(L20/J20),0,(L20/J20)*100)","v":0},null,null,null,null,null,null,null,null,null,0,null,null,null,0,null,null,null,null,null,null,null,null,null,null,0,null,null,null,null,null,null,null,null,null,null,null,null,null,null,null,null,null,null,null,null,null,null,"Cemento",null,null,null,0,"Chapa\nZinc",null,null,0,null,"Bloque",null,null,0,null,"Quincho",null,null,null,0,"Leña/\nCarb",null,null,0,null,"Inseg.",null,null,0]
["Flias con Alcoholismo",null,null,null,null,null,null,{"$f":"IF(ISERROR(BY11/D12),0,(BY11/D12)*100)","v":0},"Niños <2 Bajo Peso/MBP",null,null,null,null,{"$f":"IF(ISERROR((AL22+AN22)/(AJ22+AP22+AL22+AN22)),0,((AL22+AN22)/(AJ22+AP22+AL22+AN22))*100)","v":0},null,null,null,null,null,null,null,null,null,0,null,null,null,0,null,null,null,null,null,null,null,null,null,null,0,null,null,null,null,null,null,null,null,null,null,null,null,null,null,null,null,null,null,null,null,null,null,"Tierra",null,null,null,0,"Paja/\nBarro",null,null,0,null,"Adobe",null,null,0,null,"Carton/Pl",null,null,null,0,"Otros",null,null,0,null,"Hac",null,null,0]
["Flias c/ otras Adicciones",null,null,null,null,null,null,{"$f":"IF(ISERROR(CC11/D12),0,(CC11/D12)*100)","v":0},"Niños <2 a AP",null,null,null,null,{"$f":"IF(ISERROR(AP22/(AJ22+AP22+AL22+AN22)),0,(AP22/(AJ22+AP22+AL22+AN22))*100)","v":0},null,null,null,0,null,null,0,null,null,0,null,null,null,0,null,null,null,null,null,null,null,null,null,null,0,null,null,null,null,null,null,null,null,null,null,null,0,null,null,null,null,{"$f":"IF(ISERROR(G12/AY68),0,(G12/AY68))","v":0},null,null,null,null,null,"Otros",null,null,null,0,"Otros",null,null,0,null,"Piedra",null,null,0,null,"Otro",null,null,null,0,"Helad.",null,null,0]
["Flias con VIF",null,null,null,null,null,null,{"$f":"IF(ISERROR(CF11/D12),0,(CF11/D12)*100)","v":0},"Niños < 2 baja y MBT",null,null,null,null,{"$f":"IF(ISERROR((AZ22+BB22)/(AJ22+AP22+AL22+AN22)),0,((AZ22+BB22)/(AJ22+AP22+AL22+AN22))*100)","v":0},null,null,null,"S) DETALLE DE LAS DEFUNCIONES (Todas las del Sector)",null,null,null,null,null,null,null,null,null,null,null,null,null,null,null,null,null,null,null,null,null,null,null,null,null,null,null,null,null,null,null,null,null,null,null,null,null,null,null,null,null,null,null,"Agua",null,"Corriente a Domic",null,null,"Grifo Terr",null,null,"Grifo Público",null,null,"Bomba",null,null,"Pozo",null,null,null,"Camión Aguatero / Cisterna",null,"Vertiente/Rio/Aceq",null,null,"Laguna",null,null,"Lluvia/Aljibe"]
["Flias con Diabetes",null,null,null,null,null,null,{"$f":"IF(ISERROR(AA31/D12),0,(AA31/D12)*100)","v":0},"Niños 2 a 6 Bajo Peso/MBP",null,null,null,null,{"$f":"IF(ISERROR((AL23+AN23)/(AJ23+AP23+AL23+AN23)),0,((AL23+AN23)/(AJ23+AP23+AL23+AN23))*100)","v":0},null,null,null,"APELLIDO Y NOMBRE",null,null,null,null,null,null,"DOMICILIO",null,null,null,null,null,null,null,null,"NACIMIENTO",null,null,null,null,"DEFUNCION",null,null,null,"PESO\nAL NACER",null,null,null,"CAUSA",null,null,null,null,null,null,null,null,null,"CLASIFICAC."]
["Flias con Hipertensión",null,null,null,null,null,null,{"$f":"IF(ISERROR(AA32/D12),0,(AA32/D12)*100)","v":0},"Niños 2 a 6 AP",null,null,null,null,{"$f":"IF(ISERROR(AP23/(AJ23+AP23+AL23+AN23)),0,(AP23/(AJ23+AP23+AL23+AN23))*100)","v":0}]
[]
["Flias/Otras Resp. Cuidado de niños",null,null,null,null,null,null,{"$f":"IF(ISERROR(AA33/D12),0,(AA33/D12)*100)","v":0},"Niños 2 a 6 baja y MBT",null,null,null,null,{"$f":"IF(ISERROR((AZ23+BB23)/(AJ23+AP23+AL23+AN23)),0,((AZ23+BB23)/(AJ23+AP23+AL23+AN23))*100)","v":0},null,null,null,null,null,null,null,null,null,null,null,null,null,null,null,null,null,null,null,null,null,null,null,null,null,null,null,null,null,null,null,null,null,null,null,null,null,null,null,null,null,null,null,null,null,null,null,null,null,0,null,null,0,null,null,0,null,null,0,null,null,0,null,null,null,0,null,0,null,null,0,null,null,0]
["Pers c/O Social/Pob total",null,null,null,null,null,null,{"$f":"IF(ISERROR(CI27/CC28),0,(CI27/CC28)*100)","v":0}]
[]
[]
[]
[]
["BP+MBP Ronda Anterior Men2a: ",null,null,null,null,null,null,null,null,null,0]
["BP+MBP Ronda Anterior 2 a 6a: ",null,null,null,null,null,null,null,null,null,0]
["AP Ronda Anterior Men2a: ",null,null,null,null,null,null,null,null,null,0]
["AP Ronda Anterior 2 a 6a: ",null,null,null,null,null,null,null,null,null,0]
[]
[]
[]
[]
[]
[]
["0 a 5m",null,null,"6 a 11m",null,null,"1 AÑO",null,"2 AÑOS",null,"3 AÑOS",null,"4 AÑOS",null,null,"5 AÑOS",null,null,"6 AÑOS",null,null,"7 A 9 AÑOS",null,null,null,"10 AÑOS",null,"11 AÑOS",null,null,"12 A 14",null,null,null,null,null,"15 A 19",null,null,"20 A 24",null,null,null,"25 A 29",null,null,null,"30 A 34",null,null,null,"35 A 39",null,null,null,"40 A 44",null,null,null,null,"45 A 49",null,null,null,"50 A 54",null,null,null,"55 A 59",null,null,null,"60 A 64",null,null,null,"65 y +",null,null,null,"TOTAL",null,null,null,null,"MUJERES\n10 A 49"]
["M",null,"F","M",null,"F","M","F","M","F","M","F","M",null,"F","M",null,"F","M",null,"F","M",null,"F",null,"M","F","M",null,"F","M",null,null,"F",null,null,"M","F",null,"M",null,"F",null,"M",null,null,"F","M",null,null,"F","M",null,"F",null,"M",null,null,"F",null,"M",null,"F",null,"M",null,"F",null,"M",null,"F",null,"M",null,"F",null,"M",null,null,"F","M",null,"F"]
[4,null,3,3,null,12,8,16,8,4,11,18,8,null,7,4,null,6,4,null,9,22,null,25,null,5,8,2,null,6,26,null,null,21,null,null,47,46,null,38,null,49,null,36,null,null,42,35,null,null,24,20,null,25,null,22,null,null,25,null,21,null,23,null,17,null,19,null,3,null,12,null,11,null,7,null,14,null,null,16,{"$f":"SUM(A91,D91,G91,I91,K91,M91,P91,S91,V91,Z91,AB91,AE91,AK91,AN91,AR91,AV91,AZ91,BD91,BI91,BM91,BQ91,BU91,BY91)","v":369},null,{"$f":"SUM(C91,F91,H91,J91,L91,O91,R91,U91,X91,AA91,AD91,AH91,AL91,AP91,AU91,AY91,BB91,BG91,BK91,BO91,BS91,BW91,CB91)","v":423},null,null,{"$f":"SUM(AA91,AD91,AH91,AL91,AP91,AU91,AY91,BB91,BG91,BK91)","v":269}]
[{"$f":"SUM(A91:C91)","v":7},null,null,{"$f":"SUM(D91,F91)","v":15},null,null,{"$f":"SUM(G91,H91)","v":24},null,{"$f":"SUM(I91,J91)","v":12},null,{"$f":"SUM(K91,L91)","v":29},null,{"$f":"SUM(M91,O91)","v":15},null,null,{"$f":"SUM(P91,R91)","v":10},null,null,{"$f":"SUM(S91,U91)","v":13},null,null,{"$f":"SUM(V91,X91)","v":47},null,null,null,{"$f":"SUM(Z91,AA91)","v":13},null,{"$f":"SUM(AB91,AD91)","v":8},null,null,{"$f":"SUM(AE91,AH91)","v":47},null,null,null,null,null,{"$f":"SUM(AK91,AL91)","v":93},null,null,{"$f":"SUM(AN91,AP91)","v":87},null,null,null,{"$f":"SUM(AR91,AU91)","v":78},null,null,null,{"$f":"SUM(AV91,AY91)","v":59},null,null,null,{"$f":"SUM(AZ91,BB91)","v":45},null,null,null,{"$f":"SUM(BD91,BG91)","v":47},null,null,null,null,{"$f":"SUM(BI91,BK91)","v":44},null,null,null,{"$f":"SUM(BM91,BO91)","v":36},null,null,null,{"$f":"SUM(BQ91,BS91)","v":15},null,null,null,{"$f":"SUM(BU91,BW91)","v":18},null,null,null,{"$f":"SUM(BY91,CB91)","v":30},null,null,null,{"$f":"SUM(CC91,CE91)","v":792}]
[]
[]
[]
[]
[]
[]
[]
["NORTE S.A.C.","CUBIERTO","PLANTA PERMANENTE","30 HS."]
["ESTE S.A.C.","CUBIERTO","PLANTA PERMANENTE","30 HS."]
["PISCUNO S.A.C.","CUBIERTO","PLANTA PERMANENTE","30 HS."]
["AGUADITA S.A.C.","CUBIERTO","PLANTA PERMANENTE","30 HS."]
["EL ACAY S.A.C.","CUBIERTO","PLANTA PERMANENTE","30 HS."]
["SUR S.A.C.","CUBIERTO","PLANTA PERMANENTE","30 HS."]
["CHAÑARCITO S.A.C.","CUBIERTO","PLANTA PERMANENTE","30 HS."]
["CHORRILLOS S.A.C.","CUBIERTO","BECARIO","30 HS."]
["OESTE S.AC.","CUBIERTO","PLANTA PERMANENTE","44 HS."]
["URCURO S.A.C.","CUBIERTO","PLANTA PERMANENTE","30 HS."]
["CORRALITOS S.A.C.","CUBIERTO","PLANTA PERMANENTE","30 HS"]
["STA ROSA PASTOS GRANDES","CUBIERTO","DESIG.TEMPORARIA","44 HS."]
["TOLAR GRANDE","CUBIERTO","PLANTA PERMANENTE","30 HS."]
["SALAR DE POCITOS","DESCUBIERTO"]
["OLACAPATO","CUBIERTO","PLANTA PERMANENTE","44 HS."]
["COBRES","CUBIERTO","Contrato","30 HS."]
["LAS CUEVAS DPTO R° DE LERMA","CUBIERTO","PLANTA PERMANENTE","30 HS."]
["EL TORO DPTO R° DE LERMA","CUBIERTO","PLANTA PERMANENTE","44 HS."]
["EL PALOMAR DPTO R° DE LERMA","CUBIERTO","PLANTA PERMANENTE","30 HS."]
["ESQUINA DE GUARDIA","CUBIERTO","PLANTA PERMANENTE","30 HS."]
["NORTE II S.A.C.","CUBIERTO","PLANTA PERMANENTE","30 HS."]
["B° El Mataderos","CUBIERTO","P/P","30 Hs"]
["Pichanal A","CUBIERTO","P/P","30 Hs"]
["Asentamiento Mataderos","CUBIERTO","P/P","30 Hs"]
["B° Justo Juez","CUBIERTO","P/P","30 Hs"]
["B° Centro A","CUBIERTO_X_GUARDIA","P/P","30 Hs"]
["Pichanal F","CUBIERTO","P/P","30 Hs"]
["Pichanal E","CUBIERTO","P/P","30 Hs"]
["Pichanal B","CUBIERTO","P/P","30 Hs"]
["B° El Triángulo","CUBIERTO","P/P","30 Hs"]
["B° Los Paraisos","CUBIERTO","P/P","30 Hs"]
["Pichanal C","CUBIERTO","P/P","30 Hs"]
["B° Sán Jorge","CUBIERTO_X_GUARDIA","P/P","30 Hs"]
[" Pichanal D","CUBIERTO_X_GUARDIA","P/P","30 Hs"]
["Pichanal G","CUBIERTO_X_GUARDIA","P/P","30 Hs"]
["B° El Progreso","CUBIERTO","P/P","30 Hs"]
["B° Jesús de Nazareth","CUBIERTO","P/P","30 Hs"]
["Asentamiento Francini E","CUBIERTO","P/P","30 Hs"]
["Asentamiento Francini D","CUBIERTO","P/P","30 Hs"]
["Asentamiento Francini C","CUBIERTO","P/P","30 Hs"]
["Asentamiento Francini A","CUBIERTO","P/P","30 Hs"]
["Asentamiento Francini B","CUBIERTO","P/P","30 Hs"]
["B° Centro C B° El Milagro","CUBIERTO_X_GUARDIA","P/P","30 Hs"]
["B° Santa Rita B","CUBIERTO_X_GUARDIA"]
["B° Centro B","CUBIERTO_X_GUARDIA"]
["B° Centro D","CUBIERTO_X_GUARDIA"]
["FRANCINI F","CUBIERTO_X_GUARDIA","PLANTA PERMANENTE","OTRO"]
["NUEVA JERUSALEN","CUBIERTO_X_GUARDIA","PLANTA PERMANENTE","OTRO"]

{"sheet":"Control","index":1,"n_rows":33,"n_cols":12,"rows_kept":33,"cut":false,"hidden":false,"merged":[[6,7,6,9],[16,7,16,10],[14,7,14,10]]}
["DIRECCION DE APS - MINISTERIO DE SALUD - RONDA 2° - 2026"]
[]
[null,null,null,null,null,null,null,"DATOS DEL AREA OPERATIVA"]
[]
[null,null,null,null,null,null,"N°:",4,"Ejemplo: 50"]
[]
[null,null,null,null,null,null,"Nombre:","MORILLO",null,null,"Ejemplo: La Merced"]
[]
[null,null,null,null,null,null,"Coef. Sint. Resp.:",8,"(4,6 u 8)"]
[]
[null,null,null,null,null,"Dias Habiles de la ronda A.O.",null,52]
[]
["Carga de Formularios 2 - Ver. 6",null,null,null,null,"Poblacion Estimada de la A.O.",null,8539]
["Por consultas:"]
["Gustavo Alias Ohse",null,null,null,null,"Nombre Responsable APS:",null,"Dr. Abel Ibarra"]
["gustavoalias@gmail.com"]
["Ricardo Maioli Figueroa",null,null,null,null,"Establecimiento Base:",null,"HOSPITAL MORILLO"]
["ricardo.enfermero.salta@gmail.com"]
[null,null,null,null,null,null,"Ronda:","2° - 2026","Desde:","07/03/2025","Hasta:","05/06/2026"]
["Dirección - Programa de A.P.S."]
["Av. De los Incas S/N",null,null,null,null,null,"Informe:",6,"Orden:",2]
["Barrio Grand Bourg"]
["0387-4324513 - 4324491"]
[]
[]
[1,null,"CUBIERTO","ESPECIFICAR","ESPECIFICAR","uno"]
[null,null,"DESCUBIERTO","NO ASIGNADO","15 HS."]
[null,null,"CUBIERTO_X_GUARDIA","PLANTA PERMANENTE","20 HS."]
[null,null," ","CONT. MED.COM.","30 HS."]
[null,null,null,"DESIG.TEMPORARIA","40 HS."]
[null,null,null,"CONT. COVID","44 HS."]
[null,null,null,"BECARIO","DE"]
[null,null,null,"CONTRATO","OTRO"]

{"sheet":"F3A","index":2,"n_rows":8,"n_cols":57,"rows_kept":8,"cut":false,"hidden":false,"merged":[[0,0,0,39],[0,40,0,47],[0,48,0,49],[6,43,6,44],[6,45,6,46],[5,9,5,27],[6,9,7,9],[6,10,7,10],[6,11,7,11],[6,12,6,17],[6,18,6,19],[6,20,6,21],[4,7,7,7],[4,8,7,8],[4,49,7,49],[6,22,6,23],[6,51,6,53],[6,54,7,54],[6,55,7,55],[6,56,7,56],[6,29,7,29],[6,30,7,30],[6,31,6,36],[6,37,6,38],[6,39,6,40],[6,41,6,42],[4,50,7,50],[4,51,5,56],[5,28,5,46],[4,9,4,46],[4,47,7,47],[4,48,7,48],[6,24,6,25],[6,26,6,27],[6,28,7,28],[4,0,7,0],[4,1,7,1],[4,2,7,2],[4,3,7,3],[4,4,7,4],[4,5,6,6],[3,55,3,56],[3,2,3,4],[3,5,3,8],[3,9,3,10],[3,11,3,13],[3,14,3,15],[3,16,3,18],[3,19,3,22],[3,23,3,39],[3,40,3,47],[3,48,3,49],[3,50,3,54],[0,50,0,52],[1,50,1,54],[1,55,1,56],[2,0,2,39],[2,40,2,47],[2,48,2,49],[2,50,2,54],[2,55,2,56],[1,0,1,1],[1,2,1,3],[1,4,1,6],[1,7,1,17],[1,18,1,23],[1,24,1,39],[1,40,1,47],[1,48,1,49]]}
["MINISTERIO DE SALUD PUBLICA - SUBSECRETARIA DE MEDICINA SOCIAL - DIRECCION DE APS",null,null,null,null,null,null,null,null,null,null,null,null,null,null,null,null,null,null,null,null,null,null,null,null,null,null,null,null,null,null,null,null,null,null,null,null,null,null,null,"SECTORES A CUBRIR",null,null,null,null,null,null,null,25,null,"ORDEN",null,null,2]
["N° AREA",null,4,null,"NOMBRE: ",null,null,"MORILLO",null,null,null,null,null,null,null,null,null,null,"ESTABLECIMIENTO BASE: ",null,null,null,null,null,"HOSPITAL MORILLO",null,null,null,null,null,null,null,null,null,null,null,null,null,null,null,"SECTORES CUBIERTOS",null,null,null,null,null,null,null,21,null,"MORTALIDAD MATERNA ACUMULADA EN EL AÑO",null,null,null,null,0]
[null,null,null,null,null,null,null,null,null,null,null,null,null,null,null,null,null,null,null,null,null,null,null,null,null,null,null,null,null,null,null,null,null,null,null,null,null,null,null,null,"SECTORES DESCUBIERTOS",null,null,null,null,null,null,null,4,null,"MORTALIDAD INFANTIL",null,null,null,null,0]
[null,null,"RONDA NRO:",null,null,5,null,null,null,"DESDE: ",null,"22/12/2025",null,null,"HASTA:",null,"06/03/2026",null,null,"RESPONSABLE: ",null,null,null,"Dr. Abel Ibarra",null,null,null,null,null,null,null,null,null,null,null,null,null,null,null,null,"Cubierto Porf Guardia",null,null,null,null,null,null,null,0,null,"MORTALIDAD 1 A 4 AÑOS",null,null,null,null,2]
["N° de Orden","NOMBRE DEL SECTOR","N° Flias. Asignadas","N° Familias Visitadas","% de Cobertura","Familias\nPriorizadas",null,"Visitas a flias.\nPriorizadas","Conc. De V.F.P.","NUTRICION",null,null,null,null,null,null,null,null,null,null,null,null,null,null,null,null,null,null,null,null,null,null,null,null,null,null,null,null,null,null,null,null,null,null,null,null,null,"N° CONTROLES A NIÑOS\nEN BP + MBP","CONC. CONTROLES","MELaN NIÑOS BP, MBP\nY RIESGO BP","% MELaN","DEFUNCIONES"]
[null,null,2,3,4,null,null,null,null,"NIÑOS Y NIÑAS MENORES DE 2 AÑOS",null,null,null,null,null,null,null,null,null,null,null,null,null,null,null,null,null,null,"NIÑOS Y NIÑAS DE 2 A 5 AÑOS",null,null,null,null,null,null,null,null,null,null,null,null,null,null,null,null,null,null,null,40,41,42]
[null,null,null,null,null,null,null,null,null,"A CONTROLAR","N° NIÑOS\nCONTROLADOS","% NIÑOS\nCONTROLADOS","ESTADO NUTRICIONAL",null,null,null,null,null,"RIESGO",null,"% RIESGO",null,"RECUP.",null,"% RECUP.",null,"TALLA",null,"A CONTROLAR","N° NIÑOS\nCONTROLADOS","% NIÑOS\nCONTROLADOS","ESTADO NUTRICIONAL",null,null,null,null,null,"RIESGO",null,"% RIESGO",null,"RECUP.",null,"% RECUP.",null,"TALLA",null,null,null,null,null,"MENORES 1 AÑO",null,null,"1A4","MAT.","OTRAS"]
[null,null,null,null,null,"N°","%",null,null,null,2,3,"A","BP","MBP","AP","%BP\nMBP","%\nAP","BP","AP","BP","AP","BP","AP","BP","AP","Talla\nB/MB","%",null,2,3,"A","BP","MBP","AP","%BP\nMBP","%\nAP","BP","AP","BP","AP","BP","AP","BP","AP","Talla\nB/MB","%",null,40,41,42,"<7 DIAS","7 A 28D","1 A 11 M"]

{"sheet":"F3AR","index":3,"n_rows":5,"n_cols":54,"rows_kept":5,"cut":false,"hidden":false,"merged":[[3,35,3,36],[3,37,3,38],[3,39,3,40],[3,42,3,43],[3,45,3,46],[3,11,3,12],[3,25,3,26],[3,27,3,28],[3,29,3,30],[1,17,3,18],[1,19,3,20],[1,21,3,22],[1,23,3,24],[1,25,2,28],[1,53,2,53],[2,41,2,43],[2,44,2,46],[2,47,3,47],[2,48,3,48],[1,41,1,48],[1,49,2,52],[3,51,3,52],[3,49,3,50],[0,0,0,45],[0,46,0,49],[1,0,4,0],[1,1,3,2],[1,3,3,4],[1,5,3,6],[1,7,3,8],[1,9,2,12],[1,13,3,14],[1,15,3,16],[3,31,3,32],[1,33,2,36],[1,37,2,40],[3,33,3,34],[1,29,2,32],[3,9,3,10]]}
["MINISTERIO DE SALUD PUBLICA - SUBSECRETARIA DE MEDICINA SOCIAL - DIRECCION DE APS",null,null,null,null,null,null,null,null,null,null,null,null,null,null,null,null,null,null,null,null,null,null,null,null,null,null,null,null,null,null,null,null,null,null,null,null,null,null,null,null,null,null,null,null,null,"ORDEN RONDA AÑO",null,null,null,2]
["N° Orden","Familias Originarias",null,"Familias Urbanas",null,"Familias PeriUrbanas",null,"Familias Rurales",null,"Familias Migrantes",null,null,null,"Familias con\nPlanes Sociales",null,"Antecedentes Mortalidad Materno Infantil",null,"Flias. Con 3 o mas menores de 6a",null,"Flias. c/Analfab. Materno/Emb",null,"Flias. Con Hacinamiento",null,"N° Suicidios en la Ronda",null,"Flias. Con Intentos de Suicidio",null,null,null,"Flias. Con Abuso de Alcohol",null,null,null,"Flias. Con Abuso de Otras D.I.",null,null,null,"Flias. Con VIF",null,null,null,"FLIAS CON ENF. CRONICAS",null,null,null,null,null,null,null,"SUPERVISION"]
[null,null,null,null,null,null,null,null,null,null,null,null,null,null,null,null,null,null,null,null,null,null,null,null,null,null,null,null,null,null,null,null,null,null,null,null,null,null,null,null,null,"DIABETES",null,null,"HTA",null,null,"PERSONAS CON OTRAS ENFERMEDADES AL CUIDADO DE NIÑOS","ADULTOS SIT. RIESGO"]
[null,null,null,null,null,null,null,null,null,"Hacia el A.O.",null,"Desde el A.O.",null,null,null,null,null,null,null,null,null,null,null,null,null,"TOTAL",null,"EN TRATAMIENTO",null,"TOTAL",null,"EN TRATAMIENTO",null,"TOTAL",null,"EN TRATAMIENTO",null,"TOTAL",null,"EN TRATAMIENTO",null,"TOTAL","EN\nTRATAMIENTO",null,"TOTAL","EN\nTRATAMIENTO",null,null,null,"SUP. INT. FLIAS PR (2 Y 3",null,"SUPERV. PROF. FLIAS PRIOR",null,"COMUNITARIAS"]
[null,"N°","%","N°","%","N°","%","N°","%","N°","%","N°","%","N°","%","N°","%","N°","%","N°","%","N°","%","N°","%","N°","%","N°","%","N°","%","N°","%","N°","%","N°","%","N°","%","N°","%","N°","N°","%","N°","N°","%","N°","N°","N°","%","N°","%","N°"]

{"sheet":"F3B","index":4,"n_rows":6,"n_cols":76,"rows_kept":6,"cut":false,"hidden":false,"merged":[[3,73,5,73],[3,74,5,74],[4,1,5,1],[4,2,5,2],[4,11,5,11],[4,12,5,12],[4,29,5,29],[4,30,5,30],[4,31,5,31],[4,32,5,32],[3,67,5,67],[3,68,5,68],[3,69,5,69],[3,70,5,70],[3,71,5,71],[3,72,5,72],[3,66,5,66],[4,56,5,56],[4,57,5,57],[4,58,5,58],[4,59,5,59],[4,60,5,60],[4,61,5,61],[3,63,5,63],[3,64,5,64],[3,65,5,65],[3,39,5,39],[3,40,5,40],[3,41,5,41],[3,42,5,42],[3,53,4,54],[4,48,5,48],[4,49,5,49],[4,50,5,50],[4,51,4,52],[3,44,5,44],[3,45,5,45],[3,46,5,46],[3,47,5,47],[3,50,3,52],[3,28,5,28],[3,31,3,32],[3,33,3,34],[3,35,5,35],[3,36,5,36],[4,33,5,33],[4,34,5,34],[3,13,5,13],[3,14,5,14],[3,27,5,27],[3,16,5,16],[3,17,5,17],[3,18,5,18],[3,19,5,19],[3,20,5,20],[3,21,5,21],[3,22,5,22],[3,23,5,23],[3,24,5,24],[3,25,5,25],[3,26,5,26],[3,7,5,7],[3,8,5,8],[3,9,5,9],[3,10,5,10],[3,11,3,12],[1,75,5,75],[2,29,3,30],[2,31,2,34],[2,35,2,37],[2,38,2,41],[2,42,2,44],[2,45,2,47],[2,48,3,49],[2,50,2,54],[2,55,5,55],[2,62,5,62],[2,63,2,68],[2,69,2,74],[3,43,5,43],[3,37,5,37],[3,38,5,38],[0,0,0,67],[0,68,0,71],[1,0,5,0],[1,1,2,28],[1,29,1,47],[1,48,1,61],[1,62,1,74],[2,56,3,57],[2,58,3,59],[2,60,3,61],[3,15,5,15],[3,1,3,2],[3,3,5,3],[3,4,5,4],[3,5,5,5],[3,6,5,6]]}
["MINISTERIO DE SALUD PUBLICA - SUBSECRETARIA DE MEDICINA SOCIAL - DIRECCION DE APS",null,null,null,null,null,null,null,null,null,null,null,null,null,null,null,null,null,null,null,null,null,null,null,null,null,null,null,null,null,null,null,null,null,null,null,null,null,null,null,null,null,null,null,null,null,null,null,null,null,null,null,null,null,null,null,null,null,null,null,null,null,null,null,null,null,null,null,"ORDEN RONDA AÑO",null,null,null,2]
["Orden","POBLACION",null,null,null,null,null,null,null,null,null,null,null,null,null,null,null,null,null,null,null,null,null,null,null,null,null,null,null,"TUBERCULOSIS y CHAGA",null,null,null,null,null,null,null,null,null,null,null,null,null,null,null,null,null,null,"FAMILIA Y MEDIO AMBIENTE",null,null,null,null,null,null,null,null,null,null,null,null,null,"VIVIENDA Y MEDIO AMBIENTE",null,null,null,null,null,null,null,null,null,null,null,null,"UROCS"]
[null,null,null,null,null,null,null,null,null,null,null,null,null,null,null,null,null,null,null,null,null,null,null,null,null,null,null,null,null,"SINTOM.\nRESP.",null,"MUESTRAS",null,null,null,"TRATAMIENTOS",null,null,"CONTROL MEDICO",null,null,null,"CONTACTOS",null,null,"TTO CHAGAS",null,null,"AGUA\nSEGURA",null,"DSE",null,null,null,null,"SIN TRATAMIENTO","T.S.B.",null,"FLIAS C/\nHUERTA",null,"FLIAS. C/\nGRANJA",null,"N° CASAS VISITADAS","CHAGAS",null,null,null,null,null,"DENGUE Y CHIKUNGUNYA"]
[null,"< 1 año",null,"1 años","2 años","3 años","4 años","5 años","6 años","7a9 a","10 a","11 años",null,"12-14","15-19","20-24","25-29","30-34","35-39","40-44","45-49","50-54","55-59","60-64","65 y +","TOTAL","E. Fert.","O.S.","INDOC.",null,null,"DIAGN",null,"CONTROL",null,"TOTAL","TAES","% TAES","A PACIENTES","%","CONTACTOS","%","TOTAL","CONT <14","QPX","INICIO","FINALIZACION","ABANDONO",null,null,"ARRASTRE",null,null,"LETRINA",null,null,null,null,null,null,null,null,null,"N° CASAS EVALUADAS","% CASAS EVALUADAS","N° CASAS POSITIVAS","% CASAS POSITIVAS","N° CASAS TRATADAS","% CASAS TRATADAS","N° CASAS EVALUADAS","% CASAS EVALUADAS","N° CASAS POSITIVAS","% CASAS POSITIVAS","N° CASAS TRATADAS","% CASAS TRATADAS"]
[null,"< 6 m","6-11m",null,null,null,null,null,null,null,null,"M","F",null,null,null,null,null,null,null,null,null,null,null,null,null,null,null,null,"Nº","%","T","(+)","T","(+)",null,"Cont","QPX",null,null,null,null,null,null,null,null,null,null,"N°","%","CLOACAS","POZO CGO.",null,null,null,null,"N°","%","N°","%","N°","%"]
[null,null,null,null,null,null,null,null,null,null,null,null,null,null,null,null,null,null,null,null,null,null,null,null,null,null,null,null,null,null,null,null,null,null,null,null,null,null,null,null,null,null,null,null,null,null,null,null,null,null,null,"TRAT","NO TRAT","TRAT","NO TRAT"]

{"sheet":"F3BR","index":5,"n_rows":5,"n_cols":57,"rows_kept":5,"cut":false,"hidden":false,"merged":[[2,29,4,29],[3,22,3,25],[3,26,4,26],[3,27,4,27],[3,37,3,38],[2,53,3,54],[2,55,3,56],[3,1,4,1],[3,2,4,2],[3,3,4,3],[3,4,4,4],[3,8,4,8],[3,9,4,9],[3,10,4,10],[3,11,4,11],[2,35,3,36],[2,37,2,44],[2,45,3,46],[2,47,3,48],[2,49,3,50],[2,51,3,52],[3,43,3,44],[2,30,4,30],[2,31,3,32],[2,33,3,34],[3,41,3,42],[3,39,3,40],[2,14,2,15],[2,16,2,19],[2,20,2,27],[2,28,4,28],[3,12,4,12],[3,13,4,13],[3,14,4,14],[3,15,4,15],[3,16,4,16],[3,17,4,17],[3,18,4,18],[3,19,4,19],[3,20,4,20],[3,21,4,21],[2,10,2,11],[0,0,0,49],[0,50,0,52],[1,0,4,0],[1,1,1,4],[1,5,1,15],[1,16,1,27],[1,28,1,30],[1,31,1,56],[2,1,2,2],[2,3,2,4],[2,5,4,5],[2,6,4,6],[2,7,4,7],[2,8,2,9],[2,12,2,13]]}
["MINISTERIO DE SALUD PUBLICA - SUBSECRETARIA DE MEDICINA SOCIAL - DIRECCION DE APS",null,null,null,null,null,null,null,null,null,null,null,null,null,null,null,null,null,null,null,null,null,null,null,null,null,null,null,null,null,null,null,null,null,null,null,null,null,null,null,null,null,null,null,null,null,null,null,null,null,"ORDEN RONDA AÑO",null,null,4,null,null,2]
["N° ORDEN","EDAD FERTIL",null,null,null,"EMBARAZADAS",null,null,null,null,null,null,null,null,null,null,"PARTO Y RECIEN NACIDO",null,null,null,null,null,null,null,null,null,null,null,"LACTANCIA\nMATERNA",null,null,"DERIVACIONES"]
[null,"Antic",null,"PAP",null,"TOTAL EMB","Emb Cap 1° trim","EMB. RIESGO","MELON",null,"MEL",null,"S/C",null,"<19 a",null,"PARTOS",null,null,null,"NACIDOS VIVOS",null,null,null,null,null,null,null,"NIÑOS DE\n6 MESES","L.M.E.","%","EMB",null,"RN",null,"PUERP",null,"Menores de 6 años",null,null,null,null,null,null,null,"ENF. CRONICAS",null,"PAP",null,"CHAGAS",null,"TBC",null,"PSICOSOC",null,"TOTAL\nDERIVACIONES"]
[null,"N°","%","N°","%",null,null,null,"N°","%","N°","%","N°","%","N°","%","TOTAL","HOSP.","% HOSP","C.MED. PUERP.","N°","PRETER","PESO AL NACER",null,null,null,"PESQUISA","C. MED RN",null,null,null,null,null,null,null,null,null,"BP- MBP",null,"RGO BP",null,"Resp",null,"Diarr"]
[null,null,null,null,null,null,null,null,null,null,null,null,null,null,null,null,null,null,null,null,null,null,"AP","A","BP","MBP",null,null,null,null,null,"Env","Rec","Env","Rec","Env","Rec","Env","Rec","Env","Rec","Env","Rec","Env","Rec","Env","Rec","Env","Rec","Env","Rec","Env","Rec","Env","Rec","Env","Rec"]

{"sheet":"F3_Inmunizaciones","index":6,"n_rows":32,"n_cols":68,"rows_kept":32,"cut":false,"hidden":false,"merged":[[2,60,2,64],[2,65,5,65],[2,66,5,66],[2,67,5,67],[3,53,3,54],[3,55,5,55],[3,56,3,57],[3,58,3,59],[0,0,0,67],[1,0,1,66],[2,0,5,0],[2,1,2,5],[2,6,2,16],[2,17,2,31],[2,32,2,34],[2,35,2,43],[2,44,2,48],[2,49,2,51],[3,1,5,1],[3,2,3,3],[3,4,3,5],[3,6,5,6],[3,7,3,8],[3,9,3,10],[4,10,5,10],[2,52,2,54],[2,55,2,59],[3,11,3,12],[3,13,3,14],[3,15,3,16],[3,17,5,17],[3,18,3,19],[3,22,3,23],[4,11,5,11],[4,12,5,12],[4,13,5,13],[4,14,5,14],[4,15,5,15],[4,16,5,16],[4,18,5,18],[4,19,5,19],[4,22,5,22],[4,23,5,23],[3,30,3,31],[3,32,5,32],[4,24,5,24],[4,25,5,25],[4,26,5,26],[4,56,5,56],[4,57,5,57],[4,2,5,2],[4,3,5,3],[4,4,5,4],[4,5,5,5],[4,7,5,7],[4,8,5,8],[4,9,5,9],[3,44,5,44],[3,45,3,46],[4,45,5,45],[4,46,5,46],[3,33,3,34],[3,35,5,35],[3,36,3,37],[3,38,3,39],[3,40,3,41],[3,42,3,43],[4,33,5,33],[4,34,5,34],[4,36,5,36],[4,37,5,37],[3,24,3,25],[4,43,5,43],[4,28,5,28],[4,29,5,29],[4,30,5,30],[4,31,5,31],[3,60,5,60],[3,61,3,62],[3,63,3,64],[3,47,3,48],[3,49,5,49],[3,50,3,51],[3,52,5,52],[4,47,5,47],[4,48,5,48],[4,58,5,58],[4,59,5,59],[4,61,5,61],[4,62,5,62],[4,63,5,63],[4,64,5,64],[4,50,5,50],[4,51,5,51],[4,53,5,53],[4,54,5,54],[3,20,3,21],[4,20,5,20],[4,21,5,21],[4,27,5,27],[4,38,5,38],[4,39,5,39],[4,40,5,40],[4,41,5,41],[4,42,5,42],[3,26,3,27],[3,28,3,29]]}
[]
["INMUNIZACIONES"]
["Total","RN EN LA RONDA",null,null,null,null,"MENORES DE 1 AÑO",null,null,null,null,null,null,null,null,null,null,"NIÑOS DE 1 AÑO EN LA RONDA",null,null,null,null,null,null,null,null,null,null,null,null,null,null,"6 A 24 MESES",null,null,"NIÑOS DE 5 AÑOS",null,null,null,null,null,null,null,null,"NIÑOS/AS DE 11 QUE CUMPLEN 11 A. EN LA RONDA",null,null,null,null,"NIÑAS QUE CUMPLEN 11 AÑOS EN LA RONDA",null,null,"NIÑOS QUE CUMPLEN 11 AÑOS EN LA RONDA",null,null,"EMBARAZADAS",null,null,null,null,"MAYORES DE 65 AÑOS",null,null,null,null,"Aplicaciones cargadas a Nomivac","Total aplicadas por Agentes Sanitario","Total de vacuna covid aplicada en la Rda"]
[null,"Población","BCG",null,"HEPAT B",null,"Población","2° NEUMOCOCO",null,"2° ROTAVIRUS",null,"2° \nMENINGOCOCO",null,"3°\nANTIPOLIO",null,"3° PENTAVALENTE",null,"Población","1° TV",null,"2° TV",null,"UNICA DOSIS A HA",null,"REF. NEUMO-\nCOCO",null,"REF. MENINGO-\nCOCO",null,"UNICA DOSIS VARICELA",null,"4° DOSIS O 1° REF. PENTAVA-\nLENTE",null,"Población","2° ANTIGRIPAL",null,"Población","2° REF\nVARICELA",null,"2° REF ANTIPOLIO",null,"2° REF. DPT",null,"2° TV",null,"Población","dTpa",null,"UNICA DOSIS MENINGO-\nCOCO",null,"Población","1° HPV",null,"Población","1° HPV",null,"Población","vac Dpta ac",null,"Vac Sincisial",null,"Población","Dt Vigente",null,"Neumo 20"]
[null,null,"Vac  Aplic","%","Vac  Aplic","%",null,"Vac  Aplic","%","Vac  Aplic","%","Vac  Aplic","%","Vac  Aplic","%","Vac  Aplic","%",null,"Vac  Aplic","%","Vac  Aplic","%","Vac  Aplic","%","Vac  Aplic","%","Vac  Aplic","%","Vac  Aplic","%","Vac  Aplic","%",null,"Vac  Aplic","%",null,"Vac  Aplic","%","Vac  Aplic","%","Vac  Aplic","%","Vac  Aplic","%",null,"Vac  Aplic","%","Vac  Aplic","%",null,"Vac  Aplic","%",null,"Vac  Aplic","%",null,"Vac  Aplic","%","Vac  Aplic","%",null,"Vac  Aplic","%","Vac  Aplic","%"]
[]
[null,null,null,null,null,null,null,null,null,null,null,null,null,null,null,null,null,null,null,null,null,null,null,null,null,null,null,null,null,null,null,null,null,null,null,null,null,null,null,null,null,null,null,null,null,null,null,null,null,null,null,null,null,null,null,null,null,null,null,null,null,null,null,null,null,null,null,0]
[null,null,null,null,null,null,null,null,null,null,null,null,null,null,null,null,null,null,null,null,null,null,null,null,null,null,null,null,null,null,null,null,null,null,null,null,null,null,null,null,null,null,null,null,null,null,null,null,null,null,null,null,null,null,null,null,null,null,null,null,null,null,null,null,null,null,null,0]
[null,null,null,null,null,null,null,null,null,null,null,null,null,null,null,null,null,null,null,null,null,null,null,null,null,null,null,null,null,null,null,null,null,null,null,null,null,null,null,null,null,null,null,null,null,null,null,null,null,null,null,null,null,null,null,null,null,null,null,null,null,null,null,null,null,null,null,0]
[null,null,null,null,null,null,null,null,null,null,null,null,null,null,null,null,null,null,null,null,null,null,null,null,null,null,null,null,null,null,null,null,null,null,null,null,null,null,null,null,null,null,null,null,null,null,null,null,null,null,null,null,null,null,null,null,null,null,null,null,null,null,null,null,null,null,null,0]
[null,null,null,null,null,null,null,null,null,null,null,null,null,null,null,null,null,null,null,null,null,null,null,null,null,null,null,null,null,null,null,null,null,null,null,null,null,null,null,null,null,null,null,null,null,null,null,null,null,null,null,null,null,null,null,null,null,null,null,null,null,null,null,null,null,null,null,0]
[null,null,null,null,null,null,null,null,null,null,null,null,null,null,null,null,null,null,null,null,null,null,null,null,null,null,null,null,null,null,null,null,null,null,null,null,null,null,null,null,null,null,null,null,null,null,null,null,null,null,null,null,null,null,null,null,null,null,null,null,null,null,null,null,null,null,null,0]
[null,null,null,null,null,null,null,null,null,null,null,null,null,null,null,null,null,null,null,null,null,null,null,null,null,null,null,null,null,null,null,null,null,null,null,null,null,null,null,null,null,null,null,null,null,null,null,null,null,null,null,null,null,null,null,null,null,null,null,null,null,null,null,null,null,null,null,0]
[null,null,null,null,null,null,null,null,null,null,null,null,null,null,null,null,null,null,null,null,null,null,null,null,null,null,null,null,null,null,null,null,null,null,null,null,null,null,null,null,null,null,null,null,null,null,null,null,null,null,null,null,null,null,null,null,null,null,null,null,null,null,null,null,null,null,null,0]
[null,null,null,null,null,null,null,null,null,null,null,null,null,null,null,null,null,null,null,null,null,null,null,null,null,null,null,null,null,null,null,null,null,null,null,null,null,null,null,null,null,null,null,null,null,null,null,null,null,null,null,null,null,null,null,null,null,null,null,null,null,null,null,null,null,null,null,0]
[null,null,null,null,null,null,null,null,null,null,null,null,null,null,null,null,null,null,null,null,null,null,null,null,null,null,null,null,null,null,null,null,null,null,null,null,null,null,null,null,null,null,null,null,null,null,null,null,null,null,null,null,null,null,null,null,null,null,null,null,null,null,null,null,null,null,null,0]
[null,null,null,null,null,null,null,null,null,null,null,null,null,null,null,null,null,null,null,null,null,null,null,null,null,null,null,null,null,null,null,null,null,null,null,null,null,null,null,null,null,null,null,null,null,null,null,null,null,null,null,null,null,null,null,null,null,null,null,null,null,null,null,null,null,null,null,0]
[null,null,null,null,null,null,null,null,null,null,null,null,null,null,null,null,null,null,null,null,null,null,null,null,null,null,null,null,null,null,null,null,null,null,null,null,null,null,null,null,null,null,null,null,null,null,null,null,null,null,null,null,null,null,null,null,null,null,null,null,null,null,null,null,null,null,null,0]
[null,null,null,null,null,null,null,null,null,null,null,null,null,null,null,null,null,null,null,null,null,null,null,null,null,null,null,null,null,null,null,null,null,null,null,null,null,null,null,null,null,null,null,null,null,null,null,null,null,null,null,null,null,null,null,null,null,null,null,null,null,null,null,null,null,null,null,0]
[null,null,null,null,null,null,null,null,null,null,null,null,null,null,null,null,null,null,null,null,null,null,null,null,null,null,null,null,null,null,null,null,null,null,null,null,null,null,null,null,null,null,null,null,null,null,null,null,null,null,null,null,null,null,null,null,null,null,null,null,null,null,null,null,null,null,null,0]
[null,null,null,null,null,null,null,null,null,null,null,null,null,null,null,null,null,null,null,null,null,null,null,null,null,null,null,null,null,null,null,null,null,null,null,null,null,null,null,null,null,null,null,null,null,null,null,null,null,null,null,null,null,null,null,null,null,null,null,null,null,null,null,null,null,null,null,0]
[null,null,null,null,null,null,null,null,null,null,null,null,null,null,null,null,null,null,null,null,null,null,null,null,null,null,null,null,null,null,null,null,null,null,null,null,null,null,null,null,null,null,null,null,null,null,null,null,null,null,null,null,null,null,null,null,null,null,null,null,null,null,null,null,null,null,null,0]
[null,null,null,null,null,null,null,null,null,null,null,null,null,null,null,null,null,null,null,null,null,null,null,null,null,null,null,null,null,null,null,null,null,null,null,null,null,null,null,null,null,null,null,null,null,null,null,null,null,null,null,null,null,null,null,null,null,null,null,null,null,null,null,null,null,null,null,0]
[null,null,null,null,null,null,null,null,null,null,null,null,null,null,null,null,null,null,null,null,null,null,null,null,null,null,null,null,null,null,null,null,null,null,null,null,null,null,null,null,null,null,null,null,null,null,null,null,null,null,null,null,null,null,null,null,null,null,null,null,null,null,null,null,null,null,null,0]
[null,null,null,null,null,null,null,null,null,null,null,null,null,null,null,null,null,null,null,null,null,null,null,null,null,null,null,null,null,null,null,null,null,null,null,null,null,null,null,null,null,null,null,null,null,null,null,null,null,null,null,null,null,null,null,null,null,null,null,null,null,null,null,null,null,null,null,0]
[null,null,null,null,null,null,null,null,null,null,null,null,null,null,null,null,null,null,null,null,null,null,null,null,null,null,null,null,null,null,null,null,null,null,null,null,null,null,null,null,null,null,null,null,null,null,null,null,null,null,null,null,null,null,null,null,null,null,null,null,null,null,null,null,null,null,null,0]
[null,null,null,null,null,null,null,null,null,null,null,null,null,null,null,null,null,null,null,null,null,null,null,null,null,null,null,null,null,null,null,null,null,null,null,null,null,null,null,null,null,null,null,null,null,null,null,null,null,null,null,null,null,null,null,null,null,null,null,null,null,null,null,null,null,null,null,0]
[null,null,null,null,null,null,null,null,null,null,null,null,null,null,null,null,null,null,null,null,null,null,null,null,null,null,null,null,null,null,null,null,null,null,null,null,null,null,null,null,null,null,null,null,null,null,null,null,null,null,null,null,null,null,null,null,null,null,null,null,null,null,null,null,null,null,null,0]
[null,null,null,null,null,null,null,null,null,null,null,null,null,null,null,null,null,null,null,null,null,null,null,null,null,null,null,null,null,null,null,null,null,null,null,null,null,null,null,null,null,null,null,null,null,null,null,null,null,null,null,null,null,null,null,null,null,null,null,null,null,null,null,null,null,null,null,0]
[null,null,null,null,null,null,null,null,null,null,null,null,null,null,null,null,null,null,null,null,null,null,null,null,null,null,null,null,null,null,null,null,null,null,null,null,null,null,null,null,null,null,null,null,null,null,null,null,null,null,null,null,null,null,null,null,null,null,null,null,null,null,null,null,null,null,null,0]
[null,null,null,null,null,null,null,null,null,null,null,null,null,null,null,null,null,null,null,null,null,null,null,null,null,null,null,null,null,null,null,null,null,null,null,null,null,null,null,null,null,null,null,null,null,null,null,null,null,null,null,null,null,null,null,null,null,null,null,null,null,null,null,null,null,null,null,0]
[null,null,null,null,null,null,null,null,null,null,null,null,null,null,null,null,null,null,null,null,null,null,null,null,null,null,null,null,null,null,null,null,null,null,null,null,null,null,null,null,null,null,null,null,null,null,null,null,null,null,null,null,null,null,null,null,null,null,null,null,null,null,null,null,null,null,null,0]

{"sheet":"F3_Anexo_Vivienda","index":7,"n_rows":31,"n_cols":39,"rows_kept":31,"cut":false,"hidden":true,"merged":[[1,0,1,38],[2,0,4,0],[2,1,4,1],[2,2,2,6],[2,7,2,14],[2,15,2,19],[2,20,2,23],[2,24,4,24],[2,25,4,25],[2,26,2,35],[2,36,2,38],[3,6,4,6],[3,14,4,14],[3,19,4,19],[3,16,4,16],[3,17,4,17],[0,0,0,38],[3,2,4,2],[3,3,4,3],[3,4,4,4],[3,5,4,5],[3,7,4,7],[3,8,4,8],[3,9,4,9],[3,10,4,10],[3,11,4,11],[3,23,4,23],[3,35,4,35],[3,38,4,38],[3,12,4,12],[3,13,4,13],[3,15,4,15],[3,18,4,18],[3,20,4,20],[3,21,4,21],[3,22,4,22],[3,26,4,26],[3,27,4,27],[3,28,4,28],[3,29,4,29],[3,30,4,30],[3,31,4,31],[3,32,4,32],[3,33,4,33],[3,34,4,34],[3,36,4,36],[3,37,4,37]]}
["DIRECCION DE APS - MINISTERIO DE SALUD - SALTA - 1º RONDA 2025"]
["DATOS ANUALES DE LA VIVIENDA"]
["ORDEN","CASAS VISITADAS","PISO",null,null,null,null,"PAREDES",null,null,null,null,null,null,null,"TECHO",null,null,null,null,"COCINA",null,null,null,"CON HELADERA","% CON HELADERA","FUENTE DE AGUA",null,null,null,null,null,null,null,null,null,"TENENCIA"]
[null,null,"MOSAICO - BALDOSA","CEMENTO","TIERRA","OTROS","% MOSAICO-CEMENTO","LADRILLO","BLOQUE","ADOBE","PIEDRA","MADERA","QUINCHO","OTRO","% LADRILLO BLOQUE","LOZA","CHAPA ZINC","PAJA Y BARRO","OTROS","% LOZA + CHAPA Z","GAS","LEÑA/CARBON","OTROS","% GAS",null,null,"CORRIENTE A DOMIC.","GRIFO TERRENO","GRIFO PUBLICO","BOMBA","POZO","CAMION AGUA / CIST","VERTIENTE/RIO/ARROYO","LAGUNA","LLUVIA ALJIBE","% CORRIENTE A DOMIC","SEGURA","INSEGURA","% SEGURA"]
[]
["Total",2062,490,882,464,1,66.537342386032989,1352,125,148,1,10,48,28,71.629485935984476,8,1721,143,3,83.850630455868085,1103,775,0,53.4917555771096,898,43.549951503394766,1366,355,36,66,90,54,5,15,49,66.246362754607176,1396,171,67.701260911736185]
[1,0,0,0,0,0,0,0,0,0,0,0,0,0,0,0,0,0,0,0,0,0,0,0,0,0,0,0,0,0,0,0,0,0,0,0,0,0,0]
[2,90,0,37,53,0,41.111111111111107,49,0,32,0,0,9,0,54.444444444444443,0,53,37,0,58.888888888888893,1,89,0,1.1111111111111112,25,27.777777777777779,0,49,0,2,1,0,0,1,37,0,34,6,37.777777777777779]
[3,97,0,0,15,0,0,49,34,9,0,1,2,0,85.567010309278345,0,0,0,0,0,68,29,0,70.103092783505147,61,62.886597938144327,84,0,0,0,0,0,3,0,10,86.597938144329902,0,0,0]
[4,0,0,0,0,0,0,0,0,0,0,0,0,0,0,0,0,0,0,0,0,0,0,0,0,0,0,0,0,0,0,0,0,0,0,0,0,0,0]
[5,94,0,47,47,0,50,88,0,2,0,2,2,0,93.61702127659575,0,92,2,0,97.872340425531917,0,94,0,0,14,14.893617021276595,0,42,0,0,49,3,0,0,0,0,90,4,95.744680851063833]
[6,75,0,0,75,0,0,19,0,25,0,3,0,5,25.333333333333336,0,31,44,0,41.333333333333336,0,75,0,0,32,42.666666666666671,0,0,0,12,13,46,2,0,2,0,85,0,113.33333333333333]
[7,38,0,0,36,0,0,12,0,26,0,0,0,0,31.578947368421051,0,27,11,0,71.05263157894737,0,38,0,0,0,0,0,0,0,21,0,2,0,7,0,0,0,2,0]
[8,81,0,51,30,0,62.962962962962962,0,0,0,0,0,0,0,0,0,81,0,0,100,0,0,0,0,0,0,119,0,0,21,0,2,0,7,0,146.9135802469136,0,0,0]
[9,0,0,0,0,0,0,0,0,0,0,0,0,0,0,0,0,0,0,0,0,0,0,0,0,0,0,0,0,0,0,0,0,0,0,0,0,0,0]
[10,0,0,0,0,0,0,0,0,0,0,0,0,0,0,0,0,0,0,0,0,0,0,0,0,0,0,0,0,0,0,0,0,0,0,0,0,0,0]
[11,0,0,0,0,0,0,0,0,0,0,0,0,0,0,0,0,0,0,0,0,0,0,0,0,0,0,0,0,0,0,0,0,0,0,0,0,0,0]
[12,114,19,52,43,0,62.280701754385973,67,0,31,0,2,14,0,58.771929824561411,1,76,37,0,67.543859649122808,38,76,0,33.333333333333329,54,47.368421052631575,0,90,0,0,27,0,0,0,0,0,107,7,93.859649122807014]
[13,147,76,58,13,0,91.156462585034021,92,44,5,0,0,8,0,92.517006802721085,0,136,11,0,92.517006802721085,101,46,0,68.707482993197274,130,88.435374149659864,147,0,0,0,0,0,0,0,0,100,134,13,91.156462585034021]
[14,168,34,102,32,0,80.952380952380949,160,0,3,0,0,0,0,95.238095238095227,0,168,0,0,100,117,51,0,69.642857142857139,137,81.547619047619051,158,0,0,10,0,0,0,0,0,94.047619047619051,163,5,97.023809523809518]
[15,83,0,68,15,0,81.92771084337349,80,0,2,0,0,0,0,96.385542168674704,0,82,1,0,98.795180722891558,1,82,0,1.2048192771084338,0,0,83,0,0,0,0,0,0,0,0,100,83,0,100]
[16,95,0,0,0,0,0,0,0,0,0,0,0,0,0,0,0,0,0,0,0,0,0,0,0,0,0,0,0,0,0,0,0,0,0,0,0,0,0]
[17,91,1,49,41,0,54.945054945054949,57,0,10,0,0,0,0,62.637362637362635,0,91,0,0,100,3,88,0,3.296703296703297,6,6.593406593406594,1,90,0,0,0,0,0,0,0,1.098901098901099,78,13,85.714285714285708]
[18,143,0,130,15,0,90.909090909090907,25,0,0,0,0,0,0,17.482517482517483,0,145,0,0,101.3986013986014,120,25,0,83.91608391608392,100,69.930069930069934,145,0,0,0,0,0,0,0,0,101.3986013986014,110,35,76.923076923076934]
[19,112,0,102,10,0,91.071428571428569,112,0,0,0,0,0,0,100,0,112,0,0,100,112,0,0,100,0,0,82,0,30,0,0,0,0,0,0,73.214285714285708,0,5,0]
[20,0,0,0,0,0,0,0,0,0,0,0,0,0,0,0,0,0,0,0,0,0,0,0,0,0,0,0,0,0,0,0,0,0,0,0,0,0,0]
[21,123,119,0,4,0,96.747967479674799,120,0,0,1,0,3,0,97.560975609756099,0,122,0,0,99.1869918699187,119,4,0,96.747967479674799,119,96.747967479674799,119,4,0,0,0,0,0,0,0,96.747967479674799,122,1,99.1869918699187]
[22,136,42,77,17,0,87.5,130,0,0,0,0,6,0,95.588235294117652,1,135,0,0,100,95,41,0,69.85294117647058,80,58.82352941176471,65,71,0,0,0,0,0,0,0,47.794117647058826,121,41,88.970588235294116]
[23,71,2,0,16,1,2.8169014084507045,54,0,3,0,2,4,0,76.056338028169009,0,68,0,3,95.774647887323937,27,30,0,38.028169014084504,14,19.718309859154928,64,0,6,0,0,1,0,0,0,90.140845070422543,0,0,0]
[24,178,139,37,2,0,98.876404494382015,131,47,0,0,0,0,0,100,0,178,0,0,100,172,6,0,96.629213483146074,0,0,170,8,0,0,0,0,0,0,0,95.50561797752809,155,23,87.078651685393254]
[25,126,58,72,0,0,103.17460317460319,107,0,0,0,0,0,23,84.920634920634924,6,124,0,0,103.17460317460319,129,1,0,102.38095238095238,126,100,129,1,0,0,0,0,0,0,0,102.38095238095238,114,16,90.476190476190482]

{"sheet":"Piramide","index":8,"n_rows":36,"n_cols":15,"rows_kept":36,"cut":false,"hidden":true,"merged":[]}
[]
[]
[]
[null,null,null,null,null,null,null,null,null,null,null,null,"EDAD","HOMBRES","MUJERES "]
[null,null,null,null,null,null,null,null,null,null,null,null,"0 a 4",-401,389]
[null,null,null,null,null,null,null,null,null,null,null,null,"5 a 9",-492,502]
[null,null,null,null,null,null,null,null,null,null,null,null,"10 a 14",-533,513]
[null,null,null,null,null,null,null,null,null,null,null,null,"15 a 19",-451,458]
[null,null,null,null,null,null,null,null,null,null,null,null,"20 a 24",-359,361]
[null,null,null,null,null,null,null,null,null,null,null,null,"25 a 29",-365,378]
[null,null,null,null,null,null,null,null,null,null,null,null,"30 a 34",-295,319]
[null,null,null,null,null,null,null,null,null,null,null,null,"35 a 39",-234,244]
[null,null,null,null,null,null,null,null,null,null,null,null,"40 a 44",-190,184]
[null,null,null,null,null,null,null,null,null,null,null,null,"45 a 49",-227,189]
[null,null,null,null,null,null,null,null,null,null,null,null,"50 a 54",-137,155]
[null,null,null,null,null,null,null,null,null,null,null,null,"55 a 59",-138,144]
[null,null,null,null,null,null,null,null,null,null,null,null,"60 a 64",-118,98]
[null,null,null,null,null,null,null,null,null,null,null,null,"65 +",-271,247]
[null,null,null,null,null,null,null,null,null,null,null,null,"TOTAL",{"$f":"SUM(N5:N18)","v":-4211},{"$f":"SUM(O5:O18)","v":4181}]
[]
[]
[]
[]
[]
[]
[]
[]
[]
[]
[]
[]
[]
[]
[]
[]
[1004]

{"sheet":"FORTIN BELGRANO","index":9,"n_rows":93,"n_cols":94,"rows_kept":93,"cut":false,"hidden":false,"merged":[[62,17,62,21],[62,22,62,23],[62,27,62,28],[62,30,62,31],[89,85,90,85],[90,0,90,2],[90,3,90,5],[90,6,90,7],[90,8,90,9],[90,10,90,11],[90,12,90,14],[90,15,90,17],[90,18,90,20],[90,21,90,24],[89,70,89,71],[89,72,89,73],[89,74,89,75],[89,76,89,78],[89,80,89,81],[89,82,89,84],[89,58,89,59],[89,51,89,52],[89,53,89,54],[89,55,89,57],[89,23,89,24],[89,27,89,28],[89,30,89,32],[89,33,89,35],[89,37,89,38],[89,39,89,40],[90,72,90,75],[90,76,90,79],[90,80,90,84],[90,47,90,50],[90,51,90,54],[90,55,90,59],[90,60,90,63],[90,64,90,67],[90,68,90,71],[90,25,90,26],[90,27,90,29],[90,30,90,35],[90,36,90,38],[90,39,90,42],[90,43,90,46],[89,0,89,1],[89,3,89,4],[89,12,89,13],[89,15,89,16],[89,18,89,19],[89,21,89,22],[88,62,88,63],[88,64,88,65],[88,66,88,67],[88,68,88,69],[88,70,88,71],[88,72,88,73],[88,47,88,49],[88,51,88,52],[88,53,88,54],[88,55,88,57],[88,58,88,59],[88,60,88,61],[88,30,88,32],[88,33,88,35],[88,37,88,38],[88,39,88,40],[88,41,88,42],[88,43,88,45],[89,60,89,61],[89,62,89,63],[89,64,89,65],[89,66,89,67],[89,68,89,69],[89,41,89,42],[89,43,89,45],[89,47,89,49],[87,80,87,84],[87,85,88,85],[88,0,88,1],[88,3,88,4],[88,12,88,13],[88,15,88,16],[88,18,88,19],[88,21,88,22],[88,23,88,24],[88,27,88,28],[87,55,87,59],[87,60,87,63],[87,64,87,67],[87,68,87,71],[87,72,87,75],[87,76,87,79],[87,30,87,35],[87,36,87,38],[87,39,87,42],[87,43,87,46],[87,47,87,50],[87,51,87,54],[87,12,87,14],[87,15,87,17],[87,18,87,20],[87,21,87,24],[87,25,87,26],[87,27,87,29],[88,74,88,75],[88,76,88,78],[88,80,88,81],[88,82,88,84],[75,17,75,23],[75,24,75,32],[75,38,75,41],[75,42,75,45],[75,46,75,55],[87,0,87,2],[87,3,87,5],[87,6,87,7],[87,8,87,9],[87,10,87,11],[73,42,73,45],[73,46,73,55],[73,56,73,60],[74,17,74,23],[74,24,74,32],[74,38,74,41],[74,42,74,45],[74,46,74,55],[72,75,73,78],[72,79,73,80],[72,81,73,83],[72,84,73,86],[72,87,73,89],[73,0,73,6],[73,17,73,23],[73,24,73,32],[73,33,73,37],[73,38,73,41],[72,46,72,55],[72,56,72,60],[72,63,73,65],[72,66,73,68],[72,69,73,71],[72,72,73,74],[71,56,71,60],[72,0,72,6],[72,8,73,12],[72,13,73,14],[72,15,73,16],[72,17,72,23],[72,24,72,32],[72,33,72,37],[72,38,72,41],[72,42,72,45],[68,87,71,89],[68,69,71,71],[68,72,71,74],[68,75,71,78],[68,79,71,80],[68,81,71,83],[71,46,71,55],[69,46,69,55],[69,56,69,60],[70,0,71,6],[70,7,71,7],[70,8,71,12],[70,13,71,14],[70,15,71,16],[70,17,70,23],[70,24,70,32],[70,33,70,37],[69,0,69,6],[69,8,69,12],[69,13,69,14],[69,15,69,16],[69,17,69,23],[69,24,69,32],[69,33,69,37],[69,38,69,41],[69,42,69,45],[68,84,71,86],[67,81,67,83],[67,84,67,85],[68,0,68,6],[68,8,68,12],[68,13,68,14],[68,15,68,16],[68,17,68,60],[68,61,73,62],[68,63,71,65],[68,66,71,68],[67,61,67,64],[67,66,67,68],[67,69,67,70],[67,71,67,73],[67,74,67,75],[67,76,67,79],[67,20,67,22],[67,23,67,26],[67,27,67,37],[67,38,67,49],[67,50,67,54],[67,55,67,60],[70,38,70,41],[70,42,70,45],[70,46,70,55],[70,56,70,60],[71,17,71,23],[71,24,71,32],[71,33,71,37],[71,38,71,41],[71,42,71,45],[66,69,66,70],[66,71,66,73],[66,74,66,75],[65,76,65,79],[65,81,65,83],[65,84,65,85],[65,86,65,88],[66,0,66,6],[66,8,66,12],[66,13,66,14],[66,15,66,16],[66,23,66,26],[66,27,66,37],[65,15,65,16],[65,23,65,26],[65,27,65,37],[65,38,65,49],[64,55,66,60],[64,61,64,64],[64,66,64,68],[64,69,64,70],[64,74,64,75],[64,86,64,88],[64,76,64,79],[65,61,65,64],[65,66,65,68],[65,69,65,70],[65,74,65,75],[66,76,66,79],[66,81,66,83],[66,84,66,85],[63,86,63,89],[64,0,64,6],[64,8,64,12],[64,13,64,14],[64,15,64,16],[64,17,66,19],[64,20,66,22],[64,23,64,26],[64,27,64,49],[64,50,66,54],[65,0,65,6],[65,8,65,12],[65,13,65,14],[66,86,67,88],[66,89,67,89],[67,0,67,6],[67,8,67,12],[67,13,67,14],[67,15,67,16],[67,17,67,19],[66,38,66,49],[66,61,66,64],[66,66,66,68],[63,0,63,6],[63,8,63,12],[63,13,63,14],[63,15,63,16],[63,17,63,60],[63,61,63,65],[63,66,63,70],[63,71,63,80],[63,81,63,85],[62,0,62,6],[62,8,62,12],[62,13,62,14],[62,15,62,16],[62,32,62,33],[62,34,62,43],[64,81,64,83],[64,84,64,85],[61,87,61,89],[61,32,61,33],[61,34,61,43],[61,44,61,60],[62,44,62,60],[60,87,60,89],[61,0,61,6],[61,8,61,12],[61,13,61,14],[61,15,61,16],[60,0,60,6],[60,17,60,21],[60,27,60,28],[60,30,60,31],[60,34,60,43],[60,44,60,60],[60,75,60,84],[60,85,60,86],[62,61,62,89],[58,75,58,84],[58,85,58,86],[59,61,60,69],[59,70,60,71],[59,72,60,74],[59,75,59,84],[58,34,58,43],[58,44,59,46],[58,47,58,49],[58,51,58,53],[58,55,58,56],[58,57,58,58],[59,55,59,56],[59,57,59,58],[61,61,61,69],[61,70,61,71],[61,72,61,74],[61,75,61,84],[61,85,61,86],[57,87,57,89],[58,0,59,6],[58,7,59,7],[58,8,58,13],[58,15,58,16],[58,17,58,21],[58,27,58,28],[58,30,58,31],[57,55,57,56],[57,57,57,58],[57,59,57,60],[57,61,57,69],[57,70,57,71],[57,72,57,74],[59,85,59,86],[59,87,59,89],[57,47,57,49],[57,51,57,53],[58,87,58,89],[59,8,60,13],[59,14,60,14],[59,15,60,16],[59,17,59,21],[59,27,59,28],[59,30,59,31],[59,34,59,43],[59,47,59,49],[59,51,59,53],[58,59,59,60],[58,61,58,69],[58,70,58,71],[58,72,58,74],[56,17,56,21],[56,27,56,28],[56,30,56,31],[56,34,56,43],[56,44,57,46],[56,47,56,49],[55,59,56,60],[55,61,55,69],[55,70,55,71],[55,72,55,74],[55,75,55,84],[55,85,55,86],[56,75,56,84],[56,85,56,86],[55,34,55,43],[55,44,55,46],[55,47,55,49],[55,51,55,53],[55,55,55,56],[55,57,55,58],[57,75,57,84],[57,85,57,86],[55,22,61,23],[61,17,61,21],[61,27,61,28],[61,30,61,31],[55,0,55,6],[55,8,55,13],[55,15,55,16],[55,17,55,21],[55,27,55,28],[55,30,55,31],[55,32,60,33],[54,47,54,49],[54,51,54,53],[54,55,54,56],[54,57,54,58],[54,61,54,69],[54,70,54,71],[56,87,56,89],[57,0,57,6],[57,8,57,13],[57,15,57,16],[57,17,57,21],[57,27,57,28],[57,30,57,31],[57,34,57,43],[56,51,56,53],[56,55,56,56],[56,57,56,58],[56,61,56,69],[56,70,56,71],[56,72,56,74],[55,87,55,89],[56,0,56,6],[56,8,56,13],[56,15,56,16],[53,87,53,89],[54,0,54,6],[54,8,54,13],[54,15,54,16],[54,17,54,21],[54,27,54,28],[54,30,54,31],[54,34,54,43],[54,44,54,46],[53,57,53,58],[53,59,54,60],[53,61,53,69],[53,70,53,71],[53,72,53,74],[53,75,53,84],[54,72,54,74],[54,75,54,84],[54,85,54,86],[54,87,54,89],[51,75,51,84],[51,85,51,86],[51,87,51,89],[52,0,52,6],[52,8,52,13],[52,15,52,16],[52,17,52,21],[52,27,52,28],[52,30,52,31],[51,51,51,53],[51,55,51,56],[51,57,51,58],[51,59,52,60],[51,61,51,69],[51,70,51,71],[52,61,52,69],[52,70,52,71],[52,72,52,74],[52,75,52,84],[52,85,52,86],[52,87,52,89],[52,34,52,43],[52,44,53,46],[52,47,52,49],[52,51,52,53],[52,55,52,56],[52,57,52,58],[53,34,53,43],[53,47,53,49],[53,51,53,53],[53,55,53,56],[53,85,53,86],[51,0,51,6],[51,8,51,13],[51,15,51,16],[51,17,51,21],[51,27,51,28],[51,30,51,31],[51,34,51,43],[51,47,51,49],[50,34,50,43],[50,47,50,49],[50,51,50,53],[50,55,50,56],[50,57,50,58],[50,61,50,69],[49,72,49,74],[48,44,51,46],[48,47,48,49],[48,51,48,53],[49,47,49,49],[49,51,49,53],[50,30,50,31],[50,32,54,33],[51,72,51,74],[53,0,53,6],[53,8,53,13],[53,15,53,16],[53,17,53,21],[53,27,53,28],[53,30,53,31],[48,85,48,86],[48,87,48,89],[49,0,49,5],[49,8,49,13],[49,15,49,16],[49,17,49,21],[49,27,49,28],[49,30,49,31],[49,34,49,43],[48,55,48,56],[48,57,48,58],[48,59,50,60],[48,61,48,69],[48,70,48,71],[48,72,48,74],[49,55,49,56],[49,57,49,58],[49,61,49,69],[49,70,49,71],[48,30,48,31],[48,32,49,33],[48,34,48,43],[50,70,50,71],[50,72,50,74],[47,72,47,74],[47,75,47,84],[47,85,47,86],[47,87,47,89],[48,0,48,5],[48,8,48,13],[48,15,48,16],[48,17,48,21],[48,22,49,23],[48,27,48,28],[47,51,47,53],[47,55,47,56],[47,57,47,58],[47,59,47,60],[47,61,47,69],[47,70,47,71],[47,27,47,28],[47,30,47,31],[47,32,47,33],[47,34,47,43],[47,44,47,46],[47,47,47,49],[49,75,50,84],[49,85,50,86],[49,87,50,89],[50,0,50,6],[50,8,50,13],[50,15,50,16],[50,17,50,21],[50,22,54,23],[50,27,50,28],[48,75,48,84],[46,70,46,71],[46,72,46,74],[46,75,46,84],[46,85,46,86],[46,87,46,89],[47,0,47,5],[47,8,47,13],[47,15,47,16],[47,17,47,21],[47,22,47,23],[46,0,46,5],[46,8,46,13],[46,15,46,16],[46,17,46,33],[46,34,46,60],[46,61,46,69],[44,65,44,68],[44,69,44,72],[44,73,44,76],[44,77,44,84],[44,85,44,89],[45,0,45,89],[42,23,44,23],[42,24,44,25],[42,26,44,27],[42,28,44,29],[42,30,44,31],[42,32,44,33],[42,17,44,17],[42,18,44,18],[42,19,44,19],[42,20,44,20],[42,73,43,76],[42,77,43,84],[42,85,43,89],[44,41,44,45],[44,46,44,48],[44,49,44,50],[44,51,44,52],[44,53,44,55],[44,56,44,60],[44,61,44,64],[42,51,43,52],[42,53,43,55],[42,56,43,60],[42,61,43,64],[42,65,43,68],[42,69,43,72],[42,34,44,35],[42,36,44,38],[42,39,44,40],[42,41,43,45],[42,46,43,48],[42,49,43,50],[42,21,44,21],[42,22,44,22],[42,10,44,11],[42,12,44,12],[42,13,44,13],[42,14,44,14],[42,15,44,15],[42,16,44,16],[40,86,40,89],[41,41,41,52],[41,53,41,64],[41,65,41,76],[41,77,41,89],[42,0,44,1],[42,2,44,3],[42,4,44,5],[42,6,44,7],[42,8,44,9],[40,66,40,68],[40,69,40,71],[40,72,40,75],[40,76,40,79],[40,80,40,81],[40,82,40,85],[40,51,40,52],[40,53,40,54],[40,55,40,56],[40,57,40,58],[40,59,40,61],[40,62,40,65],[40,36,41,38],[40,39,41,40],[40,41,40,42],[40,43,40,45],[40,47,40,48],[40,49,40,50],[40,24,41,25],[40,26,41,27],[40,28,41,29],[40,30,41,31],[40,32,41,33],[40,34,41,35],[40,18,41,18],[40,19,41,19],[40,20,41,20],[40,21,41,21],[40,22,41,22],[40,23,41,23],[40,12,41,12],[40,13,41,13],[40,14,41,14],[40,15,41,15],[40,16,41,16],[40,17,41,17],[40,0,41,1],[40,2,41,3],[40,4,41,5],[40,6,41,7],[40,8,41,9],[40,10,41,11],[38,66,39,68],[38,69,39,71],[38,72,39,75],[38,76,39,79],[39,12,39,13],[39,14,39,15],[39,16,39,17],[39,18,39,19],[39,47,39,48],[39,49,39,50],[38,46,39,46],[38,47,38,52],[38,53,38,56],[38,57,39,58],[38,59,39,61],[38,62,39,65],[39,51,39,52],[39,53,39,54],[39,55,39,56],[38,24,39,27],[38,28,39,31],[38,32,39,35],[38,36,39,40],[38,41,39,42],[38,43,39,45],[38,0,39,3],[36,41,36,68],[36,69,36,89],[37,41,37,46],[37,47,37,58],[37,59,37,68],[37,69,37,79],[37,80,39,81],[37,82,39,85],[37,86,39,89],[34,10,34,11],[34,12,35,14],[34,21,35,26],[34,27,35,32],[35,3,35,5],[35,6,35,7],[35,8,35,9],[35,10,35,11],[34,0,35,2],[34,3,34,5],[34,6,34,7],[34,8,34,9],[31,21,31,26],[31,27,31,29],[31,30,31,32],[32,0,32,2],[32,3,32,4],[32,8,32,9],[32,10,32,11],[32,21,33,26],[32,27,33,29],[32,30,33,32],[38,4,39,7],[38,8,39,11],[38,12,38,19],[38,20,39,21],[38,22,39,23],[36,0,37,40],[30,21,30,26],[30,27,30,29],[30,30,30,32],[31,0,31,2],[31,3,31,4],[31,8,31,9],[31,10,31,11],[31,12,32,14],[31,15,32,17],[31,18,32,20],[29,30,29,32],[29,33,35,89],[30,0,30,2],[30,3,30,5],[30,6,30,7],[30,8,30,9],[30,10,30,11],[30,12,30,14],[30,15,30,17],[30,18,30,20],[29,0,29,2],[29,3,29,7],[29,8,29,14],[29,15,29,20],[29,21,29,26],[29,27,29,29],[33,0,33,2],[33,3,33,7],[33,8,33,11],[33,12,33,14],[33,15,35,17],[33,18,35,20],[27,64,27,67],[27,68,27,71],[27,72,27,75],[27,76,27,79],[27,80,27,84],[28,0,28,14],[28,15,28,20],[28,21,28,32],[27,39,27,42],[27,43,27,46],[27,47,27,50],[27,51,27,54],[27,55,27,59],[27,60,27,63],[27,18,27,20],[27,21,27,24],[27,25,27,26],[27,27,27,29],[27,30,27,35],[27,36,27,38],[26,85,27,85],[26,86,27,87],[26,88,27,89],[27,0,27,2],[27,3,27,5],[27,6,27,7],[27,8,27,9],[27,10,27,11],[27,12,27,14],[27,15,27,17],[26,70,26,71],[26,72,26,73],[26,74,26,75],[26,76,26,78],[26,80,26,81],[26,82,26,84],[26,58,26,59],[26,60,26,61],[26,62,26,63],[26,64,26,65],[26,66,26,67],[26,68,26,69],[26,41,26,42],[26,43,26,45],[26,47,26,49],[26,51,26,52],[26,53,26,54],[26,55,26,57],[26,23,26,24],[26,27,26,28],[26,30,26,32],[26,33,26,35],[26,37,26,38],[26,39,26,40],[26,0,26,1],[26,3,26,4],[26,12,26,13],[26,15,26,16],[26,18,26,19],[26,21,26,22],[25,64,25,65],[25,66,25,67],[25,68,25,69],[25,70,25,71],[25,72,25,73],[25,74,25,75],[25,51,25,52],[25,53,25,54],[25,55,25,57],[25,58,25,59],[25,60,25,61],[25,62,25,63],[25,33,25,35],[25,37,25,38],[25,39,25,40],[25,41,25,42],[25,43,25,45],[25,47,25,49],[25,30,25,32],[25,21,25,22],[25,23,25,24],[25,27,25,28],[24,85,25,85],[24,86,25,87],[25,76,25,78],[25,80,25,81],[25,82,25,84],[24,43,24,46],[24,47,24,50],[24,51,24,54],[24,55,24,59],[24,60,24,63],[24,64,24,67],[24,21,24,24],[24,25,24,26],[24,27,24,29],[24,30,24,35],[24,36,24,38],[24,39,24,42],[23,0,23,89],[24,0,24,2],[24,3,24,5],[24,6,24,7],[24,8,24,9],[24,10,24,11],[24,12,24,14],[24,15,24,17],[24,18,24,20],[22,51,22,52],[22,53,22,54],[22,56,22,57],[22,58,22,60],[22,61,22,62],[22,63,22,65],[22,37,22,38],[22,39,22,40],[22,41,22,42],[22,43,22,44],[22,45,22,46],[22,47,22,49],[21,0,22,2],[24,88,25,89],[25,0,25,1],[25,3,25,4],[25,12,25,13],[25,15,25,16],[25,18,25,19],[24,68,24,71],[24,72,24,75],[24,76,24,79],[24,80,24,84],[22,12,22,15],[22,16,22,19],[22,20,22,23],[22,24,22,28],[22,29,22,31],[22,32,22,34],[22,35,22,36],[21,58,21,60],[21,61,21,62],[21,63,21,65],[21,66,22,73],[21,74,22,75],[21,76,21,79],[22,76,22,79],[21,43,21,44],[21,45,21,46],[21,47,21,49],[21,51,21,52],[21,53,21,54],[21,56,21,57],[21,12,21,15],[21,16,21,19],[21,29,21,31],[21,32,21,34],[20,24,21,28],[21,35,21,36],[21,37,21,38],[21,39,21,40],[21,41,21,42],[19,68,20,69],[19,70,20,71],[19,72,20,73],[20,12,20,19],[20,20,21,23],[19,74,20,75],[19,76,20,79],[19,51,20,52],[19,53,20,54],[19,55,20,55],[19,58,20,60],[19,61,20,62],[19,66,20,67],[17,63,20,65],[16,66,18,67],[16,68,18,69],[16,70,18,71],[16,72,18,73],[16,74,18,75],[16,76,18,79],[19,18,19,19],[19,20,19,21],[19,23,19,24],[19,25,19,26],[19,27,19,28],[17,41,20,42],[17,43,18,46],[17,47,18,50],[17,51,18,55],[17,56,20,57],[17,58,18,62],[19,43,20,44],[19,45,20,46],[19,47,20,49],[19,50,20,50],[11,3,14,5],[11,6,14,7],[11,8,14,9],[11,10,14,11],[11,12,14,13],[13,75,13,78],[13,79,13,80],[13,53,13,55],[13,56,13,59],[13,60,13,62],[14,53,14,55],[14,56,14,59],[14,60,14,62],[11,19,14,20],[11,21,14,23],[11,24,14,25],[11,26,14,27],[12,63,12,68],[12,53,12,55],[12,56,12,59],[12,60,12,62],[14,47,14,52],[14,63,14,68],[14,69,14,74],[14,75,14,78],[12,69,12,74],[17,17,18,17],[17,22,18,22],[17,23,18,24],[17,25,18,26],[17,27,18,28],[14,79,14,80],[14,81,14,84],[14,85,14,89],[15,12,15,19],[15,20,15,28],[15,29,15,65],[15,66,15,75],[11,28,14,30],[11,31,14,36],[11,37,14,40],[11,41,14,46],[11,47,11,68],[11,69,11,89],[11,14,14,16],[11,17,14,18],[16,18,18,19],[16,20,18,21],[16,22,16,28],[16,29,16,65],[12,75,12,78]],"merged_total":1135,"flags":["merged_cut"]}
[null,null,null,null,null,null,null,null,null,null,null,null,null,null,null,null,null,null,null,null,null,null,null,null,null,null,null,"DIRECCION - PROGRAMA  APS \nSUBSECRETARIA DE MEDICINA SOCIAL\nRONDA N°:192  AÑO:_2025__",null,null,null,null,null,null,null,null,null,null,null,null,null,null,null,null,null,null,null,null,null,null,null,null,null,null,"1r","2r","3r",null,"4r",null,"T",null,null,null,null,null,null,null,null,null,null,null,null,null,null,null,null,null,null,null,"Informe y orden de Ronda: ",6,null,null,null,null,2]
[null,null,null,null,null,null,null,"Area Operativa N°: ",4,null,null,null,null,null,"Nombre: ","MORILLO",null,null,null,null,null,null,null,null,null,null,null,null,null,null,null,null,null,null,null,null,null,null,null,null,null,null,null,null,null,null,"Mort. Mater. Acum. Año",null,null,null,null,null,null,null,0,{"$f":"CE41","v":0},0,null,{"$f":"CE41","v":0},null,{"$f":"SUM(BC2:BG2)","v":0},null,null,null,null,"Sector:",null,"FORTIN BELGRANO",null,null,null,null,null,null,null,null,null,null,null,null,null,null,null,null,null,"N°",1]
[null,null,null,null,null,null,null,null,null,null,null,null,null,null,null,null,null,null,null,null,null,null,null,null,null,null,null,null,null,null,null,null,null,null,null,null,null,null,null,null,null,null,null,null,null,null,"Mort. 0-1 año Acum Año",null,null,null,null,null,null,null,0,{"$f":"BR41+BU41+BY41","v":0},0,null,{"$f":"BR41+BU41+BY41","v":0},null,{"$f":"SUM(BC3:BG3)","v":0},null,null,null,null,null,"Etnia: ","CRIOLLO",null,null,null,null,null,null,null,null,null,null,null,null,null,null,null,null,null,"Sector Riesgo:","SI"]
[null,null,null,null,null,null,null,"Establec. Base: ","HOSPITAL MORILLO",null,null,null,null,null,null,null,null,null,null,null,null,null,null,null,null,null,null,null,null,null,null,null,null,null,null,null,null,null,null,null,null,null,null,null,null,null,"Mort. 1-4 años Acum Año",null,null,null,null,null,null,null,0,{"$f":"CC41","v":0},0,null,{"$f":"CC41","v":0},null,{"$f":"SUM(BC4:BG4)","v":0},null,null,null,null,null,null,null,null,null,null,null,null,"Desde: ","07/03/2025",null,null,null,null,null,null,null,null,"Hasta: ","05/06/2026"]
[null,null,null,null,null,null,null,null,null,null,null,null,null,null,null,null,null,null,null,null,null,null,null,null,null,null,null,null,null,null,null,null,null,null,null,null,null,null,null,null,null,null,null,null,null,null,null,null,null,null,null,null,null,null,null,null,null,null,null,null,null,null,null,null,null,null,null,null,null,null,null,null,null,null,null,null,null,null,null,"Cobertura: ","DESCUBIERTO"]
[null,null,null,null,null,null,null,"Sup. Intermedio: ","MIGUEL CORREA",null,null,null,null,null,null,null,null,null,null,null,null,null,null,null,null,null,null,null,null,null,null,null,"Responsable A.P.S.: ","Dr. Abel Ibarra",null,null,null,null,null,null,null,null,null,null,null,null,null,null,null,null,null,null,null,null,null,null,"Agente Sanitario: ","PERACHI, EUSEBIO",null,null,null,null,null,null,null,null,null,null,null,null,null,null,null,null,"Sit. Revista: ","PLANTA PERMANENTE",null,null,null,null,null,"Reg. Horario: ","30 HS."]
[]
["A) FAMILIAS VISITADAS EN LA RONDA",null,null,null,null,null,null,null,null,null,null,null,null,null,null,null,null,null,null,null,null,null,null,null,null,null,null,null,null,null,null,null,null,null,null,null,null,null,null,null,null,null,null,null,null,null,null,"B) FACTORES DE PRIORIZACION DE VISITAS"]
["ASIGNADAS",null,null,"VISITADAS",null,null,"TOTAL\nVISITAS",null,"NO VISITADAS",null,null,null,null,null,null,null,null,"FLIAS ORIG.",null,"FLIAS. URB.",null,"FLIAS. PERIURB",null,null,"FLIAS. RURALES",null,"GOLON\nMIGRANTES",null,null,null,null,"FLIAS. CON PL. SOCIALES",null,null,null,null,null,"PRODUCCION\nFAMILIAR",null,null,null,null,null,null,null,null,null,1,null,2,null,3,null,null,4,null,5,null,6,null,7,null,null,8,null,null,9,null,null,10,null,null,null,11,null,null,12,null,null,null,13,null,null,14,null,null,15]
[null,null,null,null,null,null,null,null,"RECHAZO TOTAL",null,"AUSEN\n-TE",null,"NO VISITADAS",null,"TOT NO VISIT.",null,null,null,null,null,null,null,null,null,null,null,"HACIA\nEL AO",null,"DESDE\nEL AO",null,null,null,null,null,null,null,null,"HUERTA",null,null,null,"GRANJA",null,null,null,null,null,0,null,0,null,0,null,null,0,null,0,null,0,null,0,null,null,0,null,null,0,null,null,"Total",null,null,null,"Tot",null,"Trat","Tot.",null,null,"Trat.","Tot.","Trat.",null,"Tot.",null,"Trat","Total"]
[null,null,null,null,null,null,null,null,null,null,0,null,null,null,null,null,null,null,null,null,null,null,null,null,null,null,null,null,null,null,null,null,null,null,null,null,null,null,null,null,null,null,null,null,null,null,null,null,null,null,null,null,null,null,null,null,null,null,null,null,null,null,null,null,null,null,null,null,null,0,null,null,null,0,null,0,0,null,null,0,0,0,null,0,null,0,0]
[0,null,null,0,null,null,0,null,0,null,0,null,0,null,{"$f":"M12+K12+I12","v":0},null,null,0,null,0,null,0,null,null,0,null,0,null,0,null,null,0,null,null,null,null,null,0,null,null,null,0,null,null,null,null,null,"C) VISITAS A FLIAS. PRIORIZADAS",null,null,null,null,null,null,null,null,null,null,null,null,null,null,null,null,null,null,null,null,null,"D) SUPERV. A FLIAS. "]
[null,null,null,null,null,null,null,null,null,null,null,null,null,null,null,null,null,null,null,null,null,null,null,null,null,null,null,null,null,null,null,null,null,null,null,null,null,null,null,null,null,null,null,null,null,null,null,"PRIORIDAD",null,null,null,null,null,1,null,null,2,null,null,null,3,null,null,"Total",null,null,null,null,null,"PRIORIDAD",null,null,null,null,null,3,null,null,null,2,null,1,null,null,null,"TOTAL"]
[null,null,null,null,null,null,null,null,null,null,null,null,null,null,null,null,null,null,null,null,null,null,null,null,null,null,null,null,null,null,null,null,null,null,null,null,null,null,null,null,null,null,null,null,null,null,null,"N° FAMILIAS",null,null,null,null,null,0,null,null,0,null,null,null,0,null,null,{"$f":"SUM(BB14:BI14)","v":0},null,null,null,null,null,"INTERMEDIA",null,null,null,null,null,0,null,null,null,0,null,0,null,null,null,{"$f":"SUM(BX14:CD14)","v":0}]
[null,null,null,null,null,null,null,null,null,null,null,null,null,null,null,null,null,null,null,null,null,null,null,null,null,null,null,null,null,null,null,null,null,null,null,null,null,null,null,null,null,null,null,null,null,null,null,"VISITAS",null,null,null,null,null,0,null,null,0,null,null,null,0,null,null,{"$f":"SUM(BB15:BI15)","v":0},null,null,null,null,null,"PROFESIONAL",null,null,null,null,null,0,null,null,null,0,null,0,null,null,null,{"$f":"SUM(BX15:CB15)","v":0}]
["E) EDAD FERTIL",null,null,null,null,"F) EMBARAZADAS",null,null,null,null,null,null,"G) PARTOS",null,null,null,null,null,null,null,"H) R.N. EN LA RONDA",null,null,null,null,null,null,null,null,"I) EVALUACION ANTROPOMETRICA",null,null,null,null,null,null,null,null,null,null,null,null,null,null,null,null,null,null,null,null,null,null,null,null,null,null,null,null,null,null,null,null,null,null,null,null,"NIÑ MBP/BP/RBP CTRL. INT.",null,null,null,null,null,null,null,null,null,"LACT. MATERNA"]
["PAP",null,null,0,null,"CAPT. 1er TRIMESTRE","ESP EN EL AÑO","ACUMULADAS","NUEVAS\nRONDA","TOTAL","DE RIESGO","<19 Años","TOTAL",null,"HOSPITALARIOS",null,"DOMIC.",null,"N° PUERPERAS",null,"NACIDOS VIVOS",null,"P AL NACER",null,null,null,null,null,null,"NIÑOS CONTROLADOS",null,null,null,null,null,null,null,null,null,null,null,null,null,null,null,null,null,null,null,null,null,null,null,null,null,null,null,null,null,null,null,null,null,null,null,null,"MELAN",null,"MED",null,"ENF.",null,"LAB",null,"NUTR",null,"< 6 M EN LA RONDA",null,null,null,{"$f":"CC20+CC22+CC23","v":0}]
[null,null,null,null,null,null,null,null,null,null,null,null,null,null,null,null,"DOM","ASIS",null,null,null,null,"ALTO PESO","ADEC",null,"BAJO PESO",null,"MB\nPESO",null,"EDAD",null,null,"A CONTROLAR",null,null,"ADECUADO",null,"BP\nBAJO PESO",null,"MBP\nMUY B. PESO",null,"ALTO PESO",null,"RIESGO",null,null,null,"RECUPERADOS",null,null,null,"TALLA / EDAD",null,null,null,null,"NUEVOS\nEPISODIOS",null,"PERDIDOS",null,null,null,null,"FALLECIDOS\nC/ANTEC. ANTROPOM."]
[]
["Antic.",null,null,0,null,0,{"$f":"IF(ISERROR(((CC92*1.8)/100)),0,(((CC92*1.8)/100)))","v":0},0,0,{"$f":"SUM(F23:L23)","v":0},0,0,{"$f":"O20+Q20+R20","v":0},null,0,null,0,0,0,null,{"$f":"W20+X20+Z20+AB20","v":0},null,0,0,null,0,null,0,null,null,null,null,null,null,null,null,null,null,null,null,null,null,null,"BP",null,"AP",null,"BP",null,null,"AP","BT",null,"MBT",null,"RGO\nBT",null,null,"BP\nMBP",null,null,"A.P.",null,null,null,null,0,null,0,null,0,null,0,null,0,null,"EXCLUSIVO",null,null,null,0]
[null,null,null,null,null,"CONTROLES",null,null,null,null,null,null," ",null,null,null,null,null,null,null,"PREMATUROS",null,null,null,"PESQUISA"]
["Aborto",null,null,0,null,"MELON",null,"MEL","MED","ENF","LAB","S/C","PUERP",null,null,null,"R.N.",null,null,null,null,null,null,null,null,null,null,null,null,"< 2 años",null,null,{"$f":"A27+C27+D27+F27+G27+H27","v":0},null,null,0,null,0,null,0,null,0,null,0,null,0,null,0,null,null,0,0,null,0,null,0,0,null,0,null,null,0,null,0,null,null,"CONTROLES EN DOMIC. NIÑO BP o MBP",null,null,null,null,null,null,null,0,null,"MIXTA",null,null,null,0]
[null,null,null,null,null,0,null,0,0,0,0,0,0,null,null,null,0,null,null,null,0,null,null,null,0,null,null,null,null,"2 a 6 años",null,null,{"$f":"I27+J27+K27+L27+M27+O27+P27+R27","v":0},null,null,0,null,0,null,0,null,0,null,0,null,0,null,0,null,null,0,0,null,0,null,0,0,null,0,null,null,0,null,0,null,null,null,null,null,null,null,null,null,null,null,null,"ARTIF",null,null,null,0]
["J) DATOS DE POBLACION"]
["0 a 5m",null,null,"6 a 11m",null,null,"1 AÑO",null,"2 AÑOS",null,"3 AÑOS",null,"4 AÑOS",null,null,"5 AÑOS",null,null,"6 AÑOS",null,null,"7 A 9 AÑOS",null,null,null,"10 AÑOS",null,"11 AÑOS",null,null,"12 A 14",null,null,null,null,null,"15 A 19",null,null,"20 A 24",null,null,null,"25 A 29",null,null,null,"30 A 34",null,null,null,"35 A 39",null,null,null,"40 A 44",null,null,null,null,"45 A 49",null,null,null,"50 A 54",null,null,null,"55 A 59",null,null,null,"60 A 64",null,null,null,"65 y +",null,null,null,"TOTAL",null,null,null,null,"MUJERES\n10 A 49","O. SOCIAL",null,"INDOCUM"]
["M",null,"F","M",null,"F","M","F","M","F","M","F","M",null,"F","M",null,"F","M",null,"F","M",null,"F",null,"M","F","M",null,"F","M",null,null,"F",null,null,"M","F",null,"M",null,"F",null,"M",null,null,"F","M",null,null,"F","M",null,"F",null,"M",null,null,"F",null,"M",null,"F",null,"M",null,"F",null,"M",null,"F",null,"M",null,"F",null,"M",null,null,"F","M",null,"F"]
[0,null,0,0,null,0,0,0,0,0,0,0,0,null,0,0,null,0,0,null,0,0,null,0,null,0,0,0,null,0,0,null,null,0,null,null,0,0,null,0,null,0,null,0,null,null,0,0,null,null,0,0,null,0,null,0,null,null,0,null,0,null,0,null,0,null,0,null,0,null,0,null,0,null,0,null,0,null,null,0,{"$f":"BY27+BU27+BQ27+BM27+BI27+BD27+AZ27+AV27+AR27+AN27+AK27+AE27+AB27+Z27+V27+S27+P27+M27+K27+I27+G27+D27+A27","v":0},null,{"$f":"CB27+BW27+BS27+BO27+BK27+BG27+BB27+AY27+AU27+AP27+AL27+AH27+AD27+AA27+X27+U27+R27+O27+L27+J27+H27+F27+C27","v":0},null,null,{"$f":"BK27+BG27+BB27+AY27+AU27+AP27+AL27+AH27+AD27+AA27","v":0},0,null,0]
[{"$f":"A27+C27","v":0},null,null,{"$f":"D27+F27","v":0},null,null,{"$f":"G27+H27","v":0},null,{"$f":"I27+J27","v":0},null,{"$f":"K27+L27","v":0},null,{"$f":"M27+O27","v":0},null,null,{"$f":"P27+R27","v":0},null,null,{"$f":"S27+U27","v":0},null,null,{"$f":"V27+X27","v":0},null,null,null,{"$f":"Z27+AA27","v":0},null,{"$f":"AB27+AD27","v":0},null,null,{"$f":"AE27+AH27","v":0},null,null,null,null,null,{"$f":"AL27+AK27","v":0},null,null,{"$f":"AN27+AP27","v":0},null,null,null,{"$f":"AR27+AU27","v":0},null,null,null,{"$f":"AV27+AY27","v":0},null,null,null,{"$f":"AZ27+BB27","v":0},null,null,null,{"$f":"BD27+BG27","v":0},null,null,null,null,{"$f":"BI27+BK27","v":0},null,null,null,{"$f":"BM27+BO27","v":0},null,null,null,{"$f":"BQ27+BS27","v":0},null,null,null,{"$f":"BU27+BW27","v":0},null,null,null,{"$f":"BY27+CB27","v":0},null,null,null,{"$f":"CC27+CE27","v":0}]
["K) TUBERCULOSIS ",null,null,null,null,null,null,null,null,null,null,null,null,null,null," CHAGAS ",null,null,null,null,null,"L) PERSONAS CON ENF. CRONICAS",null,null,null,null,null,null,null,null,null,null,null,"M) OBSERVACIONES"]
["Coef. Sint.Resp.: ",null,null,"MUESTRAS",null,null,null,null,"TRATAM. TBC",null,null,null,null,null,null,"TRATAMIENTOS CHAGAS",null,null,null,null,null,"PERSONAS CON",null,null,null,null,null,"TOTAL",null,null,"EN TRAT.",null,null," "]
[{"$f":"Control!H9","v":8},null,null,"DIAGNOSTICOS",null,null,"CONTROL",null,"Total",null,"TAES",null," ABANDONO",null,null,"INICIO ",null,null,0,null,null,"DIABETES",null,null,null,null,null,0,null,null,0]
["SINT. ESP..",null,null,"Tot",null,"(+)","Tot","(+)",0,null,0,null,0,null,null,"FINALIZACION ",null,null,0,null,null,"HIPERTENSION \nARTERIAL",null,null,null,null,null,0,null,null,0]
[{"$f":"IF(ISERROR(((AK91+AL91+AN91+AP91+AR91+AU91+AV91+AY91+AZ91+BB91+BD91+BG91+BI91+BK91+BM91+BO91+BQ91+BS91+BU91+BW91+BY91+CB91)*0.2)*A31/100),0,(((AK91+AL91+AN91+AP91+AR91+AU91+AV91+AY91+AZ91+BB91+BD91+BG91+BI91+BK91+BM91+BO91+BQ91+BS91+BU91+BW91+BY91+CB91)*0.2)*A31/100))","v":0},null,null,0,null,0,0,0,"QUIMIO Total",null,0,null,null,null,null,null,null,null,null,null,null,"PERSONAS CON OTRAS ENF. CRONICAS AL CUIDADO DE NIÑOS",null,null,null,null,null,0,null,null,0]
["SINT. DETEC.",null,null,"CONTACTO",null,null,null,null,"CTRL. MEDICO",null,null,null,"FINALIZAD0",null,null,"ABANDONO ",null,null,0]
[0,null,null,"< 14a",null,null,"> 15a",null,"Pcte/Rda",null,"A Cont",null,0,null,null,null,null,null,null,null,null,"ADULTOS MAYORES EN SITUACION DE RIESGO",null,null,null,null,null,0]
[null,null,null,0,null,null,0,null,0,null,0]
["N) DERIVACIONES",null,null,null,null,null,null,null,null,null,null,null,null,null,null,null,null,null,null,null,null,null,null,null,null,null,null,null,null,null,null,null,null,null,null,null,null,null,null,null,null,"Ñ) VIVIENDA Y SANEAMIENTO",null,null,null,null,null,null,null,null,null,null,null,null,null,null,null,null,null,null,null,null,null,null,null,null,null,null,null,"O) DEFUNCIONES EN LA RONDA"]
[null,null,null,null,null,null,null,null,null,null,null,null,null,null,null,null,null,null,null,null,null,null,null,null,null,null,null,null,null,null,null,null,null,null,null,null,null,null,null,null,null,"TRAT. AGUA",null,null,null,null,null,"DISP SANITARIA EXCRETAS",null,null,null,null,null,null,null,null,null,null,null,"TRATAM. SANIT BASURA",null,null,null,null,null,null,null,null,null,"MENORES 1 AÑO",null,null,null,null,null,null,null,null,null,null,"1 a 4 AÑOS",null,"MATERNA",null,null,null,"OTRAS"]
["EMB",null,null,null,"RN",null,null,null,"PUERP",null,null,null,"Menores de 6 años",null,null,null,null,null,null,null,"E.\nCRONICAS",null,"PAP",null,"CHAGAS",null,null,null,"TBC",null,null,null,"PSICOSOC",null,null,null,"TOTAL\nDERIVACIONES",null,null,null,null,"RED",null,"EN\nVIV",null,null,"S/T","ARRASTRE",null,null,null,null,null,"LETRINA",null,null,null,"S/T",null,"REC. DOMIC.",null,null,"POZO BASURA",null,null,null,"S/T",null,null,"<7d",null,null,"7 a 28d",null,null,null,"29d a 11 m"]
[null,null,null,null,null,null,null,null,null,null,null,null,"BP- MBP",null,"RGO BP",null,"Resp",null,"Diarr",null,null,null,null,null,null,null,null,null,null,null,null,null,null,null,null,null,null,null,null,null,null,null,null,null,null,null,null,"CLOACAS",null,"PC-CT",null,"PC-ST",null,"CT",null,"ST"]
["Env",null,"Rec",null,"Env",null,"Rec",null,"Env",null,"Rec",null,"Env","Rec","Env","Rec","Env","Rec","Env","Rec","Env","Rec","Env","Rec","Env",null,"Rec",null,"Env",null,"Rec",null,"Env",null,"Rec",null,"ENV",null,null,"Rec",null,0,null,0,null,null,0,0,null,0,null,0,null,0,null,0,null,0,null,0,null,null,0,null,null,null,0,null,null,0,null,null,0,null,null,null,0,null,null,null,0,null,0,null,null,null,0]
[null,null,null,null,null,null,null,null,null,null,null,null,null,null,null,null,null,null,null,null,null,null,null,null,null,null,null,null,null,null,null,null,null,null,null,null,null,null,null,null,null,"CASAS ",null,null,null,null,null,null,null,null,null,null,null,"CHAGAS",null,null,null,null,null,null,null,null,null,null,null,"DENGUE CHIKUNGUNYA",null,null,null,null,null,null,null,null,null,null,null,"P) PROM. SALUD"]
[0,null,0,null,0,null,0,null,0,null,0,null,0,0,0,0,0,0,0,0,0,0,0,0,0,null,0,null,0,null,0,null,0,null,0,null,{"$f":"AG43+AC43+Y43+W43+U43+S43+Q43+O43+M43+I43+E43+A43","v":0},null,null,{"$f":"AI43+AE43+AA43+X43+V43+T43+R43+P43+N43+K43+G43+C43","v":0},null,"ASIGNADAS",null,null,null,null,"VISITADAS",null,null,"VACIAS",null,"DESTRUIDAS",null,"EVALUADAS",null,null,"POSITIVAS",null,null,null,null,"TRATADAS",null,null,null,"EVALUADAS",null,null,null,"POSITIVAS",null,null,null,"TRATADAS",null,null,null,"PLANIFICADAS \nEN COMUNIDAD",null,null,null,null,null,null,null,0]
[]
[null,null,null,null,null,null,null,null,null,null,null,null,null,null,null,null,null,null,null,null,null,null,null,null,null,null,null,null,null,null,null,null,null,null,null,null,null,null,null,null,null,0,null,null,null,null,0,null,null,0,null,0,null,0,null,null,0,null,null,null,null,0,null,null,null,0,null,null,null,0,null,null,null,0,null,null,null,"REALIZADAS ",null,null,null,null,null,null,null,0]
["Q) INDICADORES"]
["DE ESTRUCTURA",null,null,null,null,null,"SI","NO","DE PRODUCCION",null,null,null,null,null,"%","META",null," DE INMUNIZACIONES",null,null,null,null,null,null,null,null,null,null,null,null,null,null,null,null," DE INMUNIZACIONES",null,null,null,null,null,null,null,null,null,null,null,null,null,null,null,null,null,null,null,null,null,null,null,null,null,null," DE RESULTADO",null,null,null,null,null,null,null,null,"%",null,"META",null,null," DE RESULTADO",null,null,null,null,null,null,null,null,null,"%",null,"META RDA"]
["Formularios",null,null,null,null,null,0,0,"Cobertura a Familias",null,null,null,null,null,{"$f":"IF(ISERROR(D12/A12),0,(D12/A12)*100)","v":0},100,null,"VACUNA",null,null,null,null,"P. REF",null,"1r","2r","3r","4r",null,"T","%",null,"META",null,"VACUNA",null,null,null,null,null,null,null,null,null,"P. REF",null,null,"1r",null,null,"2r","3r",null,null,"4r","T",null,"%",null,"META",null,"Ed Fértil c/Anticoncepción",null,null,null,null,null,null,null,null,{"$f":"IF(ISERROR(D20/CH27),0,(D20/CH27)*100)","v":0},null,null,null,null,"Niños 2 a 5 Recup BP",null,null,null,null,null,null,null,null,null,{"$f":"IF(ISERROR(AV23/K80),0,(AV23/K80)*100)","v":0},null,100]
["Equipo",null,null,null,null,null,0,0,"Niños < 2 años Controlados",null,null,null,null,null,{"$f":"IF(ISERROR(((AJ22+AL22+AN22+AP22)/(A28+D28+G28))),0,(((AJ22+AL22+AN22+AP22)/(A28+D28+G28)))*100)","v":0},100,null,"BCG RN",null,null,null,null,{"$f":"U20","v":0},null,0,0,0,0,null,{"$f":"SUM(Y49:AB49)","v":0},{"$f":"IF(ISERROR(Z49/W49),0,(Z49/W49)*100)","v":0},null,100,null,"2 Ref. Varicela Ingreso Esc",null,null,null,null,null,null,null,null,null,5,null,null,0,null,null,0,0,null,null,0,{"$f":"SUM(AV49:BC49)","v":0},null,{"$f":"IF(ISERROR(AY49/AS49),0,(AY49/AS49)*100)","v":0},null,25,null,"PAP",null,null,null,null,null,null,null,null,{"$f":"IF(ISERROR(D17/CH27),0,(D17/CH27)*100)","v":0},null,null,null,null,"Niños 2 a 5 Recup AP",null,null,null,null,null,null,null,null,null,{"$f":"IF(ISERROR(AY23/K82),0,(AY23/K82)*100)","v":0},null,100]
["Combustible",null,null,null,null,null,0,0,"Niños  (2 a 5 años) Controlados",null,null,null,null,null,{"$f":"IF(ISERROR(((AJ23+AL23+AN23+AP23)/(I28+K28+M28+P28))),0,(((AJ23+AL23+AN23+AP23)/(I28+K28+M28+P28)))*100)","v":0},100,null,"Hepatitis B RN","Hepatitis B RN",null,"Hepatitis B RN","Hepatitis B RN",null,null,0,0,0,0,null,{"$f":"SUM(Y50:AB50)","v":0},{"$f":"IF(ISERROR(Z50/W49),0,(Z50/W49)*100)","v":0},null,null,null,"2° Ref. Antipolio Ingreso Escolar",null,null,null,null,null,null,null,null,null,null,null,null,0,null,null,0,0,null,null,0,{"$f":"SUM(AV50:BC50)","v":0},null,{"$f":"IF(ISERROR(AY50/AS49),0,(AY50/AS49)*100)","v":0},null,null,null,"Embarazadas Con MELON",null,null,null,null,null,null,null,null,{"$f":"IF(ISERROR(F23/J20),0,(F23/J20)*100)","v":0},null,80,null,null,"Niños 6 meses con LME",null,null,null,null,null,null,null,null,null,{"$f":"IF(ISERROR(CC20/CC17),0,(CC20/CC17)*100)","v":0},null,80]
[" DE DIAGNOSTICO",null,null,null,null,null,null,"%","Conc. Vis. Flias Prio",null,null,null,null,null,{"$f":"IF(ISERROR((BB15+BE15)/(BB14+BE14)),0,((BB15+BE15)/(BB14+BE14)))","v":0},25,null,"2° Neumococo < 1a","3ª SOT/Salk < 1a",null,"3ª SOT/Salk < 1a","3ª SOT/Salk < 1a",{"$f":"A91+C91+D91+F91","v":0},null,0,0,0,0,null,{"$f":"SUM(Y51:AB51)","v":0},{"$f":"IF(ISERROR(Z51/W51),0,(Z51/W51)*100)","v":0},null,100,null,"2° Ref. DPT Ingreso Escolar",null,null,null,null,null,null,null,null,null,null,null,null,0,null,null,0,0,null,null,0,{"$f":"SUM(AV51:BC51)","v":0},null,{"$f":"IF(ISERROR(AY51/AS49),0,(AY51/AS49)*100)","v":0},null,null,null,"Partos Hospitalarios",null,null,null,null,null,null,null,null,{"$f":"IF(ISERROR(O20/M20),0,(O20/M20)*100)","v":0},null,100]
["Flias Priorizadas 3 + 2:",null,null,null,null,null,null,{"$f":"IF(ISERROR((BB14+BE14)/D12),0,(BB14+BE14)/D12*100)","v":0},"Conc.C.Dom Niños Bp/MBP",null,null,null,null,null,{"$f":"IF(ISERROR(BW22/(AL22+AN22+AL23+AN23)),0,(BW22/(AL22+AN22+AL23+AN23)))","v":0},3,null,"2° Rotavirus <1 a","3º Pentavalente <1 a",null,"3º Pentavalente <1 a","3º Pentavalente <1 a",null,null,0,0,0,0,null,{"$f":"SUM(Y52:AB52)","v":0},{"$f":"IF(ISERROR(Z52/W51),0,(Z52/W51)*100)","v":0},null,null,null,"2° TV Ingreso Escolar",null,null,null,null,null,null,null,null,null,null,null,null,0,null,null,0,0,null,null,0,{"$f":"SUM(AV52:BC52)","v":0},null,{"$f":"IF(ISERROR(AY52/AS49),0,(AY52/AS49)*100)","v":0},null,100,null,"Conc Control Médico a RN",null,null,null,null,null,null,null,null,{"$f":"IF(ISERROR(Q23/M20),0,(Q23/M20))","v":0},null,4,null,null,"% Niños BP MBP y RBP con MELaN",null,null,null,null,null,null,null,null,null,{"$f":"IF(ISERROR(BO20/(AL22+AN22+AR22+AL23+AN23+AR23)),0,(BO20/(AL22+AN22+AR22+AL23+AN23+AR23))*100)","v":0},null,100]
["Flias Urbanas",null,null,null,null,null,null,{"$f":"IF(ISERROR(T12/D12),0,(T12/D12)*100)","v":0},"Rel. Muestra/Sint Resp.",null,null,null,null,null,{"$f":"IF(ISERROR(D33/A35),0,(D33/A35))","v":0},2,null,"2° Meningococo < 1a",null,null,null,null,null,null,0,0,0,0,null,{"$f":"SUM(Y53:AB53)","v":0},{"$f":"IF(ISERROR(Z53/W51),0,(Z53/W51)*100)","v":0},null,null,null,"dTpa 11 años",null,null,null,null,null,null,null,null,null,5,null,null,0,null,null,0,0,null,null,0,{"$f":"SUM(AV53:BC53)","v":0},null,{"$f":"IF(ISERROR(AY53/AS53),0,(AY53/AS53)*100)","v":0},null,null,null,"Conc Control Méd. a puérpera",null,null,null,null,null,null,null,null,{"$f":"IF(ISERROR(M23/S20),0,(M23/S20))","v":0},null,4,null,null,"Sint Resp Detect. Seg zona",null,null,null,null,null,null,null,null,null,{"$f":"IF(ISERROR((A35*100)/(((20*(AK28+AN28+AR28+AV28+AZ28+BD28+BI28+BM28+BQ28+BU28+BY28))/100)*A31)),0,(A35*100)/((((20*(AK28+AN28+AR28+AV28+AZ28+BD28+BI28+BM28+BQ28+BU28+BY28))/100)*A31)/100))","v":0},null,"S/Z"]
["Flias Periurbanas",null,null,null,null,null,null,{"$f":"IF(ISERROR(V12/D12),0,(V12/D12)*100)","v":0},"Casas Evaluadas Chagas",null,null,null,null,null,{"$f":"IF(ISERROR(BB45/AU45),0,(BB45/AU45)*100)","v":0},100,null,"3° Antipolio < 1 año","2ª Rotavirus < 1 año",null,"2ª Rotavirus < 1 año","2ª Rotavirus < 1 año",null,null,0,0,0,0,null,{"$f":"SUM(Y54:AB54)","v":0},{"$f":"IF(ISERROR(Z54/W51),0,(Z54/W51)*100)","v":0},null,null,null,"U.D. Meningococo",null,null,null,null,null,null,null,null,null,null,null,null,0,null,null,0,0,null,null,0,{"$f":"SUM(AV54:BC54)","v":0},null,{"$f":"IF(ISERROR(AY54/AS53),0,(AY54/AS53)*100)","v":0},null,"95% AL 1° SEM",null,"RN con Pesquisa",null,null,null,null,null,null,null,null,{"$f":"IF(ISERROR(Y23/U20),0,(Y23/U20)*100)","v":0},null,100,null,null,"Pacientes TBC con Control Médico",null,null,null,null,null,null,null,null,null,{"$f":"IF(ISERROR(I36/I32),0,(I36/I32)*100)","v":0},null,100]
["Flias Rurales",null,null,null,null,null,null,{"$f":"IF(ISERROR(Y12/D12),0,(Y12/D12)*100)","v":0},"Casas Tratadas Chagas",null,null,null,null,null,{"$f":"IF(ISERROR(BJ45/BE45),0,(BJ45/BE45)*100)","v":0},100,null,"3° Pentavalente <1 año","TV 1 año",null,"TV 1 año","TV 1 año",null,null,0,0,0,0,null,{"$f":"SUM(Y55:AB55)","v":0},{"$f":"IF(ISERROR(Z55/W51),0,(Z55/W51)*100)","v":0},null,null,null,"1° HPV Niñas cumplen 11 a en año en curso",null,null,null,null,null,null,null,null,null,2,null,null,0,null,null,0,0,null,null,0,{"$f":"SUM(AV55:BC55)","v":0},null,{"$f":"IF(ISERROR(AY55/AS55),0,(AY55/AS55)*100)","v":0},null,null,null,"Derivaciones Enviadas/Recibidas",null,null,null,null,null,null,null,null,{"$f":"IF(ISERROR(AN43/AK43),0,(AN43/AK43)*100)","v":0},null,100,null,null,"Contactos TBC Controlados",null,null,null,null,null,null,null,null,null,{"$f":"IF(ISERROR(K36/(D36+G36)),0,(K36/(D36+G36)))*100","v":0},null,100]
["Flias Originarias",null,null,null,null,null,null,{"$f":"IF(ISERROR(R12/D12),0,(R12/D12)*100)","v":0},"Casas Evaluadas Dengue",null,null,null,null,null,{"$f":"IF(ISERROR(BN45/AU45),0,(BN45/AU45)*100)","v":0},100,null,"1° TV","A HA 1 año",null,"A HA 1 año","A HA 1 año",{"$f":"G91+H91","v":0},null,0,0,0,0,null,{"$f":"SUM(Y56:AB56)","v":0},{"$f":"IF(ISERROR(Z56/W56),0,(Z56/W56)*100)","v":0},null,100,null,"1° HPV Niños cumplen 11 a en año en curso",25,25,null,null,null,null,null,null,null,3,null,null,0,null,null,0,0,null,null,0,{"$f":"SUM(AV56:BC56)","v":0},null,{"$f":"IF(ISERROR(AY56/AS56),0,(AY56/AS56)*100)","v":0},null,"95% AL 1° SEM",null,"Niños < 2 a Riesgo BP",null,null,null,null,null,null,null,null,{"$f":"IF(ISERROR(AR22/AJ22),0,(AR22/AJ22)*100)","v":0},null,null,null,null,"TAES de TBC",null,null,null,null,null,null,null,null,null,{"$f":"IF(ISERROR(K32/I32),0,(K32/I32)*100)","v":0},null,100]
["Flias Migr. desde AO",null,null,null,null,null,null,{"$f":"IF(ISERROR(AC12/A12),0,(AC12/A12)*100)","v":0},"Casas Tratadas Dengue",null,null,null,null,null,{"$f":"IF(ISERROR(BV45/BR45),0,(BV45/BR45)*100)","v":0},100,null,"2° TV","A HA 1 año",null,"A HA 1 año","A HA 1 año",null,null,0,0,0,0,null,{"$f":"SUM(Y57:AB57)","v":0},{"$f":"IF(ISERROR(Z57/W56),0,(Z57/W56)*100)","v":0},null,null,null,"Emb. con dTpa",null,null,null,null,null,null,null,null,null,1,null,null,0,null,null,0,0,null,null,0,{"$f":"SUM(AV57:BC57)","v":0},null,{"$f":"IF(ISERROR(AY57/AS57),0,(AY57/AS57)*100)","v":0},null,null,null,"Niños < 2 a Riesgo AP",null,null,null,null,null,null,null,null,{"$f":"IF(ISERROR(AT22/AJ22),0,(AT22/AJ22)*100)","v":0},null,null,null,null,"Ptes. con tratamiento por Chagas",null,null,null,null,null,null,null,null,null,{"$f":"S31","v":0}]
["Flias Migr. hacia el AO",null,null,null,null,null,null,{"$f":"IF(ISERROR(AA12/A12),0,(AA12/A12)*100)","v":0},"Superv Int. a la Familia",null,null,null,null,null,{"$f":"IF(ISERROR((CH14*100)/BL14),0,((CH14*100)/BL14))","v":0},20,null,"Unica Dosis A HA",null,null,null,null,null,null,0,0,0,0,null,{"$f":"SUM(Y58:AB58)","v":0},{"$f":"IF(ISERROR(Z58/W56),0,(Z58/W56)*100)","v":0},null,null,null,"Emb. con Vac Sinsicial",null,null,null,null,null,null,null,null,null,null,null,null,0,null,null,0,0,null,null,0,{"$f":"SUM(AV58:BC58)","v":0},null,{"$f":"IF(ISERROR(AY58/AS57),0,(AY58/AS57)*100)","v":0},null,100,null,"Niños < 2 Recup BP",null,null,null,null,null,null,null,null,{"$f":"IF(ISERROR(AV22/K79),0,(AV22/K79)*100)","v":0},null,100,null,null,"Casas positivas Chagas",null,null,null,null,null,null,null,null,null,{"$f":"IF(ISERROR(BE45/BB45),0,(BE45/BB45)*100)","v":0},null,0]
["Flias con planes sociales",null,null,null,null,null,null,{"$f":"IF(ISERROR(AF12/D12),0,(AF12/D12)*100)","v":0},"Superv Prof. Flias Prio (3v)",null,null,null,null,null,{"$f":"IF(ISERROR(CH15/(BB14+BE14)),0,(CH15/(BB14+BE14))*100)","v":0},70,null,"Ref Neumococo 1 año","Ref Neumoc 1 año",null,"Ref Neumoc 1 año","Ref Neumoc 1 año",null,null,0,0,0,0,null,{"$f":"SUM(Y59:AB59)","v":0},{"$f":"IF(ISERROR(Z59/W56),0,(Z59/W56)*100)","v":0},null,null,null,"dT  Vigente > 65 a",null,null,null,null,null,null,null,null,null,32,null,null,0,null,null,0,0,null,null,0,{"$f":"SUM(AV59:BC59)","v":0},null,{"$f":"IF(ISERROR(AY59/AS59),0,(AY59/AS59)*100)","v":0},null,100,null,"Niños < 2 Recup AP",null,null,null,null,null,null,null,null,{"$f":"IF(ISERROR(AY22/K81),0,(AY22/K81)*100)","v":0},null,100,null,null,"Casas Positivas Aedes",null,null,null,null,null,null,null,null,null,{"$f":"IF(ISERROR(BR45/BN45),0,(BR45/BN45)*100)","v":0},null," "]
[null,null,null,null,null,null,null,null,"% Activ Prom.Salud Comunitarias",null,null,null,null,null,{"$f":"IF(ISERROR(CH45/CH43),0,(CH45/CH43)*100)","v":0},100,null,"Ref. Meningococo 1 año","Ref Cuádruple 1 año",null,"Ref Cuádruple 1 año","Ref Cuádruple 1 año",null,null,0,0,0,0,null,{"$f":"SUM(Y60:AB60)","v":0},{"$f":"IF(ISERROR(Z60/W56),0,(Z60/W56)*100)","v":0},null,null,null,"Neumo 20 > 65 años",null,null,null,null,null,null,null,null,null,null,null,null,0,null,null,0,0,null,null,0,{"$f":"SUM(AV60:BC60)","v":0},null,{"$f":"IF(ISERROR(AY60/AS59),0,(AY60/AS59)*100)","v":0},null,null,null,"Niños 2 a 5 Riesgo BP",null,null,null,null,null,null,null,null,{"$f":"IF(ISERROR(AR23/AJ23),0,(AR23/AJ23)*100)","v":0},null,null,null,null,"UROCS 1/SEC",null,null,null,null,null,null,null,null,null,0,null,"1/SEC"]
["Flias. c/Antec Mort Mat Inf",null,null,null,null,null,null,{"$f":"IF(ISERROR(AV10/D12),0,(AV10/D12)*100)","v":0},null,null,null,null,null,null,null,null,null,"Unica Dosis Varicela","Ref SOT 1 año",null,"Ref SOT 1 año","Ref SOT 1 año",null,null,0,0,0,0,null,{"$f":"SUM(Y61:AB61)","v":0},{"$f":"IF(ISERROR(Z61/W56),0,(Z61/W56)*100)","v":0},null,null,null,"Aplic. Cargadas a Nomivac",null,null,null,null,null,null,null,null,null,0,null,null,null,null,null,null,null,null,null,null,null,null,null,null,null,null,null,null,null,null,null,null,null,null,null,null,null,null,null,null,"Flias con Huerta",null,null,null,null,null,null,null,null,null,{"$f":"IF(ISERROR(AL12/D12),0,(AL12/D12)*100)","v":0}]
["F con 3 o más <6 años",null,null,null,null,null,null,{"$f":"IF(ISERROR(BI10/D12),0,(BI10/D12)*100)","v":0}," DE IMPACTO",null,null,null,null,"%",null,"META",null,"4° Dosis o 1° Ref. Pentavalente",null,null,null,null,null,null,0,0,0,0,null,{"$f":"SUM(Y62:AB62)","v":0},{"$f":"IF(ISERROR(Z62/W56),0,(Z62/W56)*100)","v":0},null,null,null,"Total Aplic /AS",null,null,null,null,null,null,null,null,null,0,null,null,null,null,null,null,null,null,null,null,null,null,null,null,null,null,"Niños 2 a 5 Riesgo AP",null,null,null,null,null,null,null,null,{"$f":"IF(ISERROR(AT23/AJ23),0,(AT23/AJ23)*100)","v":0},null,null,null,null,"Flias con Granja",null,null,null,null,null,null,null,null,null,{"$f":"IF(ISERROR(AP12/D12),0,(AP12/D12)*100)","v":0}]
["Flias con Hacinamiento",null,null,null,null,null,null,{"$f":"IF(ISERROR(BL10/D12),0,(BL10/D12)*100)","v":0},"Agua Seg (Trat Red + Viv)",null,null,null,null,{"$f":"IF(ISERROR((AP41+AR41)/D12),0,((AP41+AR41)/D12)*100)","v":0},null,100,null,"2° AG 6m a 24m",null,null,null,null,{"$f":"D91+F91+G91+H91","v":0},null,0,0,0,0,null,{"$f":"SUM(Y63:AB63)","v":0},{"$f":"IF(ISERROR(Z63/W63),0,(Z63/W63)*100)","v":0},null," ",null,"VAC COVID APLIC EN LA RONDA",null,null,null,null,null,null,null,null,null,0,null,null,null,null,null,null,null,null,null,null,null,null,null,null,null,null,"U) A llenar en 1° Ronda del Año"]
["Flias con Analfabet",null,null,null,null,null,null,{"$f":"IF(ISERROR(BO10/D12),0,(BO10/D12)*100)","v":0},"DSE (Arrastre y letrinas)",null,null,null,null,{"$f":"IF(ISERROR((AV41+AX41+AZ41+BB41+BD41)/D12),0,((AV41+AX41+AZ41+BB41+BD41)/D12)*100)","v":0},null,100,null,"R) PRODUCCION Y RENDIMIENTO",null,null,null,null,null,null,null,null,null,null,null,null,null,null,null,null,null,null,null,null,null,null,null,null,null,null,null,null,null,null,null,null,null,null,null,null,null,null,null,null,null,null,null,"Piso",null,null,null,null,"Techo",null,null,null,null,"Paredes",null,null,null,null,null,null,null,null,null,"Cocina",null,null,null,null,"Tenencia"]
["Flias con Suicidio",null,null,null,null,null,null,{"$f":"IF(ISERROR(BT11/D12),0,(BT11/D12)*100)","v":0},"TSB (Recolección + Pozo)",null,null,null,null,{"$f":"IF(ISERROR((BH41+BK41)/D12),0,((BH41+BK41)/D12)*100)","v":0},null,100,null,"DIAS A TRAB. /RONDA",null,null,"DIAS INCLEM CLIMAT.",null,null,"DIAS Y NROS DE ARTICULOS TOMADOS",null,null,null,"CAPACITACIONES Y OTRAS ACTIVIDADES",null,null,null,null,null,null,null,null,null,null,null,null,null,null,null,null,null,null,null,null,null,null,"DIAS TRABAJADOS\nEN TERRENO",null,null,null,null,"PROM. DIARIO DE FLIAS VISIT.",null,null,null,null,null,"Mosaico/B.",null,null,null,0,"Losa",null,null,0,null,"Ladrillo",null,null,0,null,"Madera",null,null,null,0,"Gas",null,null,0,null,"Segura",null,null,0]
["Flias c /tentativa suicidio",null,null,null,null,null,null,{"$f":"IF(ISERROR(BV11/D12),0,(BV11/D12)*100)","v":0},"Emb Adolescente",null,null,null,null,{"$f":"IF(ISERROR(L20/J20),0,(L20/J20)*100)","v":0},null,null,null,null,null,null,null,null,null,0,null,null,null,0,null,null,null,null,null,null,null,null,null,null,0,null,null,null,null,null,null,null,null,null,null,null,null,null,null,null,null,null,null,null,null,null,null,"Cemento",null,null,null,0,"Chapa\nZinc",null,null,0,null,"Bloque",null,null,0,null,"Quincho",null,null,null,0,"Leña/\nCarb",null,null,0,null,"Inseg.",null,null,0]
["Flias con Alcoholismo",null,null,null,null,null,null,{"$f":"IF(ISERROR(BY11/D12),0,(BY11/D12)*100)","v":0},"Niños <2 Bajo Peso/MBP",null,null,null,null,{"$f":"IF(ISERROR((AL22+AN22)/(AJ22+AP22+AL22+AN22)),0,((AL22+AN22)/(AJ22+AP22+AL22+AN22))*100)","v":0},null,null,null,null,null,null,null,null,null,0,null,null,null,0,null,null,null,null,null,null,null,null,null,null,0,null,null,null,null,null,null,null,null,null,null,null,null,null,null,null,null,null,null,null,null,null,null,"Tierra",null,null,null,0,"Paja/\nBarro",null,null,0,null,"Adobe",null,null,0,null,"Carton/Pl",null,null,null,0,"Otros",null,null,0,null,"Hac",null,null,0,null,null,null,5]
["Flias c/ otras Adicciones",null,null,null,null,null,null,{"$f":"IF(ISERROR(CC11/D12),0,(CC11/D12)*100)","v":0},"Niños <2 a AP",null,null,null,null,{"$f":"IF(ISERROR(AP22/(AJ22+AP22+AL22+AN22)),0,(AP22/(AJ22+AP22+AL22+AN22))*100)","v":0},null,null,null,0,null,null,0,null,null,0,null,null,null,0,null,null,null,null,null,null,null,null,null,null,0,null,null,null,null,null,null,null,null,null,null,null,0,null,null,null,null,{"$f":"IF(ISERROR(G12/AY68),0,(G12/AY68))","v":0},null,null,null,null,null,"Otros",null,null,null,0,"Otros",null,null,0,null,"Piedra",null,null,0,null,"Otro",null,null,null,0,"Helad.",null,null,0]
["Flias con VIF",null,null,null,null,null,null,{"$f":"IF(ISERROR(CF11/D12),0,(CF11/D12)*100)","v":0},"Niños < 2 baja y MBT",null,null,null,null,{"$f":"IF(ISERROR((AZ22+BB22)/(AJ22+AP22+AL22+AN22)),0,((AZ22+BB22)/(AJ22+AP22+AL22+AN22))*100)","v":0},null,null,null,"S) DETALLE DE LAS DEFUNCIONES (Todas las del Sector)",null,null,null,null,null,null,null,null,null,null,null,null,null,null,null,null,null,null,null,null,null,null,null,null,null,null,null,null,null,null,null,null,null,null,null,null,null,null,null,null,null,null,null,"Agua",null,"Corriente a Domic",null,null,"Grifo Terr",null,null,"Grifo Público",null,null,"Bomba",null,null,"Pozo",null,null,null,"Camión Aguatero / Cisterna",null,"Vertiente/Rio/Aceq",null,null,"Laguna",null,null,"Lluvia/Aljibe"]
["Flias con Diabetes",null,null,null,null,null,null,{"$f":"IF(ISERROR(AB31/D12),0,(AB31/D12)*100)","v":0},"Niños 2 a 5 Bajo Peso/MBP",null,null,null,null,{"$f":"IF(ISERROR((AL23+AN23)/(AJ23+AP23+AL23+AN23)),0,((AL23+AN23)/(AJ23+AP23+AL23+AN23))*100)","v":0},null,null,null,"APELLIDO Y NOMBRE",null,null,null,null,null,null,"DOMICILIO",null,null,null,null,null,null,null,null,"NACIMIENTO",null,null,null,null,"DEFUNCION",null,null,null,"PESO\nAL NACER",null,null,null,"CAUSA",null,null,null,null,null,null,null,null,null,"CLASIFICAC."]
["Flias con Hipertensión",null,null,null,null,null,null,{"$f":"IF(ISERROR(AB32/D12),0,(AB32/D12)*100)","v":0},"Niños 2 a 5 AP",null,null,null,null,{"$f":"IF(ISERROR(AP23/(AJ23+AP23+AL23+AN23)),0,(AP23/(AJ23+AP23+AL23+AN23))*100)","v":0}]
[]
["Personas con otras enfermedades crónicas al cuidado de niños",null,null,null,null,null,null,{"$f":"IF(ISERROR(AB33/D12),0,(AB33/D12)*100)","v":0},"Niños 2 a 5 baja y MBT",null,null,null,null,{"$f":"IF(ISERROR((AZ23+BB23)/(AJ23+AP23+AL23+AN23)),0,((AZ23+BB23)/(AJ23+AP23+AL23+AN23))*100)","v":0},null,null,null,null,null,null,null,null,null,null,null,null,null,null,null,null,null,null,null,null,null,null,null,null,null,null,null,null,null,null,null,null,null,null,null,null,null,null,null,null,null,null,null,null,null,null,null,null,null,0,null,null,0,null,null,0,null,null,0,null,null,0,null,null,null,0,null,0,null,null,0,null,null,0]
["Pers c/O Social/Pob total",null,null,null,null,null,null,{"$f":"IF(ISERROR(CI27/CC28),0,(CI27/CC28)*100)","v":0}]
[]
[]
[]
[]
["BP+MBP Ronda Anterior Men2a: ",null,null,null,null,null,null,null,null,null,0]
["BP+MBP Ronda Anterior 2 a 6a: ",null,null,null,null,null,null,null,null,null,0]
["AP Ronda Anterior Men2a: ",null,null,null,null,null,null,null,null,null,0]
["AP Ronda Anterior 2 a 6a: ",null,null,null,null,null,null,null,null,null,0]
[]
[]
[]
[]
[]
["0 a 5m",null,null,"6 a 11m",null,null,"1 AÑO",null,"2 AÑOS",null,"3 AÑOS",null,"4 AÑOS",null,null,"5 AÑOS",null,null,"6 AÑOS",null,null,"7 A 9 AÑOS",null,null,null,"10 AÑOS",null,"11 AÑOS",null,null,"12 A 14",null,null,null,null,null,"15 A 19",null,null,"20 A 24",null,null,null,"25 A 29",null,null,null,"30 A 34",null,null,null,"35 A 39",null,null,null,"40 A 44",null,null,null,null,"45 A 49",null,null,null,"50 A 54",null,null,null,"55 A 59",null,null,null,"60 A 64",null,null,null,"65 y +",null,null,null,"TOTAL",null,null,null,null,"MUJERES\n10 A 49"]
["M",null,"F","M",null,"F","M","F","M","F","M","F","M",null,"F","M",null,"F","M",null,"F","M",null,"F",null,"M","F","M",null,"F","M",null,null,"F",null,null,"M","F",null,"M",null,"F",null,"M",null,null,"F","M",null,null,"F","M",null,"F",null,"M",null,null,"F",null,"M",null,"F",null,"M",null,"F",null,"M",null,"F",null,"M",null,"F",null,"M",null,null,"F","M",null,"F"]
[0,null,0,0,null,0,0,0,0,0,0,0,0,null,0,0,null,0,0,null,0,0,null,0,null,0,0,0,null,0,0,null,null,0,null,null,0,0,null,0,null,0,null,0,null,null,0,0,null,null,0,0,null,0,null,0,null,null,0,null,0,null,0,null,0,null,0,null,0,null,0,null,0,null,0,null,0,null,null,0,{"$f":"SUM(A90,D90,G90,I90,K90,M90,P90,S90,V90,Z90,AB90,AE90,AK90,AN90,AR90,AV90,AZ90,BD90,BI90,BM90,BQ90,BU90,BY90)","v":0},null,{"$f":"SUM(C90,F90,H90,J90,L90,O90,R90,U90,X90,AA90,AD90,AH90,AL90,AP90,AU90,AY90,BB90,BG90,BK90,BO90,BS90,BW90,CB90)","v":0},null,null,{"$f":"SUM(AA90,AD90,AH90,AL90,AP90,AU90,AY90,BB90,BG90,BK90)","v":0}]
[{"$f":"SUM(A90:C90)","v":0},null,null,{"$f":"SUM(D90,F90)","v":0},null,null,{"$f":"SUM(G90,H90)","v":0},null,{"$f":"SUM(I90,J90)","v":0},null,{"$f":"SUM(K90,L90)","v":0},null,{"$f":"SUM(M90,O90)","v":0},null,null,{"$f":"SUM(P90,R90)","v":0},null,null,{"$f":"SUM(S90,U90)","v":0},null,null,{"$f":"SUM(V90,X90)","v":0},null,null,null,{"$f":"SUM(Z90,AA90)","v":0},null,{"$f":"SUM(AB90,AD90)","v":0},null,null,{"$f":"SUM(AE90,AH90)","v":0},null,null,null,null,null,{"$f":"SUM(AK90,AL90)","v":0},null,null,{"$f":"SUM(AN90,AP90)","v":0},null,null,null,{"$f":"SUM(AR90,AU90)","v":0},null,null,null,{"$f":"SUM(AV90,AY90)","v":0},null,null,null,{"$f":"SUM(AZ90,BB90)","v":0},null,null,null,{"$f":"SUM(BD90,BG90)","v":0},null,null,null,null,{"$f":"SUM(BI90,BK90)","v":0},null,null,null,{"$f":"SUM(BM90,BO90)","v":0},null,null,null,{"$f":"SUM(BQ90,BS90)","v":0},null,null,null,{"$f":"SUM(BU90,BW90)","v":0},null,null,null,{"$f":"SUM(BY90,CB90)","v":0},null,null,null,{"$f":"A91+D91+G91+I91+K91+M91+P91+S91+V91+Z91+AB91+AE91+AK91+AN91+AR91+AV91+AZ91+BD91+BI91+BM91+BQ91+BU91+BY91","v":0}]
["Mejor Población: 1° - 2019",null,null,null,null,null,null,null,null,null,null,null,null,null,null,null,null,null,null,null,null,null,null,null,null,null,null,null,null,null,null,null,null,null,null,null,null,null,null,null,null,null,null,null,null,null,null,null,null,null,null,null,null,null,null,null,null,null,null,null,null,null,null,null,null,null,null,null,null,null,null,null,null,null,null,null,null,null,null,null,{"$f":"SUM(CC91,CE91)","v":0}]
["Cobertura: 1%"]

{"sheet":"SAN PATRICIO","index":10,"n_rows":93,"n_cols":94,"rows_kept":93,"cut":false,"hidden":false,"merged":[[62,17,62,21],[62,22,62,23],[62,27,62,28],[62,30,62,31],[89,85,90,85],[90,0,90,2],[90,3,90,5],[90,6,90,7],[90,8,90,9],[90,10,90,11],[90,12,90,14],[90,15,90,17],[90,18,90,20],[90,21,90,24],[89,70,89,71],[89,72,89,73],[89,74,89,75],[89,76,89,78],[89,80,89,81],[89,82,89,84],[89,58,89,59],[89,51,89,52],[89,53,89,54],[89,55,89,57],[89,23,89,24],[89,27,89,28],[89,30,89,32],[89,33,89,35],[89,37,89,38],[89,39,89,40],[90,72,90,75],[90,76,90,79],[90,80,90,84],[90,47,90,50],[90,51,90,54],[90,55,90,59],[90,60,90,63],[90,64,90,67],[90,68,90,71],[90,25,90,26],[90,27,90,29],[90,30,90,35],[90,36,90,38],[90,39,90,42],[90,43,90,46],[89,0,89,1],[89,3,89,4],[89,12,89,13],[89,15,89,16],[89,18,89,19],[89,21,89,22],[88,62,88,63],[88,64,88,65],[88,66,88,67],[88,68,88,69],[88,70,88,71],[88,72,88,73],[88,47,88,49],[88,51,88,52],[88,53,88,54],[88,55,88,57],[88,58,88,59],[88,60,88,61],[88,30,88,32],[88,33,88,35],[88,37,88,38],[88,39,88,40],[88,41,88,42],[88,43,88,45],[89,60,89,61],[89,62,89,63],[89,64,89,65],[89,66,89,67],[89,68,89,69],[89,41,89,42],[89,43,89,45],[89,47,89,49],[87,80,87,84],[87,85,88,85],[88,0,88,1],[88,3,88,4],[88,12,88,13],[88,15,88,16],[88,18,88,19],[88,21,88,22],[88,23,88,24],[88,27,88,28],[87,55,87,59],[87,60,87,63],[87,64,87,67],[87,68,87,71],[87,72,87,75],[87,76,87,79],[87,30,87,35],[87,36,87,38],[87,39,87,42],[87,43,87,46],[87,47,87,50],[87,51,87,54],[87,12,87,14],[87,15,87,17],[87,18,87,20],[87,21,87,24],[87,25,87,26],[87,27,87,29],[88,74,88,75],[88,76,88,78],[88,80,88,81],[88,82,88,84],[75,17,75,23],[75,24,75,32],[75,38,75,41],[75,42,75,45],[75,46,75,55],[87,0,87,2],[87,3,87,5],[87,6,87,7],[87,8,87,9],[87,10,87,11],[73,42,73,45],[73,46,73,55],[73,56,73,60],[74,17,74,23],[74,24,74,32],[74,38,74,41],[74,42,74,45],[74,46,74,55],[72,75,73,78],[72,79,73,80],[72,81,73,83],[72,84,73,86],[72,87,73,89],[73,0,73,6],[73,17,73,23],[73,24,73,32],[73,33,73,37],[73,38,73,41],[72,46,72,55],[72,56,72,60],[72,63,73,65],[72,66,73,68],[72,69,73,71],[72,72,73,74],[71,56,71,60],[72,0,72,6],[72,8,73,12],[72,13,73,14],[72,15,73,16],[72,17,72,23],[72,24,72,32],[72,33,72,37],[72,38,72,41],[72,42,72,45],[68,87,71,89],[68,69,71,71],[68,72,71,74],[68,75,71,78],[68,79,71,80],[68,81,71,83],[71,46,71,55],[69,46,69,55],[69,56,69,60],[70,0,71,6],[70,7,71,7],[70,8,71,12],[70,13,71,14],[70,15,71,16],[70,17,70,23],[70,24,70,32],[70,33,70,37],[69,0,69,6],[69,8,69,12],[69,13,69,14],[69,15,69,16],[69,17,69,23],[69,24,69,32],[69,33,69,37],[69,38,69,41],[69,42,69,45],[68,84,71,86],[67,81,67,83],[67,84,67,85],[68,0,68,6],[68,8,68,12],[68,13,68,14],[68,15,68,16],[68,17,68,60],[68,61,73,62],[68,63,71,65],[68,66,71,68],[67,61,67,64],[67,66,67,68],[67,69,67,70],[67,71,67,73],[67,74,67,75],[67,76,67,79],[67,20,67,22],[67,23,67,26],[67,27,67,37],[67,38,67,49],[67,50,67,54],[67,55,67,60],[70,38,70,41],[70,42,70,45],[70,46,70,55],[70,56,70,60],[71,17,71,23],[71,24,71,32],[71,33,71,37],[71,38,71,41],[71,42,71,45],[66,69,66,70],[66,71,66,73],[66,74,66,75],[65,76,65,79],[65,81,65,83],[65,84,65,85],[65,86,65,88],[66,0,66,6],[66,8,66,12],[66,13,66,14],[66,15,66,16],[66,23,66,26],[66,27,66,37],[65,15,65,16],[65,23,65,26],[65,27,65,37],[65,38,65,49],[64,55,66,60],[64,61,64,64],[64,66,64,68],[64,69,64,70],[64,74,64,75],[64,86,64,88],[64,76,64,79],[65,61,65,64],[65,66,65,68],[65,69,65,70],[65,74,65,75],[66,76,66,79],[66,81,66,83],[66,84,66,85],[63,86,63,89],[64,0,64,6],[64,8,64,12],[64,13,64,14],[64,15,64,16],[64,17,66,19],[64,20,66,22],[64,23,64,26],[64,27,64,49],[64,50,66,54],[65,0,65,6],[65,8,65,12],[65,13,65,14],[66,86,67,88],[66,89,67,89],[67,0,67,6],[67,8,67,12],[67,13,67,14],[67,15,67,16],[67,17,67,19],[66,38,66,49],[66,61,66,64],[66,66,66,68],[63,0,63,6],[63,8,63,12],[63,13,63,14],[63,15,63,16],[63,17,63,60],[63,61,63,65],[63,66,63,70],[63,71,63,80],[63,81,63,85],[62,0,62,6],[62,8,62,12],[62,13,62,14],[62,15,62,16],[62,32,62,33],[62,34,62,43],[64,81,64,83],[64,84,64,85],[61,87,61,89],[61,32,61,33],[61,34,61,43],[61,44,61,60],[62,44,62,60],[60,87,60,89],[61,0,61,6],[61,8,61,12],[61,13,61,14],[61,15,61,16],[60,0,60,6],[60,17,60,21],[60,27,60,28],[60,30,60,31],[60,34,60,43],[60,44,60,60],[60,75,60,84],[60,85,60,86],[62,61,62,89],[58,75,58,84],[58,85,58,86],[59,61,60,69],[59,70,60,71],[59,72,60,74],[59,75,59,84],[58,34,58,43],[58,44,59,46],[58,47,58,49],[58,51,58,53],[58,55,58,56],[58,57,58,58],[59,55,59,56],[59,57,59,58],[61,61,61,69],[61,70,61,71],[61,72,61,74],[61,75,61,84],[61,85,61,86],[57,87,57,89],[58,0,59,6],[58,7,59,7],[58,8,58,13],[58,15,58,16],[58,17,58,21],[58,27,58,28],[58,30,58,31],[57,55,57,56],[57,57,57,58],[57,59,57,60],[57,61,57,69],[57,70,57,71],[57,72,57,74],[59,85,59,86],[59,87,59,89],[57,47,57,49],[57,51,57,53],[58,87,58,89],[59,8,60,13],[59,14,60,14],[59,15,60,16],[59,17,59,21],[59,27,59,28],[59,30,59,31],[59,34,59,43],[59,47,59,49],[59,51,59,53],[58,59,59,60],[58,61,58,69],[58,70,58,71],[58,72,58,74],[56,17,56,21],[56,27,56,28],[56,30,56,31],[56,34,56,43],[56,44,57,46],[56,47,56,49],[55,59,56,60],[55,61,55,69],[55,70,55,71],[55,72,55,74],[55,75,55,84],[55,85,55,86],[56,75,56,84],[56,85,56,86],[55,34,55,43],[55,44,55,46],[55,47,55,49],[55,51,55,53],[55,55,55,56],[55,57,55,58],[57,75,57,84],[57,85,57,86],[55,22,61,23],[61,17,61,21],[61,27,61,28],[61,30,61,31],[55,0,55,6],[55,8,55,13],[55,15,55,16],[55,17,55,21],[55,27,55,28],[55,30,55,31],[55,32,60,33],[54,47,54,49],[54,51,54,53],[54,55,54,56],[54,57,54,58],[54,61,54,69],[54,70,54,71],[56,87,56,89],[57,0,57,6],[57,8,57,13],[57,15,57,16],[57,17,57,21],[57,27,57,28],[57,30,57,31],[57,34,57,43],[56,51,56,53],[56,55,56,56],[56,57,56,58],[56,61,56,69],[56,70,56,71],[56,72,56,74],[55,87,55,89],[56,0,56,6],[56,8,56,13],[56,15,56,16],[53,87,53,89],[54,0,54,6],[54,8,54,13],[54,15,54,16],[54,17,54,21],[54,27,54,28],[54,30,54,31],[54,34,54,43],[54,44,54,46],[53,57,53,58],[53,59,54,60],[53,61,53,69],[53,70,53,71],[53,72,53,74],[53,75,53,84],[54,72,54,74],[54,75,54,84],[54,85,54,86],[54,87,54,89],[51,75,51,84],[51,85,51,86],[51,87,51,89],[52,0,52,6],[52,8,52,13],[52,15,52,16],[52,17,52,21],[52,27,52,28],[52,30,52,31],[51,51,51,53],[51,55,51,56],[51,57,51,58],[51,59,52,60],[51,61,51,69],[51,70,51,71],[52,61,52,69],[52,70,52,71],[52,72,52,74],[52,75,52,84],[52,85,52,86],[52,87,52,89],[52,34,52,43],[52,44,53,46],[52,47,52,49],[52,51,52,53],[52,55,52,56],[52,57,52,58],[53,34,53,43],[53,47,53,49],[53,51,53,53],[53,55,53,56],[53,85,53,86],[51,0,51,6],[51,8,51,13],[51,15,51,16],[51,17,51,21],[51,27,51,28],[51,30,51,31],[51,34,51,43],[51,47,51,49],[50,34,50,43],[50,47,50,49],[50,51,50,53],[50,55,50,56],[50,57,50,58],[50,61,50,69],[49,72,49,74],[48,44,51,46],[48,47,48,49],[48,51,48,53],[49,47,49,49],[49,51,49,53],[50,30,50,31],[50,32,54,33],[51,72,51,74],[53,0,53,6],[53,8,53,13],[53,15,53,16],[53,17,53,21],[53,27,53,28],[53,30,53,31],[48,85,48,86],[48,87,48,89],[49,0,49,5],[49,8,49,13],[49,15,49,16],[49,17,49,21],[49,27,49,28],[49,30,49,31],[49,34,49,43],[48,55,48,56],[48,57,48,58],[48,59,50,60],[48,61,48,69],[48,70,48,71],[48,72,48,74],[49,55,49,56],[49,57,49,58],[49,61,49,69],[49,70,49,71],[48,30,48,31],[48,32,49,33],[48,34,48,43],[50,70,50,71],[50,72,50,74],[47,72,47,74],[47,75,47,84],[47,85,47,86],[47,87,47,89],[48,0,48,5],[48,8,48,13],[48,15,48,16],[48,17,48,21],[48,22,49,23],[48,27,48,28],[47,51,47,53],[47,55,47,56],[47,57,47,58],[47,59,47,60],[47,61,47,69],[47,70,47,71],[47,27,47,28],[47,30,47,31],[47,32,47,33],[47,34,47,43],[47,44,47,46],[47,47,47,49],[49,75,50,84],[49,85,50,86],[49,87,50,89],[50,0,50,6],[50,8,50,13],[50,15,50,16],[50,17,50,21],[50,22,54,23],[50,27,50,28],[48,75,48,84],[46,70,46,71],[46,72,46,74],[46,75,46,84],[46,85,46,86],[46,87,46,89],[47,0,47,5],[47,8,47,13],[47,15,47,16],[47,17,47,21],[47,22,47,23],[46,0,46,5],[46,8,46,13],[46,15,46,16],[46,17,46,33],[46,34,46,60],[46,61,46,69],[44,65,44,68],[44,69,44,72],[44,73,44,76],[44,77,44,84],[44,85,44,89],[45,0,45,89],[42,23,44,23],[42,24,44,25],[42,26,44,27],[42,28,44,29],[42,30,44,31],[42,32,44,33],[42,17,44,17],[42,18,44,18],[42,19,44,19],[42,20,44,20],[42,73,43,76],[42,77,43,84],[42,85,43,89],[44,41,44,45],[44,46,44,48],[44,49,44,50],[44,51,44,52],[44,53,44,55],[44,56,44,60],[44,61,44,64],[42,51,43,52],[42,53,43,55],[42,56,43,60],[42,61,43,64],[42,65,43,68],[42,69,43,72],[42,34,44,35],[42,36,44,38],[42,39,44,40],[42,41,43,45],[42,46,43,48],[42,49,43,50],[42,21,44,21],[42,22,44,22],[42,10,44,11],[42,12,44,12],[42,13,44,13],[42,14,44,14],[42,15,44,15],[42,16,44,16],[40,86,40,89],[41,41,41,52],[41,53,41,64],[41,65,41,76],[41,77,41,89],[42,0,44,1],[42,2,44,3],[42,4,44,5],[42,6,44,7],[42,8,44,9],[40,66,40,68],[40,69,40,71],[40,72,40,75],[40,76,40,79],[40,80,40,81],[40,82,40,85],[40,51,40,52],[40,53,40,54],[40,55,40,56],[40,57,40,58],[40,59,40,61],[40,62,40,65],[40,36,41,38],[40,39,41,40],[40,41,40,42],[40,43,40,45],[40,47,40,48],[40,49,40,50],[40,24,41,25],[40,26,41,27],[40,28,41,29],[40,30,41,31],[40,32,41,33],[40,34,41,35],[40,18,41,18],[40,19,41,19],[40,20,41,20],[40,21,41,21],[40,22,41,22],[40,23,41,23],[40,12,41,12],[40,13,41,13],[40,14,41,14],[40,15,41,15],[40,16,41,16],[40,17,41,17],[40,0,41,1],[40,2,41,3],[40,4,41,5],[40,6,41,7],[40,8,41,9],[40,10,41,11],[38,66,39,68],[38,69,39,71],[38,72,39,75],[38,76,39,79],[39,12,39,13],[39,14,39,15],[39,16,39,17],[39,18,39,19],[39,47,39,48],[39,49,39,50],[38,46,39,46],[38,47,38,52],[38,53,38,56],[38,57,39,58],[38,59,39,61],[38,62,39,65],[39,51,39,52],[39,53,39,54],[39,55,39,56],[38,24,39,27],[38,28,39,31],[38,32,39,35],[38,36,39,40],[38,41,39,42],[38,43,39,45],[38,0,39,3],[36,41,36,68],[36,69,36,89],[37,41,37,46],[37,47,37,58],[37,59,37,68],[37,69,37,79],[37,80,39,81],[37,82,39,85],[37,86,39,89],[34,10,34,11],[34,12,35,14],[34,21,35,26],[34,27,35,32],[35,3,35,5],[35,6,35,7],[35,8,35,9],[35,10,35,11],[34,0,35,2],[34,3,34,5],[34,6,34,7],[34,8,34,9],[31,21,31,26],[31,27,31,29],[31,30,31,32],[32,0,32,2],[32,3,32,4],[32,8,32,9],[32,10,32,11],[32,21,33,26],[32,27,33,29],[32,30,33,32],[38,4,39,7],[38,8,39,11],[38,12,38,19],[38,20,39,21],[38,22,39,23],[36,0,37,40],[30,21,30,26],[30,27,30,29],[30,30,30,32],[31,0,31,2],[31,3,31,4],[31,8,31,9],[31,10,31,11],[31,12,32,14],[31,15,32,17],[31,18,32,20],[29,30,29,32],[29,33,35,89],[30,0,30,2],[30,3,30,5],[30,6,30,7],[30,8,30,9],[30,10,30,11],[30,12,30,14],[30,15,30,17],[30,18,30,20],[29,0,29,2],[29,3,29,7],[29,8,29,14],[29,15,29,20],[29,21,29,26],[29,27,29,29],[33,0,33,2],[33,3,33,7],[33,8,33,11],[33,12,33,14],[33,15,35,17],[33,18,35,20],[27,64,27,67],[27,68,27,71],[27,72,27,75],[27,76,27,79],[27,80,27,84],[28,0,28,14],[28,15,28,20],[28,21,28,32],[27,39,27,42],[27,43,27,46],[27,47,27,50],[27,51,27,54],[27,55,27,59],[27,60,27,63],[27,18,27,20],[27,21,27,24],[27,25,27,26],[27,27,27,29],[27,30,27,35],[27,36,27,38],[26,85,27,85],[26,86,27,87],[26,88,27,89],[27,0,27,2],[27,3,27,5],[27,6,27,7],[27,8,27,9],[27,10,27,11],[27,12,27,14],[27,15,27,17],[26,70,26,71],[26,72,26,73],[26,74,26,75],[26,76,26,78],[26,80,26,81],[26,82,26,84],[26,58,26,59],[26,60,26,61],[26,62,26,63],[26,64,26,65],[26,66,26,67],[26,68,26,69],[26,41,26,42],[26,43,26,45],[26,47,26,49],[26,51,26,52],[26,53,26,54],[26,55,26,57],[26,23,26,24],[26,27,26,28],[26,30,26,32],[26,33,26,35],[26,37,26,38],[26,39,26,40],[26,0,26,1],[26,3,26,4],[26,12,26,13],[26,15,26,16],[26,18,26,19],[26,21,26,22],[25,64,25,65],[25,66,25,67],[25,68,25,69],[25,70,25,71],[25,72,25,73],[25,74,25,75],[25,51,25,52],[25,53,25,54],[25,55,25,57],[25,58,25,59],[25,60,25,61],[25,62,25,63],[25,33,25,35],[25,37,25,38],[25,39,25,40],[25,41,25,42],[25,43,25,45],[25,47,25,49],[25,30,25,32],[25,21,25,22],[25,23,25,24],[25,27,25,28],[24,85,25,85],[24,86,25,87],[25,76,25,78],[25,80,25,81],[25,82,25,84],[24,43,24,46],[24,47,24,50],[24,51,24,54],[24,55,24,59],[24,60,24,63],[24,64,24,67],[24,21,24,24],[24,25,24,26],[24,27,24,29],[24,30,24,35],[24,36,24,38],[24,39,24,42],[23,0,23,89],[24,0,24,2],[24,3,24,5],[24,6,24,7],[24,8,24,9],[24,10,24,11],[24,12,24,14],[24,15,24,17],[24,18,24,20],[22,51,22,52],[22,53,22,54],[22,56,22,57],[22,58,22,60],[22,61,22,62],[22,63,22,65],[22,37,22,38],[22,39,22,40],[22,41,22,42],[22,43,22,44],[22,45,22,46],[22,47,22,49],[21,0,22,2],[24,88,25,89],[25,0,25,1],[25,3,25,4],[25,12,25,13],[25,15,25,16],[25,18,25,19],[24,68,24,71],[24,72,24,75],[24,76,24,79],[24,80,24,84],[22,12,22,15],[22,16,22,19],[22,20,22,23],[22,24,22,28],[22,29,22,31],[22,32,22,34],[22,35,22,36],[21,58,21,60],[21,61,21,62],[21,63,21,65],[21,66,22,73],[21,74,22,75],[21,76,21,79],[22,76,22,79],[21,43,21,44],[21,45,21,46],[21,47,21,49],[21,51,21,52],[21,53,21,54],[21,56,21,57],[21,12,21,15],[21,16,21,19],[21,29,21,31],[21,32,21,34],[20,24,21,28],[21,35,21,36],[21,37,21,38],[21,39,21,40],[21,41,21,42],[19,68,20,69],[19,70,20,71],[19,72,20,73],[20,12,20,19],[20,20,21,23],[19,74,20,75],[19,76,20,79],[19,51,20,52],[19,53,20,54],[19,55,20,55],[19,58,20,60],[19,61,20,62],[19,66,20,67],[17,63,20,65],[16,66,18,67],[16,68,18,69],[16,70,18,71],[16,72,18,73],[16,74,18,75],[16,76,18,79],[19,18,19,19],[19,20,19,21],[19,23,19,24],[19,25,19,26],[19,27,19,28],[17,41,20,42],[17,43,18,46],[17,47,18,50],[17,51,18,55],[17,56,20,57],[17,58,18,62],[19,43,20,44],[19,45,20,46],[19,47,20,49],[19,50,20,50],[11,3,14,5],[11,6,14,7],[11,8,14,9],[11,10,14,11],[11,12,14,13],[13,75,13,78],[13,79,13,80],[13,53,13,55],[13,56,13,59],[13,60,13,62],[14,53,14,55],[14,56,14,59],[14,60,14,62],[11,19,14,20],[11,21,14,23],[11,24,14,25],[11,26,14,27],[12,63,12,68],[12,53,12,55],[12,56,12,59],[12,60,12,62],[14,47,14,52],[14,63,14,68],[14,69,14,74],[14,75,14,78],[12,69,12,74],[17,17,18,17],[17,22,18,22],[17,23,18,24],[17,25,18,26],[17,27,18,28],[14,79,14,80],[14,81,14,84],[14,85,14,89],[15,12,15,19],[15,20,15,28],[15,29,15,65],[15,66,15,75],[11,28,14,30],[11,31,14,36],[11,37,14,40],[11,41,14,46],[11,47,11,68],[11,69,11,89],[11,14,14,16],[11,17,14,18],[16,18,18,19],[16,20,18,21],[16,22,16,28],[16,29,16,65],[12,75,12,78]],"merged_total":1135,"flags":["merged_cut"]}
[null,null,null,null,null,null,null,null,null,null,null,null,null,null,null,null,null,null,null,null,null,null,null,null,null,null,null,"DIRECCION - PROGRAMA  APS \nSUBSECRETARIA DE MEDICINA SOCIAL\nRONDA N°: 192   AÑO:_2025__",null,null,null,null,null,null,null,null,null,null,null,null,null,null,null,null,null,null,null,null,null,null,null,null,null,null,"1r","2r","3r",null,"4r",null,"T",null,null,null,null,null,null,null,null,null,null,null,null,null,null,null,null,null,null,null,"Informe y orden de Ronda: ",6,null,null,null,null,2]
[null,null,null,null,null,null,null,"Area Operativa N°: ",4,null,null,null,null,null,"Nombre: ","MORILLO",null,null,null,null,null,null,null,null,null,null,null,null,null,null,null,null,null,null,null,null,null,null,null,null,null,null,null,null,null,null,"Mort. Mater. Acum. Año",null,null,null,null,null,null,null,0,{"$f":"CE41","v":0},0,null,{"$f":"CE41","v":0},null,{"$f":"SUM(BC2:BG2)","v":0},null,null,null,null,"Sector:",null,"SAN PATRICIO",null,null,null,null,null,null,null,null,null,null,null,null,null,null,null,null,null,"N°",2]
[null,null,null,null,null,null,null,null,null,null,null,null,null,null,null,null,null,null,null,null,null,null,null,null,null,null,null,null,null,null,null,null,null,null,null,null,null,null,null,null,null,null,null,null,null,null,"Mort. 0-1 año Acum Año",null,null,null,null,null,null,null,0,{"$f":"BR41+BU41+BY41","v":0},0,null,{"$f":"BR41+BU41+BY41","v":0},null,{"$f":"SUM(BC3:BG3)","v":0},null,null,null,null,null,"Etnia: ","CRIOLLO, WICHI",null,null,null,null,null,null,null,null,null,null,null,null,null,null,null,null,null,"Sector Riesgo:","si"]
[null,null,null,null,null,null,null,"Establec. Base: ","HOSPITAL MORILLO",null,null,null,null,null,null,null,null,null,null,null,null,null,null,null,null,null,null,null,null,null,null,null,null,null,null,null,null,null,null,null,null,null,null,null,null,null,"Mort. 1-4 años Acum Año",null,null,null,null,null,null,null,0,{"$f":"CC41","v":0},0,null,{"$f":"CC41","v":0},null,{"$f":"SUM(BC4:BG4)","v":0},null,null,null,null,null,null,null,null,null,null,null,null,"Desde: ","07/03/2025",null,null,null,null,null,null,null,null,"Hasta: ","05/06/2026"]
[null,null,null,null,null,null,null,null,null,null,null,null,null,null,null,null,null,null,null,null,null,null,null,null,null,null,null,null,null,null,null,null,null,null,null,null,null,null,null,null,null,null,null,null,null,null,null,null,null,null,null,null,null,null,null,null,null,null,null,null,null,null,null,null,null,null,null,null,null,null,null,null,null,null,null,null,null,null,null,"Cobertura: ","CUBIERTO"]
[null,null,null,null,null,null,null,"Sup. Intermedio: ","Miguel A. Correa",null,null,null,null,null,null,null,null,null,null,null,null,null,null,null,null,null,null,null,null,null,null,null,"Responsable A.P.S.: ","Dr. Abel Ibarra",null,null,null,null,null,null,null,null,null,null,null,null,null,null,null,null,null,null,null,null,null,null,"Agente Sanitario: ","Rafael Cardozo",null,null,null,null,null,null,null,null,null,null,null,null,null,null,null,null,"Sit. Revista: ","PLANTA PERMANENTE",null,null,null,null,null,"Reg. Horario: ","30 HS."]
[]
["A) FAMILIAS VISITADAS EN LA RONDA",null,null,null,null,null,null,null,null,null,null,null,null,null,null,null,null,null,null,null,null,null,null,null,null,null,null,null,null,null,null,null,null,null,null,null,null,null,null,null,null,null,null,null,null,null,null,"B) FACTORES DE PRIORIZACION DE VISITAS"]
["ASIGNADAS",null,null,"VISITADAS",null,null,"TOTAL\nVISITAS",null,"NO VISITADAS",null,null,null,null,null,null,null,null,"FLIAS ORIG.",null,"FLIAS. URB.",null,"FLIAS. PERIURB",null,null,"FLIAS. RURALES",null,"GOLON\nMIGRANTES",null,null,null,null,"FLIAS. CON PL. SOCIALES",null,null,null,null,null,"PRODUCCION\nFAMILIAR",null,null,null,null,null,null,null,null,null,1,null,2,null,3,null,null,4,null,5,null,6,null,7,null,null,8,null,null,9,null,null,10,null,null,null,11,null,null,12,null,null,null,13,null,null,14,null,null,15]
[null,null,null,null,null,null,null,null,"RECHAZO TOTAL",null,"AUSEN\n-TE",null,"NO VISITADAS",null,"TOT NO VISIT.",null,null,null,null,null,null,null,null,null,null,null,"HACIA\nEL AO",null,"DESDE\nEL AO",null,null,null,null,null,null,null,null,"HUERTA",null,null,null,"GRANJA",null,null,null,null,null,0,null,0,null,0,null,null,0,null,0,null,0,null,0,null,null,0,null,null,0,null,null,"Total",null,null,null,"Tot",null,"Trat","Tot.",null,null,"Trat.","Tot.","Trat.",null,"Tot.",null,"Trat","Total"]
[null,null,null,null,null,null,null,null,null,null,0,null,null,null,null,null,null,null,null,null,null,null,null,null,null,null,null,null,null,null,null,null,null,null,null,null,null,null,null,null,null,null,null,null,null,null,null,null,null,null,null,null,null,null,null,null,null,null,null,null,null,null,null,null,null,null,null,null,null,0,null,null,null,0,null,0,0,null,null,0,0,0,null,0,null,0,0]
[0,null,null,0,null,null,0,null,0,null,0,null,0,null,{"$f":"M12+K12+I12","v":0},null,null,0,null,0,null,0,null,null,0,null,0,null,0,null,null,0,null,null,null,null,null,0,null,null,null,0,null,null,null,null,null,"C) VISITAS A FLIAS. PRIORIZADAS",null,null,null,null,null,null,null,null,null,null,null,null,null,null,null,null,null,null,null,null,null,"D) SUPERV. A FLIAS. "]
[null,null,null,null,null,null,null,null,null,null,null,null,null,null,null,null,null,null,null,null,null,null,null,null,null,null,null,null,null,null,null,null,null,null,null,null,null,null,null,null,null,null,null,null,null,null,null,"PRIORIDAD",null,null,null,null,null,1,null,null,2,null,null,null,3,null,null,"Total",null,null,null,null,null,"PRIORIDAD",null,null,null,null,null,3,null,null,null,2,null,1,null,null,null,"TOTAL"]
[null,null,null,null,null,null,null,null,null,null,null,null,null,null,null,null,null,null,null,null,null,null,null,null,null,null,null,null,null,null,null,null,null,null,null,null,null,null,null,null,null,null,null,null,null,null,null,"N° FAMILIAS",null,null,null,null,null,0,null,null,0,null,null,null,0,null,null,{"$f":"SUM(BB14:BI14)","v":0},null,null,null,null,null,"INTERMEDIA",null,null,null,null,null,0,null,null,null,0,null,0,null,null,null,{"$f":"SUM(BX14:CD14)","v":0}]
[null,null,null,null,null,null,null,null,null,null,null,null,null,null,null,null,null,null,null,null,null,null,null,null,null,null,null,null,null,null,null,null,null,null,null,null,null,null,null,null,null,null,null,null,null,null,null,"VISITAS",null,null,null,null,null,0,null,null,0,null,null,null,0,null,null,{"$f":"SUM(BB15:BI15)","v":0},null,null,null,null,null,"PROFESIONAL",null,null,null,null,null,0,null,null,null,0,null,0,null,null,null,{"$f":"SUM(BX15:CB15)","v":0}]
["E) EDAD FERTIL",null,null,null,null,"F) EMBARAZADAS",null,null,null,null,null,null,"G) PARTOS",null,null,null,null,null,null,null,"H) R.N. EN LA RONDA",null,null,null,null,null,null,null,null,"I) EVALUACION ANTROPOMETRICA",null,null,null,null,null,null,null,null,null,null,null,null,null,null,null,null,null,null,null,null,null,null,null,null,null,null,null,null,null,null,null,null,null,null,null,null,"NIÑ MBP/BP/RBP CTRL. INT.",null,null,null,null,null,null,null,null,null,"LACT. MATERNA"]
["PAP",null,null,0,null,"CAPT. 1er TRIMESTRE","ESP EN EL AÑO","ACUMULADAS","NUEVAS\nRONDA","TOTAL","DE RIESGO","<19 Años","TOTAL",null,"HOSPITALARIOS",null,"DOMIC.",null,"N° PUERPERAS",null,"NACIDOS VIVOS",null,"P AL NACER",null,null,null,null,null,null,"NIÑOS CONTROLADOS",null,null,null,null,null,null,null,null,null,null,null,null,null,null,null,null,null,null,null,null,null,null,null,null,null,null,null,null,null,null,null,null,null,null,null,null,"MELAN",null,"MED",null,"ENF.",null,"LAB",null,"NUTR",null,"< 6 M EN LA RONDA",null,null,null,{"$f":"CC20+CC22+CC23","v":0}]
[null,null,null,null,null,null,null,null,null,null,null,null,null,null,null,null,"DOM","ASIS",null,null,null,null,"ALTO PESO","ADEC",null,"BAJO PESO",null,"MB\nPESO",null,"EDAD",null,null,"A CONTROLAR",null,null,"ADECUADO",null,"BP\nBAJO PESO",null,"MBP\nMUY B. PESO",null,"ALTO PESO",null,"RIESGO",null,null,null,"RECUPERADOS",null,null,null,"TALLA / EDAD",null,null,null,null,"NUEVOS\nEPISODIOS",null,"PERDIDOS",null,null,null,null,"FALLECIDOS\nC/ANTEC. ANTROPOM."]
[]
["Antic.",null,null,0,null,0,{"$f":"IF(ISERROR(((CC92*1.8)/100)),0,(((CC92*1.8)/100)))","v":0},0,0,{"$f":"SUM(F23:L23)","v":0},0,0,{"$f":"O20+Q20+R20","v":0},null,0,null,0,0,0,null,{"$f":"W20+X20+Z20+AB20","v":0},null,0,0,null,0,null,0,null,null,null,null,null,null,null,null,null,null,null,null,null,null,null,"BP",null,"AP",null,"BP",null,null,"AP","BT",null,"MBT",null,"RGO\nBT",null,null,"BP\nMBP",null,null,"A.P.",null,null,null,null,0,null,0,null,0,null,0,null,0,null,"EXCLUSIVO",null,null,null,0]
[null,null,null,null,null,"CONTROLES",null,null,null,null,null,null," ",null,null,null,null,null,null,null,"PREMATUROS",null,null,null,"PESQUISA"]
["Aborto",null,null,0,null,"MELON",null,"MEL","MED","ENF","LAB","S/C","PUERP",null,null,null,"R.N.",null,null,null,null,null,null,null,null,null,null,null,null,"< 2 años",null,null,{"$f":"A27+C27+D27+F27+G27+H27","v":0},null,null,0,null,0,null,0,null,0,null,0,null,0,null,0,null,null,0,0,null,0,null,0,0,null,0,null,null,0,null,0,null,null,"CONTROLES EN DOMIC. NIÑO BP o MBP",null,null,null,null,null,null,null,0,null,"MIXTA",null,null,null,0]
[null,null,null,null,null,0,null,0,0,0,0,0,0,null,null,null,0,null,null,null,0,null,null,null,0,null,null,null,null,"2 a 6 años",null,null,{"$f":"I27+J27+K27+L27+M27+O27+P27+R27","v":0},null,null,0,null,0,null,0,null,0,null,0,null,0,null,0,null,null,0,0,null,0,null,0,0,null,0,null,null,0,null,0,null,null,null,null,null,null,null,null,null,null,null,null,"ARTIF",null,null,null,0]
["J) DATOS DE POBLACION"]
["0 a 5m",null,null,"6 a 11m",null,null,"1 AÑO",null,"2 AÑOS",null,"3 AÑOS",null,"4 AÑOS",null,null,"5 AÑOS",null,null,"6 AÑOS",null,null,"7 A 9 AÑOS",null,null,null,"10 AÑOS",null,"11 AÑOS",null,null,"12 A 14",null,null,null,null,null,"15 A 19",null,null,"20 A 24",null,null,null,"25 A 29",null,null,null,"30 A 34",null,null,null,"35 A 39",null,null,null,"40 A 44",null,null,null,null,"45 A 49",null,null,null,"50 A 54",null,null,null,"55 A 59",null,null,null,"60 A 64",null,null,null,"65 y +",null,null,null,"TOTAL",null,null,null,null,"MUJERES\n10 A 49","O. SOCIAL",null,"INDOCUM"]
["M",null,"F","M",null,"F","M","F","M","F","M","F","M",null,"F","M",null,"F","M",null,"F","M",null,"F",null,"M","F","M",null,"F","M",null,null,"F",null,null,"M","F",null,"M",null,"F",null,"M",null,null,"F","M",null,null,"F","M",null,"F",null,"M",null,null,"F",null,"M",null,"F",null,"M",null,"F",null,"M",null,"F",null,"M",null,"F",null,"M",null,null,"F","M",null,"F"]
[0,null,0,0,null,0,0,0,0,0,0,0,0,null,0,0,null,0,0,null,0,0,null,0,null,0,0,0,null,0,0,null,null,0,null,null,0,0,null,0,null,0,null,0,null,null,0,0,null,null,0,0,null,0,null,0,null,null,0,null,0,null,0,null,0,null,0,null,0,null,0,null,0,null,0,null,0,null,null,0,{"$f":"BY27+BU27+BQ27+BM27+BI27+BD27+AZ27+AV27+AR27+AN27+AK27+AE27+AB27+Z27+V27+S27+P27+M27+K27+I27+G27+D27+A27","v":0},null,{"$f":"CB27+BW27+BS27+BO27+BK27+BG27+BB27+AY27+AU27+AP27+AL27+AH27+AD27+AA27+X27+U27+R27+O27+L27+J27+H27+F27+C27","v":0},null,null,{"$f":"BK27+BG27+BB27+AY27+AU27+AP27+AL27+AH27+AD27+AA27","v":0},0,null,0]
[{"$f":"A27+C27","v":0},null,null,{"$f":"D27+F27","v":0},null,null,{"$f":"G27+H27","v":0},null,{"$f":"I27+J27","v":0},null,{"$f":"K27+L27","v":0},null,{"$f":"M27+O27","v":0},null,null,{"$f":"P27+R27","v":0},null,null,{"$f":"S27+U27","v":0},null,null,{"$f":"V27+X27","v":0},null,null,null,{"$f":"Z27+AA27","v":0},null,{"$f":"AB27+AD27","v":0},null,null,{"$f":"AE27+AH27","v":0},null,null,null,null,null,{"$f":"AL27+AK27","v":0},null,null,{"$f":"AN27+AP27","v":0},null,null,null,{"$f":"AR27+AU27","v":0},null,null,null,{"$f":"AV27+AY27","v":0},null,null,null,{"$f":"AZ27+BB27","v":0},null,null,null,{"$f":"BD27+BG27","v":0},null,null,null,null,{"$f":"BI27+BK27","v":0},null,null,null,{"$f":"BM27+BO27","v":0},null,null,null,{"$f":"BQ27+BS27","v":0},null,null,null,{"$f":"BU27+BW27","v":0},null,null,null,{"$f":"BY27+CB27","v":0},null,null,null,{"$f":"CC27+CE27","v":0}]
["K) TUBERCULOSIS ",null,null,null,null,null,null,null,null,null,null,null,null,null,null," CHAGAS ",null,null,null,null,null,"L) PERSONAS CON ENF. CRONICAS",null,null,null,null,null,null,null,null,null,null,null,"M) OBSERVACIONES"]
["Coef. Sint.Resp.: ",null,null,"MUESTRAS",null,null,null,null,"TRATAM. TBC",null,null,null,null,null,null,"TRATAMIENTOS CHAGAS",null,null,null,null,null,"PERSONAS CON",null,null,null,null,null,"TOTAL",null,null,"EN TRAT.",null,null," "]
[{"$f":"Control!H9","v":8},null,null,"DIAGNOSTICOS",null,null,"CONTROL",null,"Total",null,"TAES",null," ABANDONO",null,null,"INICIO ",null,null,0,null,null,"DIABETES",null,null,null,null,null,0,null,null,0]
[4,null,null,"Tot",null,"(+)","Tot","(+)",0,null,0,null,0,null,null,"FINALIZACION ",null,null,0,null,null,"HIPERTENSION \nARTERIAL",null,null,null,null,null,0,null,null,0]
[{"$f":"IF(ISERROR(((AK91+AL91+AN91+AP91+AR91+AU91+AV91+AY91+AZ91+BB91+BD91+BG91+BI91+BK91+BM91+BO91+BQ91+BS91+BU91+BW91+BY91+CB91)*0.2)*A31/100),0,(((AK91+AL91+AN91+AP91+AR91+AU91+AV91+AY91+AZ91+BB91+BD91+BG91+BI91+BK91+BM91+BO91+BQ91+BS91+BU91+BW91+BY91+CB91)*0.2)*A31/100))","v":0},null,null,0,null,0,0,0,"QUIMIO Total",null,0,null,null,null,null,null,null,null,null,null,null,"PERSONAS CON OTRAS ENF. CRONICAS AL CUIDADO DE NIÑOS",null,null,null,null,null,0,null,null,0]
["SINT. DETEC.",null,null,"CONTACTO",null,null,null,null,"CTRL. MEDICO",null,null,null,"FINALIZAD0",null,null,"ABANDONO ",null,null,0]
[0,null,null,"< 14a",null,null,"> 15a",null,"Pcte/Rda",null,"A Cont",null,0,null,null,null,null,null,null,null,null,"ADULTOS MAYORES EN SITUACION DE RIESGO",null,null,null,null,null,0]
[null,null,null,0,null,null,0,null,0,null,0]
["N) DERIVACIONES",null,null,null,null,null,null,null,null,null,null,null,null,null,null,null,null,null,null,null,null,null,null,null,null,null,null,null,null,null,null,null,null,null,null,null,null,null,null,null,null,"Ñ) VIVIENDA Y SANEAMIENTO",null,null,null,null,null,null,null,null,null,null,null,null,null,null,null,null,null,null,null,null,null,null,null,null,null,null,null,"O) DEFUNCIONES EN LA RONDA"]
[null,null,null,null,null,null,null,null,null,null,null,null,null,null,null,null,null,null,null,null,null,null,null,null,null,null,null,null,null,null,null,null,null,null,null,null,null,null,null,null,null,"TRAT. AGUA",null,null,null,null,null,"DISP SANITARIA EXCRETAS",null,null,null,null,null,null,null,null,null,null,null,"TRATAM. SANIT BASURA",null,null,null,null,null,null,null,null,null,"MENORES 1 AÑO",null,null,null,null,null,null,null,null,null,null,"1 a 4 AÑOS",null,"MATERNA",null,null,null,"OTRAS"]
["EMB",null,null,null,"RN",null,null,null,"PUERP",null,null,null,"Menores de 6 años",null,null,null,null,null,null,null,"E.\nCRONICAS",null,"PAP",null,"CHAGAS",null,null,null,"TBC",null,null,null,"PSICOSOC",null,null,null,"TOTAL\nDERIVACIONES",null,null,null,null,"RED",null,"EN\nVIV",null,null,"S/T","ARRASTRE",null,null,null,null,null,"LETRINA",null,null,null,"S/T",null,"REC. DOMIC.",null,null,"POZO BASURA",null,null,null,"S/T",null,null,"<7d",null,null,"7 a 28d",null,null,null,"29d a 11 m"]
[null,null,null,null,null,null,null,null,null,null,null,null,"BP- MBP",null,"RGO BP",null,"Resp",null,"Diarr",null,null,null,null,null,null,null,null,null,null,null,null,null,null,null,null,null,null,null,null,null,null,null,null,null,null,null,null,"CLOACAS",null,"PC-CT",null,"PC-ST",null,"CT",null,"ST"]
["Env",null,"Rec",null,"Env",null,"Rec",null,"Env",null,"Rec",null,"Env","Rec","Env","Rec","Env","Rec","Env","Rec","Env","Rec","Env","Rec","Env",null,"Rec",null,"Env",null,"Rec",null,"Env",null,"Rec",null,"ENV",null,null,"Rec",null,0,null,0,null,null,0,0,null,0,null,0,null,0,null,0,null,0,null,0,null,null,0,null,null,null,0,null,null,0,null,null,0,null,null,null,0,null,null,null,0,null,0,null,null,null,0]
[null,null,null,null,null,null,null,null,null,null,null,null,null,null,null,null,null,null,null,null,null,null,null,null,null,null,null,null,null,null,null,null,null,null,null,null,null,null,null,null,null,"CASAS ",null,null,null,null,null,null,null,null,null,null,null,"CHAGAS",null,null,null,null,null,null,null,null,null,null,null,"DENGUE CHIKUNGUNYA",null,null,null,null,null,null,null,null,null,null,null,"P) PROM. SALUD"]
[0,null,0,null,0,null,0,null,0,null,0,null,0,0,0,0,0,0,0,0,0,0,0,0,0,null,0,null,0,null,0,null,0,null,0,null,{"$f":"AG43+AC43+Y43+W43+U43+S43+Q43+O43+M43+I43+E43+A43","v":0},null,null,{"$f":"AI43+AE43+AA43+X43+V43+T43+R43+P43+N43+K43+G43+C43","v":0},null,"ASIGNADAS",null,null,null,null,"VISITADAS",null,null,"VACIAS",null,"DESTRUIDAS",null,"EVALUADAS",null,null,"POSITIVAS",null,null,null,null,"TRATADAS",null,null,null,"EVALUADAS",null,null,null,"POSITIVAS",null,null,null,"TRATADAS",null,null,null,"PLANIFICADAS \nEN COMUNIDAD",null,null,null,null,null,null,null,0]
[]
[null,null,null,null,null,null,null,null,null,null,null,null,null,null,null,null,null,null,null,null,null,null,null,null,null,null,null,null,null,null,null,null,null,null,null,null,null,null,null,null,null,0,null,null,null,null,0,null,null,0,null,0,null,0,null,null,0,null,null,null,null,0,null,null,null,0,null,null,null,0,null,null,null,0,null,null,null,"REALIZADAS ",null,null,null,null,null,null,null,0]
["Q) INDICADORES"]
["DE ESTRUCTURA",null,null,null,null,null,"SI","NO","DE PRODUCCION",null,null,null,null,null,"%","META",null," DE INMUNIZACIONES",null,null,null,null,null,null,null,null,null,null,null,null,null,null,null,null," DE INMUNIZACIONES",null,null,null,null,null,null,null,null,null,null,null,null,null,null,null,null,null,null,null,null,null,null,null,null,null,null," DE RESULTADO",null,null,null,null,null,null,null,null,"%",null,"META",null,null," DE RESULTADO",null,null,null,null,null,null,null,null,null,"%",null,"META RDA"]
["Formularios",null,null,null,null,null,0,0,"Cobertura a Familias",null,null,null,null,null,{"$f":"IF(ISERROR(D12/A12),0,(D12/A12)*100)","v":0},100,null,"VACUNA",null,null,null,null,"P. REF",null,"1r","2r","3r","4r",null,"T","%",null,"META",null,"VACUNA",null,null,null,null,null,null,null,null,null,"P. REF",null,null,"1r",null,null,"2r","3r",null,null,"4r","T",null,"%",null,"META",null,"Ed Fértil c/Anticoncepción",null,null,null,null,null,null,null,null,{"$f":"IF(ISERROR(D20/CH27),0,(D20/CH27)*100)","v":0},null,null,null,null,"Niños 2 a 5 Recup BP",null,null,null,null,null,null,null,null,null,{"$f":"IF(ISERROR(AV23/K80),0,(AV23/K80)*100)","v":0},null,100]
["Equipo",null,null,null,null,null,0,0,"Niños < 2 años Controlados",null,null,null,null,null,{"$f":"IF(ISERROR(((AJ22+AL22+AN22+AP22)/(A28+D28+G28))),0,(((AJ22+AL22+AN22+AP22)/(A28+D28+G28)))*100)","v":0},100,null,"BCG RN",null,null,null,null,{"$f":"U20","v":0},null,4,0,0,0,null,{"$f":"SUM(Y49:AB49)","v":4},{"$f":"IF(ISERROR(Z49/W49),0,(Z49/W49)*100)","v":0},null,100,null,"2 Ref. Varicela Ingreso Esc",null,null,null,null,null,null,null,null,null,9,null,null,0,null,null,0,0,null,null,0,{"$f":"SUM(AV49:BC49)","v":0},null,{"$f":"IF(ISERROR(AY49/AS49),0,(AY49/AS49)*100)","v":0},null,25,null,"PAP",null,null,null,null,null,null,null,null,{"$f":"IF(ISERROR(D17/CH27),0,(D17/CH27)*100)","v":0},null,null,null,null,"Niños 2 a 5 Recup AP",null,null,null,null,null,null,null,null,null,{"$f":"IF(ISERROR(AY23/K82),0,(AY23/K82)*100)","v":0},null,100]
["Combustible",null,null,null,null,null,0,0,"Niños  (2 a 5 años) Controlados",null,null,null,null,null,{"$f":"IF(ISERROR(((AJ23+AL23+AN23+AP23)/(I28+K28+M28+P28))),0,(((AJ23+AL23+AN23+AP23)/(I28+K28+M28+P28)))*100)","v":0},100,null,"Hepatitis B RN","Hepatitis B RN",null,"Hepatitis B RN","Hepatitis B RN",null,null,4,0,0,0,null,{"$f":"SUM(Y50:AB50)","v":4},{"$f":"IF(ISERROR(Z50/W49),0,(Z50/W49)*100)","v":0},null,null,null,"2° Ref. Antipolio Ingreso Escolar",null,null,null,null,null,null,null,null,null,null,null,null,0,null,null,0,0,null,null,0,{"$f":"SUM(AV50:BC50)","v":0},null,{"$f":"IF(ISERROR(AY50/AS49),0,(AY50/AS49)*100)","v":0},null,null,null,"Embarazadas Con MELON",null,null,null,null,null,null,null,null,{"$f":"IF(ISERROR(F23/J20),0,(F23/J20)*100)","v":0},null,80,null,null,"Niños 6 meses con LME",null,null,null,null,null,null,null,null,null,{"$f":"IF(ISERROR(CC20/CC17),0,(CC20/CC17)*100)","v":0},null,80]
[" DE DIAGNOSTICO",null,null,null,null,null,null,"%","Conc. Vis. Flias Prio",null,null,null,null,null,{"$f":"IF(ISERROR((BB15+BE15)/(BB14+BE14)),0,((BB15+BE15)/(BB14+BE14)))","v":0},25,null,"2° Neumococo < 1a","3ª SOT/Salk < 1a",null,"3ª SOT/Salk < 1a","3ª SOT/Salk < 1a",{"$f":"A91+C91+D91+F91","v":0},null,4,0,0,0,null,{"$f":"SUM(Y51:AB51)","v":4},{"$f":"IF(ISERROR(Z51/W51),0,(Z51/W51)*100)","v":0},null,100,null,"2° Ref. DPT Ingreso Escolar",null,null,null,null,null,null,null,null,null,null,null,null,0,null,null,0,0,null,null,0,{"$f":"SUM(AV51:BC51)","v":0},null,{"$f":"IF(ISERROR(AY51/AS49),0,(AY51/AS49)*100)","v":0},null,null,null,"Partos Hospitalarios",null,null,null,null,null,null,null,null,{"$f":"IF(ISERROR(O20/M20),0,(O20/M20)*100)","v":0},null,100]
["Flias Priorizadas 3 + 2:",null,null,null,null,null,null,{"$f":"IF(ISERROR((BB14+BE14)/D12),0,(BB14+BE14)/D12*100)","v":0},"Conc.C.Dom Niños Bp/MBP",null,null,null,null,null,{"$f":"IF(ISERROR(BW22/(AL22+AN22+AL23+AN23)),0,(BW22/(AL22+AN22+AL23+AN23)))","v":0},3,null,"2° Rotavirus <1 a","3º Pentavalente <1 a",null,"3º Pentavalente <1 a","3º Pentavalente <1 a",null,null,3,0,0,0,null,{"$f":"SUM(Y52:AB52)","v":3},{"$f":"IF(ISERROR(Z52/W51),0,(Z52/W51)*100)","v":0},null,null,null,"2° TV Ingreso Escolar",null,null,null,null,null,null,null,null,null,null,null,null,0,null,null,0,0,null,null,0,{"$f":"SUM(AV52:BC52)","v":0},null,{"$f":"IF(ISERROR(AY52/AS49),0,(AY52/AS49)*100)","v":0},null,100,null,"Conc Control Médico a RN",null,null,null,null,null,null,null,null,{"$f":"IF(ISERROR(Q23/M20),0,(Q23/M20))","v":0},null,4,null,null,"% Niños BP MBP y RBP con MELaN",null,null,null,null,null,null,null,null,null,{"$f":"IF(ISERROR(BO20/(AL22+AN22+AR22+AL23+AN23+AR23)),0,(BO20/(AL22+AN22+AR22+AL23+AN23+AR23))*100)","v":0},null,100]
["Flias Urbanas",null,null,null,null,null,null,{"$f":"IF(ISERROR(T12/D12),0,(T12/D12)*100)","v":0},"Rel. Muestra/Sint Resp.",null,null,null,null,null,{"$f":"IF(ISERROR(D33/A35),0,(D33/A35))","v":0},2,null,"2° Meningococo < 1a",null,null,null,null,null,null,2,0,0,0,null,{"$f":"SUM(Y53:AB53)","v":2},{"$f":"IF(ISERROR(Z53/W51),0,(Z53/W51)*100)","v":0},null,null,null,"dTpa 11 años",null,null,null,null,null,null,null,null,null,5,null,null,0,null,null,0,0,null,null,0,{"$f":"SUM(AV53:BC53)","v":0},null,{"$f":"IF(ISERROR(AY53/AS53),0,(AY53/AS53)*100)","v":0},null,null,null,"Conc Control Méd. a puérpera",null,null,null,null,null,null,null,null,{"$f":"IF(ISERROR(M23/S20),0,(M23/S20))","v":0},null,4,null,null,"Sint Resp Detect. Seg zona",null,null,null,null,null,null,null,null,null,{"$f":"IF(ISERROR((A35*100)/(((20*(AK28+AN28+AR28+AV28+AZ28+BD28+BI28+BM28+BQ28+BU28+BY28))/100)*A31)),0,(A35*100)/((((20*(AK28+AN28+AR28+AV28+AZ28+BD28+BI28+BM28+BQ28+BU28+BY28))/100)*A31)/100))","v":0},null,"S/Z"]
["Flias Periurbanas",null,null,null,null,null,null,{"$f":"IF(ISERROR(V12/D12),0,(V12/D12)*100)","v":0},"Casas Evaluadas Chagas",null,null,null,null,null,{"$f":"IF(ISERROR(BB45/AU45),0,(BB45/AU45)*100)","v":0},100,null,"3° Antipolio < 1 año","2ª Rotavirus < 1 año",null,"2ª Rotavirus < 1 año","2ª Rotavirus < 1 año",null,null,0,0,0,0,null,{"$f":"SUM(Y54:AB54)","v":0},{"$f":"IF(ISERROR(Z54/W51),0,(Z54/W51)*100)","v":0},null,null,null,"U.D. Meningococo",null,null,null,null,null,null,null,null,null,null,null,null,0,null,null,0,0,null,null,0,{"$f":"SUM(AV54:BC54)","v":0},null,{"$f":"IF(ISERROR(AY54/AS53),0,(AY54/AS53)*100)","v":0},null,"95% AL 1° SEM",null,"RN con Pesquisa",null,null,null,null,null,null,null,null,{"$f":"IF(ISERROR(Y23/U20),0,(Y23/U20)*100)","v":0},null,100,null,null,"Pacientes TBC con Control Médico",null,null,null,null,null,null,null,null,null,{"$f":"IF(ISERROR(I36/I32),0,(I36/I32)*100)","v":0},null,100]
["Flias Rurales",null,null,null,null,null,null,{"$f":"IF(ISERROR(Y12/D12),0,(Y12/D12)*100)","v":0},"Casas Tratadas Chagas",null,null,null,null,null,{"$f":"IF(ISERROR(BJ45/BE45),0,(BJ45/BE45)*100)","v":0},100,null,"3° Pentavalente <1 año","TV 1 año",null,"TV 1 año","TV 1 año",null,null,0,0,0,0,null,{"$f":"SUM(Y55:AB55)","v":0},{"$f":"IF(ISERROR(Z55/W51),0,(Z55/W51)*100)","v":0},null,null,null,"1° HPV Niñas cumplen 11 a en año en curso",null,null,null,null,null,null,null,null,null,6,null,null,0,null,null,0,0,null,null,0,{"$f":"SUM(AV55:BC55)","v":0},null,{"$f":"IF(ISERROR(AY55/AS55),0,(AY55/AS55)*100)","v":0},null,null,null,"Derivaciones Enviadas/Recibidas",null,null,null,null,null,null,null,null,{"$f":"IF(ISERROR(AN43/AK43),0,(AN43/AK43)*100)","v":0},null,100,null,null,"Contactos TBC Controlados",null,null,null,null,null,null,null,null,null,{"$f":"IF(ISERROR(K36/(D36+G36)),0,(K36/(D36+G36)))*100","v":0},null,100]
["Flias Originarias",null,null,null,null,null,null,{"$f":"IF(ISERROR(R12/D12),0,(R12/D12)*100)","v":0},"Casas Evaluadas Dengue",null,null,null,null,null,{"$f":"IF(ISERROR(BN45/AU45),0,(BN45/AU45)*100)","v":0},100,null,"1° TV","A HA 1 año",null,"A HA 1 año","A HA 1 año",{"$f":"G91+H91","v":0},null,1,0,0,0,null,{"$f":"SUM(Y56:AB56)","v":1},{"$f":"IF(ISERROR(Z56/W56),0,(Z56/W56)*100)","v":0},null,100,null,"1° HPV Niños cumplen 11 a en año en curso",25,25,null,null,null,null,null,null,null,7,null,null,0,null,null,0,0,null,null,0,{"$f":"SUM(AV56:BC56)","v":0},null,{"$f":"IF(ISERROR(AY56/AS56),0,(AY56/AS56)*100)","v":0},null,"95% AL 1° SEM",null,"Niños < 2 a Riesgo BP",null,null,null,null,null,null,null,null,{"$f":"IF(ISERROR(AR22/AJ22),0,(AR22/AJ22)*100)","v":0},null,null,null,null,"TAES de TBC",null,null,null,null,null,null,null,null,null,{"$f":"IF(ISERROR(K32/I32),0,(K32/I32)*100)","v":0},null,100]
["Flias Migr. desde AO",null,null,null,null,null,null,{"$f":"IF(ISERROR(AC12/A12),0,(AC12/A12)*100)","v":0},"Casas Tratadas Dengue",null,null,null,null,null,{"$f":"IF(ISERROR(BV45/BR45),0,(BV45/BR45)*100)","v":0},100,null,"2° TV","A HA 1 año",null,"A HA 1 año","A HA 1 año",null,null,0,0,0,0,null,{"$f":"SUM(Y57:AB57)","v":0},{"$f":"IF(ISERROR(Z57/W56),0,(Z57/W56)*100)","v":0},null,null,null,"Emb. con dTpa",null,null,null,null,null,null,null,null,null,2,null,null,0,null,null,0,0,null,null,0,{"$f":"SUM(AV57:BC57)","v":0},null,{"$f":"IF(ISERROR(AY57/AS57),0,(AY57/AS57)*100)","v":0},null,null,null,"Niños < 2 a Riesgo AP",null,null,null,null,null,null,null,null,{"$f":"IF(ISERROR(AT22/AJ22),0,(AT22/AJ22)*100)","v":0},null,null,null,null,"Ptes. con tratamiento por Chagas",null,null,null,null,null,null,null,null,null,{"$f":"S31","v":0}]
["Flias Migr. hacia el AO",null,null,null,null,null,null,{"$f":"IF(ISERROR(AA12/A12),0,(AA12/A12)*100)","v":0},"Superv Int. a la Familia",null,null,null,null,null,{"$f":"IF(ISERROR((CH14*100)/BL14),0,((CH14*100)/BL14))","v":0},20,null,"Unica Dosis A HA",null,null,null,null,null,null,1,0,0,0,null,{"$f":"SUM(Y58:AB58)","v":1},{"$f":"IF(ISERROR(Z58/W56),0,(Z58/W56)*100)","v":0},null,null,null,"Emb. con Vac Sinsicial",null,null,null,null,null,null,null,null,null,null,null,null,0,null,null,0,0,null,null,0,{"$f":"SUM(AV58:BC58)","v":0},null,{"$f":"IF(ISERROR(AY58/AS57),0,(AY58/AS57)*100)","v":0},null,100,null,"Niños < 2 Recup BP",null,null,null,null,null,null,null,null,{"$f":"IF(ISERROR(AV22/K79),0,(AV22/K79)*100)","v":0},null,100,null,null,"Casas positivas Chagas",null,null,null,null,null,null,null,null,null,{"$f":"IF(ISERROR(BE45/BB45),0,(BE45/BB45)*100)","v":0},null,0]
["Flias con planes sociales",null,null,null,null,null,null,{"$f":"IF(ISERROR(AF12/D12),0,(AF12/D12)*100)","v":0},"Superv Prof. Flias Prio (3v)",null,null,null,null,null,{"$f":"IF(ISERROR(CH15/(BB14+BE14)),0,(CH15/(BB14+BE14))*100)","v":0},70,null,"Ref Neumococo 1 año","Ref Neumoc 1 año",null,"Ref Neumoc 1 año","Ref Neumoc 1 año",null,null,1,0,0,0,null,{"$f":"SUM(Y59:AB59)","v":1},{"$f":"IF(ISERROR(Z59/W56),0,(Z59/W56)*100)","v":0},null,null,null,"dT  Vigente > 65 a",null,null,null,null,null,null,null,null,null,22,null,null,0,null,null,0,0,null,null,0,{"$f":"SUM(AV59:BC59)","v":0},null,{"$f":"IF(ISERROR(AY59/AS59),0,(AY59/AS59)*100)","v":0},null,100,null,"Niños < 2 Recup AP",null,null,null,null,null,null,null,null,{"$f":"IF(ISERROR(AY22/K81),0,(AY22/K81)*100)","v":0},null,100,null,null,"Casas Positivas Aedes",null,null,null,null,null,null,null,null,null,{"$f":"IF(ISERROR(BR45/BN45),0,(BR45/BN45)*100)","v":0},null," "]
[null,null,null,null,null,null,null,null,"% Activ Prom.Salud Comunitarias",null,null,null,null,null,{"$f":"IF(ISERROR(CH45/CH43),0,(CH45/CH43)*100)","v":0},100,null,"Ref. Meningococo 1 año","Ref Cuádruple 1 año",null,"Ref Cuádruple 1 año","Ref Cuádruple 1 año",null,null,1,0,0,0,null,{"$f":"SUM(Y60:AB60)","v":1},{"$f":"IF(ISERROR(Z60/W56),0,(Z60/W56)*100)","v":0},null,null,null,"Neumo 20 > 65 años",null,null,null,null,null,null,null,null,null,null,null,null,0,null,null,0,0,null,null,0,{"$f":"SUM(AV60:BC60)","v":0},null,{"$f":"IF(ISERROR(AY60/AS59),0,(AY60/AS59)*100)","v":0},null,null,null,"Niños 2 a 5 Riesgo BP",null,null,null,null,null,null,null,null,{"$f":"IF(ISERROR(AR23/AJ23),0,(AR23/AJ23)*100)","v":0},null,null,null,null,"UROCS 1/SEC",null,null,null,null,null,null,null,null,null,0,null,"1/SEC"]
["Flias. c/Antec Mort Mat Inf",null,null,null,null,null,null,{"$f":"IF(ISERROR(AV10/D12),0,(AV10/D12)*100)","v":0},null,null,null,null,null,null,null,null,null,"Unica Dosis Varicela","Ref SOT 1 año",null,"Ref SOT 1 año","Ref SOT 1 año",null,null,1,0,0,0,null,{"$f":"SUM(Y61:AB61)","v":1},{"$f":"IF(ISERROR(Z61/W56),0,(Z61/W56)*100)","v":0},null,null,null,"Aplic. Cargadas a Nomivac",null,null,null,null,null,null,null,null,null,0,null,null,null,null,null,null,null,null,null,null,null,null,null,null,null,null,null,null,null,null,null,null,null,null,null,null,null,null,null,null,"Flias con Huerta",null,null,null,null,null,null,null,null,null,{"$f":"IF(ISERROR(AL12/D12),0,(AL12/D12)*100)","v":0}]
["F con 3 o más <6 años",null,null,null,null,null,null,{"$f":"IF(ISERROR(BI10/D12),0,(BI10/D12)*100)","v":0}," DE IMPACTO",null,null,null,null,"%",null,"META",null,"4° Dosis o 1° Ref. Pentavalente",null,null,null,null,null,null,0,0,0,0,null,{"$f":"SUM(Y62:AB62)","v":0},{"$f":"IF(ISERROR(Z62/W56),0,(Z62/W56)*100)","v":0},null,null,null,"Total Aplic /AS",null,null,null,null,null,null,null,null,null,0,null,null,null,null,null,null,null,null,null,null,null,null,null,null,null,null,"Niños 2 a 5 Riesgo AP",null,null,null,null,null,null,null,null,{"$f":"IF(ISERROR(AT23/AJ23),0,(AT23/AJ23)*100)","v":0},null,null,null,null,"Flias con Granja",null,null,null,null,null,null,null,null,null,{"$f":"IF(ISERROR(AP12/D12),0,(AP12/D12)*100)","v":0}]
["Flias con Hacinamiento",null,null,null,null,null,null,{"$f":"IF(ISERROR(BL10/D12),0,(BL10/D12)*100)","v":0},"Agua Seg (Trat Red + Viv)",null,null,null,null,{"$f":"IF(ISERROR((AP41+AR41)/D12),0,((AP41+AR41)/D12)*100)","v":0},null,100,null,"2° AG 6m a 24m",null,null,null,null,{"$f":"D91+F91+G91+H91","v":0},null,0,0,0,0,null,{"$f":"SUM(Y63:AB63)","v":0},{"$f":"IF(ISERROR(Z63/W63),0,(Z63/W63)*100)","v":0},null," ",null,"VAC COVID APLIC EN LA RONDA",null,null,null,null,null,null,null,null,null,0,null,null,null,null,null,null,null,null,null,null,null,null,null,null,null,null,"U) A llenar en 1° Ronda del Año"]
["Flias con Analfabet",null,null,null,null,null,null,{"$f":"IF(ISERROR(BO10/D12),0,(BO10/D12)*100)","v":0},"DSE (Arrastre y letrinas)",null,null,null,null,{"$f":"IF(ISERROR((AV41+AX41+AZ41+BB41+BD41)/D12),0,((AV41+AX41+AZ41+BB41+BD41)/D12)*100)","v":0},null,100,null,"R) PRODUCCION Y RENDIMIENTO",null,null,null,null,null,null,null,null,null,null,null,null,null,null,null,null,null,null,null,null,null,null,null,null,null,null,null,null,null,null,null,null,null,null,null,null,null,null,null,null,null,null,null,"Piso",null,null,null,null,"Techo",null,null,null,null,"Paredes",null,null,null,null,null,null,null,null,null,"Cocina",null,null,null,null,"Tenencia"]
["Flias con Suicidio",null,null,null,null,null,null,{"$f":"IF(ISERROR(BT11/D12),0,(BT11/D12)*100)","v":0},"TSB (Recolección + Pozo)",null,null,null,null,{"$f":"IF(ISERROR((BH41+BK41)/D12),0,((BH41+BK41)/D12)*100)","v":0},null,100,null,"DIAS A TRAB. /RONDA",null,null,"DIAS INCLEM CLIMAT.",null,null,"DIAS Y NROS DE ARTICULOS TOMADOS",null,null,null,"CAPACITACIONES Y OTRAS ACTIVIDADES",null,null,null,null,null,null,null,null,null,null,null,null,null,null,null,null,null,null,null,null,null,null,"DIAS TRABAJADOS\nEN TERRENO",null,null,null,null,"PROM. DIARIO DE FLIAS VISIT.",null,null,null,null,null,"Mosaico/B.",null,null,null,0,"Losa",null,null,0,null,"Ladrillo",null,null,0,null,"Madera",null,null,null,0,"Gas",null,null,0,null,"Segura",null,null,0]
["Flias c /tentativa suicidio",null,null,null,null,null,null,{"$f":"IF(ISERROR(BV11/D12),0,(BV11/D12)*100)","v":0},"Emb Adolescente",null,null,null,null,{"$f":"IF(ISERROR(L20/J20),0,(L20/J20)*100)","v":0},null,null,null,null,null,null,null,null,null,0,null,null,null,0,null,null,null,null,null,null,null,null,null,null,0,null,null,null,null,null,null,null,null,null,null,null,null,null,null,null,null,null,null,null,null,null,null,"Cemento",null,null,null,0,"Chapa\nZinc",null,null,0,null,"Bloque",null,null,0,null,"Quincho",null,null,null,0,"Leña/\nCarb",null,null,0,null,"Inseg.",null,null,0]
["Flias con Alcoholismo",null,null,null,null,null,null,{"$f":"IF(ISERROR(BY11/D12),0,(BY11/D12)*100)","v":0},"Niños <2 Bajo Peso/MBP",null,null,null,null,{"$f":"IF(ISERROR((AL22+AN22)/(AJ22+AP22+AL22+AN22)),0,((AL22+AN22)/(AJ22+AP22+AL22+AN22))*100)","v":0},null,null,null,null,null,null,null,null,null,0,null,null,null,0,null,null,null,null,null,null,null,null,null,null,0,null,null,null,null,null,null,null,null,null,null,null,null,null,null,null,null,null,null,null,null,null,null,"Tierra",null,null,null,0,"Paja/\nBarro",null,null,0,null,"Adobe",null,null,0,null,"Carton/Pl",null,null,null,0,"Otros",null,null,0,null,"Hac",null,null,0,null,null,null,5]
["Flias c/ otras Adicciones",null,null,null,null,null,null,{"$f":"IF(ISERROR(CC11/D12),0,(CC11/D12)*100)","v":0},"Niños <2 a AP",null,null,null,null,{"$f":"IF(ISERROR(AP22/(AJ22+AP22+AL22+AN22)),0,(AP22/(AJ22+AP22+AL22+AN22))*100)","v":0},null,null,null,0,null,null,0,null,null,0,null,null,null,0,null,null,null,null,null,null,null,null,null,null,0,null,null,null,null,null,null,null,null,null,null,null,0,null,null,null,null,{"$f":"IF(ISERROR(G12/AY68),0,(G12/AY68))","v":0},null,null,null,null,null,"Otros",null,null,null,0,"Otros",null,null,0,null,"Piedra",null,null,0,null,"Otro",null,null,null,0,"Helad.",null,null,0]
["Flias con VIF",null,null,null,null,null,null,{"$f":"IF(ISERROR(CF11/D12),0,(CF11/D12)*100)","v":0},"Niños < 2 baja y MBT",null,null,null,null,{"$f":"IF(ISERROR((AZ22+BB22)/(AJ22+AP22+AL22+AN22)),0,((AZ22+BB22)/(AJ22+AP22+AL22+AN22))*100)","v":0},null,null,null,"S) DETALLE DE LAS DEFUNCIONES (Todas las del Sector)",null,null,null,null,null,null,null,null,null,null,null,null,null,null,null,null,null,null,null,null,null,null,null,null,null,null,null,null,null,null,null,null,null,null,null,null,null,null,null,null,null,null,null,"Agua",null,"Corriente a Domic",null,null,"Grifo Terr",null,null,"Grifo Público",null,null,"Bomba",null,null,"Pozo",null,null,null,"Camión Aguatero / Cisterna",null,"Vertiente/Rio/Aceq",null,null,"Laguna",null,null,"Lluvia/Aljibe"]
["Flias con Diabetes",null,null,null,null,null,null,{"$f":"IF(ISERROR(AB31/D12),0,(AB31/D12)*100)","v":0},"Niños 2 a 5 Bajo Peso/MBP",null,null,null,null,{"$f":"IF(ISERROR((AL23+AN23)/(AJ23+AP23+AL23+AN23)),0,((AL23+AN23)/(AJ23+AP23+AL23+AN23))*100)","v":0},null,null,null,"APELLIDO Y NOMBRE",null,null,null,null,null,null,"DOMICILIO",null,null,null,null,null,null,null,null,"NACIMIENTO",null,null,null,null,"DEFUNCION",null,null,null,"PESO\nAL NACER",null,null,null,"CAUSA",null,null,null,null,null,null,null,null,null,"CLASIFICAC."]
["Flias con Hipertensión",null,null,null,null,null,null,{"$f":"IF(ISERROR(AB32/D12),0,(AB32/D12)*100)","v":0},"Niños 2 a 5 AP",null,null,null,null,{"$f":"IF(ISERROR(AP23/(AJ23+AP23+AL23+AN23)),0,(AP23/(AJ23+AP23+AL23+AN23))*100)","v":0}]
[]
["Personas con otras enfermedades crónicas al cuidado de niños",null,null,null,null,null,null,{"$f":"IF(ISERROR(AB33/D12),0,(AB33/D12)*100)","v":0},"Niños 2 a 5 baja y MBT",null,null,null,null,{"$f":"IF(ISERROR((AZ23+BB23)/(AJ23+AP23+AL23+AN23)),0,((AZ23+BB23)/(AJ23+AP23+AL23+AN23))*100)","v":0},null,null,null,null,null,null,null,null,null,null,null,null,null,null,null,null,null,null,null,null,null,null,null,null,null,null,null,null,null,null,null,null,null,null,null,null,null,null,null,null,null,null,null,null,null,null,null,null,null,0,null,null,0,null,null,0,null,null,0,null,null,0,null,null,null,0,null,0,null,null,0,null,null,0]
["Pers c/O Social/Pob total",null,null,null,null,null,null,{"$f":"IF(ISERROR(CI27/CC28),0,(CI27/CC28)*100)","v":0}]
[]
[]
[]
[]
["BP+MBP Ronda Anterior Men2a: ",null,null,null,null,null,null,null,null,null,0]
["BP+MBP Ronda Anterior 2 a 6a: ",null,null,null,null,null,null,null,null,null,1]
["AP Ronda Anterior Men2a: ",null,null,null,null,null,null,null,null,null,2]
["AP Ronda Anterior 2 a 6a: ",null,null,null,null,null,null,null,null,null,0]
[]
[]
[]
[]
[]
["0 a 5m",null,null,"6 a 11m",null,null,"1 AÑO",null,"2 AÑOS",null,"3 AÑOS",null,"4 AÑOS",null,null,"5 AÑOS",null,null,"6 AÑOS",null,null,"7 A 9 AÑOS",null,null,null,"10 AÑOS",null,"11 AÑOS",null,null,"12 A 14",null,null,null,null,null,"15 A 19",null,null,"20 A 24",null,null,null,"25 A 29",null,null,null,"30 A 34",null,null,null,"35 A 39",null,null,null,"40 A 44",null,null,null,null,"45 A 49",null,null,null,"50 A 54",null,null,null,"55 A 59",null,null,null,"60 A 64",null,null,null,"65 y +",null,null,null,"TOTAL",null,null,null,null,"MUJERES\n10 A 49"]
["M",null,"F","M",null,"F","M","F","M","F","M","F","M",null,"F","M",null,"F","M",null,"F","M",null,"F",null,"M","F","M",null,"F","M",null,null,"F",null,null,"M","F",null,"M",null,"F",null,"M",null,null,"F","M",null,null,"F","M",null,"F",null,"M",null,null,"F",null,"M",null,"F",null,"M",null,"F",null,"M",null,"F",null,"M",null,"F",null,"M",null,null,"F","M",null,"F"]
[0,null,0,0,null,0,0,0,0,0,0,0,0,null,0,0,null,0,0,null,0,0,null,0,null,0,0,0,null,0,0,null,null,0,null,null,0,0,null,0,null,0,null,0,null,null,0,0,null,null,0,0,null,0,null,0,null,null,0,null,0,null,0,null,0,null,0,null,0,null,0,null,0,null,0,null,0,null,null,0,{"$f":"SUM(A90,D90,G90,I90,K90,M90,P90,S90,V90,Z90,AB90,AE90,AK90,AN90,AR90,AV90,AZ90,BD90,BI90,BM90,BQ90,BU90,BY90)","v":0},null,{"$f":"SUM(C90,F90,H90,J90,L90,O90,R90,U90,X90,AA90,AD90,AH90,AL90,AP90,AU90,AY90,BB90,BG90,BK90,BO90,BS90,BW90,CB90)","v":0},null,null,{"$f":"SUM(AA90,AD90,AH90,AL90,AP90,AU90,AY90,BB90,BG90,BK90)","v":0}]
[{"$f":"SUM(A90:C90)","v":0},null,null,{"$f":"SUM(D90,F90)","v":0},null,null,{"$f":"SUM(G90,H90)","v":0},null,{"$f":"SUM(I90,J90)","v":0},null,{"$f":"SUM(K90,L90)","v":0},null,{"$f":"SUM(M90,O90)","v":0},null,null,{"$f":"SUM(P90,R90)","v":0},null,null,{"$f":"SUM(S90,U90)","v":0},null,null,{"$f":"SUM(V90,X90)","v":0},null,null,null,{"$f":"SUM(Z90,AA90)","v":0},null,{"$f":"SUM(AB90,AD90)","v":0},null,null,{"$f":"SUM(AE90,AH90)","v":0},null,null,null,null,null,{"$f":"SUM(AK90,AL90)","v":0},null,null,{"$f":"SUM(AN90,AP90)","v":0},null,null,null,{"$f":"SUM(AR90,AU90)","v":0},null,null,null,{"$f":"SUM(AV90,AY90)","v":0},null,null,null,{"$f":"SUM(AZ90,BB90)","v":0},null,null,null,{"$f":"SUM(BD90,BG90)","v":0},null,null,null,null,{"$f":"SUM(BI90,BK90)","v":0},null,null,null,{"$f":"SUM(BM90,BO90)","v":0},null,null,null,{"$f":"SUM(BQ90,BS90)","v":0},null,null,null,{"$f":"SUM(BU90,BW90)","v":0},null,null,null,{"$f":"SUM(BY90,CB90)","v":0},null,null,null,{"$f":"A91+D91+G91+I91+K91+M91+P91+S91+V91+Z91+AB91+AE91+AK91+AN91+AR91+AV91+AZ91+BD91+BI91+BM91+BQ91+BU91+BY91","v":0}]
["Mejor Población: 1° - 2019",null,null,null,null,null,null,null,null,null,null,null,null,null,null,null,null,null,null,null,null,null,null,null,null,null,null,null,null,null,null,null,null,null,null,null,null,null,null,null,null,null,null,null,null,null,null,null,null,null,null,null,null,null,null,null,null,null,null,null,null,null,null,null,null,null,null,null,null,null,null,null,null,null,null,null,null,null,null,null,{"$f":"SUM(CC91,CE91)","v":0}]
["Cobertura: 1%"]

{"sheet":"LAS PALOMAS","index":11,"n_rows":93,"n_cols":94,"rows_kept":93,"cut":false,"hidden":false,"merged":[[62,17,62,21],[62,22,62,23],[62,27,62,28],[62,30,62,31],[0,86,0,87],[1,8,1,9],[1,15,1,25],[1,46,1,53],[1,56,1,57],[1,58,1,59],[1,60,1,61],[1,67,1,84],[1,86,1,87],[0,27,3,45],[0,46,0,52],[0,56,0,57],[0,58,0,59],[0,60,0,61],[0,81,0,84],[2,46,2,53],[2,56,2,57],[2,58,2,59],[2,60,2,61],[6,0,6,89],[7,0,7,46],[7,47,7,89],[8,0,10,2],[8,3,10,5],[8,6,10,7],[8,8,8,16],[8,17,10,18],[8,19,10,20],[8,21,10,23],[4,80,4,87],[5,8,5,24],[5,33,5,46],[5,57,5,67],[5,75,5,77],[5,82,5,87],[2,67,2,79],[2,86,2,87],[3,8,3,23],[3,46,3,53],[3,56,3,57],[3,58,3,59],[3,60,3,61],[3,74,3,79],[3,84,3,87],[8,86,8,89],[9,8,10,9],[9,10,10,11],[9,12,10,13],[9,14,10,16],[9,26,10,27],[9,28,10,30],[8,66,8,68],[8,69,8,72],[8,73,8,75],[8,76,8,79],[8,80,8,82],[8,83,8,85],[8,51,8,53],[8,54,8,55],[8,56,8,57],[8,58,8,59],[8,60,8,62],[8,63,8,65],[8,24,10,25],[8,26,8,30],[8,31,10,36],[8,37,8,46],[8,47,8,48],[8,49,8,50],[9,49,10,50],[11,0,14,2],[11,3,14,5],[11,6,14,7],[11,8,14,9],[11,10,14,11],[11,12,14,13],[9,86,9,89],[10,69,10,72],[10,73,10,74],[10,76,10,78],[10,81,10,82],[10,83,10,84],[10,86,10,89],[9,66,10,68],[9,69,9,72],[9,73,9,74],[9,76,9,78],[9,81,9,82],[9,83,9,84],[9,51,10,53],[9,54,10,55],[9,56,10,57],[9,58,10,59],[9,60,10,62],[9,63,10,65],[13,75,13,78],[13,79,13,80],[13,81,13,84],[9,37,10,40],[9,41,10,46],[9,47,10,48],[12,85,12,89],[13,47,13,52],[13,63,13,68],[13,69,13,74],[12,47,12,52],[12,63,12,68],[12,53,12,55],[12,56,12,59],[12,60,12,62],[13,53,13,55],[13,56,13,59],[13,60,13,62],[14,53,14,55],[14,56,14,59],[14,60,14,62],[11,19,14,20],[11,21,14,23],[11,24,14,25],[11,26,14,27],[16,0,18,2],[16,6,18,6],[16,7,18,7],[16,8,18,8],[16,9,18,9],[16,10,18,10],[16,11,18,11],[16,12,18,13],[14,79,14,80],[14,81,14,84],[14,85,14,89],[15,12,15,19],[15,20,15,28],[15,29,15,65],[15,66,15,75],[11,28,14,30],[11,31,14,36],[11,37,14,40],[11,41,14,46],[11,47,11,68],[11,69,11,89],[11,14,14,16],[11,17,14,18],[13,85,13,89],[14,47,14,52],[14,63,14,68],[14,69,14,74],[14,75,14,78],[12,69,12,74],[12,75,12,78],[12,79,12,80],[12,81,12,84],[19,0,20,2],[19,12,19,13],[19,14,19,15],[19,18,19,19],[19,20,19,21],[19,23,19,24],[19,25,19,26],[19,27,19,28],[17,41,20,42],[17,43,18,46],[17,47,18,50],[17,51,18,55],[17,56,20,57],[17,58,18,62],[19,43,20,44],[19,45,20,46],[19,47,20,49],[19,50,20,50],[17,16,18,16],[17,17,18,17],[17,22,18,22],[17,23,18,24],[17,25,18,26],[17,27,18,28],[17,29,20,31],[16,14,18,15],[16,16,16,17],[16,18,18,19],[16,20,18,21],[16,22,16,28],[16,29,16,65],[17,32,20,34],[21,12,21,15],[21,16,21,19],[21,29,21,31],[21,32,21,34],[20,12,20,19],[20,20,21,23],[20,24,21,28],[21,35,21,36],[21,37,21,38],[21,39,21,40],[21,41,21,42],[19,68,20,69],[19,70,20,71],[19,72,20,73],[19,74,20,75],[19,76,20,79],[19,51,20,52],[19,53,20,54],[19,55,20,55],[19,58,20,60],[19,61,20,62],[19,66,20,67],[17,63,20,65],[16,66,18,67],[16,68,18,69],[16,70,18,71],[16,72,18,73],[16,74,18,75],[16,76,18,79],[17,35,20,36],[17,37,20,38],[17,39,20,40],[22,16,22,19],[22,20,22,23],[22,24,22,28],[22,29,22,31],[22,32,22,34],[22,35,22,36],[21,58,21,60],[21,61,21,62],[21,63,21,65],[21,66,22,73],[21,74,22,75],[21,76,21,79],[22,76,22,79],[21,43,21,44],[21,45,21,46],[21,47,21,49],[21,51,21,52],[21,53,21,54],[21,56,21,57],[23,0,23,89],[24,0,24,2],[24,3,24,5],[24,6,24,7],[24,8,24,9],[24,10,24,11],[24,12,24,14],[24,15,24,17],[24,18,24,20],[22,51,22,52],[22,53,22,54],[22,56,22,57],[22,58,22,60],[22,61,22,62],[22,63,22,65],[22,37,22,38],[22,39,22,40],[22,41,22,42],[22,43,22,44],[22,45,22,46],[22,47,22,49],[21,0,22,2],[24,88,25,89],[25,0,25,1],[25,3,25,4],[25,12,25,13],[25,15,25,16],[25,18,25,19],[25,21,25,22],[25,23,25,24],[25,27,25,28],[22,12,22,15],[24,68,24,71],[24,72,24,75],[24,76,24,79],[24,80,24,84],[24,85,25,85],[24,86,25,87],[25,76,25,78],[25,80,25,81],[25,82,25,84],[24,43,24,46],[24,47,24,50],[24,51,24,54],[24,55,24,59],[24,60,24,63],[24,64,24,67],[24,21,24,24],[24,25,24,26],[24,27,24,29],[24,30,24,35],[24,36,24,38],[24,39,24,42],[26,37,26,38],[26,39,26,40],[26,0,26,1],[26,3,26,4],[26,12,26,13],[26,15,26,16],[26,18,26,19],[26,21,26,22],[25,64,25,65],[25,66,25,67],[25,68,25,69],[25,70,25,71],[25,72,25,73],[25,74,25,75],[25,51,25,52],[25,53,25,54],[25,55,25,57],[25,58,25,59],[25,60,25,61],[25,62,25,63],[25,33,25,35],[25,37,25,38],[25,39,25,40],[25,41,25,42],[25,43,25,45],[25,47,25,49],[25,30,25,32],[26,85,27,85],[26,86,27,87],[26,88,27,89],[27,0,27,2],[27,3,27,5],[27,6,27,7],[27,8,27,9],[27,10,27,11],[27,12,27,14],[27,15,27,17],[26,70,26,71],[26,72,26,73],[26,74,26,75],[26,76,26,78],[26,80,26,81],[26,82,26,84],[26,58,26,59],[26,60,26,61],[26,62,26,63],[26,64,26,65],[26,66,26,67],[26,68,26,69],[26,41,26,42],[26,43,26,45],[26,47,26,49],[26,51,26,52],[26,53,26,54],[26,55,26,57],[26,23,26,24],[26,27,26,28],[26,30,26,32],[26,33,26,35],[27,64,27,67],[27,68,27,71],[27,72,27,75],[27,76,27,79],[27,80,27,84],[28,0,28,14],[28,15,28,20],[28,21,28,32],[27,39,27,42],[27,43,27,46],[27,47,27,50],[27,51,27,54],[27,55,27,59],[27,60,27,63],[27,18,27,20],[27,21,27,24],[27,25,27,26],[27,27,27,29],[27,30,27,35],[27,36,27,38],[30,21,30,26],[30,27,30,29],[30,30,30,32],[31,0,31,2],[31,3,31,4],[31,8,31,9],[31,10,31,11],[31,12,32,14],[31,15,32,17],[31,18,32,20],[29,30,29,32],[29,33,35,89],[30,0,30,2],[30,3,30,5],[30,6,30,7],[30,8,30,9],[30,10,30,11],[30,12,30,14],[30,15,30,17],[30,18,30,20],[29,0,29,2],[29,3,29,7],[29,8,29,14],[29,15,29,20],[29,21,29,26],[29,27,29,29],[33,0,33,2],[33,3,33,7],[33,8,33,11],[33,12,33,14],[33,15,35,17],[33,18,35,20],[34,0,35,2],[34,3,34,5],[34,6,34,7],[34,8,34,9],[31,21,31,26],[31,27,31,29],[31,30,31,32],[32,0,32,2],[32,3,32,4],[32,8,32,9],[32,10,32,11],[32,21,33,26],[32,27,33,29],[32,30,33,32],[38,4,39,7],[38,8,39,11],[38,12,38,19],[38,20,39,21],[38,22,39,23],[36,0,37,40],[36,41,36,68],[36,69,36,89],[37,41,37,46],[37,47,37,58],[37,59,37,68],[37,69,37,79],[37,80,39,81],[37,82,39,85],[37,86,39,89],[34,10,34,11],[34,12,35,14],[34,21,35,26],[34,27,35,32],[35,3,35,5],[35,6,35,7],[35,8,35,9],[35,10,35,11],[40,0,41,1],[40,2,41,3],[40,4,41,5],[40,6,41,7],[40,8,41,9],[40,10,41,11],[38,66,39,68],[38,69,39,71],[38,72,39,75],[38,76,39,79],[39,12,39,13],[39,14,39,15],[39,16,39,17],[39,18,39,19],[39,47,39,48],[39,49,39,50],[38,46,39,46],[38,47,38,52],[38,53,38,56],[38,57,39,58],[38,59,39,61],[38,62,39,65],[39,51,39,52],[39,53,39,54],[39,55,39,56],[38,24,39,27],[38,28,39,31],[38,32,39,35],[38,36,39,40],[38,41,39,42],[38,43,39,45],[38,0,39,3],[40,41,40,42],[40,43,40,45],[40,47,40,48],[40,49,40,50],[40,24,41,25],[40,26,41,27],[40,28,41,29],[40,30,41,31],[40,32,41,33],[40,34,41,35],[40,18,41,18],[40,19,41,19],[40,20,41,20],[40,21,41,21],[40,22,41,22],[40,23,41,23],[40,12,41,12],[40,13,41,13],[40,14,41,14],[40,15,41,15],[40,16,41,16],[40,17,41,17],[42,21,44,21],[42,22,44,22],[42,10,44,11],[42,12,44,12],[42,13,44,13],[42,14,44,14],[42,15,44,15],[42,16,44,16],[40,86,40,89],[41,41,41,52],[41,53,41,64],[41,65,41,76],[41,77,41,89],[42,0,44,1],[42,2,44,3],[42,4,44,5],[42,6,44,7],[42,8,44,9],[40,66,40,68],[40,69,40,71],[40,72,40,75],[40,76,40,79],[40,80,40,81],[40,82,40,85],[40,51,40,52],[40,53,40,54],[40,55,40,56],[40,57,40,58],[40,59,40,61],[40,62,40,65],[40,36,41,38],[40,39,41,40],[42,73,43,76],[42,77,43,84],[42,85,43,89],[44,41,44,45],[44,46,44,48],[44,49,44,50],[44,51,44,52],[44,53,44,55],[44,56,44,60],[44,61,44,64],[42,51,43,52],[42,53,43,55],[42,56,43,60],[42,61,43,64],[42,65,43,68],[42,69,43,72],[42,34,44,35],[42,36,44,38],[42,39,44,40],[42,41,43,45],[42,46,43,48],[42,49,43,50],[46,70,46,71],[46,72,46,74],[46,75,46,84],[46,85,46,86],[46,87,46,89],[47,0,47,5],[47,8,47,13],[47,15,47,16],[47,17,47,21],[47,22,47,23],[46,0,46,5],[46,8,46,13],[46,15,46,16],[46,17,46,33],[46,34,46,60],[46,61,46,69],[44,65,44,68],[44,69,44,72],[44,73,44,76],[44,77,44,84],[44,85,44,89],[45,0,45,89],[42,23,44,23],[42,24,44,25],[42,26,44,27],[42,28,44,29],[42,30,44,31],[42,32,44,33],[42,17,44,17],[42,18,44,18],[42,19,44,19],[42,20,44,20],[47,72,47,74],[47,75,47,84],[47,85,47,86],[47,87,47,89],[48,0,48,5],[48,8,48,13],[48,15,48,16],[48,17,48,21],[48,22,49,23],[48,27,48,28],[47,51,47,53],[47,55,47,56],[47,57,47,58],[47,59,47,60],[47,61,47,69],[47,70,47,71],[47,27,47,28],[47,30,47,31],[47,32,47,33],[47,34,47,43],[47,44,47,46],[47,47,47,49],[49,75,50,84],[49,85,50,86],[49,87,50,89],[50,0,50,6],[50,8,50,13],[50,15,50,16],[50,17,50,21],[50,22,54,23],[50,27,50,28],[48,75,48,84],[48,85,48,86],[48,87,48,89],[49,0,49,5],[49,8,49,13],[49,15,49,16],[49,17,49,21],[49,27,49,28],[49,30,49,31],[49,34,49,43],[48,55,48,56],[48,57,48,58],[48,59,50,60],[48,61,48,69],[48,70,48,71],[48,72,48,74],[49,55,49,56],[49,57,49,58],[49,61,49,69],[49,70,49,71],[48,30,48,31],[48,32,49,33],[48,34,48,43],[50,70,50,71],[50,72,50,74],[51,0,51,6],[51,8,51,13],[51,15,51,16],[51,17,51,21],[51,27,51,28],[51,30,51,31],[51,34,51,43],[51,47,51,49],[50,34,50,43],[50,47,50,49],[50,51,50,53],[50,55,50,56],[50,57,50,58],[50,61,50,69],[49,72,49,74],[48,44,51,46],[48,47,48,49],[48,51,48,53],[49,47,49,49],[49,51,49,53],[50,30,50,31],[50,32,54,33],[51,72,51,74],[53,0,53,6],[53,8,53,13],[53,15,53,16],[53,17,53,21],[53,27,53,28],[53,30,53,31],[51,75,51,84],[51,85,51,86],[51,87,51,89],[52,0,52,6],[52,8,52,13],[52,15,52,16],[52,17,52,21],[52,27,52,28],[52,30,52,31],[51,51,51,53],[51,55,51,56],[51,57,51,58],[51,59,52,60],[51,61,51,69],[51,70,51,71],[52,61,52,69],[52,70,52,71],[52,72,52,74],[52,75,52,84],[52,85,52,86],[52,87,52,89],[52,34,52,43],[52,44,53,46],[52,47,52,49],[52,51,52,53],[52,55,52,56],[52,57,52,58],[53,34,53,43],[53,47,53,49],[53,51,53,53],[53,55,53,56],[53,85,53,86],[53,87,53,89],[54,0,54,6],[54,8,54,13],[54,15,54,16],[54,17,54,21],[54,27,54,28],[54,30,54,31],[54,34,54,43],[54,44,54,46],[53,57,53,58],[53,59,54,60],[53,61,53,69],[53,70,53,71],[53,72,53,74],[53,75,53,84],[54,72,54,74],[54,75,54,84],[54,85,54,86],[54,87,54,89],[55,0,55,6],[55,8,55,13],[55,15,55,16],[55,17,55,21],[55,27,55,28],[55,30,55,31],[55,32,60,33],[54,47,54,49],[54,51,54,53],[54,55,54,56],[54,57,54,58],[54,61,54,69],[54,70,54,71],[56,87,56,89],[57,0,57,6],[57,8,57,13],[57,15,57,16],[57,17,57,21],[57,27,57,28],[57,30,57,31],[57,34,57,43],[56,51,56,53],[56,55,56,56],[56,57,56,58],[56,61,56,69],[56,70,56,71],[56,72,56,74],[55,87,55,89],[56,0,56,6],[56,8,56,13],[56,15,56,16],[56,17,56,21],[56,27,56,28],[56,30,56,31],[56,34,56,43],[56,44,57,46],[56,47,56,49],[55,59,56,60],[55,61,55,69],[55,70,55,71],[55,72,55,74],[55,75,55,84],[55,85,55,86],[56,75,56,84],[56,85,56,86],[55,34,55,43],[55,44,55,46],[55,47,55,49],[55,51,55,53],[55,55,55,56],[55,57,55,58],[57,75,57,84],[57,85,57,86],[55,22,61,23],[61,17,61,21],[61,27,61,28],[61,30,61,31],[57,87,57,89],[58,0,59,6],[58,7,59,7],[58,8,58,13],[58,15,58,16],[58,17,58,21],[58,27,58,28],[58,30,58,31],[57,55,57,56],[57,57,57,58],[57,59,57,60],[57,61,57,69],[57,70,57,71],[57,72,57,74],[59,85,59,86],[59,87,59,89],[57,47,57,49],[57,51,57,53],[58,87,58,89],[59,8,60,13],[59,14,60,14],[59,15,60,16],[59,17,59,21],[59,27,59,28],[59,30,59,31],[59,34,59,43],[59,47,59,49],[59,51,59,53],[58,59,59,60],[58,61,58,69],[58,70,58,71],[58,72,58,74],[60,75,60,84],[60,85,60,86],[62,61,62,89],[58,75,58,84],[58,85,58,86],[59,61,60,69],[59,70,60,71],[59,72,60,74],[59,75,59,84],[58,34,58,43],[58,44,59,46],[58,47,58,49],[58,51,58,53],[58,55,58,56],[58,57,58,58],[59,55,59,56],[59,57,59,58],[61,61,61,69],[61,70,61,71],[61,72,61,74],[61,75,61,84],[61,85,61,86],[62,0,62,6],[62,8,62,12],[62,13,62,14],[62,15,62,16],[62,32,62,33],[62,34,62,43],[64,81,64,83],[64,84,64,85],[61,87,61,89],[61,32,61,33],[61,34,61,43],[61,44,61,60],[62,44,62,60],[60,87,60,89],[61,0,61,6],[61,8,61,12],[61,13,61,14],[61,15,61,16],[60,0,60,6],[60,17,60,21],[60,27,60,28],[60,30,60,31],[60,34,60,43],[60,44,60,60],[63,86,63,89],[64,0,64,6],[64,8,64,12],[64,13,64,14],[64,15,64,16],[64,17,66,19],[64,20,66,22],[64,23,64,26],[64,27,64,49],[64,50,66,54],[65,0,65,6],[65,8,65,12],[65,13,65,14],[66,86,67,88],[66,89,67,89],[67,0,67,6],[67,8,67,12],[67,13,67,14],[67,15,67,16],[67,17,67,19],[66,38,66,49],[66,61,66,64],[66,66,66,68],[63,0,63,6],[63,8,63,12],[63,13,63,14],[63,15,63,16],[63,17,63,60],[63,61,63,65],[63,66,63,70],[63,71,63,80],[63,81,63,85],[66,69,66,70],[66,71,66,73],[66,74,66,75],[65,76,65,79],[65,81,65,83],[65,84,65,85],[65,86,65,88],[66,0,66,6],[66,8,66,12],[66,13,66,14],[66,15,66,16],[66,23,66,26],[66,27,66,37],[65,15,65,16],[65,23,65,26],[65,27,65,37],[65,38,65,49],[64,55,66,60],[64,61,64,64],[64,66,64,68],[64,69,64,70],[64,74,64,75],[64,86,64,88],[64,76,64,79],[65,61,65,64],[65,66,65,68],[65,69,65,70],[65,74,65,75],[66,76,66,79],[66,81,66,83],[66,84,66,85],[68,84,71,86],[67,81,67,83],[67,84,67,85],[68,0,68,6],[68,8,68,12],[68,13,68,14],[68,15,68,16],[68,17,68,60],[68,61,73,62],[68,63,71,65],[68,66,71,68],[67,61,67,64],[67,66,67,68],[67,69,67,70],[67,71,67,73],[67,74,67,75],[67,76,67,79],[67,20,67,22],[67,23,67,26],[67,27,67,37],[67,38,67,49],[67,50,67,54],[67,55,67,60],[70,38,70,41],[70,42,70,45],[70,46,70,55],[70,56,70,60],[71,17,71,23],[71,24,71,32],[71,33,71,37],[71,38,71,41],[71,42,71,45],[71,46,71,55],[69,46,69,55],[69,56,69,60],[70,0,71,6],[70,7,71,7],[70,8,71,12],[70,13,71,14],[70,15,71,16],[70,17,70,23],[70,24,70,32],[70,33,70,37],[69,0,69,6],[69,8,69,12],[69,13,69,14],[69,15,69,16],[69,17,69,23],[69,24,69,32],[69,33,69,37],[69,38,69,41],[69,42,69,45],[72,75,73,78],[72,79,73,80],[72,81,73,83],[72,84,73,86],[72,87,73,89],[73,0,73,6],[73,17,73,23],[73,24,73,32],[73,33,73,37],[73,38,73,41],[72,46,72,55],[72,56,72,60],[72,63,73,65],[72,66,73,68],[72,69,73,71],[72,72,73,74],[71,56,71,60],[72,0,72,6],[72,8,73,12],[72,13,73,14],[72,15,73,16],[72,17,72,23],[72,24,72,32],[72,33,72,37],[72,38,72,41],[72,42,72,45],[68,87,71,89],[68,69,71,71],[68,72,71,74],[68,75,71,78],[68,79,71,80],[68,81,71,83],[75,17,75,23],[75,24,75,32]],"merged_total":1135,"flags":["merged_cut"]}
[null,null,null,null,null,null,null,null,null,null,null,null,null,null,null,null,null,null,null,null,null,null,null,null,null,null,null,"DIRECCION - PROGRAMA  APS \nSUBSECRETARIA DE MEDICINA SOCIAL\nRONDA N°: 192   AÑO: 2025",null,null,null,null,null,null,null,null,null,null,null,null,null,null,null,null,null,null,null,null,null,null,null,null,null,null,"1r","2r","3r",null,"4r",null,"T",null,null,null,null,null,null,null,null,null,null,null,null,null,null,null,null,null,null,null,"Informe y orden de Ronda: ",6,null,null,null,null,2]
[null,null,null,null,null,null,null,"Area Operativa N°: ",4,null,null,null,null,null,"Nombre: ","MORILLO",null,null,null,null,null,null,null,null,null,null,null,null,null,null,null,null,null,null,null,null,null,null,null,null,null,null,null,null,null,null,"Mort. Mater. Acum. Año",null,null,null,null,null,null,null,0,{"$f":"CE41","v":0},0,null,{"$f":"CE41","v":0},null,{"$f":"SUM(BC2:BG2)","v":0},null,null,null,null,"Sector:",null,"LAS PALOMAS",null,null,null,null,null,null,null,null,null,null,null,null,null,null,null,null,null,"N°",3]
[null,null,null,null,null,null,null,null,null,null,null,null,null,null,null,null,null,null,null,null,null,null,null,null,null,null,null,null,null,null,null,null,null,null,null,null,null,null,null,null,null,null,null,null,null,null,"Mort. 0-1 año Acum Año",null,null,null,null,null,null,null,0,{"$f":"BR41+BU41+BY41","v":0},0,null,{"$f":"BR41+BU41+BY41","v":0},null,{"$f":"SUM(BC3:BG3)","v":0},null,null,null,null,null,"Etnia: ","CRIOLLA-WICHI",null,null,null,null,null,null,null,null,null,null,null,null,null,null,null,null,null,"Sector Riesgo:","no"]
[null,null,null,null,null,null,null,"Establec. Base: ","HOSPITAL MORILLO",null,null,null,null,null,null,null,null,null,null,null,null,null,null,null,null,null,null,null,null,null,null,null,null,null,null,null,null,null,null,null,null,null,null,null,null,null,"Mort. 1-4 años Acum Año",null,null,null,null,null,null,null,0,{"$f":"CC41","v":0},0,null,{"$f":"CC41","v":0},null,{"$f":"SUM(BC4:BG4)","v":0},null,null,null,null,null,null,null,null,null,null,null,null,"Desde: ","07/03/2025",null,null,null,null,null,null,null,null,"Hasta: ","05/06/2026"]
[null,null,null,null,null,null,null,null,null,null,null,null,null,null,null,null,null,null,null,null,null,null,null,null,null,null,null,null,null,null,null,null,null,null,null,null,null,null,null,null,null,null,null,null,null,null,null,null,null,null,null,null,null,null,null,null,null,null,null,null,null,null,null,null,null,null,null,null,null,null,null,null,null,null,null,null,null,null,null,"Cobertura: ","CUBIERTO"]
[null,null,null,null,null,null,null,"Sup. Intermedio: ","MIGUEL CORREA",null,null,null,null,null,null,null,null,null,null,null,null,null,null,null,null,null,null,null,null,null,null,null,"Responsable A.P.S.: ","Dr. Abel Ibarra",null,null,null,null,null,null,null,null,null,null,null,null,null,null,null,null,null,null,null,null,null,null,"Agente Sanitario: ","APOLINARIO CARDOZO",null,null,null,null,null,null,null,null,null,null,null,null,null,null,null,null,"Sit. Revista: ","DESIG.TEMPORARIA",null,null,null,null,null,"Reg. Horario: ","30 HS."]
[]
["A) FAMILIAS VISITADAS EN LA RONDA",null,null,null,null,null,null,null,null,null,null,null,null,null,null,null,null,null,null,null,null,null,null,null,null,null,null,null,null,null,null,null,null,null,null,null,null,null,null,null,null,null,null,null,null,null,null,"B) FACTORES DE PRIORIZACION DE VISITAS"]
["ASIGNADAS",null,null,"VISITADAS",null,null,"TOTAL\nVISITAS",null,"NO VISITADAS",null,null,null,null,null,null,null,null,"FLIAS ORIG.",null,"FLIAS. URB.",null,"FLIAS. PERIURB",null,null,"FLIAS. RURALES",null,"GOLON\nMIGRANTES",null,null,null,null,"FLIAS. CON PL. SOCIALES",null,null,null,null,null,"PRODUCCION\nFAMILIAR",null,null,null,null,null,null,null,null,null,1,null,2,null,3,null,null,4,null,5,null,6,null,7,null,null,8,null,null,9,null,null,10,null,null,null,11,null,null,12,null,null,null,13,null,null,14,null,null,15]
[null,null,null,null,null,null,null,null,"RECHAZO TOTAL",null,"AUSEN\n-TE",null,"NO VISITADAS",null,"TOT NO VISIT.",null,null,null,null,null,null,null,null,null,null,null,"HACIA\nEL AO",null,"DESDE\nEL AO",null,null,null,null,null,null,null,null,"HUERTA",null,null,null,"GRANJA",null,null,null,null,null,0,null,0,null,0,null,null,0,null,0,null,0,null,0,null,null,0,null,null,0,null,null,"Total",null,null,null,"Tot",null,"Trat","Tot.",null,null,"Trat.","Tot.","Trat.",null,"Tot.",null,"Trat","Total"]
[null,null,null,null,null,null,null,null,null,null,0,null,null,null,null,null,null,null,null,null,null,null,null,null,null,null,null,null,null,null,null,null,null,null,null,null,null,null,null,null,null,null,null,null,null,null,null,null,null,null,null,null,null,null,null,null,null,null,null,null,null,null,null,null,null,null,null,null,null,0,null,null,null,0,null,0,0,null,null,0,0,0,null,0,null,0,0]
[0,null,null,0,null,null,0,null,0,null,0,null,0,null,{"$f":"M12+K12+I12","v":0},null,null,0,null,0,null,0,null,null,0,null,0,null,0,null,null,0,null,null,null,null,null,0,null,null,null,0,null,null,null,null,null,"C) VISITAS A FLIAS. PRIORIZADAS",null,null,null,null,null,null,null,null,null,null,null,null,null,null,null,null,null,null,null,null,null,"D) SUPERV. A FLIAS. "]
[null,null,null,null,null,null,null,null,null,null,null,null,null,null,null,null,null,null,null,null,null,null,null,null,null,null,null,null,null,null,null,null,null,null,null,null,null,null,null,null,null,null,null,null,null,null,null,"PRIORIDAD",null,null,null,null,null,1,null,null,2,null,null,null,3,null,null,"Total",null,null,null,null,null,"PRIORIDAD",null,null,null,null,null,1,null,null,null,2,null,3,null,null,null,"TOTAL"]
[null,null,null,null,null,null,null,null,null,null,null,null,null,null,null,null,null,null,null,null,null,null,null,null,null,null,null,null,null,null,null,null,null,null,null,null,null,null,null,null,null,null,null,null,null,null,null,"N° FAMILIAS",null,null,null,null,null,0,null,null,0,null,null,null,0,null,null,{"$f":"SUM(BB14:BI14)","v":0},null,null,null,null,null,"INTERMEDIA",null,null,null,null,null,0,null,null,null,0,null,0,null,null,null,{"$f":"SUM(BX14:CD14)","v":0}]
[null,null,null,null,null,null,null,null,null,null,null,null,null,null,null,null,null,null,null,null,null,null,null,null,null,null,null,null,null,null,null,null,null,null,null,null,null,null,null,null,null,null,null,null,null,null,null,"VISITAS",null,null,null,null,null,0,null,null,0,null,null,null,0,null,null,{"$f":"SUM(BB15:BI15)","v":0},null,null,null,null,null,"PROFESIONAL",null,null,null,null,null,0,null,null,null,0,null,0,null,null,null,{"$f":"SUM(BX15:CB15)","v":0}]
["E) EDAD FERTIL",null,null,null,null,"F) EMBARAZADAS",null,null,null,null,null,null,"G) PARTOS",null,null,null,null,null,null,null,"H) R.N. EN LA RONDA",null,null,null,null,null,null,null,null,"I) EVALUACION ANTROPOMETRICA",null,null,null,null,null,null,null,null,null,null,null,null,null,null,null,null,null,null,null,null,null,null,null,null,null,null,null,null,null,null,null,null,null,null,null,null,"NIÑ MBP/BP/RBP CTRL. INT.",null,null,null,null,null,null,null,null,null,"LACT. MATERNA"]
["PAP",null,null,0,null,"CAPT. 1er TRIMESTRE","ESP EN EL AÑO","ACUMULADAS","NUEVAS\nRONDA","TOTAL","DE RIESGO","<19 Años","TOTAL",null,"HOSPITALARIOS",null,"DOMIC.",null,"N° PUERPERAS",null,"NACIDOS VIVOS",null,"P AL NACER",null,null,null,null,null,null,"NIÑOS CONTROLADOS",null,null,null,null,null,null,null,null,null,null,null,null,null,null,null,null,null,null,null,null,null,null,null,null,null,null,null,null,null,null,null,null,null,null,null,null,"MELAN",null,"MED",null,"ENF.",null,"LAB",null,"NUTR",null,"< 6 M EN LA RONDA",null,null,null,{"$f":"CC20+CC22+CC23","v":0}]
[null,null,null,null,null,null,null,null,null,null,null,null,null,null,null,null,"DOM","ASIS",null,null,null,null,"ALTO PESO","ADEC",null,"BAJO PESO",null,"MB\nPESO",null,"EDAD",null,null,"A CONTROLAR",null,null,"ADECUADO",null,"BP\nBAJO PESO",null,"MBP\nMUY B. PESO",null,"ALTO PESO",null,"RIESGO",null,null,null,"RECUPERADOS",null,null,null,"TALLA / EDAD",null,null,null,null,"NUEVOS\nEPISODIOS",null,"PERDIDOS",null,null,null,null,"FALLECIDOS\nC/ANTEC. ANTROPOM."]
[]
["Antic.",null,null,0,null,0,{"$f":"IF(ISERROR(((CC92*1.8)/100)),0,(((CC92*1.8)/100)))","v":0},0,0,{"$f":"SUM(F23:L23)","v":0},0,0,{"$f":"O20+Q20+R20","v":0},null,0,null,0,0,0,null,{"$f":"W20+X20+Z20+AB20","v":0},null,0,0,null,0,null,0,null,null,null,null,null,null,null,null,null,null,null,null,null,null,null,"BP",null,"AP",null,"BP",null,null,"AP","BT",null,"MBT",null,"RGO\nBT",null,null,"BP\nMBP",null,null,"A.P.",null,null,null,null,0,null,0,null,0,null,0,null,0,null,"EXCLUSIVO",null,null,null,0]
[null,null,null,null,null,"CONTROLES",null,null,null,null,null,null," ",null,null,null,null,null,null,null,"PREMATUROS",null,null,null,"PESQUISA"]
["Aborto",null,null,0,null,"MELON",null,"MEL","MED","ENF","LAB","S/C","PUERP",null,null,null,"R.N.",null,null,null,null,null,null,null,null,null,null,null,null,"< 2 años",null,null,{"$f":"A27+C27+D27+F27+G27+H27","v":0},null,null,0,null,0,null,0,null,0,null,0,null,0,null,0,null,null,0,0,null,0,null,0,0,null,0,null,null,0,null,0,null,null,"CONTROLES EN DOMIC. NIÑO BP o MBP",null,null,null,null,null,null,null,0,null,"MIXTA",null,null,null,0]
[null,null,null,null,null,0,null,0,0,0,0,0,0,null,null,null,0,null,null,null,0,null,null,null,0,null,null,null,null,"2 a 6 años",null,null,{"$f":"I27+J27+K27+L27+M27+O27+P27+R27","v":0},null,null,0,null,0,null,0,null,0,null,0,null,0,null,0,null,null,0,0,null,0,null,0,0,null,0,null,null,0,null,0,null,null,null,null,null,null,null,null,null,null,null,null,"ARTIF",null,null,null,0]
["J) DATOS DE POBLACION"]
["0 a 5m",null,null,"6 a 11m",null,null,"1 AÑO",null,"2 AÑOS",null,"3 AÑOS",null,"4 AÑOS",null,null,"5 AÑOS",null,null,"6 AÑOS",null,null,"7 A 9 AÑOS",null,null,null,"10 AÑOS",null,"11 AÑOS",null,null,"12 A 14",null,null,null,null,null,"15 A 19",null,null,"20 A 24",null,null,null,"25 A 29",null,null,null,"30 A 34",null,null,null,"35 A 39",null,null,null,"40 A 44",null,null,null,null,"45 A 49",null,null,null,"50 A 54",null,null,null,"55 A 59",null,null,null,"60 A 64",null,null,null,"65 y +",null,null,null,"TOTAL",null,null,null,null,"MUJERES\n10 A 49","O. SOCIAL",null,"INDOCUM"]
["M",null,"F","M",null,"F","M","F","M","F","M","F","M",null,"F","M",null,"F","M",null,"F","M",null,"F",null,"M","F","M",null,"F","M",null,null,"F",null,null,"M","F",null,"M",null,"F",null,"M",null,null,"F","M",null,null,"F","M",null,"F",null,"M",null,null,"F",null,"M",null,"F",null,"M",null,"F",null,"M",null,"F",null,"M",null,"F",null,"M",null,null,"F","M",null,"F"]
[0,null,0,0,null,0,0,0,0,0,0,0,0,null,0,0,null,0,0,null,0,0,null,0,null,0,0,0,null,0,0,null,null,0,null,null,0,0,null,0,null,0,null,0,null,null,0,0,null,null,0,0,null,0,null,0,null,null,0,null,0,null,0,null,0,null,0,null,0,null,0,null,0,null,0,null,0,null,null,0,{"$f":"BY27+BU27+BQ27+BM27+BI27+BD27+AZ27+AV27+AR27+AN27+AK27+AE27+AB27+Z27+V27+S27+P27+M27+K27+I27+G27+D27+A27","v":0},null,{"$f":"CB27+BW27+BS27+BO27+BK27+BG27+BB27+AY27+AU27+AP27+AL27+AH27+AD27+AA27+X27+U27+R27+O27+L27+J27+H27+F27+C27","v":0},null,null,{"$f":"BK27+BG27+BB27+AY27+AU27+AP27+AL27+AH27+AD27+AA27","v":0},0,null,0]
[{"$f":"A27+C27","v":0},null,null,{"$f":"D27+F27","v":0},null,null,{"$f":"G27+H27","v":0},null,{"$f":"I27+J27","v":0},null,{"$f":"K27+L27","v":0},null,{"$f":"M27+O27","v":0},null,null,{"$f":"P27+R27","v":0},null,null,{"$f":"S27+U27","v":0},null,null,{"$f":"V27+X27","v":0},null,null,null,{"$f":"Z27+AA27","v":0},null,{"$f":"AB27+AD27","v":0},null,null,{"$f":"AE27+AH27","v":0},null,null,null,null,null,{"$f":"AL27+AK27","v":0},null,null,{"$f":"AN27+AP27","v":0},null,null,null,{"$f":"AR27+AU27","v":0},null,null,null,{"$f":"AV27+AY27","v":0},null,null,null,{"$f":"AZ27+BB27","v":0},null,null,null,{"$f":"BD27+BG27","v":0},null,null,null,null,{"$f":"BI27+BK27","v":0},null,null,null,{"$f":"BM27+BO27","v":0},null,null,null,{"$f":"BQ27+BS27","v":0},null,null,null,{"$f":"BU27+BW27","v":0},null,null,null,{"$f":"BY27+CB27","v":0},null,null,null,{"$f":"CC27+CE27","v":0}]
["K) TUBERCULOSIS ",null,null,null,null,null,null,null,null,null,null,null,null,null,null," CHAGAS ",null,null,null,null,null,"L) PERSONAS CON ENF. CRONICAS",null,null,null,null,null,null,null,null,null,null,null,"M) OBSERVACIONES"]
["Coef. Sint.Resp.: ",null,null,"MUESTRAS",null,null,null,null,"TRATAM. TBC",null,null,null,null,null,null,"TRATAMIENTOS CHAGAS",null,null,null,null,null,"PERSONAS CON",null,null,null,null,null,"TOTAL",null,null,"EN TRAT.",null,null," "]
[{"$f":"Control!H9","v":8},null,null,"DIAGNOSTICOS",null,null,"CONTROL",null,"Total",null,"TAES",null," ABANDONO",null,null,"INICIO ",null,null,0,null,null,"DIABETES",null,null,null,null,null,0,null,null,0]
["SINT. ESP..",null,null,"Tot",null,"(+)","Tot","(+)",0,null,0,null,0,null,null,"FINALIZACION ",null,null,0,null,null,"HIPERTENSION \nARTERIAL",null,null,null,null,null,0,null,null,0]
[{"$f":"IF(ISERROR(((AK91+AL91+AN91+AP91+AR91+AU91+AV91+AY91+AZ91+BB91+BD91+BG91+BI91+BK91+BM91+BO91+BQ91+BS91+BU91+BW91+BY91+CB91)*0.2)*A31/100),0,(((AK91+AL91+AN91+AP91+AR91+AU91+AV91+AY91+AZ91+BB91+BD91+BG91+BI91+BK91+BM91+BO91+BQ91+BS91+BU91+BW91+BY91+CB91)*0.2)*A31/100))","v":0},null,null,0,null,0,0,0,"QUIMIO Total",null,0,null,null,null,null,null,null,null,null,null,null,"PERSONAS CON OTRAS ENF. CRONICAS AL CUIDADO DE NIÑOS",null,null,null,null,null,0,null,null,0]
["SINT. DETEC.",null,null,"CONTACTO",null,null,null,null,"CTRL. MEDICO",null,null,null,"FINALIZAD0",null,null,"ABANDONO ",null,null,0]
[0,null,null,"< 14a",null,null,"> 15a",null,"Pcte/Rda",null,"A Cont",null,0,null,null,null,null,null,null,null,null,"ADULTOS MAYORES EN SITUACION DE RIESGO",null,null,null,null,null,0]
[null,null,null,0,null,null,0,null,0,null,0]
["N) DERIVACIONES",null,null,null,null,null,null,null,null,null,null,null,null,null,null,null,null,null,null,null,null,null,null,null,null,null,null,null,null,null,null,null,null,null,null,null,null,null,null,null,null,"Ñ) VIVIENDA Y SANEAMIENTO",null,null,null,null,null,null,null,null,null,null,null,null,null,null,null,null,null,null,null,null,null,null,null,null,null,null,null,"O) DEFUNCIONES EN LA RONDA"]
[null,null,null,null,null,null,null,null,null,null,null,null,null,null,null,null,null,null,null,null,null,null,null,null,null,null,null,null,null,null,null,null,null,null,null,null,null,null,null,null,null,"TRAT. AGUA",null,null,null,null,null,"DISP SANITARIA EXCRETAS",null,null,null,null,null,null,null,null,null,null,null,"TRATAM. SANIT BASURA",null,null,null,null,null,null,null,null,null,"MENORES 1 AÑO",null,null,null,null,null,null,null,null,null,null,"1 a 4 AÑOS",null,"MATERNA",null,null,null,"OTRAS"]
["EMB",null,null,null,"RN",null,null,null,"PUERP",null,null,null,"Menores de 6 años",null,null,null,null,null,null,null,"E.\nCRONICAS",null,"PAP",null,"CHAGAS",null,null,null,"TBC",null,null,null,"PSICOSOC",null,null,null,"TOTAL\nDERIVACIONES",null,null,null,null,"RED",null,"EN\nVIV",null,null,"S/T","ARRASTRE",null,null,null,null,null,"LETRINA",null,null,null,"S/T",null,"REC. DOMIC.",null,null,"POZO BASURA",null,null,null,"S/T",null,null,"<7d",null,null,"7 a 28d",null,null,null,"29d a 11 m"]
[null,null,null,null,null,null,null,null,null,null,null,null,"BP- MBP",null,"RGO BP",null,"Resp",null,"Diarr",null,null,null,null,null,null,null,null,null,null,null,null,null,null,null,null,null,null,null,null,null,null,null,null,null,null,null,null,"CLOACAS",null,"PC-CT",null,"PC-ST",null,"CT",null,"ST"]
["Env",null,"Rec",null,"Env",null,"Rec",null,"Env",null,"Rec",null,"Env","Rec","Env","Rec","Env","Rec","Env","Rec","Env","Rec","Env","Rec","Env",null,"Rec",null,"Env",null,"Rec",null,"Env",null,"Rec",null,"ENV",null,null,"Rec",null,0,null,0,null,null,0,0,null,0,null,0,null,0,null,0,null,0,null,0,null,null,0,null,null,null,0,null,null,0,null,null,0,null,null,null,0,null,null,null,0,null,0,null,null,null,0]
[null,null,null,null,null,null,null,null,null,null,null,null,null,null,null,null,null,null,null,null,null,null,null,null,null,null,null,null,null,null,null,null,null,null,null,null,null,null,null,null,null,"CASAS ",null,null,null,null,null,null,null,null,null,null,null,"CHAGAS",null,null,null,null,null,null,null,null,null,null,null,"DENGUE CHIKUNGUNYA",null,null,null,null,null,null,null,null,null,null,null,"P) PROM. SALUD"]
[0,null,0,null,0,null,0,null,0,null,0,null,0,0,0,0,0,0,0,0,0,0,0,0,0,null,0,null,0,null,0,null,0,null,0,null,{"$f":"AG43+AC43+Y43+W43+U43+S43+Q43+O43+M43+I43+E43+A43","v":0},null,null,{"$f":"AI43+AE43+AA43+X43+V43+T43+R43+P43+N43+K43+G43+C43","v":0},null,"ASIGNADAS",null,null,null,null,"VISITADAS",null,null,"VACIAS",null,"DESTRUIDAS",null,"EVALUADAS",null,null,"POSITIVAS",null,null,null,null,"TRATADAS",null,null,null,"EVALUADAS",null,null,null,"POSITIVAS",null,null,null,"TRATADAS",null,null,null,"PLANIFICADAS \nEN COMUNIDAD",null,null,null,null,null,null,null,0]
[]
[null,null,null,null,null,null,null,null,null,null,null,null,null,null,null,null,null,null,null,null,null,null,null,null,null,null,null,null,null,null,null,null,null,null,null,null,null,null,null,null,null,0,null,null,null,null,0,null,null,0,null,0,null,0,null,null,0,null,null,null,null,0,null,null,null,0,null,null,null,0,null,null,null,0,null,null,null,"REALIZADAS ",null,null,null,null,null,null,null,0]
["Q) INDICADORES"]
["DE ESTRUCTURA",null,null,null,null,null,"SI","NO","DE PRODUCCION",null,null,null,null,null,"%","META",null," DE INMUNIZACIONES",null,null,null,null,null,null,null,null,null,null,null,null,null,null,null,null," DE INMUNIZACIONES",null,null,null,null,null,null,null,null,null,null,null,null,null,null,null,null,null,null,null,null,null,null,null,null,null,null," DE RESULTADO",null,null,null,null,null,null,null,null,"%",null,"META",null,null," DE RESULTADO",null,null,null,null,null,null,null,null,null,"%",null,"META RDA"]
["Formularios",null,null,null,null,null,0,0,"Cobertura a Familias",null,null,null,null,null,{"$f":"IF(ISERROR(D12/A12),0,(D12/A12)*100)","v":0},100,null,"VACUNA",null,null,null,null,"P. REF",null,"1r","2r","3r","4r",null,"T","%",null,"META",null,"VACUNA",null,null,null,null,null,null,null,null,null,"P. REF",null,null,"1r",null,null,"2r","3r",null,null,"4r","T",null,"%",null,"META",null,"Ed Fértil c/Anticoncepción",null,null,null,null,null,null,null,null,{"$f":"IF(ISERROR(D20/CH27),0,(D20/CH27)*100)","v":0},null,null,null,null,"Niños 2 a 5 Recup BP",null,null,null,null,null,null,null,null,null,{"$f":"IF(ISERROR(AV23/K80),0,(AV23/K80)*100)","v":0},null,100]
["Equipo",null,null,null,null,null,0,0,"Niños < 2 años Controlados",null,null,null,null,null,{"$f":"IF(ISERROR(((AJ22+AL22+AN22+AP22)/(A28+D28+G28))),0,(((AJ22+AL22+AN22+AP22)/(A28+D28+G28)))*100)","v":0},100,null,"BCG RN",null,null,null,null,{"$f":"U20","v":0},null,0,0,0,0,null,{"$f":"SUM(Y49:AB49)","v":0},{"$f":"IF(ISERROR(Z49/W49),0,(Z49/W49)*100)","v":0},null,100,null,"2 Ref. Varicela Ingreso Esc",null,null,null,null,null,null,null,null,null,3,null,null,3,null,null,0,0,null,null,0,{"$f":"SUM(AV49:BC49)","v":3},null,{"$f":"IF(ISERROR(AY49/AS49),0,(AY49/AS49)*100)","v":0},null,25,null,"PAP",null,null,null,null,null,null,null,null,{"$f":"IF(ISERROR(D17/CH27),0,(D17/CH27)*100)","v":0},null,null,null,null,"Niños 2 a 5 Recup AP",null,null,null,null,null,null,null,null,null,{"$f":"IF(ISERROR(AY23/K82),0,(AY23/K82)*100)","v":0},null,100]
["Combustible",null,null,null,null,null,0,0,"Niños  (2 a 5 años) Controlados",null,null,null,null,null,{"$f":"IF(ISERROR(((AJ23+AL23+AN23+AP23)/(I28+K28+M28+P28))),0,(((AJ23+AL23+AN23+AP23)/(I28+K28+M28+P28)))*100)","v":0},100,null,"Hepatitis B RN","Hepatitis B RN",null,"Hepatitis B RN","Hepatitis B RN",null,null,0,0,0,0,null,{"$f":"SUM(Y50:AB50)","v":0},{"$f":"IF(ISERROR(Z50/W49),0,(Z50/W49)*100)","v":0},null,null,null,"2° Ref. Antipolio Ingreso Escolar",null,null,null,null,null,null,null,null,null,null,null,null,3,null,null,0,0,null,null,0,{"$f":"SUM(AV50:BC50)","v":3},null,{"$f":"IF(ISERROR(AY50/AS49),0,(AY50/AS49)*100)","v":0},null,null,null,"Embarazadas Con MELON",null,null,null,null,null,null,null,null,{"$f":"IF(ISERROR(F23/J20),0,(F23/J20)*100)","v":0},null,80,null,null,"Niños 6 meses con LME",null,null,null,null,null,null,null,null,null,{"$f":"IF(ISERROR(CC20/CC17),0,(CC20/CC17)*100)","v":0},null,80]
[" DE DIAGNOSTICO",null,null,null,null,null,null,"%","Conc. Vis. Flias Prio",null,null,null,null,null,{"$f":"IF(ISERROR((BB15+BE15)/(BB14+BE14)),0,((BB15+BE15)/(BB14+BE14)))","v":0},25,null,"2° Neumococo < 1a","3ª SOT/Salk < 1a",null,"3ª SOT/Salk < 1a","3ª SOT/Salk < 1a",{"$f":"A91+C91+D91+F91","v":0},null,0,0,0,0,null,{"$f":"SUM(Y51:AB51)","v":0},{"$f":"IF(ISERROR(Z51/W51),0,(Z51/W51)*100)","v":0},null,100,null,"2° Ref. DPT Ingreso Escolar",null,null,null,null,null,null,null,null,null,null,null,null,3,null,null,0,0,null,null,0,{"$f":"SUM(AV51:BC51)","v":3},null,{"$f":"IF(ISERROR(AY51/AS49),0,(AY51/AS49)*100)","v":0},null,null,null,"Partos Hospitalarios",null,null,null,null,null,null,null,null,{"$f":"IF(ISERROR(O20/M20),0,(O20/M20)*100)","v":0},null,100]
["Flias Priorizadas 3 + 2:",null,null,null,null,null,null,{"$f":"IF(ISERROR((BB14+BE14)/D12),0,(BB14+BE14)/D12*100)","v":0},"Conc.C.Dom Niños Bp/MBP",null,null,null,null,null,{"$f":"IF(ISERROR(BW22/(AL22+AN22+AL23+AN23)),0,(BW22/(AL22+AN22+AL23+AN23)))","v":0},3,null,"2° Rotavirus <1 a","3º Pentavalente <1 a",null,"3º Pentavalente <1 a","3º Pentavalente <1 a",null,null,0,0,0,0,null,{"$f":"SUM(Y52:AB52)","v":0},{"$f":"IF(ISERROR(Z52/W51),0,(Z52/W51)*100)","v":0},null,null,null,"2° TV Ingreso Escolar",null,null,null,null,null,null,null,null,null,null,null,null,3,null,null,0,0,null,null,0,{"$f":"SUM(AV52:BC52)","v":3},null,{"$f":"IF(ISERROR(AY52/AS49),0,(AY52/AS49)*100)","v":0},null,100,null,"Conc Control Médico a RN",null,null,null,null,null,null,null,null,{"$f":"IF(ISERROR(Q23/M20),0,(Q23/M20))","v":0},null,4,null,null,"% Niños BP MBP y RBP con MELaN",null,null,null,null,null,null,null,null,null,{"$f":"IF(ISERROR(BO20/(AL22+AN22+AR22+AL23+AN23+AR23)),0,(BO20/(AL22+AN22+AR22+AL23+AN23+AR23))*100)","v":0},null,100]
["Flias Urbanas",null,null,null,null,null,null,{"$f":"IF(ISERROR(T12/D12),0,(T12/D12)*100)","v":0},"Rel. Muestra/Sint Resp.",null,null,null,null,null,{"$f":"IF(ISERROR(D33/A35),0,(D33/A35))","v":0},2,null,"2° Meningococo < 1a",null,null,null,null,null,null,1,0,0,0,null,{"$f":"SUM(Y53:AB53)","v":1},{"$f":"IF(ISERROR(Z53/W51),0,(Z53/W51)*100)","v":0},null,null,null,"dTpa 11 años",null,null,null,null,null,null,null,null,null,8,null,null,6,null,null,0,0,null,null,0,{"$f":"SUM(AV53:BC53)","v":6},null,{"$f":"IF(ISERROR(AY53/AS53),0,(AY53/AS53)*100)","v":0},null,null,null,"Conc Control Méd. a puérpera",null,null,null,null,null,null,null,null,{"$f":"IF(ISERROR(M23/S20),0,(M23/S20))","v":0},null,4,null,null,"Sint Resp Detect. Seg zona",null,null,null,null,null,null,null,null,null,{"$f":"IF(ISERROR((A35*100)/(((20*(AK28+AN28+AR28+AV28+AZ28+BD28+BI28+BM28+BQ28+BU28+BY28))/100)*A31)),0,(A35*100)/((((20*(AK28+AN28+AR28+AV28+AZ28+BD28+BI28+BM28+BQ28+BU28+BY28))/100)*A31)/100))","v":0},null,"S/Z"]
["Flias Periurbanas",null,null,null,null,null,null,{"$f":"IF(ISERROR(V12/D12),0,(V12/D12)*100)","v":0},"Casas Evaluadas Chagas",null,null,null,null,null,{"$f":"IF(ISERROR(BB45/AU45),0,(BB45/AU45)*100)","v":0},100,null,"3° Antipolio < 1 año","2ª Rotavirus < 1 año",null,"2ª Rotavirus < 1 año","2ª Rotavirus < 1 año",null,null,2,0,0,0,null,{"$f":"SUM(Y54:AB54)","v":2},{"$f":"IF(ISERROR(Z54/W51),0,(Z54/W51)*100)","v":0},null,null,null,"U.D. Meningococo",null,null,null,null,null,null,null,null,null,null,null,null,6,null,null,0,0,null,null,0,{"$f":"SUM(AV54:BC54)","v":6},null,{"$f":"IF(ISERROR(AY54/AS53),0,(AY54/AS53)*100)","v":0},null,"95% AL 1° SEM",null,"RN con Pesquisa",null,null,null,null,null,null,null,null,{"$f":"IF(ISERROR(Y23/U20),0,(Y23/U20)*100)","v":0},null,100,null,null,"Pacientes TBC con Control Médico",null,null,null,null,null,null,null,null,null,{"$f":"IF(ISERROR(I36/I32),0,(I36/I32)*100)","v":0},null,100]
["Flias Rurales",null,null,null,null,null,null,{"$f":"IF(ISERROR(Y12/D12),0,(Y12/D12)*100)","v":0},"Casas Tratadas Chagas",null,null,null,null,null,{"$f":"IF(ISERROR(BJ45/BE45),0,(BJ45/BE45)*100)","v":0},100,null,"3° Pentavalente <1 año","TV 1 año",null,"TV 1 año","TV 1 año",null,null,0,0,0,0,null,{"$f":"SUM(Y55:AB55)","v":0},{"$f":"IF(ISERROR(Z55/W51),0,(Z55/W51)*100)","v":0},null,null,null,"1° HPV Niñas cumplen 11 a en año en curso",null,null,null,null,null,null,null,null,null,2,null,null,2,null,null,0,0,null,null,0,{"$f":"SUM(AV55:BC55)","v":2},null,{"$f":"IF(ISERROR(AY55/AS55),0,(AY55/AS55)*100)","v":0},null,null,null,"Derivaciones Enviadas/Recibidas",null,null,null,null,null,null,null,null,{"$f":"IF(ISERROR(AN43/AK43),0,(AN43/AK43)*100)","v":0},null,100,null,null,"Contactos TBC Controlados",null,null,null,null,null,null,null,null,null,{"$f":"IF(ISERROR(K36/(D36+G36)),0,(K36/(D36+G36)))*100","v":0},null,100]
["Flias Originarias",null,null,null,null,null,null,{"$f":"IF(ISERROR(R12/D12),0,(R12/D12)*100)","v":0},"Casas Evaluadas Dengue",null,null,null,null,null,{"$f":"IF(ISERROR(BN45/AU45),0,(BN45/AU45)*100)","v":0},100,null,"1° TV","A HA 1 año",null,"A HA 1 año","A HA 1 año",{"$f":"G91+H91","v":0},null,0,0,0,0,null,{"$f":"SUM(Y56:AB56)","v":0},{"$f":"IF(ISERROR(Z56/W56),0,(Z56/W56)*100)","v":0},null,100,null,"1° HPV Niños cumplen 11 a en año en curso",25,25,null,null,null,null,null,null,null,6,null,null,4,null,null,0,0,null,null,0,{"$f":"SUM(AV56:BC56)","v":4},null,{"$f":"IF(ISERROR(AY56/AS56),0,(AY56/AS56)*100)","v":0},null,"95% AL 1° SEM",null,"Niños < 2 a Riesgo BP",null,null,null,null,null,null,null,null,{"$f":"IF(ISERROR(AR22/AJ22),0,(AR22/AJ22)*100)","v":0},null,null,null,null,"TAES de TBC",null,null,null,null,null,null,null,null,null,{"$f":"IF(ISERROR(K32/I32),0,(K32/I32)*100)","v":0},null,100]
["Flias Migr. desde AO",null,null,null,null,null,null,{"$f":"IF(ISERROR(AC12/A12),0,(AC12/A12)*100)","v":0},"Casas Tratadas Dengue",null,null,null,null,null,{"$f":"IF(ISERROR(BV45/BR45),0,(BV45/BR45)*100)","v":0},100,null,"2° TV","A HA 1 año",null,"A HA 1 año","A HA 1 año",null,null,0,0,0,0,null,{"$f":"SUM(Y57:AB57)","v":0},{"$f":"IF(ISERROR(Z57/W56),0,(Z57/W56)*100)","v":0},null,null,null,"Emb. con dTpa",null,null,null,null,null,null,null,null,null,5,null,null,0,null,null,0,0,null,null,0,{"$f":"SUM(AV57:BC57)","v":0},null,{"$f":"IF(ISERROR(AY57/AS57),0,(AY57/AS57)*100)","v":0},null,null,null,"Niños < 2 a Riesgo AP",null,null,null,null,null,null,null,null,{"$f":"IF(ISERROR(AT22/AJ22),0,(AT22/AJ22)*100)","v":0},null,null,null,null,"Ptes. con tratamiento por Chagas",null,null,null,null,null,null,null,null,null,{"$f":"S31","v":0}]
["Flias Migr. hacia el AO",null,null,null,null,null,null,{"$f":"IF(ISERROR(AA12/A12),0,(AA12/A12)*100)","v":0},"Superv Int. a la Familia",null,null,null,null,null,{"$f":"IF(ISERROR((CH14*100)/BL14),0,((CH14*100)/BL14))","v":0},20,null,"Unica Dosis A HA",null,null,null,null,null,null,0,0,0,0,null,{"$f":"SUM(Y58:AB58)","v":0},{"$f":"IF(ISERROR(Z58/W56),0,(Z58/W56)*100)","v":0},null,null,null,"Emb. con Vac Sinsicial",null,null,null,null,null,null,null,null,null,null,null,null,0,null,null,0,0,null,null,0,{"$f":"SUM(AV58:BC58)","v":0},null,{"$f":"IF(ISERROR(AY58/AS57),0,(AY58/AS57)*100)","v":0},null,100,null,"Niños < 2 Recup BP",null,null,null,null,null,null,null,null,{"$f":"IF(ISERROR(AV22/K79),0,(AV22/K79)*100)","v":0},null,100,null,null,"Casas positivas Chagas",null,null,null,null,null,null,null,null,null,{"$f":"IF(ISERROR(BE45/BB45),0,(BE45/BB45)*100)","v":0},null,0]
["Flias con planes sociales",null,null,null,null,null,null,{"$f":"IF(ISERROR(AF12/D12),0,(AF12/D12)*100)","v":0},"Superv Prof. Flias Prio (3v)",null,null,null,null,null,{"$f":"IF(ISERROR(CH15/(BB14+BE14)),0,(CH15/(BB14+BE14))*100)","v":0},70,null,"Ref Neumococo 1 año","Ref Neumoc 1 año",null,"Ref Neumoc 1 año","Ref Neumoc 1 año",null,null,0,0,0,0,null,{"$f":"SUM(Y59:AB59)","v":0},{"$f":"IF(ISERROR(Z59/W56),0,(Z59/W56)*100)","v":0},null,null,null,"dT  Vigente > 65 a",null,null,null,null,null,null,null,null,null,19,null,null,0,null,null,0,0,null,null,0,{"$f":"SUM(AV59:BC59)","v":0},null,{"$f":"IF(ISERROR(AY59/AS59),0,(AY59/AS59)*100)","v":0},null,100,null,"Niños < 2 Recup AP",null,null,null,null,null,null,null,null,{"$f":"IF(ISERROR(AY22/K81),0,(AY22/K81)*100)","v":0},null,100,null,null,"Casas Positivas Aedes",null,null,null,null,null,null,null,null,null,{"$f":"IF(ISERROR(BR45/BN45),0,(BR45/BN45)*100)","v":0},null," "]
[null,null,null,null,null,null,null,null,"% Activ Prom.Salud Comunitarias",null,null,null,null,null,{"$f":"IF(ISERROR(CH45/CH43),0,(CH45/CH43)*100)","v":0},100,null,"Ref. Meningococo 1 año","Ref Cuádruple 1 año",null,"Ref Cuádruple 1 año","Ref Cuádruple 1 año",null,null,0,0,0,0,null,{"$f":"SUM(Y60:AB60)","v":0},{"$f":"IF(ISERROR(Z60/W56),0,(Z60/W56)*100)","v":0},null,null,null,"Neumo 20 > 65 años",null,null,null,null,null,null,null,null,null,null,null,null,0,null,null,0,0,null,null,0,{"$f":"SUM(AV60:BC60)","v":0},null,{"$f":"IF(ISERROR(AY60/AS59),0,(AY60/AS59)*100)","v":0},null,null,null,"Niños 2 a 5 Riesgo BP",null,null,null,null,null,null,null,null,{"$f":"IF(ISERROR(AR23/AJ23),0,(AR23/AJ23)*100)","v":0},null,null,null,null,"UROCS 1/SEC",null,null,null,null,null,null,null,null,null,0,null,"1/SEC"]
["Flias. c/Antec Mort Mat Inf",null,null,null,null,null,null,{"$f":"IF(ISERROR(AV10/D12),0,(AV10/D12)*100)","v":0},null,null,null,null,null,null,null,null,null,"Unica Dosis Varicela","Ref SOT 1 año",null,"Ref SOT 1 año","Ref SOT 1 año",null,null,0,0,0,0,null,{"$f":"SUM(Y61:AB61)","v":0},{"$f":"IF(ISERROR(Z61/W56),0,(Z61/W56)*100)","v":0},null,null,null,"Aplic. Cargadas a Nomivac",null,null,null,null,null,null,null,null,null,0,null,null,null,null,null,null,null,null,null,null,null,null,null,null,null,null,null,null,null,null,null,null,null,null,null,null,null,null,null,null,"Flias con Huerta",null,null,null,null,null,null,null,null,null,{"$f":"IF(ISERROR(AL12/D12),0,(AL12/D12)*100)","v":0}]
["F con 3 o más <6 años",null,null,null,null,null,null,{"$f":"IF(ISERROR(BI10/D12),0,(BI10/D12)*100)","v":0}," DE IMPACTO",null,null,null,null,"%",null,"META",null,"4° Dosis o 1° Ref. Pentavalente",null,null,null,null,null,null,0,0,0,0,null,{"$f":"SUM(Y62:AB62)","v":0},{"$f":"IF(ISERROR(Z62/W56),0,(Z62/W56)*100)","v":0},null,null,null,"Total Aplic /AS",null,null,null,null,null,null,null,null,null,0,null,null,null,null,null,null,null,null,null,null,null,null,null,null,null,null,"Niños 2 a 5 Riesgo AP",null,null,null,null,null,null,null,null,{"$f":"IF(ISERROR(AT23/AJ23),0,(AT23/AJ23)*100)","v":0},null,null,null,null,"Flias con Granja",null,null,null,null,null,null,null,null,null,{"$f":"IF(ISERROR(AP12/D12),0,(AP12/D12)*100)","v":0}]
["Flias con Hacinamiento",null,null,null,null,null,null,{"$f":"IF(ISERROR(BL10/D12),0,(BL10/D12)*100)","v":0},"Agua Seg (Trat Red + Viv)",null,null,null,null,{"$f":"IF(ISERROR((AP41+AR41)/D12),0,((AP41+AR41)/D12)*100)","v":0},null,100,null,"2° AG 6m a 24m",null,null,null,null,{"$f":"D91+F91+G91+H91","v":0},null,0,0,0,0,null,{"$f":"SUM(Y63:AB63)","v":0},{"$f":"IF(ISERROR(Z63/W63),0,(Z63/W63)*100)","v":0},null," ",null,"VAC COVID APLIC EN LA RONDA",null,null,null,null,null,null,null,null,null,0,null,null,null,null,null,null,null,null,null,null,null,null,null,null,null,null,"U) A llenar en 1° Ronda del Año"]
["Flias con Analfabet",null,null,null,null,null,null,{"$f":"IF(ISERROR(BO10/D12),0,(BO10/D12)*100)","v":0},"DSE (Arrastre y letrinas)",null,null,null,null,{"$f":"IF(ISERROR((AV41+AX41+AZ41+BB41+BD41)/D12),0,((AV41+AX41+AZ41+BB41+BD41)/D12)*100)","v":0},null,100,null,"R) PRODUCCION Y RENDIMIENTO",null,null,null,null,null,null,null,null,null,null,null,null,null,null,null,null,null,null,null,null,null,null,null,null,null,null,null,null,null,null,null,null,null,null,null,null,null,null,null,null,null,null,null,"Piso",null,null,null,null,"Techo",null,null,null,null,"Paredes",null,null,null,null,null,null,null,null,null,"Cocina",null,null,null,null,"Tenencia"]
["Flias con Suicidio",null,null,null,null,null,null,{"$f":"IF(ISERROR(BT11/D12),0,(BT11/D12)*100)","v":0},"TSB (Recolección + Pozo)",null,null,null,null,{"$f":"IF(ISERROR((BH41+BK41)/D12),0,((BH41+BK41)/D12)*100)","v":0},null,100,null,"DIAS A TRAB. /RONDA",null,null,"DIAS INCLEM CLIMAT.",null,null,"DIAS Y NROS DE ARTICULOS TOMADOS",null,null,null,"CAPACITACIONES Y OTRAS ACTIVIDADES",null,null,null,null,null,null,null,null,null,null,null,null,null,null,null,null,null,null,null,null,null,null,"DIAS TRABAJADOS\nEN TERRENO",null,null,null,null,"PROM. DIARIO DE FLIAS VISIT.",null,null,null,null,null,"Mosaico/B.",null,null,null,0,"Losa",null,null,0,null,"Ladrillo",null,null,0,null,"Madera",null,null,null,0,"Gas",null,null,0,null,"Segura",null,null,0]
["Flias c /tentativa suicidio",null,null,null,null,null,null,{"$f":"IF(ISERROR(BV11/D12),0,(BV11/D12)*100)","v":0},"Emb Adolescente",null,null,null,null,{"$f":"IF(ISERROR(L20/J20),0,(L20/J20)*100)","v":0},null,null,null,null,null,null,null,null,null,0,null,null,null,0,null,null,null,null,null,null,null,null,null,null,0,null,null,null,null,null,null,null,null,null,null,null,null,null,null,null,null,null,null,null,null,null,null,"Cemento",null,null,null,0,"Chapa\nZinc",null,null,0,null,"Bloque",null,null,0,null,"Quincho",null,null,null,0,"Leña/\nCarb",null,null,0,null,"Inseg.",null,null,0]
["Flias con Alcoholismo",null,null,null,null,null,null,{"$f":"IF(ISERROR(BY11/D12),0,(BY11/D12)*100)","v":0},"Niños <2 Bajo Peso/MBP",null,null,null,null,{"$f":"IF(ISERROR((AL22+AN22)/(AJ22+AP22+AL22+AN22)),0,((AL22+AN22)/(AJ22+AP22+AL22+AN22))*100)","v":0},null,null,null,null,null,null,null,null,null,0,null,null,null,0,null,null,null,null,null,null,null,null,null,null,0,null,null,null,null,null,null,null,null,null,null,null,null,null,null,null,null,null,null,null,null,null,null,"Tierra",null,null,null,0,"Paja/\nBarro",null,null,0,null,"Adobe",null,null,0,null,"Carton/Pl",null,null,null,0,"Otros",null,null,0,null,"Hac",null,null,0,null,null,null,5]
["Flias c/ otras Adicciones",null,null,null,null,null,null,{"$f":"IF(ISERROR(CC11/D12),0,(CC11/D12)*100)","v":0},"Niños <2 a AP",null,null,null,null,{"$f":"IF(ISERROR(AP22/(AJ22+AP22+AL22+AN22)),0,(AP22/(AJ22+AP22+AL22+AN22))*100)","v":0},null,null,null,0,null,null,0,null,null,0,null,null,null,0,null,null,null,null,null,null,null,null,null,null,0,null,null,null,null,null,null,null,null,null,null,null,0,null,null,null,null,{"$f":"IF(ISERROR(G12/AY68),0,(G12/AY68))","v":0},null,null,null,null,null,"Otros",null,null,null,0,"Otros",null,null,0,null,"Piedra",null,null,0,null,"Otro",null,null,null,0,"Helad.",null,null,0]
["Flias con VIF",null,null,null,null,null,null,{"$f":"IF(ISERROR(CF11/D12),0,(CF11/D12)*100)","v":0},"Niños < 2 baja y MBT",null,null,null,null,{"$f":"IF(ISERROR((AZ22+BB22)/(AJ22+AP22+AL22+AN22)),0,((AZ22+BB22)/(AJ22+AP22+AL22+AN22))*100)","v":0},null,null,null,"S) DETALLE DE LAS DEFUNCIONES (Todas las del Sector)",null,null,null,null,null,null,null,null,null,null,null,null,null,null,null,null,null,null,null,null,null,null,null,null,null,null,null,null,null,null,null,null,null,null,null,null,null,null,null,null,null,null,null,"Agua",null,"Corriente a Domic",null,null,"Grifo Terr",null,null,"Grifo Público",null,null,"Bomba",null,null,"Pozo",null,null,null,"Camión Aguatero / Cisterna",null,"Vertiente/Rio/Aceq",null,null,"Laguna",null,null,"Lluvia/Aljibe"]
["Flias con Diabetes",null,null,null,null,null,null,{"$f":"IF(ISERROR(AB31/D12),0,(AB31/D12)*100)","v":0},"Niños 2 a 5 Bajo Peso/MBP",null,null,null,null,{"$f":"IF(ISERROR((AL23+AN23)/(AJ23+AP23+AL23+AN23)),0,((AL23+AN23)/(AJ23+AP23+AL23+AN23))*100)","v":0},null,null,null,"APELLIDO Y NOMBRE",null,null,null,null,null,null,"DOMICILIO",null,null,null,null,null,null,null,null,"NACIMIENTO",null,null,null,null,"DEFUNCION",null,null,null,"PESO\nAL NACER",null,null,null,"CAUSA",null,null,null,null,null,null,null,null,null,"CLASIFICAC."]
["Flias con Hipertensión",null,null,null,null,null,null,{"$f":"IF(ISERROR(AB32/D12),0,(AB32/D12)*100)","v":0},"Niños 2 a 5 AP",null,null,null,null,{"$f":"IF(ISERROR(AP23/(AJ23+AP23+AL23+AN23)),0,(AP23/(AJ23+AP23+AL23+AN23))*100)","v":0}]
[]
["Personas con otras enfermedades crónicas al cuidado de niños",null,null,null,null,null,null,{"$f":"IF(ISERROR(AB33/D12),0,(AB33/D12)*100)","v":0},"Niños 2 a 5 baja y MBT",null,null,null,null,{"$f":"IF(ISERROR((AZ23+BB23)/(AJ23+AP23+AL23+AN23)),0,((AZ23+BB23)/(AJ23+AP23+AL23+AN23))*100)","v":0},null,null,null,null,null,null,null,null,null,null,null,null,null,null,null,null,null,null,null,null,null,null,null,null,null,null,null,null,null,null,null,null,null,null,null,null,null,null,null,null,null,null,null,null,null,null,null,null,null,0,null,null,0,null,null,0,null,null,0,null,null,0,null,null,null,0,null,0,null,null,0,null,null,0]
["Pers c/O Social/Pob total",null,null,null,null,null,null,{"$f":"IF(ISERROR(CI27/CC28),0,(CI27/CC28)*100)","v":0}]
[]
[]
[]
[]
["BP+MBP Ronda Anterior Men2a: ",null,null,null,null,null,null,null,null,null,0]
["BP+MBP Ronda Anterior 2 a 6a: ",null,null,null,null,null,null,null,null,null,1]
["AP Ronda Anterior Men2a: ",null,null,null,null,null,null,null,null,null,0]
["AP Ronda Anterior 2 a 6a: ",null,null,null,null,null,null,null,null,null,2]
[]
[]
[]
[]
[]
["0 a 5m",null,null,"6 a 11m",null,null,"1 AÑO",null,"2 AÑOS",null,"3 AÑOS",null,"4 AÑOS",null,null,"5 AÑOS",null,null,"6 AÑOS",null,null,"7 A 9 AÑOS",null,null,null,"10 AÑOS",null,"11 AÑOS",null,null,"12 A 14",null,null,null,null,null,"15 A 19",null,null,"20 A 24",null,null,null,"25 A 29",null,null,null,"30 A 34",null,null,null,"35 A 39",null,null,null,"40 A 44",null,null,null,null,"45 A 49",null,null,null,"50 A 54",null,null,null,"55 A 59",null,null,null,"60 A 64",null,null,null,"65 y +",null,null,null,"TOTAL",null,null,null,null,"MUJERES\n10 A 49"]
["M",null,"F","M",null,"F","M","F","M","F","M","F","M",null,"F","M",null,"F","M",null,"F","M",null,"F",null,"M","F","M",null,"F","M",null,null,"F",null,null,"M","F",null,"M",null,"F",null,"M",null,null,"F","M",null,null,"F","M",null,"F",null,"M",null,null,"F",null,"M",null,"F",null,"M",null,"F",null,"M",null,"F",null,"M",null,"F",null,"M",null,null,"F","M",null,"F"]
[0,null,0,0,null,0,0,0,0,0,0,0,0,null,0,0,null,0,0,null,0,0,null,0,null,0,0,0,null,0,0,null,null,0,null,null,0,0,null,0,null,0,null,0,null,null,0,0,null,null,0,0,null,0,null,0,null,null,0,null,0,null,0,null,0,null,0,null,0,null,0,null,0,null,0,null,0,null,null,0,{"$f":"SUM(A90,D90,G90,I90,K90,M90,P90,S90,V90,Z90,AB90,AE90,AK90,AN90,AR90,AV90,AZ90,BD90,BI90,BM90,BQ90,BU90,BY90)","v":0},null,{"$f":"SUM(C90,F90,H90,J90,L90,O90,R90,U90,X90,AA90,AD90,AH90,AL90,AP90,AU90,AY90,BB90,BG90,BK90,BO90,BS90,BW90,CB90)","v":0},null,null,{"$f":"SUM(AA90,AD90,AH90,AL90,AP90,AU90,AY90,BB90,BG90,BK90)","v":0}]
[{"$f":"SUM(A90:C90)","v":0},null,null,{"$f":"SUM(D90,F90)","v":0},null,null,{"$f":"SUM(G90,H90)","v":0},null,{"$f":"SUM(I90,J90)","v":0},null,{"$f":"SUM(K90,L90)","v":0},null,{"$f":"SUM(M90,O90)","v":0},null,null,{"$f":"SUM(P90,R90)","v":0},null,null,{"$f":"SUM(S90,U90)","v":0},null,null,{"$f":"SUM(V90,X90)","v":0},null,null,null,{"$f":"SUM(Z90,AA90)","v":0},null,{"$f":"SUM(AB90,AD90)","v":0},null,null,{"$f":"SUM(AE90,AH90)","v":0},null,null,null,null,null,{"$f":"SUM(AK90,AL90)","v":0},null,null,{"$f":"SUM(AN90,AP90)","v":0},null,null,null,{"$f":"SUM(AR90,AU90)","v":0},null,null,null,{"$f":"SUM(AV90,AY90)","v":0},null,null,null,{"$f":"SUM(AZ90,BB90)","v":0},null,null,null,{"$f":"SUM(BD90,BG90)","v":0},null,null,null,null,{"$f":"SUM(BI90,BK90)","v":0},null,null,null,{"$f":"SUM(BM90,BO90)","v":0},null,null,null,{"$f":"SUM(BQ90,BS90)","v":0},null,null,null,{"$f":"SUM(BU90,BW90)","v":0},null,null,null,{"$f":"SUM(BY90,CB90)","v":0},null,null,null,{"$f":"A91+D91+G91+I91+K91+M91+P91+S91+V91+Z91+AB91+AE91+AK91+AN91+AR91+AV91+AZ91+BD91+BI91+BM91+BQ91+BU91+BY91","v":0}]
["Mejor Población: 1° - 2019",null,null,null,null,null,null,null,null,null,null,null,null,null,null,null,null,null,null,null,null,null,null,null,null,null,null,null,null,null,null,null,null,null,null,null,null,null,null,null,null,null,null,null,null,null,null,null,null,null,null,null,null,null,null,null,null,null,null,null,null,null,null,null,null,null,null,null,null,null,null,null,null,null,null,null,null,null,null,null,{"$f":"SUM(CC91,CE91)","v":0}]
["Cobertura: 1%"]

{"sheet":"EL GRITAO","index":12,"n_rows":93,"n_cols":94,"rows_kept":93,"cut":false,"hidden":false,"merged":[[62,17,62,21],[62,22,62,23],[62,27,62,28],[62,30,62,31],[89,85,90,85],[90,0,90,2],[90,3,90,5],[90,6,90,7],[90,8,90,9],[90,10,90,11],[90,12,90,14],[90,15,90,17],[90,18,90,20],[90,21,90,24],[89,70,89,71],[89,72,89,73],[89,74,89,75],[89,76,89,78],[89,80,89,81],[89,82,89,84],[89,58,89,59],[89,51,89,52],[89,53,89,54],[89,55,89,57],[89,23,89,24],[89,27,89,28],[89,30,89,32],[89,33,89,35],[89,37,89,38],[89,39,89,40],[90,72,90,75],[90,76,90,79],[90,80,90,84],[90,47,90,50],[90,51,90,54],[90,55,90,59],[90,60,90,63],[90,64,90,67],[90,68,90,71],[90,25,90,26],[90,27,90,29],[90,30,90,35],[90,36,90,38],[90,39,90,42],[90,43,90,46],[89,0,89,1],[89,3,89,4],[89,12,89,13],[89,15,89,16],[89,18,89,19],[89,21,89,22],[88,62,88,63],[88,64,88,65],[88,66,88,67],[88,68,88,69],[88,70,88,71],[88,72,88,73],[88,47,88,49],[88,51,88,52],[88,53,88,54],[88,55,88,57],[88,58,88,59],[88,60,88,61],[88,30,88,32],[88,33,88,35],[88,37,88,38],[88,39,88,40],[88,41,88,42],[88,43,88,45],[89,60,89,61],[89,62,89,63],[89,64,89,65],[89,66,89,67],[89,68,89,69],[89,41,89,42],[89,43,89,45],[89,47,89,49],[87,80,87,84],[87,85,88,85],[88,0,88,1],[88,3,88,4],[88,12,88,13],[88,15,88,16],[88,18,88,19],[88,21,88,22],[88,23,88,24],[88,27,88,28],[87,55,87,59],[87,60,87,63],[87,64,87,67],[87,68,87,71],[87,72,87,75],[87,76,87,79],[87,30,87,35],[87,36,87,38],[87,39,87,42],[87,43,87,46],[87,47,87,50],[87,51,87,54],[87,12,87,14],[87,15,87,17],[87,18,87,20],[87,21,87,24],[87,25,87,26],[87,27,87,29],[88,74,88,75],[88,76,88,78],[88,80,88,81],[88,82,88,84],[75,17,75,23],[75,24,75,32],[75,38,75,41],[75,42,75,45],[75,46,75,55],[87,0,87,2],[87,3,87,5],[87,6,87,7],[87,8,87,9],[87,10,87,11],[73,42,73,45],[73,46,73,55],[73,56,73,60],[74,17,74,23],[74,24,74,32],[74,38,74,41],[74,42,74,45],[74,46,74,55],[72,75,73,78],[72,79,73,80],[72,81,73,83],[72,84,73,86],[72,87,73,89],[73,0,73,6],[73,17,73,23],[73,24,73,32],[73,33,73,37],[73,38,73,41],[72,46,72,55],[72,56,72,60],[72,63,73,65],[72,66,73,68],[72,69,73,71],[72,72,73,74],[71,56,71,60],[72,0,72,6],[72,8,73,12],[72,13,73,14],[72,15,73,16],[72,17,72,23],[72,24,72,32],[72,33,72,37],[72,38,72,41],[72,42,72,45],[68,87,71,89],[68,69,71,71],[68,72,71,74],[68,75,71,78],[68,79,71,80],[68,81,71,83],[71,46,71,55],[69,46,69,55],[69,56,69,60],[70,0,71,6],[70,7,71,7],[70,8,71,12],[70,13,71,14],[70,15,71,16],[70,17,70,23],[70,24,70,32],[70,33,70,37],[69,0,69,6],[69,8,69,12],[69,13,69,14],[69,15,69,16],[69,17,69,23],[69,24,69,32],[69,33,69,37],[69,38,69,41],[69,42,69,45],[68,84,71,86],[67,81,67,83],[67,84,67,85],[68,0,68,6],[68,8,68,12],[68,13,68,14],[68,15,68,16],[68,17,68,60],[68,61,73,62],[68,63,71,65],[68,66,71,68],[67,61,67,64],[67,66,67,68],[67,69,67,70],[67,71,67,73],[67,74,67,75],[67,76,67,79],[67,20,67,22],[67,23,67,26],[67,27,67,37],[67,38,67,49],[67,50,67,54],[67,55,67,60],[70,38,70,41],[70,42,70,45],[70,46,70,55],[70,56,70,60],[71,17,71,23],[71,24,71,32],[71,33,71,37],[71,38,71,41],[71,42,71,45],[66,69,66,70],[66,71,66,73],[66,74,66,75],[65,76,65,79],[65,81,65,83],[65,84,65,85],[65,86,65,88],[66,0,66,6],[66,8,66,12],[66,13,66,14],[66,15,66,16],[66,23,66,26],[66,27,66,37],[65,15,65,16],[65,23,65,26],[65,27,65,37],[65,38,65,49],[64,55,66,60],[64,61,64,64],[64,66,64,68],[64,69,64,70],[64,74,64,75],[64,86,64,88],[64,76,64,79],[65,61,65,64],[65,66,65,68],[65,69,65,70],[65,74,65,75],[66,76,66,79],[66,81,66,83],[66,84,66,85],[63,86,63,89],[64,0,64,6],[64,8,64,12],[64,13,64,14],[64,15,64,16],[64,17,66,19],[64,20,66,22],[64,23,64,26],[64,27,64,49],[64,50,66,54],[65,0,65,6],[65,8,65,12],[65,13,65,14],[66,86,67,88],[66,89,67,89],[67,0,67,6],[67,8,67,12],[67,13,67,14],[67,15,67,16],[67,17,67,19],[66,38,66,49],[66,61,66,64],[66,66,66,68],[63,0,63,6],[63,8,63,12],[63,13,63,14],[63,15,63,16],[63,17,63,60],[63,61,63,65],[63,66,63,70],[63,71,63,80],[63,81,63,85],[62,0,62,6],[62,8,62,12],[62,13,62,14],[62,15,62,16],[62,32,62,33],[62,34,62,43],[64,81,64,83],[64,84,64,85],[61,87,61,89],[61,32,61,33],[61,34,61,43],[61,44,61,60],[62,44,62,60],[60,87,60,89],[61,0,61,6],[61,8,61,12],[61,13,61,14],[61,15,61,16],[60,0,60,6],[60,17,60,21],[60,27,60,28],[60,30,60,31],[60,34,60,43],[60,44,60,60],[60,75,60,84],[60,85,60,86],[62,61,62,89],[58,75,58,84],[58,85,58,86],[59,61,60,69],[59,70,60,71],[59,72,60,74],[59,75,59,84],[58,34,58,43],[58,44,59,46],[58,47,58,49],[58,51,58,53],[58,55,58,56],[58,57,58,58],[59,55,59,56],[59,57,59,58],[61,61,61,69],[61,70,61,71],[61,72,61,74],[61,75,61,84],[61,85,61,86],[57,87,57,89],[58,0,59,6],[58,7,59,7],[58,8,58,13],[58,15,58,16],[58,17,58,21],[58,27,58,28],[58,30,58,31],[57,55,57,56],[57,57,57,58],[57,59,57,60],[57,61,57,69],[57,70,57,71],[57,72,57,74],[59,85,59,86],[59,87,59,89],[57,47,57,49],[57,51,57,53],[58,87,58,89],[59,8,60,13],[59,14,60,14],[59,15,60,16],[59,17,59,21],[59,27,59,28],[59,30,59,31],[59,34,59,43],[59,47,59,49],[59,51,59,53],[58,59,59,60],[58,61,58,69],[58,70,58,71],[58,72,58,74],[56,17,56,21],[56,27,56,28],[56,30,56,31],[56,34,56,43],[56,44,57,46],[56,47,56,49],[55,59,56,60],[55,61,55,69],[55,70,55,71],[55,72,55,74],[55,75,55,84],[55,85,55,86],[56,75,56,84],[56,85,56,86],[55,34,55,43],[55,44,55,46],[55,47,55,49],[55,51,55,53],[55,55,55,56],[55,57,55,58],[57,75,57,84],[57,85,57,86],[55,22,61,23],[61,17,61,21],[61,27,61,28],[61,30,61,31],[55,0,55,6],[55,8,55,13],[55,15,55,16],[55,17,55,21],[55,27,55,28],[55,30,55,31],[55,32,60,33],[54,47,54,49],[54,51,54,53],[54,55,54,56],[54,57,54,58],[54,61,54,69],[54,70,54,71],[56,87,56,89],[57,0,57,6],[57,8,57,13],[57,15,57,16],[57,17,57,21],[57,27,57,28],[57,30,57,31],[57,34,57,43],[56,51,56,53],[56,55,56,56],[56,57,56,58],[56,61,56,69],[56,70,56,71],[56,72,56,74],[55,87,55,89],[56,0,56,6],[56,8,56,13],[56,15,56,16],[53,87,53,89],[54,0,54,6],[54,8,54,13],[54,15,54,16],[54,17,54,21],[54,27,54,28],[54,30,54,31],[54,34,54,43],[54,44,54,46],[53,57,53,58],[53,59,54,60],[53,61,53,69],[53,70,53,71],[53,72,53,74],[53,75,53,84],[54,72,54,74],[54,75,54,84],[54,85,54,86],[54,87,54,89],[51,75,51,84],[51,85,51,86],[51,87,51,89],[52,0,52,6],[52,8,52,13],[52,15,52,16],[52,17,52,21],[52,27,52,28],[52,30,52,31],[51,51,51,53],[51,55,51,56],[51,57,51,58],[51,59,52,60],[51,61,51,69],[51,70,51,71],[52,61,52,69],[52,70,52,71],[52,72,52,74],[52,75,52,84],[52,85,52,86],[52,87,52,89],[52,34,52,43],[52,44,53,46],[52,47,52,49],[52,51,52,53],[52,55,52,56],[52,57,52,58],[53,34,53,43],[53,47,53,49],[53,51,53,53],[53,55,53,56],[53,85,53,86],[51,0,51,6],[51,8,51,13],[51,15,51,16],[51,17,51,21],[51,27,51,28],[51,30,51,31],[51,34,51,43],[51,47,51,49],[50,34,50,43],[50,47,50,49],[50,51,50,53],[50,55,50,56],[50,57,50,58],[50,61,50,69],[49,72,49,74],[48,44,51,46],[48,47,48,49],[48,51,48,53],[49,47,49,49],[49,51,49,53],[50,30,50,31],[50,32,54,33],[51,72,51,74],[53,0,53,6],[53,8,53,13],[53,15,53,16],[53,17,53,21],[53,27,53,28],[53,30,53,31],[48,85,48,86],[48,87,48,89],[49,0,49,5],[49,8,49,13],[49,15,49,16],[49,17,49,21],[49,27,49,28],[49,30,49,31],[49,34,49,43],[48,55,48,56],[48,57,48,58],[48,59,50,60],[48,61,48,69],[48,70,48,71],[48,72,48,74],[49,55,49,56],[49,57,49,58],[49,61,49,69],[49,70,49,71],[48,30,48,31],[48,32,49,33],[48,34,48,43],[50,70,50,71],[50,72,50,74],[47,72,47,74],[47,75,47,84],[47,85,47,86],[47,87,47,89],[48,0,48,5],[48,8,48,13],[48,15,48,16],[48,17,48,21],[48,22,49,23],[48,27,48,28],[47,51,47,53],[47,55,47,56],[47,57,47,58],[47,59,47,60],[47,61,47,69],[47,70,47,71],[47,27,47,28],[47,30,47,31],[47,32,47,33],[47,34,47,43],[47,44,47,46],[47,47,47,49],[49,75,50,84],[49,85,50,86],[49,87,50,89],[50,0,50,6],[50,8,50,13],[50,15,50,16],[50,17,50,21],[50,22,54,23],[50,27,50,28],[48,75,48,84],[46,70,46,71],[46,72,46,74],[46,75,46,84],[46,85,46,86],[46,87,46,89],[47,0,47,5],[47,8,47,13],[47,15,47,16],[47,17,47,21],[47,22,47,23],[46,0,46,5],[46,8,46,13],[46,15,46,16],[46,17,46,33],[46,34,46,60],[46,61,46,69],[44,65,44,68],[44,69,44,72],[44,73,44,76],[44,77,44,84],[44,85,44,89],[45,0,45,89],[42,23,44,23],[42,24,44,25],[42,26,44,27],[42,28,44,29],[42,30,44,31],[42,32,44,33],[42,17,44,17],[42,18,44,18],[42,19,44,19],[42,20,44,20],[42,73,43,76],[42,77,43,84],[42,85,43,89],[44,41,44,45],[44,46,44,48],[44,49,44,50],[44,51,44,52],[44,53,44,55],[44,56,44,60],[44,61,44,64],[42,51,43,52],[42,53,43,55],[42,56,43,60],[42,61,43,64],[42,65,43,68],[42,69,43,72],[42,34,44,35],[42,36,44,38],[42,39,44,40],[42,41,43,45],[42,46,43,48],[42,49,43,50],[42,21,44,21],[42,22,44,22],[42,10,44,11],[42,12,44,12],[42,13,44,13],[42,14,44,14],[42,15,44,15],[42,16,44,16],[40,86,40,89],[41,41,41,52],[41,53,41,64],[41,65,41,76],[41,77,41,89],[42,0,44,1],[42,2,44,3],[42,4,44,5],[42,6,44,7],[42,8,44,9],[40,66,40,68],[40,69,40,71],[40,72,40,75],[40,76,40,79],[40,80,40,81],[40,82,40,85],[40,51,40,52],[40,53,40,54],[40,55,40,56],[40,57,40,58],[40,59,40,61],[40,62,40,65],[40,36,41,38],[40,39,41,40],[40,41,40,42],[40,43,40,45],[40,47,40,48],[40,49,40,50],[40,24,41,25],[40,26,41,27],[40,28,41,29],[40,30,41,31],[40,32,41,33],[40,34,41,35],[40,18,41,18],[40,19,41,19],[40,20,41,20],[40,21,41,21],[40,22,41,22],[40,23,41,23],[40,12,41,12],[40,13,41,13],[40,14,41,14],[40,15,41,15],[40,16,41,16],[40,17,41,17],[40,0,41,1],[40,2,41,3],[40,4,41,5],[40,6,41,7],[40,8,41,9],[40,10,41,11],[38,66,39,68],[38,69,39,71],[38,72,39,75],[38,76,39,79],[39,12,39,13],[39,14,39,15],[39,16,39,17],[39,18,39,19],[39,47,39,48],[39,49,39,50],[38,46,39,46],[38,47,38,52],[38,53,38,56],[38,57,39,58],[38,59,39,61],[38,62,39,65],[39,51,39,52],[39,53,39,54],[39,55,39,56],[38,24,39,27],[38,28,39,31],[38,32,39,35],[38,36,39,40],[38,41,39,42],[38,43,39,45],[38,0,39,3],[36,41,36,68],[36,69,36,89],[37,41,37,46],[37,47,37,58],[37,59,37,68],[37,69,37,79],[37,80,39,81],[37,82,39,85],[37,86,39,89],[34,10,34,11],[34,12,35,14],[34,21,35,26],[34,27,35,32],[35,3,35,5],[35,6,35,7],[35,8,35,9],[35,10,35,11],[34,0,35,2],[34,3,34,5],[34,6,34,7],[34,8,34,9],[31,21,31,26],[31,27,31,29],[31,30,31,32],[32,0,32,2],[32,3,32,4],[32,8,32,9],[32,10,32,11],[32,21,33,26],[32,27,33,29],[32,30,33,32],[38,4,39,7],[38,8,39,11],[38,12,38,19],[38,20,39,21],[38,22,39,23],[36,0,37,40],[30,21,30,26],[30,27,30,29],[30,30,30,32],[31,0,31,2],[31,3,31,4],[31,8,31,9],[31,10,31,11],[31,12,32,14],[31,15,32,17],[31,18,32,20],[29,30,29,32],[29,33,35,89],[30,0,30,2],[30,3,30,5],[30,6,30,7],[30,8,30,9],[30,10,30,11],[30,12,30,14],[30,15,30,17],[30,18,30,20],[29,0,29,2],[29,3,29,7],[29,8,29,14],[29,15,29,20],[29,21,29,26],[29,27,29,29],[33,0,33,2],[33,3,33,7],[33,8,33,11],[33,12,33,14],[33,15,35,17],[33,18,35,20],[27,64,27,67],[27,68,27,71],[27,72,27,75],[27,76,27,79],[27,80,27,84],[28,0,28,14],[28,15,28,20],[28,21,28,32],[27,39,27,42],[27,43,27,46],[27,47,27,50],[27,51,27,54],[27,55,27,59],[27,60,27,63],[27,18,27,20],[27,21,27,24],[27,25,27,26],[27,27,27,29],[27,30,27,35],[27,36,27,38],[26,85,27,85],[26,86,27,87],[26,88,27,89],[27,0,27,2],[27,3,27,5],[27,6,27,7],[27,8,27,9],[27,10,27,11],[27,12,27,14],[27,15,27,17],[26,70,26,71],[26,72,26,73],[26,74,26,75],[26,76,26,78],[26,80,26,81],[26,82,26,84],[26,58,26,59],[26,60,26,61],[26,62,26,63],[26,64,26,65],[26,66,26,67],[26,68,26,69],[26,41,26,42],[26,43,26,45],[26,47,26,49],[26,51,26,52],[26,53,26,54],[26,55,26,57],[26,23,26,24],[26,27,26,28],[26,30,26,32],[26,33,26,35],[26,37,26,38],[26,39,26,40],[26,0,26,1],[26,3,26,4],[26,12,26,13],[26,15,26,16],[26,18,26,19],[26,21,26,22],[25,64,25,65],[25,66,25,67],[25,68,25,69],[25,70,25,71],[25,72,25,73],[25,74,25,75],[25,51,25,52],[25,53,25,54],[25,55,25,57],[25,58,25,59],[25,60,25,61],[25,62,25,63],[25,33,25,35],[25,37,25,38],[25,39,25,40],[25,41,25,42],[25,43,25,45],[25,47,25,49],[25,30,25,32],[25,21,25,22],[25,23,25,24],[25,27,25,28],[24,85,25,85],[24,86,25,87],[25,76,25,78],[25,80,25,81],[25,82,25,84],[24,43,24,46],[24,47,24,50],[24,51,24,54],[24,55,24,59],[24,60,24,63],[24,64,24,67],[24,21,24,24],[24,25,24,26],[24,27,24,29],[24,30,24,35],[24,36,24,38],[24,39,24,42],[23,0,23,89],[24,0,24,2],[24,3,24,5],[24,6,24,7],[24,8,24,9],[24,10,24,11],[24,12,24,14],[24,15,24,17],[24,18,24,20],[22,51,22,52],[22,53,22,54],[22,56,22,57],[22,58,22,60],[22,61,22,62],[22,63,22,65],[22,37,22,38],[22,39,22,40],[22,41,22,42],[22,43,22,44],[22,45,22,46],[22,47,22,49],[21,0,22,2],[24,88,25,89],[25,0,25,1],[25,3,25,4],[25,12,25,13],[25,15,25,16],[25,18,25,19],[24,68,24,71],[24,72,24,75],[24,76,24,79],[24,80,24,84],[22,12,22,15],[22,16,22,19],[22,20,22,23],[22,24,22,28],[22,29,22,31],[22,32,22,34],[22,35,22,36],[21,58,21,60],[21,61,21,62],[21,63,21,65],[21,66,22,73],[21,74,22,75],[21,76,21,79],[22,76,22,79],[21,43,21,44],[21,45,21,46],[21,47,21,49],[21,51,21,52],[21,53,21,54],[21,56,21,57],[21,12,21,15],[21,16,21,19],[21,29,21,31],[21,32,21,34],[20,24,21,28],[21,35,21,36],[21,37,21,38],[21,39,21,40],[21,41,21,42],[19,68,20,69],[19,70,20,71],[19,72,20,73],[20,12,20,19],[20,20,21,23],[19,74,20,75],[19,76,20,79],[19,51,20,52],[19,53,20,54],[19,55,20,55],[19,58,20,60],[19,61,20,62],[19,66,20,67],[17,63,20,65],[16,66,18,67],[16,68,18,69],[16,70,18,71],[16,72,18,73],[16,74,18,75],[16,76,18,79],[19,18,19,19],[19,20,19,21],[19,23,19,24],[19,25,19,26],[19,27,19,28],[17,41,20,42],[17,43,18,46],[17,47,18,50],[17,51,18,55],[17,56,20,57],[17,58,18,62],[19,43,20,44],[19,45,20,46],[19,47,20,49],[19,50,20,50],[11,3,14,5],[11,6,14,7],[11,8,14,9],[11,10,14,11],[11,12,14,13],[13,75,13,78],[13,79,13,80],[13,53,13,55],[13,56,13,59],[13,60,13,62],[14,53,14,55],[14,56,14,59],[14,60,14,62],[11,19,14,20],[11,21,14,23],[11,24,14,25],[11,26,14,27],[12,63,12,68],[12,53,12,55],[12,56,12,59],[12,60,12,62],[14,47,14,52],[14,63,14,68],[14,69,14,74],[14,75,14,78],[12,69,12,74],[17,17,18,17],[17,22,18,22],[17,23,18,24],[17,25,18,26],[17,27,18,28],[14,79,14,80],[14,81,14,84],[14,85,14,89],[15,12,15,19],[15,20,15,28],[15,29,15,65],[15,66,15,75],[11,28,14,30],[11,31,14,36],[11,37,14,40],[11,41,14,46],[11,47,11,68],[11,69,11,89],[11,14,14,16],[11,17,14,18],[16,18,18,19],[16,20,18,21],[16,22,16,28],[16,29,16,65],[12,75,12,78]],"merged_total":1135,"flags":["merged_cut"]}
[null,null,null,null,null,null,null,null,null,null,null,null,null,null,null,null,null,null,null,null,null,null,null,null,null,null,null,"DIRECCION - PROGRAMA  APS \nSUBSECRETARIA DE MEDICINA SOCIAL\nRONDA N°:_____   AÑO:_2025__",null,null,null,null,null,null,null,null,null,null,null,null,null,null,null,null,null,null,null,null,null,null,null,null,null,null,"1r","2r","3r",null,"4r",null,"T",null,null,null,null,null,null,null,null,null,null,null,null,null,null,null,null,null,null,null,"Informe y orden de Ronda: ",6,null,null,null,null,2]
[null,null,null,null,null,null,null,"Area Operativa N°: ",4,null,null,null,null,null,"Nombre: ","MORILLO",null,null,null,null,null,null,null,null,null,null,null,null,null,null,null,null,null,null,null,null,null,null,null,null,null,null,null,null,null,null,"Mort. Mater. Acum. Año",null,null,null,null,null,null,null,0,{"$f":"CE41","v":0},0,null,{"$f":"CE41","v":0},null,{"$f":"SUM(BC2:BG2)","v":0},null,null,null,null,"Sector:",null,"EL GRITAO",null,null,null,null,null,null,null,null,null,null,null,null,null,null,null,null,null,"N°",4]
[null,null,null,null,null,null,null,null,null,null,null,null,null,null,null,null,null,null,null,null,null,null,null,null,null,null,null,null,null,null,null,null,null,null,null,null,null,null,null,null,null,null,null,null,null,null,"Mort. 0-1 año Acum Año",null,null,null,null,null,null,null,0,{"$f":"BR41+BU41+BY41","v":0},0,null,{"$f":"BR41+BU41+BY41","v":0},null,{"$f":"SUM(BC3:BG3)","v":0},null,null,null,null,null,"Etnia: ","Criollo",null,null,null,null,null,null,null,null,null,null,null,null,null,null,null,null,null,"Sector Riesgo:","no"]
[null,null,null,null,null,null,null,"Establec. Base: ","HOSPITAL MORILLO",null,null,null,null,null,null,null,null,null,null,null,null,null,null,null,null,null,null,null,null,null,null,null,null,null,null,null,null,null,null,null,null,null,null,null,null,null,"Mort. 1-4 años Acum Año",null,null,null,null,null,null,null,0,{"$f":"CC41","v":0},0,null,{"$f":"CC41","v":0},null,{"$f":"SUM(BC4:BG4)","v":0},null,null,null,null,null,null,null,null,null,null,null,null,"Desde: ","07/03/2025",null,null,null,null,null,null,null,null,"Hasta: ","05/06/2026"]
[null,null,null,null,null,null,null,null,null,null,null,null,null,null,null,null,null,null,null,null,null,null,null,null,null,null,null,null,null,null,null,null,null,null,null,null,null,null,null,null,null,null,null,null,null,null,null,null,null,null,null,null,null,null,null,null,null,null,null,null,null,null,null,null,null,null,null,null,null,null,null,null,null,null,null,null,null,null,null,"Cobertura: ","DESCUBIERTO"]
[null,null,null,null,null,null,null,"Sup. Intermedio: "," poner el nombre según dni sup intermedio",null,null,null,null,null,null,null,null,null,null,null,null,null,null,null,null,null,null,null,null,null,null,null,"Responsable A.P.S.: ","Lic Freyre",null,null,null,null,null,null,null,null,null,null,null,null,null,null,null,null,null,null,null,null,null,null,"Agente Sanitario: ","Sin Agente",null,null,null,null,null,null,null,null,null,null,null,null,null,null,null,null,"Sit. Revista: ",null,null,null,null,null,null,"Reg. Horario: "]
[]
["A) FAMILIAS VISITADAS EN LA RONDA",null,null,null,null,null,null,null,null,null,null,null,null,null,null,null,null,null,null,null,null,null,null,null,null,null,null,null,null,null,null,null,null,null,null,null,null,null,null,null,null,null,null,null,null,null,null,"B) FACTORES DE PRIORIZACION DE VISITAS"]
["ASIGNADAS",null,null,"VISITADAS",null,null,"TOTAL\nVISITAS",null,"NO VISITADAS",null,null,null,null,null,null,null,null,"FLIAS ORIG.",null,"FLIAS. URB.",null,"FLIAS. PERIURB",null,null,"FLIAS. RURALES",null,"GOLON\nMIGRANTES",null,null,null,null,"FLIAS. CON PL. SOCIALES",null,null,null,null,null,"PRODUCCION\nFAMILIAR",null,null,null,null,null,null,null,null,null,1,null,2,null,3,null,null,4,null,5,null,6,null,7,null,null,8,null,null,9,null,null,10,null,null,null,11,null,null,12,null,null,null,13,null,null,14,null,null,15]
[null,null,null,null,null,null,null,null,"RECHAZO TOTAL",null,"AUSEN\n-TE",null,"NO VISITADAS",null,"TOT NO VISIT.",null,null,null,null,null,null,null,null,null,null,null,"HACIA\nEL AO",null,"DESDE\nEL AO",null,null,null,null,null,null,null,null,"HUERTA",null,null,null,"GRANJA",null,null,null,null,null,0,null,0,null,0,null,null,0,null,0,null,0,null,0,null,null,0,null,null,0,null,null,"Total",null,null,null,"Tot",null,"Trat","Tot.",null,null,"Trat.","Tot.","Trat.",null,"Tot.",null,"Trat","Total"]
[null,null,null,null,null,null,null,null,null,null,0,null,null,null,null,null,null,null,null,null,null,null,null,null,null,null,null,null,null,null,null,null,null,null,null,null,null,null,null,null,null,null,null,null,null,null,null,null,null,null,null,null,null,null,null,null,null,null,null,null,null,null,null,null,null,null,null,null,null,0,null,null,null,0,null,0,0,null,null,0,0,0,null,0,null,0,0]
[0,null,null,0,null,null,0,null,0,null,0,null,0,null,{"$f":"M12+K12+I12","v":0},null,null,0,null,0,null,0,null,null,0,null,0,null,0,null,null,0,null,null,null,null,null,0,null,null,null,0,null,null,null,null,null,"C) VISITAS A FLIAS. PRIORIZADAS",null,null,null,null,null,null,null,null,null,null,null,null,null,null,null,null,null,null,null,null,null,"D) SUPERV. A FLIAS. "]
[null,null,null,null,null,null,null,null,null,null,null,null,null,null,null,null,null,null,null,null,null,null,null,null,null,null,null,null,null,null,null,null,null,null,null,null,null,null,null,null,null,null,null,null,null,null,null,"PRIORIDAD",null,null,null,null,null,1,null,null,2,null,null,null,3,null,null,"Total",null,null,null,null,null,"PRIORIDAD",null,null,null,null,null,3,null,null,null,2,null,1,null,null,null,"TOTAL"]
[null,null,null,null,null,null,null,null,null,null,null,null,null,null,null,null,null,null,null,null,null,null,null,null,null,null,null,null,null,null,null,null,null,null,null,null,null,null,null,null,null,null,null,null,null,null,null,"N° FAMILIAS",null,null,null,null,null,0,null,null,0,null,null,null,0,null,null,{"$f":"SUM(BB14:BI14)","v":0},null,null,null,null,null,"INTERMEDIA",null,null,null,null,null,0,null,null,null,0,null,0,null,null,null,{"$f":"SUM(BX14:CD14)","v":0}]
[null,null,null,null,null,null,null,null,null,null,null,null,null,null,null,null,null,null,null,null,null,null,null,null,null,null,null,null,null,null,null,null,null,null,null,null,null,null,null,null,null,null,null,null,null,null,null,"VISITAS",null,null,null,null,null,0,null,null,0,null,null,null,0,null,null,{"$f":"SUM(BB15:BI15)","v":0},null,null,null,null,null,"PROFESIONAL",null,null,null,null,null,0,null,null,null,0,null,0,null,null,null,{"$f":"SUM(BX15:CB15)","v":0}]
["E) EDAD FERTIL",null,null,null,null,"F) EMBARAZADAS",null,null,null,null,null,null,"G) PARTOS",null,null,null,null,null,null,null,"H) R.N. EN LA RONDA",null,null,null,null,null,null,null,null,"I) EVALUACION ANTROPOMETRICA",null,null,null,null,null,null,null,null,null,null,null,null,null,null,null,null,null,null,null,null,null,null,null,null,null,null,null,null,null,null,null,null,null,null,null,null,"NIÑ MBP/BP/RBP CTRL. INT.",null,null,null,null,null,null,null,null,null,"LACT. MATERNA"]
["PAP",null,null,0,null,"CAPT. 1er TRIMESTRE","ESP EN EL AÑO","ACUMULADAS","NUEVAS\nRONDA","TOTAL","DE RIESGO","<19 Años","TOTAL",null,"HOSPITALARIOS",null,"DOMIC.",null,"N° PUERPERAS",null,"NACIDOS VIVOS",null,"P AL NACER",null,null,null,null,null,null,"NIÑOS CONTROLADOS",null,null,null,null,null,null,null,null,null,null,null,null,null,null,null,null,null,null,null,null,null,null,null,null,null,null,null,null,null,null,null,null,null,null,null,null,"MELAN",null,"MED",null,"ENF.",null,"LAB",null,"NUTR",null,"< 6 M EN LA RONDA",null,null,null,{"$f":"CC20+CC22+CC23","v":0}]
[null,null,null,null,null,null,null,null,null,null,null,null,null,null,null,null,"DOM","ASIS",null,null,null,null,"ALTO PESO","ADEC",null,"BAJO PESO",null,"MB\nPESO",null,"EDAD",null,null,"A CONTROLAR",null,null,"ADECUADO",null,"BP\nBAJO PESO",null,"MBP\nMUY B. PESO",null,"ALTO PESO",null,"RIESGO",null,null,null,"RECUPERADOS",null,null,null,"TALLA / EDAD",null,null,null,null,"NUEVOS\nEPISODIOS",null,"PERDIDOS",null,null,null,null,"FALLECIDOS\nC/ANTEC. ANTROPOM."]
[]
["Antic.",null,null,0,null,0,{"$f":"IF(ISERROR(((CC92*1.8)/100)),0,(((CC92*1.8)/100)))","v":0},0,0,{"$f":"SUM(F23:L23)","v":0},0,0,{"$f":"O20+Q20+R20","v":0},null,0,null,0,0,0,null,{"$f":"W20+X20+Z20+AB20","v":0},null,0,0,null,0,null,0,null,null,null,null,null,null,null,null,null,null,null,null,null,null,null,"BP",null,"AP",null,"BP",null,null,"AP","BT",null,"MBT",null,"RGO\nBT",null,null,"BP\nMBP",null,null,"A.P.",null,null,null,null,0,null,0,null,0,null,0,null,0,null,"EXCLUSIVO",null,null,null,0]
[null,null,null,null,null,"CONTROLES",null,null,null,null,null,null," ",null,null,null,null,null,null,null,"PREMATUROS",null,null,null,"PESQUISA"]
["Aborto",null,null,0,null,"MELON",null,"MEL","MED","ENF","LAB","S/C","PUERP",null,null,null,"R.N.",null,null,null,null,null,null,null,null,null,null,null,null,"< 2 años",null,null,{"$f":"A27+C27+D27+F27+G27+H27","v":0},null,null,0,null,0,null,0,null,0,null,0,null,0,null,0,null,null,0,0,null,0,null,0,0,null,0,null,null,0,null,0,null,null,"CONTROLES EN DOMIC. NIÑO BP o MBP",null,null,null,null,null,null,null,0,null,"MIXTA",null,null,null,0]
[null,null,null,null,null,0,null,0,0,0,0,0,0,null,null,null,0,null,null,null,0,null,null,null,0,null,null,null,null,"2 a 6 años",null,null,{"$f":"I27+J27+K27+L27+M27+O27+P27+R27","v":0},null,null,0,null,0,null,0,null,0,null,0,null,0,null,0,null,null,0,0,null,0,null,0,0,null,0,null,null,0,null,0,null,null,null,null,null,null,null,null,null,null,null,null,"ARTIF",null,null,null,0]
["J) DATOS DE POBLACION"]
["0 a 5m",null,null,"6 a 11m",null,null,"1 AÑO",null,"2 AÑOS",null,"3 AÑOS",null,"4 AÑOS",null,null,"5 AÑOS",null,null,"6 AÑOS",null,null,"7 A 9 AÑOS",null,null,null,"10 AÑOS",null,"11 AÑOS",null,null,"12 A 14",null,null,null,null,null,"15 A 19",null,null,"20 A 24",null,null,null,"25 A 29",null,null,null,"30 A 34",null,null,null,"35 A 39",null,null,null,"40 A 44",null,null,null,null,"45 A 49",null,null,null,"50 A 54",null,null,null,"55 A 59",null,null,null,"60 A 64",null,null,null,"65 y +",null,null,null,"TOTAL",null,null,null,null,"MUJERES\n10 A 49","O. SOCIAL",null,"INDOCUM"]
["M",null,"F","M",null,"F","M","F","M","F","M","F","M",null,"F","M",null,"F","M",null,"F","M",null,"F",null,"M","F","M",null,"F","M",null,null,"F",null,null,"M","F",null,"M",null,"F",null,"M",null,null,"F","M",null,null,"F","M",null,"F",null,"M",null,null,"F",null,"M",null,"F",null,"M",null,"F",null,"M",null,"F",null,"M",null,"F",null,"M",null,null,"F","M",null,"F"]
[0,null,0,0,null,0,0,0,0,0,0,0,0,null,0,0,null,0,0,null,0,0,null,0,null,0,0,0,null,0,0,null,null,0,null,null,0,0,null,0,null,0,null,0,null,null,0,0,null,null,0,0,null,0,null,0,null,null,0,null,0,null,0,null,0,null,0,null,0,null,0,null,0,null,0,null,0,null,null,0,{"$f":"BY27+BU27+BQ27+BM27+BI27+BD27+AZ27+AV27+AR27+AN27+AK27+AE27+AB27+Z27+V27+S27+P27+M27+K27+I27+G27+D27+A27","v":0},null,{"$f":"CB27+BW27+BS27+BO27+BK27+BG27+BB27+AY27+AU27+AP27+AL27+AH27+AD27+AA27+X27+U27+R27+O27+L27+J27+H27+F27+C27","v":0},null,null,{"$f":"BK27+BG27+BB27+AY27+AU27+AP27+AL27+AH27+AD27+AA27","v":0},0,null,0]
[{"$f":"A27+C27","v":0},null,null,{"$f":"D27+F27","v":0},null,null,{"$f":"G27+H27","v":0},null,{"$f":"I27+J27","v":0},null,{"$f":"K27+L27","v":0},null,{"$f":"M27+O27","v":0},null,null,{"$f":"P27+R27","v":0},null,null,{"$f":"S27+U27","v":0},null,null,{"$f":"V27+X27","v":0},null,null,null,{"$f":"Z27+AA27","v":0},null,{"$f":"AB27+AD27","v":0},null,null,{"$f":"AE27+AH27","v":0},null,null,null,null,null,{"$f":"AL27+AK27","v":0},null,null,{"$f":"AN27+AP27","v":0},null,null,null,{"$f":"AR27+AU27","v":0},null,null,null,{"$f":"AV27+AY27","v":0},null,null,null,{"$f":"AZ27+BB27","v":0},null,null,null,{"$f":"BD27+BG27","v":0},null,null,null,null,{"$f":"BI27+BK27","v":0},null,null,null,{"$f":"BM27+BO27","v":0},null,null,null,{"$f":"BQ27+BS27","v":0},null,null,null,{"$f":"BU27+BW27","v":0},null,null,null,{"$f":"BY27+CB27","v":0},null,null,null,{"$f":"CC27+CE27","v":0}]
["K) TUBERCULOSIS ",null,null,null,null,null,null,null,null,null,null,null,null,null,null," CHAGAS ",null,null,null,null,null,"L) PERSONAS CON ENF. CRONICAS",null,null,null,null,null,null,null,null,null,null,null,"M) OBSERVACIONES"]
["Coef. Sint.Resp.: ",null,null,"MUESTRAS",null,null,null,null,"TRATAM. TBC",null,null,null,null,null,null,"TRATAMIENTOS CHAGAS",null,null,null,null,null,"PERSONAS CON",null,null,null,null,null,"TOTAL",null,null,"EN TRAT.",null,null," "]
[{"$f":"Control!H9","v":8},null,null,"DIAGNOSTICOS",null,null,"CONTROL",null,"Total",null,"TAES",null," ABANDONO",null,null,"INICIO ",null,null,0,null,null,"DIABETES",null,null,null,null,null,0,null,null,0]
["SINT. ESP..",null,null,"Tot",null,"(+)","Tot","(+)",0,null,0,null,0,null,null,"FINALIZACION ",null,null,0,null,null,"HIPERTENSION \nARTERIAL",null,null,null,null,null,0,null,null,0]
[{"$f":"IF(ISERROR(((AK91+AL91+AN91+AP91+AR91+AU91+AV91+AY91+AZ91+BB91+BD91+BG91+BI91+BK91+BM91+BO91+BQ91+BS91+BU91+BW91+BY91+CB91)*0.2)*A31/100),0,(((AK91+AL91+AN91+AP91+AR91+AU91+AV91+AY91+AZ91+BB91+BD91+BG91+BI91+BK91+BM91+BO91+BQ91+BS91+BU91+BW91+BY91+CB91)*0.2)*A31/100))","v":0},null,null,0,null,0,0,0,"QUIMIO Total",null,0,null,null,null,null,null,null,null,null,null,null,"PERSONAS CON OTRAS ENF. CRONICAS AL CUIDADO DE NIÑOS",null,null,null,null,null,0,null,null,0]
["SINT. DETEC.",null,null,"CONTACTO",null,null,null,null,"CTRL. MEDICO",null,null,null,"FINALIZAD0",null,null,"ABANDONO ",null,null,0]
[0,null,null,"< 14a",null,null,"> 15a",null,"Pcte/Rda",null,"A Cont",null,0,null,null,null,null,null,null,null,null,"ADULTOS MAYORES EN SITUACION DE RIESGO",null,null,null,null,null,0]
[null,null,null,0,null,null,0,null,0,null,0]
["N) DERIVACIONES",null,null,null,null,null,null,null,null,null,null,null,null,null,null,null,null,null,null,null,null,null,null,null,null,null,null,null,null,null,null,null,null,null,null,null,null,null,null,null,null,"Ñ) VIVIENDA Y SANEAMIENTO",null,null,null,null,null,null,null,null,null,null,null,null,null,null,null,null,null,null,null,null,null,null,null,null,null,null,null,"O) DEFUNCIONES EN LA RONDA"]
[null,null,null,null,null,null,null,null,null,null,null,null,null,null,null,null,null,null,null,null,null,null,null,null,null,null,null,null,null,null,null,null,null,null,null,null,null,null,null,null,null,"TRAT. AGUA",null,null,null,null,null,"DISP SANITARIA EXCRETAS",null,null,null,null,null,null,null,null,null,null,null,"TRATAM. SANIT BASURA",null,null,null,null,null,null,null,null,null,"MENORES 1 AÑO",null,null,null,null,null,null,null,null,null,null,"1 a 4 AÑOS",null,"MATERNA",null,null,null,"OTRAS"]
["EMB",null,null,null,"RN",null,null,null,"PUERP",null,null,null,"Menores de 6 años",null,null,null,null,null,null,null,"E.\nCRONICAS",null,"PAP",null,"CHAGAS",null,null,null,"TBC",null,null,null,"PSICOSOC",null,null,null,"TOTAL\nDERIVACIONES",null,null,null,null,"RED",null,"EN\nVIV",null,null,"S/T","ARRASTRE",null,null,null,null,null,"LETRINA",null,null,null,"S/T",null,"REC. DOMIC.",null,null,"POZO BASURA",null,null,null,"S/T",null,null,"<7d",null,null,"7 a 28d",null,null,null,"29d a 11 m"]
[null,null,null,null,null,null,null,null,null,null,null,null,"BP- MBP",null,"RGO BP",null,"Resp",null,"Diarr",null,null,null,null,null,null,null,null,null,null,null,null,null,null,null,null,null,null,null,null,null,null,null,null,null,null,null,null,"CLOACAS",null,"PC-CT",null,"PC-ST",null,"CT",null,"ST"]
["Env",null,"Rec",null,"Env",null,"Rec",null,"Env",null,"Rec",null,"Env","Rec","Env","Rec","Env","Rec","Env","Rec","Env","Rec","Env","Rec","Env",null,"Rec",null,"Env",null,"Rec",null,"Env",null,"Rec",null,"ENV",null,null,"Rec",null,0,null,0,null,null,0,0,null,0,null,0,null,0,null,0,null,0,null,0,null,null,0,null,null,null,0,null,null,0,null,null,0,null,null,null,0,null,null,null,0,null,0,null,null,null,0]
[null,null,null,null,null,null,null,null,null,null,null,null,null,null,null,null,null,null,null,null,null,null,null,null,null,null,null,null,null,null,null,null,null,null,null,null,null,null,null,null,null,"CASAS ",null,null,null,null,null,null,null,null,null,null,null,"CHAGAS",null,null,null,null,null,null,null,null,null,null,null,"DENGUE CHIKUNGUNYA",null,null,null,null,null,null,null,null,null,null,null,"P) PROM. SALUD"]
[0,null,0,null,0,null,0,null,0,null,0,null,0,0,0,0,0,0,0,0,0,0,0,0,0,null,0,null,0,null,0,null,0,null,0,null,{"$f":"AG43+AC43+Y43+W43+U43+S43+Q43+O43+M43+I43+E43+A43","v":0},null,null,{"$f":"AI43+AE43+AA43+X43+V43+T43+R43+P43+N43+K43+G43+C43","v":0},null,"ASIGNADAS",null,null,null,null,"VISITADAS",null,null,"VACIAS",null,"DESTRUIDAS",null,"EVALUADAS",null,null,"POSITIVAS",null,null,null,null,"TRATADAS",null,null,null,"EVALUADAS",null,null,null,"POSITIVAS",null,null,null,"TRATADAS",null,null,null,"PLANIFICADAS \nEN COMUNIDAD",null,null,null,null,null,null,null,0]
[]
[null,null,null,null,null,null,null,null,null,null,null,null,null,null,null,null,null,null,null,null,null,null,null,null,null,null,null,null,null,null,null,null,null,null,null,null,null,null,null,null,null,0,null,null,null,null,0,null,null,0,null,0,null,0,null,null,0,null,null,null,null,0,null,null,null,0,null,null,null,0,null,null,null,0,null,null,null,"REALIZADAS ",null,null,null,null,null,null,null,0]
["Q) INDICADORES"]
["DE ESTRUCTURA",null,null,null,null,null,"SI","NO","DE PRODUCCION",null,null,null,null,null,"%","META",null," DE INMUNIZACIONES",null,null,null,null,null,null,null,null,null,null,null,null,null,null,null,null," DE INMUNIZACIONES",null,null,null,null,null,null,null,null,null,null,null,null,null,null,null,null,null,null,null,null,null,null,null,null,null,null," DE RESULTADO",null,null,null,null,null,null,null,null,"%",null,"META",null,null," DE RESULTADO",null,null,null,null,null,null,null,null,null,"%",null,"META RDA"]
["Formularios",null,null,null,null,null,0,0,"Cobertura a Familias",null,null,null,null,null,{"$f":"IF(ISERROR(D12/A12),0,(D12/A12)*100)","v":0},100,null,"VACUNA",null,null,null,null,"P. REF",null,"1r","2r","3r","4r",null,"T","%",null,"META",null,"VACUNA",null,null,null,null,null,null,null,null,null,"P. REF",null,null,"1r",null,null,"2r","3r",null,null,"4r","T",null,"%",null,"META",null,"Ed Fértil c/Anticoncepción",null,null,null,null,null,null,null,null,{"$f":"IF(ISERROR(D20/CH27),0,(D20/CH27)*100)","v":0},null,null,null,null,"Niños 2 a 5 Recup BP",null,null,null,null,null,null,null,null,null,{"$f":"IF(ISERROR(AV23/K80),0,(AV23/K80)*100)","v":0},null,100]
["Equipo",null,null,null,null,null,0,0,"Niños < 2 años Controlados",null,null,null,null,null,{"$f":"IF(ISERROR(((AJ22+AL22+AN22+AP22)/(A28+D28+G28))),0,(((AJ22+AL22+AN22+AP22)/(A28+D28+G28)))*100)","v":0},100,null,"BCG RN",null,null,null,null,{"$f":"U20","v":0},null,0,0,0,0,null,{"$f":"SUM(Y49:AB49)","v":0},{"$f":"IF(ISERROR(Z49/W49),0,(Z49/W49)*100)","v":0},null,100,null,"2 Ref. Varicela Ingreso Esc",null,null,null,null,null,null,null,null,null,0,null,null,0,null,null,0,0,null,null,0,{"$f":"SUM(AV49:BC49)","v":0},null,{"$f":"IF(ISERROR(AY49/AS49),0,(AY49/AS49)*100)","v":0},null,25,null,"PAP",null,null,null,null,null,null,null,null,{"$f":"IF(ISERROR(D17/CH27),0,(D17/CH27)*100)","v":0},null,null,null,null,"Niños 2 a 5 Recup AP",null,null,null,null,null,null,null,null,null,{"$f":"IF(ISERROR(AY23/K82),0,(AY23/K82)*100)","v":0},null,100]
["Combustible",null,null,null,null,null,0,0,"Niños  (2 a 5 años) Controlados",null,null,null,null,null,{"$f":"IF(ISERROR(((AJ23+AL23+AN23+AP23)/(I28+K28+M28+P28))),0,(((AJ23+AL23+AN23+AP23)/(I28+K28+M28+P28)))*100)","v":0},100,null,"Hepatitis B RN","Hepatitis B RN",null,"Hepatitis B RN","Hepatitis B RN",null,null,0,0,0,0,null,{"$f":"SUM(Y50:AB50)","v":0},{"$f":"IF(ISERROR(Z50/W49),0,(Z50/W49)*100)","v":0},null,null,null,"2° Ref. Antipolio Ingreso Escolar",null,null,null,null,null,null,null,null,null,null,null,null,0,null,null,0,0,null,null,0,{"$f":"SUM(AV50:BC50)","v":0},null,{"$f":"IF(ISERROR(AY50/AS49),0,(AY50/AS49)*100)","v":0},null,null,null,"Embarazadas Con MELON",null,null,null,null,null,null,null,null,{"$f":"IF(ISERROR(F23/J20),0,(F23/J20)*100)","v":0},null,80,null,null,"Niños 6 meses con LME",null,null,null,null,null,null,null,null,null,{"$f":"IF(ISERROR(CC20/CC17),0,(CC20/CC17)*100)","v":0},null,80]
[" DE DIAGNOSTICO",null,null,null,null,null,null,"%","Conc. Vis. Flias Prio",null,null,null,null,null,{"$f":"IF(ISERROR((BB15+BE15)/(BB14+BE14)),0,((BB15+BE15)/(BB14+BE14)))","v":0},25,null,"2° Neumococo < 1a","3ª SOT/Salk < 1a",null,"3ª SOT/Salk < 1a","3ª SOT/Salk < 1a",{"$f":"A91+C91+D91+F91","v":0},null,0,0,0,0,null,{"$f":"SUM(Y51:AB51)","v":0},{"$f":"IF(ISERROR(Z51/W51),0,(Z51/W51)*100)","v":0},null,100,null,"2° Ref. DPT Ingreso Escolar",null,null,null,null,null,null,null,null,null,null,null,null,0,null,null,0,0,null,null,0,{"$f":"SUM(AV51:BC51)","v":0},null,{"$f":"IF(ISERROR(AY51/AS49),0,(AY51/AS49)*100)","v":0},null,null,null,"Partos Hospitalarios",null,null,null,null,null,null,null,null,{"$f":"IF(ISERROR(O20/M20),0,(O20/M20)*100)","v":0},null,100]
["Flias Priorizadas 3 + 2:",null,null,null,null,null,null,{"$f":"IF(ISERROR((BB14+BE14)/D12),0,(BB14+BE14)/D12*100)","v":0},"Conc.C.Dom Niños Bp/MBP",null,null,null,null,null,{"$f":"IF(ISERROR(BW22/(AL22+AN22+AL23+AN23)),0,(BW22/(AL22+AN22+AL23+AN23)))","v":0},3,null,"2° Rotavirus <1 a","3º Pentavalente <1 a",null,"3º Pentavalente <1 a","3º Pentavalente <1 a",null,null,0,0,0,0,null,{"$f":"SUM(Y52:AB52)","v":0},{"$f":"IF(ISERROR(Z52/W51),0,(Z52/W51)*100)","v":0},null,null,null,"2° TV Ingreso Escolar",null,null,null,null,null,null,null,null,null,null,null,null,0,null,null,0,0,null,null,0,{"$f":"SUM(AV52:BC52)","v":0},null,{"$f":"IF(ISERROR(AY52/AS49),0,(AY52/AS49)*100)","v":0},null,100,null,"Conc Control Médico a RN",null,null,null,null,null,null,null,null,{"$f":"IF(ISERROR(Q23/M20),0,(Q23/M20))","v":0},null,4,null,null,"% Niños BP MBP y RBP con MELaN",null,null,null,null,null,null,null,null,null,{"$f":"IF(ISERROR(BO20/(AL22+AN22+AR22+AL23+AN23+AR23)),0,(BO20/(AL22+AN22+AR22+AL23+AN23+AR23))*100)","v":0},null,100]
["Flias Urbanas",null,null,null,null,null,null,{"$f":"IF(ISERROR(T12/D12),0,(T12/D12)*100)","v":0},"Rel. Muestra/Sint Resp.",null,null,null,null,null,{"$f":"IF(ISERROR(D33/A35),0,(D33/A35))","v":0},2,null,"2° Meningococo < 1a",null,null,null,null,null,null,0,0,0,0,null,{"$f":"SUM(Y53:AB53)","v":0},{"$f":"IF(ISERROR(Z53/W51),0,(Z53/W51)*100)","v":0},null,null,null,"dTpa 11 años",null,null,null,null,null,null,null,null,null,0,null,null,0,null,null,0,0,null,null,0,{"$f":"SUM(AV53:BC53)","v":0},null,{"$f":"IF(ISERROR(AY53/AS53),0,(AY53/AS53)*100)","v":0},null,null,null,"Conc Control Méd. a puérpera",null,null,null,null,null,null,null,null,{"$f":"IF(ISERROR(M23/S20),0,(M23/S20))","v":0},null,4,null,null,"Sint Resp Detect. Seg zona",null,null,null,null,null,null,null,null,null,{"$f":"IF(ISERROR((A35*100)/(((20*(AK28+AN28+AR28+AV28+AZ28+BD28+BI28+BM28+BQ28+BU28+BY28))/100)*A31)),0,(A35*100)/((((20*(AK28+AN28+AR28+AV28+AZ28+BD28+BI28+BM28+BQ28+BU28+BY28))/100)*A31)/100))","v":0},null,"S/Z"]
["Flias Periurbanas",null,null,null,null,null,null,{"$f":"IF(ISERROR(V12/D12),0,(V12/D12)*100)","v":0},"Casas Evaluadas Chagas",null,null,null,null,null,{"$f":"IF(ISERROR(BB45/AU45),0,(BB45/AU45)*100)","v":0},100,null,"3° Antipolio < 1 año","2ª Rotavirus < 1 año",null,"2ª Rotavirus < 1 año","2ª Rotavirus < 1 año",null,null,0,0,0,0,null,{"$f":"SUM(Y54:AB54)","v":0},{"$f":"IF(ISERROR(Z54/W51),0,(Z54/W51)*100)","v":0},null,null,null,"U.D. Meningococo",null,null,null,null,null,null,null,null,null,null,null,null,0,null,null,0,0,null,null,0,{"$f":"SUM(AV54:BC54)","v":0},null,{"$f":"IF(ISERROR(AY54/AS53),0,(AY54/AS53)*100)","v":0},null,"95% AL 1° SEM",null,"RN con Pesquisa",null,null,null,null,null,null,null,null,{"$f":"IF(ISERROR(Y23/U20),0,(Y23/U20)*100)","v":0},null,100,null,null,"Pacientes TBC con Control Médico",null,null,null,null,null,null,null,null,null,{"$f":"IF(ISERROR(I36/I32),0,(I36/I32)*100)","v":0},null,100]
["Flias Rurales",null,null,null,null,null,null,{"$f":"IF(ISERROR(Y12/D12),0,(Y12/D12)*100)","v":0},"Casas Tratadas Chagas",null,null,null,null,null,{"$f":"IF(ISERROR(BJ45/BE45),0,(BJ45/BE45)*100)","v":0},100,null,"3° Pentavalente <1 año","TV 1 año",null,"TV 1 año","TV 1 año",null,null,0,0,0,0,null,{"$f":"SUM(Y55:AB55)","v":0},{"$f":"IF(ISERROR(Z55/W51),0,(Z55/W51)*100)","v":0},null,null,null,"1° HPV Niñas cumplen 11 a en año en curso",null,null,null,null,null,null,null,null,null,0,null,null,0,null,null,0,0,null,null,0,{"$f":"SUM(AV55:BC55)","v":0},null,{"$f":"IF(ISERROR(AY55/AS55),0,(AY55/AS55)*100)","v":0},null,null,null,"Derivaciones Enviadas/Recibidas",null,null,null,null,null,null,null,null,{"$f":"IF(ISERROR(AN43/AK43),0,(AN43/AK43)*100)","v":0},null,100,null,null,"Contactos TBC Controlados",null,null,null,null,null,null,null,null,null,{"$f":"IF(ISERROR(K36/(D36+G36)),0,(K36/(D36+G36)))*100","v":0},null,100]
["Flias Originarias",null,null,null,null,null,null,{"$f":"IF(ISERROR(R12/D12),0,(R12/D12)*100)","v":0},"Casas Evaluadas Dengue",null,null,null,null,null,{"$f":"IF(ISERROR(BN45/AU45),0,(BN45/AU45)*100)","v":0},100,null,"1° TV","A HA 1 año",null,"A HA 1 año","A HA 1 año",{"$f":"G91+H91","v":0},null,0,0,0,0,null,{"$f":"SUM(Y56:AB56)","v":0},{"$f":"IF(ISERROR(Z56/W56),0,(Z56/W56)*100)","v":0},null,100,null,"1° HPV Niños cumplen 11 a en año en curso",25,25,null,null,null,null,null,null,null,0,null,null,0,null,null,0,0,null,null,0,{"$f":"SUM(AV56:BC56)","v":0},null,{"$f":"IF(ISERROR(AY56/AS56),0,(AY56/AS56)*100)","v":0},null,"95% AL 1° SEM",null,"Niños < 2 a Riesgo BP",null,null,null,null,null,null,null,null,{"$f":"IF(ISERROR(AR22/AJ22),0,(AR22/AJ22)*100)","v":0},null,null,null,null,"TAES de TBC",null,null,null,null,null,null,null,null,null,{"$f":"IF(ISERROR(K32/I32),0,(K32/I32)*100)","v":0},null,100]
["Flias Migr. desde AO",null,null,null,null,null,null,{"$f":"IF(ISERROR(AC12/A12),0,(AC12/A12)*100)","v":0},"Casas Tratadas Dengue",null,null,null,null,null,{"$f":"IF(ISERROR(BV45/BR45),0,(BV45/BR45)*100)","v":0},100,null,"2° TV","A HA 1 año",null,"A HA 1 año","A HA 1 año",null,null,0,0,0,0,null,{"$f":"SUM(Y57:AB57)","v":0},{"$f":"IF(ISERROR(Z57/W56),0,(Z57/W56)*100)","v":0},null,null,null,"Emb. con dTpa",null,null,null,null,null,null,null,null,null,{"$f":"A91+C91+D91+F91","v":0},null,null,0,null,null,0,0,null,null,0,{"$f":"SUM(AV57:BC57)","v":0},null,{"$f":"IF(ISERROR(AY57/AS57),0,(AY57/AS57)*100)","v":0},null,null,null,"Niños < 2 a Riesgo AP",null,null,null,null,null,null,null,null,{"$f":"IF(ISERROR(AT22/AJ22),0,(AT22/AJ22)*100)","v":0},null,null,null,null,"Ptes. con tratamiento por Chagas",null,null,null,null,null,null,null,null,null,{"$f":"S31","v":0}]
["Flias Migr. hacia el AO",null,null,null,null,null,null,{"$f":"IF(ISERROR(AA12/A12),0,(AA12/A12)*100)","v":0},"Superv Int. a la Familia",null,null,null,null,null,{"$f":"IF(ISERROR((CH14*100)/BL14),0,((CH14*100)/BL14))","v":0},20,null,"Unica Dosis A HA",null,null,null,null,null,null,0,0,0,0,null,{"$f":"SUM(Y58:AB58)","v":0},{"$f":"IF(ISERROR(Z58/W56),0,(Z58/W56)*100)","v":0},null,null,null,"Emb. con Vac Sinsicial",null,null,null,null,null,null,null,null,null,null,null,null,0,null,null,0,0,null,null,0,{"$f":"SUM(AV58:BC58)","v":0},null,{"$f":"IF(ISERROR(AY58/AS57),0,(AY58/AS57)*100)","v":0},null,100,null,"Niños < 2 Recup BP",null,null,null,null,null,null,null,null,{"$f":"IF(ISERROR(AV22/K79),0,(AV22/K79)*100)","v":0},null,100,null,null,"Casas positivas Chagas",null,null,null,null,null,null,null,null,null,{"$f":"IF(ISERROR(BE45/BB45),0,(BE45/BB45)*100)","v":0},null,0]
["Flias con planes sociales",null,null,null,null,null,null,{"$f":"IF(ISERROR(AF12/D12),0,(AF12/D12)*100)","v":0},"Superv Prof. Flias Prio (3v)",null,null,null,null,null,{"$f":"IF(ISERROR(CH15/(BB14+BE14)),0,(CH15/(BB14+BE14))*100)","v":0},70,null,"Ref Neumococo 1 año","Ref Neumoc 1 año",null,"Ref Neumoc 1 año","Ref Neumoc 1 año",null,null,0,0,0,0,null,{"$f":"SUM(Y59:AB59)","v":0},{"$f":"IF(ISERROR(Z59/W56),0,(Z59/W56)*100)","v":0},null,null,null,"dT  Vigente > 65 a",null,null,null,null,null,null,null,null,null,{"$f":"BY91+CB91","v":0},null,null,0,null,null,0,0,null,null,0,{"$f":"SUM(AV59:BC59)","v":0},null,{"$f":"IF(ISERROR(AY59/AS59),0,(AY59/AS59)*100)","v":0},null,100,null,"Niños < 2 Recup AP",null,null,null,null,null,null,null,null,{"$f":"IF(ISERROR(AY22/K81),0,(AY22/K81)*100)","v":0},null,100,null,null,"Casas Positivas Aedes",null,null,null,null,null,null,null,null,null,{"$f":"IF(ISERROR(BR45/BN45),0,(BR45/BN45)*100)","v":0},null," "]
[null,null,null,null,null,null,null,null,"% Activ Prom.Salud Comunitarias",null,null,null,null,null,{"$f":"IF(ISERROR(CH45/CH43),0,(CH45/CH43)*100)","v":0},100,null,"Ref. Meningococo 1 año","Ref Cuádruple 1 año",null,"Ref Cuádruple 1 año","Ref Cuádruple 1 año",null,null,0,0,0,0,null,{"$f":"SUM(Y60:AB60)","v":0},{"$f":"IF(ISERROR(Z60/W56),0,(Z60/W56)*100)","v":0},null,null,null,"Neumo 20 > 65 años",null,null,null,null,null,null,null,null,null,null,null,null,0,null,null,0,0,null,null,0,{"$f":"SUM(AV60:BC60)","v":0},null,{"$f":"IF(ISERROR(AY60/AS59),0,(AY60/AS59)*100)","v":0},null,null,null,"Niños 2 a 5 Riesgo BP",null,null,null,null,null,null,null,null,{"$f":"IF(ISERROR(AR23/AJ23),0,(AR23/AJ23)*100)","v":0},null,null,null,null,"UROCS 1/SEC",null,null,null,null,null,null,null,null,null,0,null,"1/SEC"]
["Flias. c/Antec Mort Mat Inf",null,null,null,null,null,null,{"$f":"IF(ISERROR(AV10/D12),0,(AV10/D12)*100)","v":0},null,null,null,null,null,null,null,null,null,"Unica Dosis Varicela","Ref SOT 1 año",null,"Ref SOT 1 año","Ref SOT 1 año",null,null,0,0,0,0,null,{"$f":"SUM(Y61:AB61)","v":0},{"$f":"IF(ISERROR(Z61/W56),0,(Z61/W56)*100)","v":0},null,null,null,"Aplic. Cargadas a Nomivac",null,null,null,null,null,null,null,null,null,0,null,null,null,null,null,null,null,null,null,null,null,null,null,null,null,null,null,null,null,null,null,null,null,null,null,null,null,null,null,null,"Flias con Huerta",null,null,null,null,null,null,null,null,null,{"$f":"IF(ISERROR(AL12/D12),0,(AL12/D12)*100)","v":0}]
["F con 3 o más <6 años",null,null,null,null,null,null,{"$f":"IF(ISERROR(BI10/D12),0,(BI10/D12)*100)","v":0}," DE IMPACTO",null,null,null,null,"%",null,"META",null,"4° Dosis o 1° Ref. Pentavalente",null,null,null,null,null,null,0,0,0,0,null,{"$f":"SUM(Y62:AB62)","v":0},{"$f":"IF(ISERROR(Z62/W56),0,(Z62/W56)*100)","v":0},null,null,null,"Total Aplic /AS",null,null,null,null,null,null,null,null,null,0,null,null,null,null,null,null,null,null,null,null,null,null,null,null,null,null,"Niños 2 a 5 Riesgo AP",null,null,null,null,null,null,null,null,{"$f":"IF(ISERROR(AT23/AJ23),0,(AT23/AJ23)*100)","v":0},null,null,null,null,"Flias con Granja",null,null,null,null,null,null,null,null,null,{"$f":"IF(ISERROR(AP12/D12),0,(AP12/D12)*100)","v":0}]
["Flias con Hacinamiento",null,null,null,null,null,null,{"$f":"IF(ISERROR(BL10/D12),0,(BL10/D12)*100)","v":0},"Agua Seg (Trat Red + Viv)",null,null,null,null,{"$f":"IF(ISERROR((AP41+AR41)/D12),0,((AP41+AR41)/D12)*100)","v":0},null,100,null,"2° AG 6m a 24m",null,null,null,null,{"$f":"D91+F91+G91+H91","v":0},null,0,0,0,0,null,{"$f":"SUM(Y63:AB63)","v":0},{"$f":"IF(ISERROR(Z63/W63),0,(Z63/W63)*100)","v":0},null," ",null,"VAC COVID APLIC EN LA RONDA",null,null,null,null,null,null,null,null,null,0,null,null,null,null,null,null,null,null,null,null,null,null,null,null,null,null,"U) A llenar en 1° Ronda del Año"]
["Flias con Analfabet",null,null,null,null,null,null,{"$f":"IF(ISERROR(BO10/D12),0,(BO10/D12)*100)","v":0},"DSE (Arrastre y letrinas)",null,null,null,null,{"$f":"IF(ISERROR((AV41+AX41+AZ41+BB41+BD41)/D12),0,((AV41+AX41+AZ41+BB41+BD41)/D12)*100)","v":0},null,100,null,"R) PRODUCCION Y RENDIMIENTO",null,null,null,null,null,null,null,null,null,null,null,null,null,null,null,null,null,null,null,null,null,null,null,null,null,null,null,null,null,null,null,null,null,null,null,null,null,null,null,null,null,null,null,"Piso",null,null,null,null,"Techo",null,null,null,null,"Paredes",null,null,null,null,null,null,null,null,null,"Cocina",null,null,null,null,"Tenencia"]
["Flias con Suicidio",null,null,null,null,null,null,{"$f":"IF(ISERROR(BT11/D12),0,(BT11/D12)*100)","v":0},"TSB (Recolección + Pozo)",null,null,null,null,{"$f":"IF(ISERROR((BH41+BK41)/D12),0,((BH41+BK41)/D12)*100)","v":0},null,100,null,"DIAS A TRAB. /RONDA",null,null,"DIAS INCLEM CLIMAT.",null,null,"DIAS Y NROS DE ARTICULOS TOMADOS",null,null,null,"CAPACITACIONES Y OTRAS ACTIVIDADES",null,null,null,null,null,null,null,null,null,null,null,null,null,null,null,null,null,null,null,null,null,null,"DIAS TRABAJADOS\nEN TERRENO",null,null,null,null,"PROM. DIARIO DE FLIAS VISIT.",null,null,null,null,null,"Mosaico/B.",null,null,null,0,"Losa",null,null,0,null,"Ladrillo",null,null,0,null,"Madera",null,null,null,0,"Gas",null,null,0,null,"Segura",null,null,0]
["Flias c /tentativa suicidio",null,null,null,null,null,null,{"$f":"IF(ISERROR(BV11/D12),0,(BV11/D12)*100)","v":0},"Emb Adolescente",null,null,null,null,{"$f":"IF(ISERROR(L20/J20),0,(L20/J20)*100)","v":0},null,null,null,null,null,null,null,null,null,0,null,null,null,0,null,null,null,null,null,null,null,null,null,null,0,null,null,null,null,null,null,null,null,null,null,null,null,null,null,null,null,null,null,null,null,null,null,"Cemento",null,null,null,0,"Chapa\nZinc",null,null,0,null,"Bloque",null,null,0,null,"Quincho",null,null,null,0,"Leña/\nCarb",null,null,0,null,"Inseg.",null,null,0]
["Flias con Alcoholismo",null,null,null,null,null,null,{"$f":"IF(ISERROR(BY11/D12),0,(BY11/D12)*100)","v":0},"Niños <2 Bajo Peso/MBP",null,null,null,null,{"$f":"IF(ISERROR((AL22+AN22)/(AJ22+AP22+AL22+AN22)),0,((AL22+AN22)/(AJ22+AP22+AL22+AN22))*100)","v":0},null,null,null,null,null,null,null,null,null,0,null,null,null,0,null,null,null,null,null,null,null,null,null,null,0,null,null,null,null,null,null,null,null,null,null,null,null,null,null,null,null,null,null,null,null,null,null,"Tierra",null,null,null,0,"Paja/\nBarro",null,null,0,null,"Adobe",null,null,0,null,"Carton/Pl",null,null,null,0,"Otros",null,null,0,null,"Hac",null,null,0,null,null,null,5]
["Flias c/ otras Adicciones",null,null,null,null,null,null,{"$f":"IF(ISERROR(CC11/D12),0,(CC11/D12)*100)","v":0},"Niños <2 a AP",null,null,null,null,{"$f":"IF(ISERROR(AP22/(AJ22+AP22+AL22+AN22)),0,(AP22/(AJ22+AP22+AL22+AN22))*100)","v":0},null,null,null,0,null,null,0,null,null,0,null,null,null,0,null,null,null,null,null,null,null,null,null,null,0,null,null,null,null,null,null,null,null,null,null,null,0,null,null,null,null,{"$f":"IF(ISERROR(G12/AY68),0,(G12/AY68))","v":0},null,null,null,null,null,"Otros",null,null,null,0,"Otros",null,null,0,null,"Piedra",null,null,0,null,"Otro",null,null,null,0,"Helad.",null,null,0]
["Flias con VIF",null,null,null,null,null,null,{"$f":"IF(ISERROR(CF11/D12),0,(CF11/D12)*100)","v":0},"Niños < 2 baja y MBT",null,null,null,null,{"$f":"IF(ISERROR((AZ22+BB22)/(AJ22+AP22+AL22+AN22)),0,((AZ22+BB22)/(AJ22+AP22+AL22+AN22))*100)","v":0},null,null,null,"S) DETALLE DE LAS DEFUNCIONES (Todas las del Sector)",null,null,null,null,null,null,null,null,null,null,null,null,null,null,null,null,null,null,null,null,null,null,null,null,null,null,null,null,null,null,null,null,null,null,null,null,null,null,null,null,null,null,null,"Agua",null,"Corriente a Domic",null,null,"Grifo Terr",null,null,"Grifo Público",null,null,"Bomba",null,null,"Pozo",null,null,null,"Camión Aguatero / Cisterna",null,"Vertiente/Rio/Aceq",null,null,"Laguna",null,null,"Lluvia/Aljibe"]
["Flias con Diabetes",null,null,null,null,null,null,{"$f":"IF(ISERROR(AB31/D12),0,(AB31/D12)*100)","v":0},"Niños 2 a 5 Bajo Peso/MBP",null,null,null,null,{"$f":"IF(ISERROR((AL23+AN23)/(AJ23+AP23+AL23+AN23)),0,((AL23+AN23)/(AJ23+AP23+AL23+AN23))*100)","v":0},null,null,null,"APELLIDO Y NOMBRE",null,null,null,null,null,null,"DOMICILIO",null,null,null,null,null,null,null,null,"NACIMIENTO",null,null,null,null,"DEFUNCION",null,null,null,"PESO\nAL NACER",null,null,null,"CAUSA",null,null,null,null,null,null,null,null,null,"CLASIFICAC."]
["Flias con Hipertensión",null,null,null,null,null,null,{"$f":"IF(ISERROR(AB32/D12),0,(AB32/D12)*100)","v":0},"Niños 2 a 5 AP",null,null,null,null,{"$f":"IF(ISERROR(AP23/(AJ23+AP23+AL23+AN23)),0,(AP23/(AJ23+AP23+AL23+AN23))*100)","v":0}]
[]
["Personas con otras enfermedades crónicas al cuidado de niños",null,null,null,null,null,null,{"$f":"IF(ISERROR(AB33/D12),0,(AB33/D12)*100)","v":0},"Niños 2 a 5 baja y MBT",null,null,null,null,{"$f":"IF(ISERROR((AZ23+BB23)/(AJ23+AP23+AL23+AN23)),0,((AZ23+BB23)/(AJ23+AP23+AL23+AN23))*100)","v":0},null,null,null,null,null,null,null,null,null,null,null,null,null,null,null,null,null,null,null,null,null,null,null,null,null,null,null,null,null,null,null,null,null,null,null,null,null,null,null,null,null,null,null,null,null,null,null,null,null,0,null,null,0,null,null,0,null,null,0,null,null,0,null,null,null,0,null,0,null,null,0,null,null,0]
["Pers c/O Social/Pob total",null,null,null,null,null,null,{"$f":"IF(ISERROR(CI27/CC28),0,(CI27/CC28)*100)","v":0}]
[]
[]
[]
[]
["BP+MBP Ronda Anterior Men2a: ",null,null,null,null,null,null,null,null,null,0]
["BP+MBP Ronda Anterior 2 a 6a: ",null,null,null,null,null,null,null,null,null,0]
["AP Ronda Anterior Men2a: ",null,null,null,null,null,null,null,null,null,0]
["AP Ronda Anterior 2 a 6a: ",null,null,null,null,null,null,null,null,null,0]
[]
[]
[]
[]
[]
["0 a 5m",null,null,"6 a 11m",null,null,"1 AÑO",null,"2 AÑOS",null,"3 AÑOS",null,"4 AÑOS",null,null,"5 AÑOS",null,null,"6 AÑOS",null,null,"7 A 9 AÑOS",null,null,null,"10 AÑOS",null,"11 AÑOS",null,null,"12 A 14",null,null,null,null,null,"15 A 19",null,null,"20 A 24",null,null,null,"25 A 29",null,null,null,"30 A 34",null,null,null,"35 A 39",null,null,null,"40 A 44",null,null,null,null,"45 A 49",null,null,null,"50 A 54",null,null,null,"55 A 59",null,null,null,"60 A 64",null,null,null,"65 y +",null,null,null,"TOTAL",null,null,null,null,"MUJERES\n10 A 49"]
["M",null,"F","M",null,"F","M","F","M","F","M","F","M",null,"F","M",null,"F","M",null,"F","M",null,"F",null,"M","F","M",null,"F","M",null,null,"F",null,null,"M","F",null,"M",null,"F",null,"M",null,null,"F","M",null,null,"F","M",null,"F",null,"M",null,null,"F",null,"M",null,"F",null,"M",null,"F",null,"M",null,"F",null,"M",null,"F",null,"M",null,null,"F","M",null,"F"]
[0,null,0,0,null,0,0,0,0,0,0,0,0,null,0,0,null,0,0,null,0,0,null,0,null,0,0,0,null,0,0,null,null,0,null,null,0,0,null,0,null,0,null,0,null,null,0,0,null,null,0,0,null,0,null,0,null,null,0,null,0,null,0,null,0,null,0,null,0,null,0,null,0,null,0,null,0,null,null,0,{"$f":"SUM(A90,D90,G90,I90,K90,M90,P90,S90,V90,Z90,AB90,AE90,AK90,AN90,AR90,AV90,AZ90,BD90,BI90,BM90,BQ90,BU90,BY90)","v":0},null,{"$f":"SUM(C90,F90,H90,J90,L90,O90,R90,U90,X90,AA90,AD90,AH90,AL90,AP90,AU90,AY90,BB90,BG90,BK90,BO90,BS90,BW90,CB90)","v":0},null,null,{"$f":"SUM(AA90,AD90,AH90,AL90,AP90,AU90,AY90,BB90,BG90,BK90)","v":0}]
[{"$f":"SUM(A90:C90)","v":0},null,null,{"$f":"SUM(D90,F90)","v":0},null,null,{"$f":"SUM(G90,H90)","v":0},null,{"$f":"SUM(I90,J90)","v":0},null,{"$f":"SUM(K90,L90)","v":0},null,{"$f":"SUM(M90,O90)","v":0},null,null,{"$f":"SUM(P90,R90)","v":0},null,null,{"$f":"SUM(S90,U90)","v":0},null,null,{"$f":"SUM(V90,X90)","v":0},null,null,null,{"$f":"SUM(Z90,AA90)","v":0},null,{"$f":"SUM(AB90,AD90)","v":0},null,null,{"$f":"SUM(AE90,AH90)","v":0},null,null,null,null,null,{"$f":"SUM(AK90,AL90)","v":0},null,null,{"$f":"SUM(AN90,AP90)","v":0},null,null,null,{"$f":"SUM(AR90,AU90)","v":0},null,null,null,{"$f":"SUM(AV90,AY90)","v":0},null,null,null,{"$f":"SUM(AZ90,BB90)","v":0},null,null,null,{"$f":"SUM(BD90,BG90)","v":0},null,null,null,null,{"$f":"SUM(BI90,BK90)","v":0},null,null,null,{"$f":"SUM(BM90,BO90)","v":0},null,null,null,{"$f":"SUM(BQ90,BS90)","v":0},null,null,null,{"$f":"SUM(BU90,BW90)","v":0},null,null,null,{"$f":"SUM(BY90,CB90)","v":0},null,null,null,{"$f":"A91+D91+G91+I91+K91+M91+P91+S91+V91+Z91+AB91+AE91+AK91+AN91+AR91+AV91+AZ91+BD91+BI91+BM91+BQ91+BU91+BY91","v":0}]
["Mejor Población: 1° - 2019",null,null,null,null,null,null,null,null,null,null,null,null,null,null,null,null,null,null,null,null,null,null,null,null,null,null,null,null,null,null,null,null,null,null,null,null,null,null,null,null,null,null,null,null,null,null,null,null,null,null,null,null,null,null,null,null,null,null,null,null,null,null,null,null,null,null,null,null,null,null,null,null,null,null,null,null,null,null,null,{"$f":"SUM(CC91,CE91)","v":0}]
["Cobertura: 1%"]

{"sheet":"LOS BALDES","index":13,"n_rows":93,"n_cols":94,"rows_kept":93,"cut":false,"hidden":false,"merged":[[62,17,62,21],[62,22,62,23],[62,27,62,28],[62,30,62,31],[89,85,90,85],[90,0,90,2],[90,3,90,5],[90,6,90,7],[90,8,90,9],[90,10,90,11],[90,12,90,14],[90,15,90,17],[90,18,90,20],[90,21,90,24],[89,70,89,71],[89,72,89,73],[89,74,89,75],[89,76,89,78],[89,80,89,81],[89,82,89,84],[89,58,89,59],[89,51,89,52],[89,53,89,54],[89,55,89,57],[89,23,89,24],[89,27,89,28],[89,30,89,32],[89,33,89,35],[89,37,89,38],[89,39,89,40],[90,72,90,75],[90,76,90,79],[90,80,90,84],[90,47,90,50],[90,51,90,54],[90,55,90,59],[90,60,90,63],[90,64,90,67],[90,68,90,71],[90,25,90,26],[90,27,90,29],[90,30,90,35],[90,36,90,38],[90,39,90,42],[90,43,90,46],[89,0,89,1],[89,3,89,4],[89,12,89,13],[89,15,89,16],[89,18,89,19],[89,21,89,22],[88,62,88,63],[88,64,88,65],[88,66,88,67],[88,68,88,69],[88,70,88,71],[88,72,88,73],[88,47,88,49],[88,51,88,52],[88,53,88,54],[88,55,88,57],[88,58,88,59],[88,60,88,61],[88,30,88,32],[88,33,88,35],[88,37,88,38],[88,39,88,40],[88,41,88,42],[88,43,88,45],[89,60,89,61],[89,62,89,63],[89,64,89,65],[89,66,89,67],[89,68,89,69],[89,41,89,42],[89,43,89,45],[89,47,89,49],[87,80,87,84],[87,85,88,85],[88,0,88,1],[88,3,88,4],[88,12,88,13],[88,15,88,16],[88,18,88,19],[88,21,88,22],[88,23,88,24],[88,27,88,28],[87,55,87,59],[87,60,87,63],[87,64,87,67],[87,68,87,71],[87,72,87,75],[87,76,87,79],[87,30,87,35],[87,36,87,38],[87,39,87,42],[87,43,87,46],[87,47,87,50],[87,51,87,54],[87,12,87,14],[87,15,87,17],[87,18,87,20],[87,21,87,24],[87,25,87,26],[87,27,87,29],[88,74,88,75],[88,76,88,78],[88,80,88,81],[88,82,88,84],[75,17,75,23],[75,24,75,32],[75,38,75,41],[75,42,75,45],[75,46,75,55],[87,0,87,2],[87,3,87,5],[87,6,87,7],[87,8,87,9],[87,10,87,11],[73,42,73,45],[73,46,73,55],[73,56,73,60],[74,17,74,23],[74,24,74,32],[74,38,74,41],[74,42,74,45],[74,46,74,55],[72,75,73,78],[72,79,73,80],[72,81,73,83],[72,84,73,86],[72,87,73,89],[73,0,73,6],[73,17,73,23],[73,24,73,32],[73,33,73,37],[73,38,73,41],[72,46,72,55],[72,56,72,60],[72,63,73,65],[72,66,73,68],[72,69,73,71],[72,72,73,74],[71,56,71,60],[72,0,72,6],[72,8,73,12],[72,13,73,14],[72,15,73,16],[72,17,72,23],[72,24,72,32],[72,33,72,37],[72,38,72,41],[72,42,72,45],[68,87,71,89],[68,69,71,71],[68,72,71,74],[68,75,71,78],[68,79,71,80],[68,81,71,83],[71,46,71,55],[69,46,69,55],[69,56,69,60],[70,0,71,6],[70,7,71,7],[70,8,71,12],[70,13,71,14],[70,15,71,16],[70,17,70,23],[70,24,70,32],[70,33,70,37],[69,0,69,6],[69,8,69,12],[69,13,69,14],[69,15,69,16],[69,17,69,23],[69,24,69,32],[69,33,69,37],[69,38,69,41],[69,42,69,45],[68,84,71,86],[67,81,67,83],[67,84,67,85],[68,0,68,6],[68,8,68,12],[68,13,68,14],[68,15,68,16],[68,17,68,60],[68,61,73,62],[68,63,71,65],[68,66,71,68],[67,61,67,64],[67,66,67,68],[67,69,67,70],[67,71,67,73],[67,74,67,75],[67,76,67,79],[67,20,67,22],[67,23,67,26],[67,27,67,37],[67,38,67,49],[67,50,67,54],[67,55,67,60],[70,38,70,41],[70,42,70,45],[70,46,70,55],[70,56,70,60],[71,17,71,23],[71,24,71,32],[71,33,71,37],[71,38,71,41],[71,42,71,45],[66,69,66,70],[66,71,66,73],[66,74,66,75],[65,76,65,79],[65,81,65,83],[65,84,65,85],[65,86,65,88],[66,0,66,6],[66,8,66,12],[66,13,66,14],[66,15,66,16],[66,23,66,26],[66,27,66,37],[65,15,65,16],[65,23,65,26],[65,27,65,37],[65,38,65,49],[64,55,66,60],[64,61,64,64],[64,66,64,68],[64,69,64,70],[64,74,64,75],[64,86,64,88],[64,76,64,79],[65,61,65,64],[65,66,65,68],[65,69,65,70],[65,74,65,75],[66,76,66,79],[66,81,66,83],[66,84,66,85],[63,86,63,89],[64,0,64,6],[64,8,64,12],[64,13,64,14],[64,15,64,16],[64,17,66,19],[64,20,66,22],[64,23,64,26],[64,27,64,49],[64,50,66,54],[65,0,65,6],[65,8,65,12],[65,13,65,14],[66,86,67,88],[66,89,67,89],[67,0,67,6],[67,8,67,12],[67,13,67,14],[67,15,67,16],[67,17,67,19],[66,38,66,49],[66,61,66,64],[66,66,66,68],[63,0,63,6],[63,8,63,12],[63,13,63,14],[63,15,63,16],[63,17,63,60],[63,61,63,65],[63,66,63,70],[63,71,63,80],[63,81,63,85],[62,0,62,6],[62,8,62,12],[62,13,62,14],[62,15,62,16],[62,32,62,33],[62,34,62,43],[64,81,64,83],[64,84,64,85],[61,87,61,89],[61,32,61,33],[61,34,61,43],[61,44,61,60],[62,44,62,60],[60,87,60,89],[61,0,61,6],[61,8,61,12],[61,13,61,14],[61,15,61,16],[60,0,60,6],[60,17,60,21],[60,27,60,28],[60,30,60,31],[60,34,60,43],[60,44,60,60],[60,75,60,84],[60,85,60,86],[62,61,62,89],[58,75,58,84],[58,85,58,86],[59,61,60,69],[59,70,60,71],[59,72,60,74],[59,75,59,84],[58,34,58,43],[58,44,59,46],[58,47,58,49],[58,51,58,53],[58,55,58,56],[58,57,58,58],[59,55,59,56],[59,57,59,58],[61,61,61,69],[61,70,61,71],[61,72,61,74],[61,75,61,84],[61,85,61,86],[57,87,57,89],[58,0,59,6],[58,7,59,7],[58,8,58,13],[58,15,58,16],[58,17,58,21],[58,27,58,28],[58,30,58,31],[57,55,57,56],[57,57,57,58],[57,59,57,60],[57,61,57,69],[57,70,57,71],[57,72,57,74],[59,85,59,86],[59,87,59,89],[57,47,57,49],[57,51,57,53],[58,87,58,89],[59,8,60,13],[59,14,60,14],[59,15,60,16],[59,17,59,21],[59,27,59,28],[59,30,59,31],[59,34,59,43],[59,47,59,49],[59,51,59,53],[58,59,59,60],[58,61,58,69],[58,70,58,71],[58,72,58,74],[56,17,56,21],[56,27,56,28],[56,30,56,31],[56,34,56,43],[56,44,57,46],[56,47,56,49],[55,59,56,60],[55,61,55,69],[55,70,55,71],[55,72,55,74],[55,75,55,84],[55,85,55,86],[56,75,56,84],[56,85,56,86],[55,34,55,43],[55,44,55,46],[55,47,55,49],[55,51,55,53],[55,55,55,56],[55,57,55,58],[57,75,57,84],[57,85,57,86],[55,22,61,23],[61,17,61,21],[61,27,61,28],[61,30,61,31],[55,0,55,6],[55,8,55,13],[55,15,55,16],[55,17,55,21],[55,27,55,28],[55,30,55,31],[55,32,60,33],[54,47,54,49],[54,51,54,53],[54,55,54,56],[54,57,54,58],[54,61,54,69],[54,70,54,71],[56,87,56,89],[57,0,57,6],[57,8,57,13],[57,15,57,16],[57,17,57,21],[57,27,57,28],[57,30,57,31],[57,34,57,43],[56,51,56,53],[56,55,56,56],[56,57,56,58],[56,61,56,69],[56,70,56,71],[56,72,56,74],[55,87,55,89],[56,0,56,6],[56,8,56,13],[56,15,56,16],[53,87,53,89],[54,0,54,6],[54,8,54,13],[54,15,54,16],[54,17,54,21],[54,27,54,28],[54,30,54,31],[54,34,54,43],[54,44,54,46],[53,57,53,58],[53,59,54,60],[53,61,53,69],[53,70,53,71],[53,72,53,74],[53,75,53,84],[54,72,54,74],[54,75,54,84],[54,85,54,86],[54,87,54,89],[51,75,51,84],[51,85,51,86],[51,87,51,89],[52,0,52,6],[52,8,52,13],[52,15,52,16],[52,17,52,21],[52,27,52,28],[52,30,52,31],[51,51,51,53],[51,55,51,56],[51,57,51,58],[51,59,52,60],[51,61,51,69],[51,70,51,71],[52,61,52,69],[52,70,52,71],[52,72,52,74],[52,75,52,84],[52,85,52,86],[52,87,52,89],[52,34,52,43],[52,44,53,46],[52,47,52,49],[52,51,52,53],[52,55,52,56],[52,57,52,58],[53,34,53,43],[53,47,53,49],[53,51,53,53],[53,55,53,56],[53,85,53,86],[51,0,51,6],[51,8,51,13],[51,15,51,16],[51,17,51,21],[51,27,51,28],[51,30,51,31],[51,34,51,43],[51,47,51,49],[50,34,50,43],[50,47,50,49],[50,51,50,53],[50,55,50,56],[50,57,50,58],[50,61,50,69],[49,72,49,74],[48,44,51,46],[48,47,48,49],[48,51,48,53],[49,47,49,49],[49,51,49,53],[50,30,50,31],[50,32,54,33],[51,72,51,74],[53,0,53,6],[53,8,53,13],[53,15,53,16],[53,17,53,21],[53,27,53,28],[53,30,53,31],[48,85,48,86],[48,87,48,89],[49,0,49,5],[49,8,49,13],[49,15,49,16],[49,17,49,21],[49,27,49,28],[49,30,49,31],[49,34,49,43],[48,55,48,56],[48,57,48,58],[48,59,50,60],[48,61,48,69],[48,70,48,71],[48,72,48,74],[49,55,49,56],[49,57,49,58],[49,61,49,69],[49,70,49,71],[48,30,48,31],[48,32,49,33],[48,34,48,43],[50,70,50,71],[50,72,50,74],[47,72,47,74],[47,75,47,84],[47,85,47,86],[47,87,47,89],[48,0,48,5],[48,8,48,13],[48,15,48,16],[48,17,48,21],[48,22,49,23],[48,27,48,28],[47,51,47,53],[47,55,47,56],[47,57,47,58],[47,59,47,60],[47,61,47,69],[47,70,47,71],[47,27,47,28],[47,30,47,31],[47,32,47,33],[47,34,47,43],[47,44,47,46],[47,47,47,49],[49,75,50,84],[49,85,50,86],[49,87,50,89],[50,0,50,6],[50,8,50,13],[50,15,50,16],[50,17,50,21],[50,22,54,23],[50,27,50,28],[48,75,48,84],[46,70,46,71],[46,72,46,74],[46,75,46,84],[46,85,46,86],[46,87,46,89],[47,0,47,5],[47,8,47,13],[47,15,47,16],[47,17,47,21],[47,22,47,23],[46,0,46,5],[46,8,46,13],[46,15,46,16],[46,17,46,33],[46,34,46,60],[46,61,46,69],[44,65,44,68],[44,69,44,72],[44,73,44,76],[44,77,44,84],[44,85,44,89],[45,0,45,89],[42,23,44,23],[42,24,44,25],[42,26,44,27],[42,28,44,29],[42,30,44,31],[42,32,44,33],[42,17,44,17],[42,18,44,18],[42,19,44,19],[42,20,44,20],[42,73,43,76],[42,77,43,84],[42,85,43,89],[44,41,44,45],[44,46,44,48],[44,49,44,50],[44,51,44,52],[44,53,44,55],[44,56,44,60],[44,61,44,64],[42,51,43,52],[42,53,43,55],[42,56,43,60],[42,61,43,64],[42,65,43,68],[42,69,43,72],[42,34,44,35],[42,36,44,38],[42,39,44,40],[42,41,43,45],[42,46,43,48],[42,49,43,50],[42,21,44,21],[42,22,44,22],[42,10,44,11],[42,12,44,12],[42,13,44,13],[42,14,44,14],[42,15,44,15],[42,16,44,16],[40,86,40,89],[41,41,41,52],[41,53,41,64],[41,65,41,76],[41,77,41,89],[42,0,44,1],[42,2,44,3],[42,4,44,5],[42,6,44,7],[42,8,44,9],[40,66,40,68],[40,69,40,71],[40,72,40,75],[40,76,40,79],[40,80,40,81],[40,82,40,85],[40,51,40,52],[40,53,40,54],[40,55,40,56],[40,57,40,58],[40,59,40,61],[40,62,40,65],[40,36,41,38],[40,39,41,40],[40,41,40,42],[40,43,40,45],[40,47,40,48],[40,49,40,50],[40,24,41,25],[40,26,41,27],[40,28,41,29],[40,30,41,31],[40,32,41,33],[40,34,41,35],[40,18,41,18],[40,19,41,19],[40,20,41,20],[40,21,41,21],[40,22,41,22],[40,23,41,23],[40,12,41,12],[40,13,41,13],[40,14,41,14],[40,15,41,15],[40,16,41,16],[40,17,41,17],[40,0,41,1],[40,2,41,3],[40,4,41,5],[40,6,41,7],[40,8,41,9],[40,10,41,11],[38,66,39,68],[38,69,39,71],[38,72,39,75],[38,76,39,79],[39,12,39,13],[39,14,39,15],[39,16,39,17],[39,18,39,19],[39,47,39,48],[39,49,39,50],[38,46,39,46],[38,47,38,52],[38,53,38,56],[38,57,39,58],[38,59,39,61],[38,62,39,65],[39,51,39,52],[39,53,39,54],[39,55,39,56],[38,24,39,27],[38,28,39,31],[38,32,39,35],[38,36,39,40],[38,41,39,42],[38,43,39,45],[38,0,39,3],[36,41,36,68],[36,69,36,89],[37,41,37,46],[37,47,37,58],[37,59,37,68],[37,69,37,79],[37,80,39,81],[37,82,39,85],[37,86,39,89],[34,10,34,11],[34,12,35,14],[34,21,35,26],[34,27,35,32],[35,3,35,5],[35,6,35,7],[35,8,35,9],[35,10,35,11],[34,0,35,2],[34,3,34,5],[34,6,34,7],[34,8,34,9],[31,21,31,26],[31,27,31,29],[31,30,31,32],[32,0,32,2],[32,3,32,4],[32,8,32,9],[32,10,32,11],[32,21,33,26],[32,27,33,29],[32,30,33,32],[38,4,39,7],[38,8,39,11],[38,12,38,19],[38,20,39,21],[38,22,39,23],[36,0,37,40],[30,21,30,26],[30,27,30,29],[30,30,30,32],[31,0,31,2],[31,3,31,4],[31,8,31,9],[31,10,31,11],[31,12,32,14],[31,15,32,17],[31,18,32,20],[29,30,29,32],[29,33,35,89],[30,0,30,2],[30,3,30,5],[30,6,30,7],[30,8,30,9],[30,10,30,11],[30,12,30,14],[30,15,30,17],[30,18,30,20],[29,0,29,2],[29,3,29,7],[29,8,29,14],[29,15,29,20],[29,21,29,26],[29,27,29,29],[33,0,33,2],[33,3,33,7],[33,8,33,11],[33,12,33,14],[33,15,35,17],[33,18,35,20],[27,64,27,67],[27,68,27,71],[27,72,27,75],[27,76,27,79],[27,80,27,84],[28,0,28,14],[28,15,28,20],[28,21,28,32],[27,39,27,42],[27,43,27,46],[27,47,27,50],[27,51,27,54],[27,55,27,59],[27,60,27,63],[27,18,27,20],[27,21,27,24],[27,25,27,26],[27,27,27,29],[27,30,27,35],[27,36,27,38],[26,85,27,85],[26,86,27,87],[26,88,27,89],[27,0,27,2],[27,3,27,5],[27,6,27,7],[27,8,27,9],[27,10,27,11],[27,12,27,14],[27,15,27,17],[26,70,26,71],[26,72,26,73],[26,74,26,75],[26,76,26,78],[26,80,26,81],[26,82,26,84],[26,58,26,59],[26,60,26,61],[26,62,26,63],[26,64,26,65],[26,66,26,67],[26,68,26,69],[26,41,26,42],[26,43,26,45],[26,47,26,49],[26,51,26,52],[26,53,26,54],[26,55,26,57],[26,23,26,24],[26,27,26,28],[26,30,26,32],[26,33,26,35],[26,37,26,38],[26,39,26,40],[26,0,26,1],[26,3,26,4],[26,12,26,13],[26,15,26,16],[26,18,26,19],[26,21,26,22],[25,64,25,65],[25,66,25,67],[25,68,25,69],[25,70,25,71],[25,72,25,73],[25,74,25,75],[25,51,25,52],[25,53,25,54],[25,55,25,57],[25,58,25,59],[25,60,25,61],[25,62,25,63],[25,33,25,35],[25,37,25,38],[25,39,25,40],[25,41,25,42],[25,43,25,45],[25,47,25,49],[25,30,25,32],[25,21,25,22],[25,23,25,24],[25,27,25,28],[24,85,25,85],[24,86,25,87],[25,76,25,78],[25,80,25,81],[25,82,25,84],[24,43,24,46],[24,47,24,50],[24,51,24,54],[24,55,24,59],[24,60,24,63],[24,64,24,67],[24,21,24,24],[24,25,24,26],[24,27,24,29],[24,30,24,35],[24,36,24,38],[24,39,24,42],[23,0,23,89],[24,0,24,2],[24,3,24,5],[24,6,24,7],[24,8,24,9],[24,10,24,11],[24,12,24,14],[24,15,24,17],[24,18,24,20],[22,51,22,52],[22,53,22,54],[22,56,22,57],[22,58,22,60],[22,61,22,62],[22,63,22,65],[22,37,22,38],[22,39,22,40],[22,41,22,42],[22,43,22,44],[22,45,22,46],[22,47,22,49],[21,0,22,2],[24,88,25,89],[25,0,25,1],[25,3,25,4],[25,12,25,13],[25,15,25,16],[25,18,25,19],[24,68,24,71],[24,72,24,75],[24,76,24,79],[24,80,24,84],[22,12,22,15],[22,16,22,19],[22,20,22,23],[22,24,22,28],[22,29,22,31],[22,32,22,34],[22,35,22,36],[21,58,21,60],[21,61,21,62],[21,63,21,65],[21,66,22,73],[21,74,22,75],[21,76,21,79],[22,76,22,79],[21,43,21,44],[21,45,21,46],[21,47,21,49],[21,51,21,52],[21,53,21,54],[21,56,21,57],[21,12,21,15],[21,16,21,19],[21,29,21,31],[21,32,21,34],[20,24,21,28],[21,35,21,36],[21,37,21,38],[21,39,21,40],[21,41,21,42],[19,68,20,69],[19,70,20,71],[19,72,20,73],[20,12,20,19],[20,20,21,23],[19,74,20,75],[19,76,20,79],[19,51,20,52],[19,53,20,54],[19,55,20,55],[19,58,20,60],[19,61,20,62],[19,66,20,67],[17,63,20,65],[16,66,18,67],[16,68,18,69],[16,70,18,71],[16,72,18,73],[16,74,18,75],[16,76,18,79],[19,18,19,19],[19,20,19,21],[19,23,19,24],[19,25,19,26],[19,27,19,28],[17,41,20,42],[17,43,18,46],[17,47,18,50],[17,51,18,55],[17,56,20,57],[17,58,18,62],[19,43,20,44],[19,45,20,46],[19,47,20,49],[19,50,20,50],[11,3,14,5],[11,6,14,7],[11,8,14,9],[11,10,14,11],[11,12,14,13],[13,75,13,78],[13,79,13,80],[13,53,13,55],[13,56,13,59],[13,60,13,62],[14,53,14,55],[14,56,14,59],[14,60,14,62],[11,19,14,20],[11,21,14,23],[11,24,14,25],[11,26,14,27],[12,63,12,68],[12,53,12,55],[12,56,12,59],[12,60,12,62],[14,47,14,52],[14,63,14,68],[14,69,14,74],[14,75,14,78],[12,69,12,74],[17,17,18,17],[17,22,18,22],[17,23,18,24],[17,25,18,26],[17,27,18,28],[14,79,14,80],[14,81,14,84],[14,85,14,89],[15,12,15,19],[15,20,15,28],[15,29,15,65],[15,66,15,75],[11,28,14,30],[11,31,14,36],[11,37,14,40],[11,41,14,46],[11,47,11,68],[11,69,11,89],[11,14,14,16],[11,17,14,18],[16,18,18,19],[16,20,18,21],[16,22,16,28],[16,29,16,65],[12,75,12,78]],"merged_total":1135,"flags":["merged_cut"]}
[null,null,null,null,null,null,null,null,null,null,null,null,null,null,null,null,null,null,null,null,null,null,null,null,null,null,null,"DIRECCION - PROGRAMA  APS \nSUBSECRETARIA DE MEDICINA SOCIAL\nRONDA N°: 192   AÑO: 2025 ",null,null,null,null,null,null,null,null,null,null,null,null,null,null,null,null,null,null,null,null,null,null,null,null,null,null,"1r","2r","3r",null,"4r",null,"T",null,null,null,null,null,null,null,null,null,null,null,null,null,null,null,null,null,null,null,"Informe y orden de Ronda: ",6,null,null,null,null,2]
[null,null,null,null,null,null,null,"Area Operativa N°: ",4,null,null,null,null,null,"Nombre: ","MORILLO",null,null,null,null,null,null,null,null,null,null,null,null,null,null,null,null,null,null,null,null,null,null,null,null,null,null,null,null,null,null,"Mort. Mater. Acum. Año",null,null,null,null,null,null,null,0,{"$f":"CE41","v":0},0,null,{"$f":"CE41","v":0},null,{"$f":"SUM(BC2:BG2)","v":0},null,null,null,null,"Sector:",null,"LOS BALDES",null,null,null,null,null,null,null,null,null,null,null,null,null,null,null,null,null,"N°",5]
[null,null,null,null,null,null,null,null,null,null,null,null,null,null,null,null,null,null,null,null,null,null,null,null,null,null,null,null,null,null,null,null,null,null,null,null,null,null,null,null,null,null,null,null,null,null,"Mort. 0-1 año Acum Año",null,null,null,null,null,null,null,0,{"$f":"BR41+BU41+BY41","v":0},0,null,{"$f":"BR41+BU41+BY41","v":0},null,{"$f":"SUM(BC3:BG3)","v":0},null,null,null,null,null,"Etnia: ","WICHI",null,null,null,null,null,null,null,null,null,null,null,null,null,null,null,null,null,"Sector Riesgo:","SI"]
[null,null,null,null,null,null,null,"Establec. Base: ","HOSPITAL MORILLO",null,null,null,null,null,null,null,null,null,null,null,null,null,null,null,null,null,null,null,null,null,null,null,null,null,null,null,null,null,null,null,null,null,null,null,null,null,"Mort. 1-4 años Acum Año",null,null,null,null,null,null,null,0,{"$f":"CC41","v":0},0,null,{"$f":"CC41","v":0},null,{"$f":"SUM(BC4:BG4)","v":0},null,null,null,null,null,null,null,null,null,null,null,null,"Desde: ","07/03/2025",null,null,null,null,null,null,null,null,"Hasta: ","05/06/2026"]
[null,null,null,null,null,null,null,null,null,null,null,null,null,null,null,null,null,null,null,null,null,null,null,null,null,null,null,null,null,null,null,null,null,null,null,null,null,null,null,null,null,null,null,null,null,null,null,null,null,null,null,null,null,null,null,null,null,null,null,null,null,null,null,null,null,null,null,null,null,null,null,null,null,null,null,null,null,null,null,"Cobertura: ","CUBIERTO"]
[null,null,null,null,null,null,null,"Sup. Intermedio: ","MIGUEL CORREA",null,null,null,null,null,null,null,null,null,null,null,null,null,null,null,null,null,null,null,null,null,null,null,"Responsable A.P.S.: ","Dr. Abel Ibarra",null,null,null,null,null,null,null,null,null,null,null,null,null,null,null,null,null,null,null,null,null,null,"Agente Sanitario: ","Alvaro Coronel",null,null,null,null,null,null,null,null,null,null,null,null,null,null,null,null,"Sit. Revista: ","PLANTA PERMANENTE",null,null,null,null,null,"Reg. Horario: ","44 HS."]
[]
["A) FAMILIAS VISITADAS EN LA RONDA",null,null,null,null,null,null,null,null,null,null,null,null,null,null,null,null,null,null,null,null,null,null,null,null,null,null,null,null,null,null,null,null,null,null,null,null,null,null,null,null,null,null,null,null,null,null,"B) FACTORES DE PRIORIZACION DE VISITAS"]
["ASIGNADAS",null,null,"VISITADAS",null,null,"TOTAL\nVISITAS",null,"NO VISITADAS",null,null,null,null,null,null,null,null,"FLIAS ORIG.",null,"FLIAS. URB.",null,"FLIAS. PERIURB",null,null,"FLIAS. RURALES",null,"GOLON\nMIGRANTES",null,null,null,null,"FLIAS. CON PL. SOCIALES",null,null,null,null,null,"PRODUCCION\nFAMILIAR",null,null,null,null,null,null,null,null,null,1,null,2,null,3,null,null,4,null,5,null,6,null,7,null,null,8,null,null,9,null,null,10,null,null,null,11,null,null,12,null,null,null,13,null,null,14,null,null,15]
[null,null,null,null,null,null,null,null,"RECHAZO TOTAL",null,"AUSEN\n-TE",null,"NO VISITADAS",null,"TOT NO VISIT.",null,null,null,null,null,null,null,null,null,null,null,"HACIA\nEL AO",null,"DESDE\nEL AO",null,null,null,null,null,null,null,null,"HUERTA",null,null,null,"GRANJA",null,null,null,null,null,0,null,0,null,0,null,null,0,null,0,null,0,null,0,null,null,0,null,null,0,null,null,"Total",null,null,null,"Tot",null,"Trat","Tot.",null,null,"Trat.","Tot.","Trat.",null,"Tot.",null,"Trat","Total"]
[null,null,null,null,null,null,null,null,null,null,0,null,null,null,null,null,null,null,null,null,null,null,null,null,null,null,null,null,null,null,null,null,null,null,null,null,null,null,null,null,null,null,null,null,null,null,null,null,null,null,null,null,null,null,null,null,null,null,null,null,null,null,null,null,null,null,null,null,null,0,null,null,null,0,null,0,0,null,null,0,0,0,null,0,null,0,0]
[0,null,null,0,null,null,0,null,0,null,0,null,0,null,{"$f":"M12+K12+I12","v":0},null,null,0,null,0,null,0,null,null,0,null,0,null,0,null,null,0,null,null,null,null,null,0,null,null,null,0,null,null,null,null,null,"C) VISITAS A FLIAS. PRIORIZADAS",null,null,null,null,null,null,null,null,null,null,null,null,null,null,null,null,null,null,null,null,null,"D) SUPERV. A FLIAS. "]
[null,null,null,null,null,null,null,null,null,null,null,null,null,null,null,null,null,null,null,null,null,null,null,null,null,null,null,null,null,null,null,null,null,null,null,null,null,null,null,null,null,null,null,null,null,null,null,"PRIORIDAD",null,null,null,null,null,1,null,null,2,null,null,null,3,null,null,"Total",null,null,null,null,null,"PRIORIDAD",null,null,null,null,null,1,null,null,null,2,null,3,null,null,null,"TOTAL"]
[null,null,null,null,null,null,null,null,null,null,null,null,null,null,null,null,null,null,null,null,null,null,null,null,null,null,null,null,null,null,null,null,null,null,null,null,null,null,null,null,null,null,null,null,null,null,null,"N° FAMILIAS",null,null,null,null,null,0,null,null,0,null,null,null,0,null,null,{"$f":"SUM(BB14:BI14)","v":0},null,null,null,null,null,"INTERMEDIA",null,null,null,null,null,0,null,null,null,0,null,0,null,null,null,{"$f":"SUM(BX14:CD14)","v":0}]
[null,null,null,null,null,null,null,null,null,null,null,null,null,null,null,null,null,null,null,null,null,null,null,null,null,null,null,null,null,null,null,null,null,null,null,null,null,null,null,null,null,null,null,null,null,null,null,"VISITAS",null,null,null,null,null,0,null,null,0,null,null,null,0,null,null,{"$f":"SUM(BB15:BI15)","v":0},null,null,null,null,null,"PROFESIONAL",null,null,null,null,null,0,null,null,null,0,null,0,null,null,null,{"$f":"SUM(BX15:CB15)","v":0}]
["E) EDAD FERTIL",null,null,null,null,"F) EMBARAZADAS",null,null,null,null,null,null,"G) PARTOS",null,null,null,null,null,null,null,"H) R.N. EN LA RONDA",null,null,null,null,null,null,null,null,"I) EVALUACION ANTROPOMETRICA",null,null,null,null,null,null,null,null,null,null,null,null,null,null,null,null,null,null,null,null,null,null,null,null,null,null,null,null,null,null,null,null,null,null,null,null,"NIÑ MBP/BP/RBP CTRL. INT.",null,null,null,null,null,null,null,null,null,"LACT. MATERNA"]
["PAP",null,null,0,null,"CAPT. 1er TRIMESTRE","ESP EN EL AÑO","ACUMULADAS","NUEVAS\nRONDA","TOTAL","DE RIESGO","<19 Años","TOTAL",null,"HOSPITALARIOS",null,"DOMIC.",null,"N° PUERPERAS",null,"NACIDOS VIVOS",null,"P AL NACER",null,null,null,null,null,null,"NIÑOS CONTROLADOS",null,null,null,null,null,null,null,null,null,null,null,null,null,null,null,null,null,null,null,null,null,null,null,null,null,null,null,null,null,null,null,null,null,null,null,null,"MELAN",null,"MED",null,"ENF.",null,"LAB",null,"NUTR",null,"< 6 M EN LA RONDA",null,null,null,{"$f":"CC20+CC22+CC23","v":0}]
[null,null,null,null,null,null,null,null,null,null,null,null,null,null,null,null,"DOM","ASIS",null,null,null,null,"ALTO PESO","ADEC",null,"BAJO PESO",null,"MB\nPESO",null,"EDAD",null,null,"A CONTROLAR",null,null,"ADECUADO",null,"BP\nBAJO PESO",null,"MBP\nMUY B. PESO",null,"ALTO PESO",null,"RIESGO",null,null,null,"RECUPERADOS",null,null,null,"TALLA / EDAD",null,null,null,null,"NUEVOS\nEPISODIOS",null,"PERDIDOS",null,null,null,null,"FALLECIDOS\nC/ANTEC. ANTROPOM."]
[]
["Antic.",null,null,0,null,0,{"$f":"IF(ISERROR(((CC92*1.8)/100)),0,(((CC92*1.8)/100)))","v":0},0,0,{"$f":"SUM(F23:L23)","v":0},0,0,{"$f":"O20+Q20+R20","v":0},null,0,null,0,0,0,null,{"$f":"W20+X20+Z20+AB20","v":0},null,0,0,null,0,null,0,null,null,null,null,null,null,null,null,null,null,null,null,null,null,null,"BP",null,"AP",null,"BP",null,null,"AP","BT",null,"MBT",null,"RGO\nBT",null,null,"BP\nMBP",null,null,"A.P.",null,null,null,null,0,null,0,null,0,null,0,null,0,null,"EXCLUSIVO",null,null,null,0]
[null,null,null,null,null,"CONTROLES",null,null,null,null,null,null," ",null,null,null,null,null,null,null,"PREMATUROS",null,null,null,"PESQUISA"]
["Aborto",null,null,0,null,"MELON",null,"MEL","MED","ENF","LAB","S/C","PUERP",null,null,null,"R.N.",null,null,null,null,null,null,null,null,null,null,null,null,"< 2 años",null,null,{"$f":"A27+C27+D27+F27+G27+H27","v":0},null,null,0,null,0,null,0,null,0,null,0,null,0,null,0,null,null,0,0,null,0,null,0,0,null,0,null,null,0,null,0,null,null,"CONTROLES EN DOMIC. NIÑO BP o MBP",null,null,null,null,null,null,null,0,null,"MIXTA",null,null,null,0]
[null,null,null,null,null,0,null,0,0,0,0,0,0,null,null,null,0,null,null,null,0,null,null,null,0,null,null,null,null,"2 a 6 años",null,null,{"$f":"I27+J27+K27+L27+M27+O27+P27+R27","v":0},null,null,0,null,0,null,0,null,0,null,0,null,0,null,0,null,null,0,0,null,0,null,0,0,null,0,null,null,0,null,0,null,null,null,null,null,null,null,null,null,null,null,null,"ARTIF",null,null,null,0]
["J) DATOS DE POBLACION"]
["0 a 5m",null,null,"6 a 11m",null,null,"1 AÑO",null,"2 AÑOS",null,"3 AÑOS",null,"4 AÑOS",null,null,"5 AÑOS",null,null,"6 AÑOS",null,null,"7 A 9 AÑOS",null,null,null,"10 AÑOS",null,"11 AÑOS",null,null,"12 A 14",null,null,null,null,null,"15 A 19",null,null,"20 A 24",null,null,null,"25 A 29",null,null,null,"30 A 34",null,null,null,"35 A 39",null,null,null,"40 A 44",null,null,null,null,"45 A 49",null,null,null,"50 A 54",null,null,null,"55 A 59",null,null,null,"60 A 64",null,null,null,"65 y +",null,null,null,"TOTAL",null,null,null,null,"MUJERES\n10 A 49","O. SOCIAL",null,"INDOCUM"]
["M",null,"F","M",null,"F","M","F","M","F","M","F","M",null,"F","M",null,"F","M",null,"F","M",null,"F",null,"M","F","M",null,"F","M",null,null,"F",null,null,"M","F",null,"M",null,"F",null,"M",null,null,"F","M",null,null,"F","M",null,"F",null,"M",null,null,"F",null,"M",null,"F",null,"M",null,"F",null,"M",null,"F",null,"M",null,"F",null,"M",null,null,"F","M",null,"F"]
[0,null,0,0,null,0,0,0,0,0,0,0,0,null,0,0,null,0,0,null,0,0,null,0,null,0,0,0,null,0,0,null,null,0,null,null,0,0,null,0,null,0,null,0,null,null,0,0,null,null,0,0,null,0,null,0,null,null,0,null,0,null,0,null,0,null,0,null,0,null,0,null,0,null,0,null,0,null,null,0,{"$f":"BY27+BU27+BQ27+BM27+BI27+BD27+AZ27+AV27+AR27+AN27+AK27+AE27+AB27+Z27+V27+S27+P27+M27+K27+I27+G27+D27+A27","v":0},null,{"$f":"CB27+BW27+BS27+BO27+BK27+BG27+BB27+AY27+AU27+AP27+AL27+AH27+AD27+AA27+X27+U27+R27+O27+L27+J27+H27+F27+C27","v":0},null,null,{"$f":"BK27+BG27+BB27+AY27+AU27+AP27+AL27+AH27+AD27+AA27","v":0},0,null,0]
[{"$f":"A27+C27","v":0},null,null,{"$f":"D27+F27","v":0},null,null,{"$f":"G27+H27","v":0},null,{"$f":"I27+J27","v":0},null,{"$f":"K27+L27","v":0},null,{"$f":"M27+O27","v":0},null,null,{"$f":"P27+R27","v":0},null,null,{"$f":"S27+U27","v":0},null,null,{"$f":"V27+X27","v":0},null,null,null,{"$f":"Z27+AA27","v":0},null,{"$f":"AB27+AD27","v":0},null,null,{"$f":"AE27+AH27","v":0},null,null,null,null,null,{"$f":"AL27+AK27","v":0},null,null,{"$f":"AN27+AP27","v":0},null,null,null,{"$f":"AR27+AU27","v":0},null,null,null,{"$f":"AV27+AY27","v":0},null,null,null,{"$f":"AZ27+BB27","v":0},null,null,null,{"$f":"BD27+BG27","v":0},null,null,null,null,{"$f":"BI27+BK27","v":0},null,null,null,{"$f":"BM27+BO27","v":0},null,null,null,{"$f":"BQ27+BS27","v":0},null,null,null,{"$f":"BU27+BW27","v":0},null,null,null,{"$f":"BY27+CB27","v":0},null,null,null,{"$f":"CC27+CE27","v":0}]
["K) TUBERCULOSIS ",null,null,null,null,null,null,null,null,null,null,null,null,null,null," CHAGAS ",null,null,null,null,null,"L) PERSONAS CON ENF. CRONICAS",null,null,null,null,null,null,null,null,null,null,null,"M) OBSERVACIONES"]
["Coef. Sint.Resp.: ",null,null,"MUESTRAS",null,null,null,null,"TRATAM. TBC",null,null,null,null,null,null,"TRATAMIENTOS CHAGAS",null,null,null,null,null,"PERSONAS CON",null,null,null,null,null,"TOTAL",null,null,"EN TRAT.",null,null," "]
[{"$f":"Control!H9","v":8},null,null,"DIAGNOSTICOS",null,null,"CONTROL",null,"Total",null,"TAES",null," ABANDONO",null,null,"INICIO ",null,null,0,null,null,"DIABETES",null,null,null,null,null,0,null,null,0]
["SINT. ESP..",null,null,"Tot",null,"(+)","Tot","(+)",0,null,0,null,0,null,null,"FINALIZACION ",null,null,0,null,null,"HIPERTENSION \nARTERIAL",null,null,null,null,null,0,null,null,0]
[{"$f":"IF(ISERROR(((AK91+AL91+AN91+AP91+AR91+AU91+AV91+AY91+AZ91+BB91+BD91+BG91+BI91+BK91+BM91+BO91+BQ91+BS91+BU91+BW91+BY91+CB91)*0.2)*A31/100),0,(((AK91+AL91+AN91+AP91+AR91+AU91+AV91+AY91+AZ91+BB91+BD91+BG91+BI91+BK91+BM91+BO91+BQ91+BS91+BU91+BW91+BY91+CB91)*0.2)*A31/100))","v":0},null,null,0,null,0,0,0,"QUIMIO Total",null,0,null,null,null,null,null,null,null,null,null,null,"PERSONAS CON OTRAS ENF. CRONICAS AL CUIDADO DE NIÑOS",null,null,null,null,null,0,null,null,0]
["SINT. DETEC.",null,null,"CONTACTO",null,null,null,null,"CTRL. MEDICO",null,null,null,"FINALIZAD0",null,null,"ABANDONO ",null,null,0]
[0,null,null,"< 14a",null,null,"> 15a",null,"Pcte/Rda",null,"A Cont",null,0,null,null,null,null,null,null,null,null,"ADULTOS MAYORES EN SITUACION DE RIESGO",null,null,null,null,null,0]
[null,null,null,0,null,null,0,null,0,null,0]
[1,null,null,null,null,null,null,null,null,null,null,null,null,null,null,null,null,null,null,null,null,null,null,null,null,null,null,null,null,null,null,null,null,null,null,null,null,null,null,null,null,"Ñ) VIVIENDA Y SANEAMIENTO",null,null,null,null,null,null,null,null,null,null,null,null,null,null,null,null,null,null,null,null,null,null,null,null,null,null,null,"O) DEFUNCIONES EN LA RONDA"]
[null,null,null,null,null,null,null,null,null,null,null,null,null,null,null,null,null,null,null,null,null,null,null,null,null,null,null,null,null,null,null,null,null,null,null,null,null,null,null,null,null,"TRAT. AGUA",null,null,null,null,null,"DISP SANITARIA EXCRETAS",null,null,null,null,null,null,null,null,null,null,null,"TRATAM. SANIT BASURA",null,null,null,null,null,null,null,null,null,"MENORES 1 AÑO",null,null,null,null,null,null,null,null,null,null,"1 a 4 AÑOS",null,"MATERNA",null,null,null,"OTRAS"]
["EMB",null,null,null,"RN",null,null,null,"PUERP",null,null,null,"Menores de 6 años",null,null,null,null,null,null,null,"E.\nCRONICAS",null,"PAP",null,"CHAGAS",null,null,null,"TBC",null,null,null,"PSICOSOC",null,null,null,"TOTAL\nDERIVACIONES",null,null,null,null,"RED",null,"EN\nVIV",null,null,"S/T","ARRASTRE",null,null,null,null,null,"LETRINA",null,null,null,"S/T",null,"REC. DOMIC.",null,null,"POZO BASURA",null,null,null,"S/T",null,null,"<7d",null,null,"7 a 28d",null,null,null,"29d a 11 m"]
[null,null,null,null,null,null,null,null,null,null,null,null,"BP- MBP",null,"RGO BP",null,"Resp",null,"Diarr",null,null,null,null,null,null,null,null,null,null,null,null,null,null,null,null,null,null,null,null,null,null,null,null,null,null,null,null,"CLOACAS",null,"PC-CT",null,"PC-ST",null,"CT",null,"ST"]
["Env",null,"Rec",null,"Env",null,"Rec",null,"Env",null,"Rec",null,"Env","Rec","Env","Rec","Env","Rec","Env","Rec","Env","Rec","Env","Rec","Env",null,"Rec",null,"Env",null,"Rec",null,"Env",null,"Rec",null,"ENV",null,null,"Rec",null,0,null,0,null,null,0,0,null,0,null,0,null,0,null,0,null,0,null,0,null,null,0,null,null,null,0,null,null,0,null,null,0,null,null,null,0,null,null,null,0,null,0,null,null,null,0]
[null,null,null,null,null,null,null,null,null,null,null,null,null,null,null,null,null,null,null,null,null,null,null,null,null,null,null,null,null,null,null,null,null,null,null,null,null,null,null,null,null,"CASAS ",null,null,null,null,null,null,null,null,null,null,null,"CHAGAS",null,null,null,null,null,null,null,null,null,null,null,"DENGUE CHIKUNGUNYA",null,null,null,null,null,null,null,null,null,null,null,"P) PROM. SALUD"]
[0,null,0,null,0,null,0,null,0,null,0,null,0,0,0,0,0,0,0,0,0,0,0,0,0,null,0,null,0,null,0,null,0,null,0,null,{"$f":"AG43+AC43+Y43+W43+U43+S43+Q43+O43+M43+I43+E43+A43","v":0},null,null,{"$f":"AI43+AE43+AA43+X43+V43+T43+R43+P43+N43+K43+G43+C43","v":0},null,"ASIGNADAS",null,null,null,null,"VISITADAS",null,null,"VACIAS",null,"DESTRUIDAS",null,"EVALUADAS",null,null,"POSITIVAS",null,null,null,null,"TRATADAS",null,null,null,"EVALUADAS",null,null,null,"POSITIVAS",null,null,null,"TRATADAS",null,null,null,"PLANIFICADAS \nEN COMUNIDAD",null,null,null,null,null,null,null,0]
[]
[null,null,null,null,null,null,null,null,null,null,null,null,null,null,null,null,null,null,null,null,null,null,null,null,null,null,null,null,null,null,null,null,null,null,null,null,null,null,null,null,null,0,null,null,null,null,0,null,null,0,null,0,null,0,null,null,0,null,null,null,null,0,null,null,null,0,null,null,null,0,null,null,null,0,null,null,null,"REALIZADAS ",null,null,null,null,null,null,null,0]
["Q) INDICADORES"]
["DE ESTRUCTURA",null,null,null,null,null,"SI","NO","DE PRODUCCION",null,null,null,null,null,"%","META",null," DE INMUNIZACIONES",null,null,null,null,null,null,null,null,null,null,null,null,null,null,null,null," DE INMUNIZACIONES",null,null,null,null,null,null,null,null,null,null,null,null,null,null,null,null,null,null,null,null,null,null,null,null,null,null," DE RESULTADO",null,null,null,null,null,null,null,null,"%",null,"META",null,null," DE RESULTADO",null,null,null,null,null,null,null,null,null,"%",null,"META RDA"]
["Formularios",null,null,null,null,null,0,0,"Cobertura a Familias",null,null,null,null,null,{"$f":"IF(ISERROR(D12/A12),0,(D12/A12)*100)","v":0},100,null,"VACUNA",null,null,null,null,"P. REF",null,"1r","2r","3r","4r",null,"T","%",null,"META",null,"VACUNA",null,null,null,null,null,null,null,null,null,"P. REF",null,null,"1r",null,null,"2r","3r",null,null,"4r","T",null,"%",null,"META",null,"Ed Fértil c/Anticoncepción",null,null,null,null,null,null,null,null,{"$f":"IF(ISERROR(D20/CH27),0,(D20/CH27)*100)","v":0},null,null,null,null,"Niños 2 a 5 Recup BP",null,null,null,null,null,null,null,null,null,{"$f":"IF(ISERROR(AV23/K80),0,(AV23/K80)*100)","v":0},null,100]
["Equipo",null,null,null,null,null,0,0,"Niños < 2 años Controlados",null,null,null,null,null,{"$f":"IF(ISERROR(((AJ22+AL22+AN22+AP22)/(A28+D28+G28))),0,(((AJ22+AL22+AN22+AP22)/(A28+D28+G28)))*100)","v":0},100,null,"BCG RN",null,null,null,null,{"$f":"U20","v":0},null,2,0,0,0,null,{"$f":"SUM(Y49:AB49)","v":2},{"$f":"IF(ISERROR(Z49/W49),0,(Z49/W49)*100)","v":0},null,100,null,"2 Ref. Varicela Ingreso Esc",null,null,null,null,null,null,null,null,null,17,null,null,17,null,null,0,0,null,null,0,{"$f":"SUM(AV49:BC49)","v":17},null,{"$f":"IF(ISERROR(AY49/AS49),0,(AY49/AS49)*100)","v":0},null,25,null,"PAP",null,null,null,null,null,null,null,null,{"$f":"IF(ISERROR(D17/CH27),0,(D17/CH27)*100)","v":0},null,null,null,null,"Niños 2 a 5 Recup AP",null,null,null,null,null,null,null,null,null,{"$f":"IF(ISERROR(AY23/K82),0,(AY23/K82)*100)","v":0},null,100]
["Combustible",null,null,null,null,null,0,0,"Niños  (2 a 5 años) Controlados",null,null,null,null,null,{"$f":"IF(ISERROR(((AJ23+AL23+AN23+AP23)/(I28+K28+M28+P28))),0,(((AJ23+AL23+AN23+AP23)/(I28+K28+M28+P28)))*100)","v":0},100,null,"Hepatitis B RN","Hepatitis B RN",null,"Hepatitis B RN","Hepatitis B RN",null,null,2,0,0,0,null,{"$f":"SUM(Y50:AB50)","v":2},{"$f":"IF(ISERROR(Z50/W49),0,(Z50/W49)*100)","v":0},null,null,null,"2° Ref. Antipolio Ingreso Escolar",null,null,null,null,null,null,null,null,null,null,null,null,17,null,null,0,0,null,null,0,{"$f":"SUM(AV50:BC50)","v":17},null,{"$f":"IF(ISERROR(AY50/AS49),0,(AY50/AS49)*100)","v":0},null,null,null,"Embarazadas Con MELON",null,null,null,null,null,null,null,null,{"$f":"IF(ISERROR(F23/J20),0,(F23/J20)*100)","v":0},null,80,null,null,"Niños 6 meses con LME",null,null,null,null,null,null,null,null,null,{"$f":"IF(ISERROR(CC20/CC17),0,(CC20/CC17)*100)","v":0},null,80]
[" DE DIAGNOSTICO",null,null,null,null,null,null,"%","Conc. Vis. Flias Prio",null,null,null,null,null,{"$f":"IF(ISERROR((BB15+BE15)/(BB14+BE14)),0,((BB15+BE15)/(BB14+BE14)))","v":0},25,null,"2° Neumococo < 1a","3ª SOT/Salk < 1a",null,"3ª SOT/Salk < 1a","3ª SOT/Salk < 1a",{"$f":"A91+C91+D91+F91","v":0},null,1,0,0,0,null,{"$f":"SUM(Y51:AB51)","v":1},{"$f":"IF(ISERROR(Z51/W51),0,(Z51/W51)*100)","v":0},null,100,null,"2° Ref. DPT Ingreso Escolar",null,null,null,null,null,null,null,null,null,null,null,null,17,null,null,0,0,null,null,0,{"$f":"SUM(AV51:BC51)","v":17},null,{"$f":"IF(ISERROR(AY51/AS49),0,(AY51/AS49)*100)","v":0},null,null,null,"Partos Hospitalarios",null,null,null,null,null,null,null,null,{"$f":"IF(ISERROR(O20/M20),0,(O20/M20)*100)","v":0},null,100]
["Flias Priorizadas 3 + 2:",null,null,null,null,null,null,{"$f":"IF(ISERROR((BB14+BE14)/D12),0,(BB14+BE14)/D12*100)","v":0},"Conc.C.Dom Niños Bp/MBP",null,null,null,null,null,{"$f":"IF(ISERROR(BW22/(AL22+AN22+AL23+AN23)),0,(BW22/(AL22+AN22+AL23+AN23)))","v":0},3,null,"2° Rotavirus <1 a","3º Pentavalente <1 a",null,"3º Pentavalente <1 a","3º Pentavalente <1 a",null,null,1,0,0,0,null,{"$f":"SUM(Y52:AB52)","v":1},{"$f":"IF(ISERROR(Z52/W51),0,(Z52/W51)*100)","v":0},null,null,null,"2° TV Ingreso Escolar",null,null,null,null,null,null,null,null,null,null,null,null,17,null,null,0,0,null,null,0,{"$f":"SUM(AV52:BC52)","v":17},null,{"$f":"IF(ISERROR(AY52/AS49),0,(AY52/AS49)*100)","v":0},null,100,null,"Conc Control Médico a RN",null,null,null,null,null,null,null,null,{"$f":"IF(ISERROR(Q23/M20),0,(Q23/M20))","v":0},null,4,null,null,"% Niños BP MBP y RBP con MELaN",null,null,null,null,null,null,null,null,null,{"$f":"IF(ISERROR(BO20/(AL22+AN22+AR22+AL23+AN23+AR23)),0,(BO20/(AL22+AN22+AR22+AL23+AN23+AR23))*100)","v":0},null,100]
["Flias Urbanas",null,null,null,null,null,null,{"$f":"IF(ISERROR(T12/D12),0,(T12/D12)*100)","v":0},"Rel. Muestra/Sint Resp.",null,null,null,null,null,{"$f":"IF(ISERROR(D33/A35),0,(D33/A35))","v":0},2,null,"2° Meningococo < 1a",null,null,null,null,null,null,0,0,0,0,null,{"$f":"SUM(Y53:AB53)","v":0},{"$f":"IF(ISERROR(Z53/W51),0,(Z53/W51)*100)","v":0},null,null,null,"dTpa 11 años",null,null,null,null,null,null,null,null,null,7,null,null,7,null,null,0,0,null,null,0,{"$f":"SUM(AV53:BC53)","v":7},null,{"$f":"IF(ISERROR(AY53/AS53),0,(AY53/AS53)*100)","v":0},null,null,null,"Conc Control Méd. a puérpera",null,null,null,null,null,null,null,null,{"$f":"IF(ISERROR(M23/S20),0,(M23/S20))","v":0},null,4,null,null,"Sint Resp Detect. Seg zona",null,null,null,null,null,null,null,null,null,{"$f":"IF(ISERROR((A35*100)/(((20*(AK28+AN28+AR28+AV28+AZ28+BD28+BI28+BM28+BQ28+BU28+BY28))/100)*A31)),0,(A35*100)/((((20*(AK28+AN28+AR28+AV28+AZ28+BD28+BI28+BM28+BQ28+BU28+BY28))/100)*A31)/100))","v":0},null,"S/Z"]
["Flias Periurbanas",null,null,null,null,null,null,{"$f":"IF(ISERROR(V12/D12),0,(V12/D12)*100)","v":0},"Casas Evaluadas Chagas",null,null,null,null,null,{"$f":"IF(ISERROR(BB45/AU45),0,(BB45/AU45)*100)","v":0},100,null,"3° Antipolio < 1 año","2ª Rotavirus < 1 año",null,"2ª Rotavirus < 1 año","2ª Rotavirus < 1 año",null,null,1,0,0,0,null,{"$f":"SUM(Y54:AB54)","v":1},{"$f":"IF(ISERROR(Z54/W51),0,(Z54/W51)*100)","v":0},null,null,null,"U.D. Meningococo",null,null,null,null,null,null,null,null,null,null,null,null,7,null,null,0,0,null,null,0,{"$f":"SUM(AV54:BC54)","v":7},null,{"$f":"IF(ISERROR(AY54/AS53),0,(AY54/AS53)*100)","v":0},null,"95% AL 1° SEM",null,"RN con Pesquisa",null,null,null,null,null,null,null,null,{"$f":"IF(ISERROR(Y23/U20),0,(Y23/U20)*100)","v":0},null,100,null,null,"Pacientes TBC con Control Médico",null,null,null,null,null,null,null,null,null,{"$f":"IF(ISERROR(I36/I32),0,(I36/I32)*100)","v":0},null,100]
["Flias Rurales",null,null,null,null,null,null,{"$f":"IF(ISERROR(Y12/D12),0,(Y12/D12)*100)","v":0},"Casas Tratadas Chagas",null,null,null,null,null,{"$f":"IF(ISERROR(BJ45/BE45),0,(BJ45/BE45)*100)","v":0},100,null,"3° Pentavalente <1 año","TV 1 año",null,"TV 1 año","TV 1 año",null,null,1,0,0,0,null,{"$f":"SUM(Y55:AB55)","v":1},{"$f":"IF(ISERROR(Z55/W51),0,(Z55/W51)*100)","v":0},null,null,null,"1° HPV Niñas cumplen 11 a en año en curso",null,null,null,null,null,null,null,null,null,3,null,null,3,null,null,0,0,null,null,0,{"$f":"SUM(AV55:BC55)","v":3},null,{"$f":"IF(ISERROR(AY55/AS55),0,(AY55/AS55)*100)","v":0},null,null,null,"Derivaciones Enviadas/Recibidas",null,null,null,null,null,null,null,null,{"$f":"IF(ISERROR(AN43/AK43),0,(AN43/AK43)*100)","v":0},null,100,null,null,"Contactos TBC Controlados",null,null,null,null,null,null,null,null,null,{"$f":"IF(ISERROR(K36/(D36+G36)),0,(K36/(D36+G36)))*100","v":0},null,100]
["Flias Originarias",null,null,null,null,null,null,{"$f":"IF(ISERROR(R12/D12),0,(R12/D12)*100)","v":0},"Casas Evaluadas Dengue",null,null,null,null,null,{"$f":"IF(ISERROR(BN45/AU45),0,(BN45/AU45)*100)","v":0},100,null,"1° TV","A HA 1 año",null,"A HA 1 año","A HA 1 año",{"$f":"G91+H91","v":0},null,0,0,0,0,null,{"$f":"SUM(Y56:AB56)","v":0},{"$f":"IF(ISERROR(Z56/W56),0,(Z56/W56)*100)","v":0},null,100,null,"1° HPV Niños cumplen 11 a en año en curso",25,25,null,null,null,null,null,null,null,4,null,null,4,null,null,0,0,null,null,0,{"$f":"SUM(AV56:BC56)","v":4},null,{"$f":"IF(ISERROR(AY56/AS56),0,(AY56/AS56)*100)","v":0},null,"95% AL 1° SEM",null,"Niños < 2 a Riesgo BP",null,null,null,null,null,null,null,null,{"$f":"IF(ISERROR(AR22/AJ22),0,(AR22/AJ22)*100)","v":0},null,null,null,null,"TAES de TBC",null,null,null,null,null,null,null,null,null,{"$f":"IF(ISERROR(K32/I32),0,(K32/I32)*100)","v":0},null,100]
["Flias Migr. desde AO",null,null,null,null,null,null,{"$f":"IF(ISERROR(AC12/A12),0,(AC12/A12)*100)","v":0},"Casas Tratadas Dengue",null,null,null,null,null,{"$f":"IF(ISERROR(BV45/BR45),0,(BV45/BR45)*100)","v":0},100,null,"2° TV","A HA 1 año",null,"A HA 1 año","A HA 1 año",null,null,0,0,0,0,null,{"$f":"SUM(Y57:AB57)","v":0},{"$f":"IF(ISERROR(Z57/W56),0,(Z57/W56)*100)","v":0},null,null,null,"Emb. con dTpa",null,null,null,null,null,null,null,null,null,1,null,null,1,null,null,0,0,null,null,0,{"$f":"SUM(AV57:BC57)","v":1},null,{"$f":"IF(ISERROR(AY57/AS57),0,(AY57/AS57)*100)","v":0},null,null,null,"Niños < 2 a Riesgo AP",null,null,null,null,null,null,null,null,{"$f":"IF(ISERROR(AT22/AJ22),0,(AT22/AJ22)*100)","v":0},null,null,null,null,"Ptes. con tratamiento por Chagas",null,null,null,null,null,null,null,null,null,{"$f":"S31","v":0}]
["Flias Migr. hacia el AO",null,null,null,null,null,null,{"$f":"IF(ISERROR(AA12/A12),0,(AA12/A12)*100)","v":0},"Superv Int. a la Familia",null,null,null,null,null,{"$f":"IF(ISERROR((CH14*100)/BL14),0,((CH14*100)/BL14))","v":0},20,null,"Unica Dosis A HA",null,null,null,null,null,null,0,0,0,0,null,{"$f":"SUM(Y58:AB58)","v":0},{"$f":"IF(ISERROR(Z58/W56),0,(Z58/W56)*100)","v":0},null,null,null,"Emb. con Vac Sinsicial",null,null,null,null,null,null,null,null,null,null,null,null,1,null,null,0,0,null,null,0,{"$f":"SUM(AV58:BC58)","v":1},null,{"$f":"IF(ISERROR(AY58/AS57),0,(AY58/AS57)*100)","v":0},null,100,null,"Niños < 2 Recup BP",null,null,null,null,null,null,null,null,{"$f":"IF(ISERROR(AV22/K79),0,(AV22/K79)*100)","v":0},null,100,null,null,"Casas positivas Chagas",null,null,null,null,null,null,null,null,null,{"$f":"IF(ISERROR(BE45/BB45),0,(BE45/BB45)*100)","v":0},null,0]
["Flias con planes sociales",null,null,null,null,null,null,{"$f":"IF(ISERROR(AF12/D12),0,(AF12/D12)*100)","v":0},"Superv Prof. Flias Prio (3v)",null,null,null,null,null,{"$f":"IF(ISERROR(CH15/(BB14+BE14)),0,(CH15/(BB14+BE14))*100)","v":0},70,null,"Ref Neumococo 1 año","Ref Neumoc 1 año",null,"Ref Neumoc 1 año","Ref Neumoc 1 año",null,null,0,0,0,0,null,{"$f":"SUM(Y59:AB59)","v":0},{"$f":"IF(ISERROR(Z59/W56),0,(Z59/W56)*100)","v":0},null,null,null,"dT  Vigente > 65 a",null,null,null,null,null,null,null,null,null,12,null,null,0,null,null,0,0,null,null,0,{"$f":"SUM(AV59:BC59)","v":0},null,{"$f":"IF(ISERROR(AY59/AS59),0,(AY59/AS59)*100)","v":0},null,100,null,"Niños < 2 Recup AP",null,null,null,null,null,null,null,null,{"$f":"IF(ISERROR(AY22/K81),0,(AY22/K81)*100)","v":0},null,100,null,null,"Casas Positivas Aedes",null,null,null,null,null,null,null,null,null,{"$f":"IF(ISERROR(BR45/BN45),0,(BR45/BN45)*100)","v":0},null," "]
[null,null,null,null,null,null,null,null,"% Activ Prom.Salud Comunitarias",null,null,null,null,null,{"$f":"IF(ISERROR(CH45/CH43),0,(CH45/CH43)*100)","v":0},100,null,"Ref. Meningococo 1 año","Ref Cuádruple 1 año",null,"Ref Cuádruple 1 año","Ref Cuádruple 1 año",null,null,1,0,0,0,null,{"$f":"SUM(Y60:AB60)","v":1},{"$f":"IF(ISERROR(Z60/W56),0,(Z60/W56)*100)","v":0},null,null,null,"Neumo 20 > 65 años",null,null,null,null,null,null,null,null,null,null,null,null,0,null,null,0,0,null,null,0,{"$f":"SUM(AV60:BC60)","v":0},null,{"$f":"IF(ISERROR(AY60/AS59),0,(AY60/AS59)*100)","v":0},null,null,null,"Niños 2 a 5 Riesgo BP",null,null,null,null,null,null,null,null,{"$f":"IF(ISERROR(AR23/AJ23),0,(AR23/AJ23)*100)","v":0},null,null,null,null,"UROCS 1/SEC",null,null,null,null,null,null,null,null,null,0,null,"1/SEC"]
["Flias. c/Antec Mort Mat Inf",null,null,null,null,null,null,{"$f":"IF(ISERROR(AV10/D12),0,(AV10/D12)*100)","v":0},null,null,null,null,null,null,null,null,null,"Unica Dosis Varicela","Ref SOT 1 año",null,"Ref SOT 1 año","Ref SOT 1 año",null,null,1,0,0,0,null,{"$f":"SUM(Y61:AB61)","v":1},{"$f":"IF(ISERROR(Z61/W56),0,(Z61/W56)*100)","v":0},null,null,null,"Aplic. Cargadas a Nomivac",null,null,null,null,null,null,null,null,null,0,null,null,null,null,null,null,null,null,null,null,null,null,null,null,null,null,null,null,null,null,null,null,null,null,null,null,null,null,null,null,"Flias con Huerta",null,null,null,null,null,null,null,null,null,{"$f":"IF(ISERROR(AL12/D12),0,(AL12/D12)*100)","v":0}]
["F con 3 o más <6 años",null,null,null,null,null,null,{"$f":"IF(ISERROR(BI10/D12),0,(BI10/D12)*100)","v":0}," DE IMPACTO",null,null,null,null,"%",null,"META",null,"4° Dosis o 1° Ref. Pentavalente",null,null,null,null,null,null,1,0,0,0,null,{"$f":"SUM(Y62:AB62)","v":1},{"$f":"IF(ISERROR(Z62/W56),0,(Z62/W56)*100)","v":0},null,null,null,"Total Aplic /AS",null,null,null,null,null,null,null,null,null,0,null,null,null,null,null,null,null,null,null,null,null,null,null,null,null,null,"Niños 2 a 5 Riesgo AP",null,null,null,null,null,null,null,null,{"$f":"IF(ISERROR(AT23/AJ23),0,(AT23/AJ23)*100)","v":0},null,null,null,null,"Flias con Granja",null,null,null,null,null,null,null,null,null,{"$f":"IF(ISERROR(AP12/D12),0,(AP12/D12)*100)","v":0}]
["Flias con Hacinamiento",null,null,null,null,null,null,{"$f":"IF(ISERROR(BL10/D12),0,(BL10/D12)*100)","v":0},"Agua Seg (Trat Red + Viv)",null,null,null,null,{"$f":"IF(ISERROR((AP41+AR41)/D12),0,((AP41+AR41)/D12)*100)","v":0},null,100,null,"2° AG 6m a 24m",null,null,null,null,{"$f":"D91+F91+G91+H91","v":0},null,0,0,0,0,null,{"$f":"SUM(Y63:AB63)","v":0},{"$f":"IF(ISERROR(Z63/W63),0,(Z63/W63)*100)","v":0},null," ",null,"VAC COVID APLIC EN LA RONDA",null,null,null,null,null,null,null,null,null,0,null,null,null,null,null,null,null,null,null,null,null,null,null,null,null,null,"U) A llenar en 1° Ronda del Año"]
["Flias con Analfabet",null,null,null,null,null,null,{"$f":"IF(ISERROR(BO10/D12),0,(BO10/D12)*100)","v":0},"DSE (Arrastre y letrinas)",null,null,null,null,{"$f":"IF(ISERROR((AV41+AX41+AZ41+BB41+BD41)/D12),0,((AV41+AX41+AZ41+BB41+BD41)/D12)*100)","v":0},null,100,null,"R) PRODUCCION Y RENDIMIENTO",null,null,null,null,null,null,null,null,null,null,null,null,null,null,null,null,null,null,null,null,null,null,null,null,null,null,null,null,null,null,null,null,null,null,null,null,null,null,null,null,null,null,null,"Piso",null,null,null,null,"Techo",null,null,null,null,"Paredes",null,null,null,null,null,null,null,null,null,"Cocina",null,null,null,null,"Tenencia"]
["Flias con Suicidio",null,null,null,null,null,null,{"$f":"IF(ISERROR(BT11/D12),0,(BT11/D12)*100)","v":0},"TSB (Recolección + Pozo)",null,null,null,null,{"$f":"IF(ISERROR((BH41+BK41)/D12),0,((BH41+BK41)/D12)*100)","v":0},null,100,null,"DIAS A TRAB. /RONDA",null,null,"DIAS INCLEM CLIMAT.",null,null,"DIAS Y NROS DE ARTICULOS TOMADOS",null,null,null,"CAPACITACIONES Y OTRAS ACTIVIDADES",null,null,null,null,null,null,null,null,null,null,null,null,null,null,null,null,null,null,null,null,null,null,"DIAS TRABAJADOS\nEN TERRENO",null,null,null,null,"PROM. DIARIO DE FLIAS VISIT.",null,null,null,null,null,"Mosaico/B.",null,null,null,0,"Losa",null,null,0,null,"Ladrillo",null,null,0,null,"Madera",null,null,null,0,"Gas",null,null,0,null,"Segura",null,null,0]
["Flias c /tentativa suicidio",null,null,null,null,null,null,{"$f":"IF(ISERROR(BV11/D12),0,(BV11/D12)*100)","v":0},"Emb Adolescente",null,null,null,null,{"$f":"IF(ISERROR(L20/J20),0,(L20/J20)*100)","v":0},null,null,null,null,null,null,null,null,null,0,null,null,null,0,null,null,null,null,null,null,null,null,null,null,0,null,null,null,null,null,null,null,null,null,null,null,null,null,null,null,null,null,null,null,null,null,null,"Cemento",null,null,null,0,"Chapa\nZinc",null,null,0,null,"Bloque",null,null,0,null,"Quincho",null,null,null,0,"Leña/\nCarb",null,null,0,null,"Inseg.",null,null,0]
["Flias con Alcoholismo",null,null,null,null,null,null,{"$f":"IF(ISERROR(BY11/D12),0,(BY11/D12)*100)","v":0},"Niños <2 Bajo Peso/MBP",null,null,null,null,{"$f":"IF(ISERROR((AL22+AN22)/(AJ22+AP22+AL22+AN22)),0,((AL22+AN22)/(AJ22+AP22+AL22+AN22))*100)","v":0},null,null,null,null,null,null,null,null,null,0,null,null,null,0,null,null,null,null,null,null,null,null,null,null,0,null,null,null,null,null,null,null,null,null,null,null,null,null,null,null,null,null,null,null,null,null,null,"Tierra",null,null,null,0,"Paja/\nBarro",null,null,0,null,"Adobe",null,null,0,null,"Carton/Pl",null,null,null,0,"Otros",null,null,0,null,"Hac",null,null,0,null,null,null,5]
["Flias c/ otras Adicciones",null,null,null,null,null,null,{"$f":"IF(ISERROR(CC11/D12),0,(CC11/D12)*100)","v":0},"Niños <2 a AP",null,null,null,null,{"$f":"IF(ISERROR(AP22/(AJ22+AP22+AL22+AN22)),0,(AP22/(AJ22+AP22+AL22+AN22))*100)","v":0},null,null,null,0,null,null,0,null,null,0,null,null,null,0,null,null,null,null,null,null,null,null,null,null,0,null,null,null,null,null,null,null,null,null,null,null,0,null,null,null,null,{"$f":"IF(ISERROR(G12/AY68),0,(G12/AY68))","v":0},null,null,null,null,null,"Otros",null,null,null,0,"Otros",null,null,0,null,"Piedra",null,null,0,null,"Otro",null,null,null,0,"Helad.",null,null,0]
["Flias con VIF",null,null,null,null,null,null,{"$f":"IF(ISERROR(CF11/D12),0,(CF11/D12)*100)","v":0},"Niños < 2 baja y MBT",null,null,null,null,{"$f":"IF(ISERROR((AZ22+BB22)/(AJ22+AP22+AL22+AN22)),0,((AZ22+BB22)/(AJ22+AP22+AL22+AN22))*100)","v":0},null,null,null,"S) DETALLE DE LAS DEFUNCIONES (Todas las del Sector)",null,null,null,null,null,null,null,null,null,null,null,null,null,null,null,null,null,null,null,null,null,null,null,null,null,null,null,null,null,null,null,null,null,null,null,null,null,null,null,null,null,null,null,"Agua",null,"Corriente a Domic",null,null,"Grifo Terr",null,null,"Grifo Público",null,null,"Bomba",null,null,"Pozo",null,null,null,"Camión Aguatero / Cisterna",null,"Vertiente/Rio/Aceq",null,null,"Laguna",null,null,"Lluvia/Aljibe"]
["Flias con Diabetes",null,null,null,null,null,null,{"$f":"IF(ISERROR(AB31/D12),0,(AB31/D12)*100)","v":0},"Niños 2 a 5 Bajo Peso/MBP",null,null,null,null,{"$f":"IF(ISERROR((AL23+AN23)/(AJ23+AP23+AL23+AN23)),0,((AL23+AN23)/(AJ23+AP23+AL23+AN23))*100)","v":0},null,null,null,"APELLIDO Y NOMBRE",null,null,null,null,null,null,"DOMICILIO",null,null,null,null,null,null,null,null,"NACIMIENTO",null,null,null,null,"DEFUNCION",null,null,null,"PESO\nAL NACER",null,null,null,"CAUSA",null,null,null,null,null,null,null,null,null,"CLASIFICAC."]
["Flias con Hipertensión",null,null,null,null,null,null,{"$f":"IF(ISERROR(AB32/D12),0,(AB32/D12)*100)","v":0},"Niños 2 a 5 AP",null,null,null,null,{"$f":"IF(ISERROR(AP23/(AJ23+AP23+AL23+AN23)),0,(AP23/(AJ23+AP23+AL23+AN23))*100)","v":0}]
[]
["Personas con otras enfermedades crónicas al cuidado de niños",null,null,null,null,null,null,{"$f":"IF(ISERROR(AB33/D12),0,(AB33/D12)*100)","v":0},"Niños 2 a 5 baja y MBT",null,null,null,null,{"$f":"IF(ISERROR((AZ23+BB23)/(AJ23+AP23+AL23+AN23)),0,((AZ23+BB23)/(AJ23+AP23+AL23+AN23))*100)","v":0},null,null,null,null,null,null,null,null,null,null,null,null,null,null,null,null,null,null,null,null,null,null,null,null,null,null,null,null,null,null,null,null,null,null,null,null,null,null,null,null,null,null,null,null,null,null,null,null,null,0,null,null,0,null,null,0,null,null,0,null,null,0,null,null,null,0,null,0,null,null,0,null,null,0]
["Pers c/O Social/Pob total",null,null,null,null,null,null,{"$f":"IF(ISERROR(CI27/CC28),0,(CI27/CC28)*100)","v":0}]
[]
[]
[]
[]
["BP+MBP Ronda Anterior Men2a: ",null,null,null,null,null,null,null,null,null,0]
["BP+MBP Ronda Anterior 2 a 6a: ",null,null,null,null,null,null,null,null,null,0]
["AP Ronda Anterior Men2a: ",null,null,null,null,null,null,null,null,null,1]
["AP Ronda Anterior 2 a 6a: ",null,null,null,null,null,null,null,null,null,1]
[]
[]
[]
[]
[]
["0 a 5m",null,null,"6 a 11m",null,null,"1 AÑO",null,"2 AÑOS",null,"3 AÑOS",null,"4 AÑOS",null,null,"5 AÑOS",null,null,"6 AÑOS",null,null,"7 A 9 AÑOS",null,null,null,"10 AÑOS",null,"11 AÑOS",null,null,"12 A 14",null,null,null,null,null,"15 A 19",null,null,"20 A 24",null,null,null,"25 A 29",null,null,null,"30 A 34",null,null,null,"35 A 39",null,null,null,"40 A 44",null,null,null,null,"45 A 49",null,null,null,"50 A 54",null,null,null,"55 A 59",null,null,null,"60 A 64",null,null,null,"65 y +",null,null,null,"TOTAL",null,null,null,null,"MUJERES\n10 A 49"]
["M",null,"F","M",null,"F","M","F","M","F","M","F","M",null,"F","M",null,"F","M",null,"F","M",null,"F",null,"M","F","M",null,"F","M",null,null,"F",null,null,"M","F",null,"M",null,"F",null,"M",null,null,"F","M",null,null,"F","M",null,"F",null,"M",null,null,"F",null,"M",null,"F",null,"M",null,"F",null,"M",null,"F",null,"M",null,"F",null,"M",null,null,"F","M",null,"F"]
[0,null,0,0,null,0,0,0,0,0,0,0,0,null,0,0,null,0,0,null,0,0,null,0,null,0,0,0,null,0,0,null,null,0,null,null,0,0,null,0,null,0,null,0,null,null,0,0,null,null,0,0,null,0,null,0,null,null,0,null,0,null,0,null,0,null,0,null,0,null,0,null,0,null,0,null,0,null,null,0,{"$f":"SUM(A90,D90,G90,I90,K90,M90,P90,S90,V90,Z90,AB90,AE90,AK90,AN90,AR90,AV90,AZ90,BD90,BI90,BM90,BQ90,BU90,BY90)","v":0},null,{"$f":"SUM(C90,F90,H90,J90,L90,O90,R90,U90,X90,AA90,AD90,AH90,AL90,AP90,AU90,AY90,BB90,BG90,BK90,BO90,BS90,BW90,CB90)","v":0},null,null,{"$f":"SUM(AA90,AD90,AH90,AL90,AP90,AU90,AY90,BB90,BG90,BK90)","v":0}]
[{"$f":"SUM(A90:C90)","v":0},null,null,{"$f":"SUM(D90,F90)","v":0},null,null,{"$f":"SUM(G90,H90)","v":0},null,{"$f":"SUM(I90,J90)","v":0},null,{"$f":"SUM(K90,L90)","v":0},null,{"$f":"SUM(M90,O90)","v":0},null,null,{"$f":"SUM(P90,R90)","v":0},null,null,{"$f":"SUM(S90,U90)","v":0},null,null,{"$f":"SUM(V90,X90)","v":0},null,null,null,{"$f":"SUM(Z90,AA90)","v":0},null,{"$f":"SUM(AB90,AD90)","v":0},null,null,{"$f":"SUM(AE90,AH90)","v":0},null,null,null,null,null,{"$f":"SUM(AK90,AL90)","v":0},null,null,{"$f":"SUM(AN90,AP90)","v":0},null,null,null,{"$f":"SUM(AR90,AU90)","v":0},null,null,null,{"$f":"SUM(AV90,AY90)","v":0},null,null,null,{"$f":"SUM(AZ90,BB90)","v":0},null,null,null,{"$f":"SUM(BD90,BG90)","v":0},null,null,null,null,{"$f":"SUM(BI90,BK90)","v":0},null,null,null,{"$f":"SUM(BM90,BO90)","v":0},null,null,null,{"$f":"SUM(BQ90,BS90)","v":0},null,null,null,{"$f":"SUM(BU90,BW90)","v":0},null,null,null,{"$f":"SUM(BY90,CB90)","v":0},null,null,null,{"$f":"A91+D91+G91+I91+K91+M91+P91+S91+V91+Z91+AB91+AE91+AK91+AN91+AR91+AV91+AZ91+BD91+BI91+BM91+BQ91+BU91+BY91","v":0}]
["Mejor Población: 1° - 2019",null,null,null,null,null,null,null,null,null,null,null,null,null,null,null,null,null,null,null,null,null,null,null,null,null,null,null,null,null,null,null,null,null,null,null,null,null,null,null,null,null,null,null,null,null,null,null,null,null,null,null,null,null,null,null,null,null,null,null,null,null,null,null,null,null,null,null,null,null,null,null,null,null,null,null,null,null,null,null,{"$f":"SUM(CC91,CE91)","v":0}]
["Cobertura: 1%"]

{"sheet":"POZO EL CHAÑAR","index":14,"n_rows":93,"n_cols":94,"rows_kept":93,"cut":false,"hidden":false,"merged":[[62,17,62,21],[62,22,62,23],[62,27,62,28],[62,30,62,31],[0,86,0,87],[1,8,1,9],[1,15,1,25],[1,46,1,53],[1,56,1,57],[1,58,1,59],[1,60,1,61],[1,67,1,84],[1,86,1,87],[0,27,3,45],[0,46,0,52],[0,56,0,57],[0,58,0,59],[0,60,0,61],[0,81,0,84],[2,46,2,53],[2,56,2,57],[2,58,2,59],[2,60,2,61],[6,0,6,89],[7,0,7,46],[7,47,7,89],[8,0,10,2],[8,3,10,5],[8,6,10,7],[8,8,8,16],[8,17,10,18],[8,19,10,20],[8,21,10,23],[4,80,4,87],[5,8,5,24],[5,33,5,46],[5,57,5,67],[5,75,5,77],[5,82,5,87],[2,67,2,79],[2,86,2,87],[3,8,3,23],[3,46,3,53],[3,56,3,57],[3,58,3,59],[3,60,3,61],[3,74,3,79],[3,84,3,87],[8,86,8,89],[9,8,10,9],[9,10,10,11],[9,12,10,13],[9,14,10,16],[9,26,10,27],[9,28,10,30],[8,66,8,68],[8,69,8,72],[8,73,8,75],[8,76,8,79],[8,80,8,82],[8,83,8,85],[8,51,8,53],[8,54,8,55],[8,56,8,57],[8,58,8,59],[8,60,8,62],[8,63,8,65],[8,24,10,25],[8,26,8,30],[8,31,10,36],[8,37,8,46],[8,47,8,48],[8,49,8,50],[9,49,10,50],[11,0,14,2],[11,3,14,5],[11,6,14,7],[11,8,14,9],[11,10,14,11],[11,12,14,13],[9,86,9,89],[10,69,10,72],[10,73,10,74],[10,76,10,78],[10,81,10,82],[10,83,10,84],[10,86,10,89],[9,66,10,68],[9,69,9,72],[9,73,9,74],[9,76,9,78],[9,81,9,82],[9,83,9,84],[9,51,10,53],[9,54,10,55],[9,56,10,57],[9,58,10,59],[9,60,10,62],[9,63,10,65],[13,75,13,78],[13,79,13,80],[13,81,13,84],[9,37,10,40],[9,41,10,46],[9,47,10,48],[12,85,12,89],[13,47,13,52],[13,63,13,68],[13,69,13,74],[12,47,12,52],[12,63,12,68],[12,53,12,55],[12,56,12,59],[12,60,12,62],[13,53,13,55],[13,56,13,59],[13,60,13,62],[14,53,14,55],[14,56,14,59],[14,60,14,62],[11,19,14,20],[11,21,14,23],[11,24,14,25],[11,26,14,27],[16,0,18,2],[16,6,18,6],[16,7,18,7],[16,8,18,8],[16,9,18,9],[16,10,18,10],[16,11,18,11],[16,12,18,13],[14,79,14,80],[14,81,14,84],[14,85,14,89],[15,12,15,19],[15,20,15,28],[15,29,15,65],[15,66,15,75],[11,28,14,30],[11,31,14,36],[11,37,14,40],[11,41,14,46],[11,47,11,68],[11,69,11,89],[11,14,14,16],[11,17,14,18],[13,85,13,89],[14,47,14,52],[14,63,14,68],[14,69,14,74],[14,75,14,78],[12,69,12,74],[12,75,12,78],[12,79,12,80],[12,81,12,84],[19,0,20,2],[19,12,19,13],[19,14,19,15],[19,18,19,19],[19,20,19,21],[19,23,19,24],[19,25,19,26],[19,27,19,28],[17,41,20,42],[17,43,18,46],[17,47,18,50],[17,51,18,55],[17,56,20,57],[17,58,18,62],[19,43,20,44],[19,45,20,46],[19,47,20,49],[19,50,20,50],[17,16,18,16],[17,17,18,17],[17,22,18,22],[17,23,18,24],[17,25,18,26],[17,27,18,28],[17,29,20,31],[16,14,18,15],[16,16,16,17],[16,18,18,19],[16,20,18,21],[16,22,16,28],[16,29,16,65],[17,32,20,34],[21,12,21,15],[21,16,21,19],[21,29,21,31],[21,32,21,34],[20,12,20,19],[20,20,21,23],[20,24,21,28],[21,35,21,36],[21,37,21,38],[21,39,21,40],[21,41,21,42],[19,68,20,69],[19,70,20,71],[19,72,20,73],[19,74,20,75],[19,76,20,79],[19,51,20,52],[19,53,20,54],[19,55,20,55],[19,58,20,60],[19,61,20,62],[19,66,20,67],[17,63,20,65],[16,66,18,67],[16,68,18,69],[16,70,18,71],[16,72,18,73],[16,74,18,75],[16,76,18,79],[17,35,20,36],[17,37,20,38],[17,39,20,40],[22,16,22,19],[22,20,22,23],[22,24,22,28],[22,29,22,31],[22,32,22,34],[22,35,22,36],[21,58,21,60],[21,61,21,62],[21,63,21,65],[21,66,22,73],[21,74,22,75],[21,76,21,79],[22,76,22,79],[21,43,21,44],[21,45,21,46],[21,47,21,49],[21,51,21,52],[21,53,21,54],[21,56,21,57],[23,0,23,89],[24,0,24,2],[24,3,24,5],[24,6,24,7],[24,8,24,9],[24,10,24,11],[24,12,24,14],[24,15,24,17],[24,18,24,20],[22,51,22,52],[22,53,22,54],[22,56,22,57],[22,58,22,60],[22,61,22,62],[22,63,22,65],[22,37,22,38],[22,39,22,40],[22,41,22,42],[22,43,22,44],[22,45,22,46],[22,47,22,49],[21,0,22,2],[24,88,25,89],[25,0,25,1],[25,3,25,4],[25,12,25,13],[25,15,25,16],[25,18,25,19],[25,21,25,22],[25,23,25,24],[25,27,25,28],[22,12,22,15],[24,68,24,71],[24,72,24,75],[24,76,24,79],[24,80,24,84],[24,85,25,85],[24,86,25,87],[25,76,25,78],[25,80,25,81],[25,82,25,84],[24,43,24,46],[24,47,24,50],[24,51,24,54],[24,55,24,59],[24,60,24,63],[24,64,24,67],[24,21,24,24],[24,25,24,26],[24,27,24,29],[24,30,24,35],[24,36,24,38],[24,39,24,42],[26,37,26,38],[26,39,26,40],[26,0,26,1],[26,3,26,4],[26,12,26,13],[26,15,26,16],[26,18,26,19],[26,21,26,22],[25,64,25,65],[25,66,25,67],[25,68,25,69],[25,70,25,71],[25,72,25,73],[25,74,25,75],[25,51,25,52],[25,53,25,54],[25,55,25,57],[25,58,25,59],[25,60,25,61],[25,62,25,63],[25,33,25,35],[25,37,25,38],[25,39,25,40],[25,41,25,42],[25,43,25,45],[25,47,25,49],[25,30,25,32],[26,85,27,85],[26,86,27,87],[26,88,27,89],[27,0,27,2],[27,3,27,5],[27,6,27,7],[27,8,27,9],[27,10,27,11],[27,12,27,14],[27,15,27,17],[26,70,26,71],[26,72,26,73],[26,74,26,75],[26,76,26,78],[26,80,26,81],[26,82,26,84],[26,58,26,59],[26,60,26,61],[26,62,26,63],[26,64,26,65],[26,66,26,67],[26,68,26,69],[26,41,26,42],[26,43,26,45],[26,47,26,49],[26,51,26,52],[26,53,26,54],[26,55,26,57],[26,23,26,24],[26,27,26,28],[26,30,26,32],[26,33,26,35],[27,64,27,67],[27,68,27,71],[27,72,27,75],[27,76,27,79],[27,80,27,84],[28,0,28,14],[28,15,28,20],[28,21,28,32],[27,39,27,42],[27,43,27,46],[27,47,27,50],[27,51,27,54],[27,55,27,59],[27,60,27,63],[27,18,27,20],[27,21,27,24],[27,25,27,26],[27,27,27,29],[27,30,27,35],[27,36,27,38],[30,21,30,26],[30,27,30,29],[30,30,30,32],[31,0,31,2],[31,3,31,4],[31,8,31,9],[31,10,31,11],[31,12,32,14],[31,15,32,17],[31,18,32,20],[29,30,29,32],[29,33,35,89],[30,0,30,2],[30,3,30,5],[30,6,30,7],[30,8,30,9],[30,10,30,11],[30,12,30,14],[30,15,30,17],[30,18,30,20],[29,0,29,2],[29,3,29,7],[29,8,29,14],[29,15,29,20],[29,21,29,26],[29,27,29,29],[33,0,33,2],[33,3,33,7],[33,8,33,11],[33,12,33,14],[33,15,35,17],[33,18,35,20],[34,0,35,2],[34,3,34,5],[34,6,34,7],[34,8,34,9],[31,21,31,26],[31,27,31,29],[31,30,31,32],[32,0,32,2],[32,3,32,4],[32,8,32,9],[32,10,32,11],[32,21,33,26],[32,27,33,29],[32,30,33,32],[38,4,39,7],[38,8,39,11],[38,12,38,19],[38,20,39,21],[38,22,39,23],[36,0,37,40],[36,41,36,68],[36,69,36,89],[37,41,37,46],[37,47,37,58],[37,59,37,68],[37,69,37,79],[37,80,39,81],[37,82,39,85],[37,86,39,89],[34,10,34,11],[34,12,35,14],[34,21,35,26],[34,27,35,32],[35,3,35,5],[35,6,35,7],[35,8,35,9],[35,10,35,11],[40,0,41,1],[40,2,41,3],[40,4,41,5],[40,6,41,7],[40,8,41,9],[40,10,41,11],[38,66,39,68],[38,69,39,71],[38,72,39,75],[38,76,39,79],[39,12,39,13],[39,14,39,15],[39,16,39,17],[39,18,39,19],[39,47,39,48],[39,49,39,50],[38,46,39,46],[38,47,38,52],[38,53,38,56],[38,57,39,58],[38,59,39,61],[38,62,39,65],[39,51,39,52],[39,53,39,54],[39,55,39,56],[38,24,39,27],[38,28,39,31],[38,32,39,35],[38,36,39,40],[38,41,39,42],[38,43,39,45],[38,0,39,3],[40,41,40,42],[40,43,40,45],[40,47,40,48],[40,49,40,50],[40,24,41,25],[40,26,41,27],[40,28,41,29],[40,30,41,31],[40,32,41,33],[40,34,41,35],[40,18,41,18],[40,19,41,19],[40,20,41,20],[40,21,41,21],[40,22,41,22],[40,23,41,23],[40,12,41,12],[40,13,41,13],[40,14,41,14],[40,15,41,15],[40,16,41,16],[40,17,41,17],[42,21,44,21],[42,22,44,22],[42,10,44,11],[42,12,44,12],[42,13,44,13],[42,14,44,14],[42,15,44,15],[42,16,44,16],[40,86,40,89],[41,41,41,52],[41,53,41,64],[41,65,41,76],[41,77,41,89],[42,0,44,1],[42,2,44,3],[42,4,44,5],[42,6,44,7],[42,8,44,9],[40,66,40,68],[40,69,40,71],[40,72,40,75],[40,76,40,79],[40,80,40,81],[40,82,40,85],[40,51,40,52],[40,53,40,54],[40,55,40,56],[40,57,40,58],[40,59,40,61],[40,62,40,65],[40,36,41,38],[40,39,41,40],[42,73,43,76],[42,77,43,84],[42,85,43,89],[44,41,44,45],[44,46,44,48],[44,49,44,50],[44,51,44,52],[44,53,44,55],[44,56,44,60],[44,61,44,64],[42,51,43,52],[42,53,43,55],[42,56,43,60],[42,61,43,64],[42,65,43,68],[42,69,43,72],[42,34,44,35],[42,36,44,38],[42,39,44,40],[42,41,43,45],[42,46,43,48],[42,49,43,50],[46,70,46,71],[46,72,46,74],[46,75,46,84],[46,85,46,86],[46,87,46,89],[47,0,47,5],[47,8,47,13],[47,15,47,16],[47,17,47,21],[47,22,47,23],[46,0,46,5],[46,8,46,13],[46,15,46,16],[46,17,46,33],[46,34,46,60],[46,61,46,69],[44,65,44,68],[44,69,44,72],[44,73,44,76],[44,77,44,84],[44,85,44,89],[45,0,45,89],[42,23,44,23],[42,24,44,25],[42,26,44,27],[42,28,44,29],[42,30,44,31],[42,32,44,33],[42,17,44,17],[42,18,44,18],[42,19,44,19],[42,20,44,20],[47,72,47,74],[47,75,47,84],[47,85,47,86],[47,87,47,89],[48,0,48,5],[48,8,48,13],[48,15,48,16],[48,17,48,21],[48,22,49,23],[48,27,48,28],[47,51,47,53],[47,55,47,56],[47,57,47,58],[47,59,47,60],[47,61,47,69],[47,70,47,71],[47,27,47,28],[47,30,47,31],[47,32,47,33],[47,34,47,43],[47,44,47,46],[47,47,47,49],[49,75,50,84],[49,85,50,86],[49,87,50,89],[50,0,50,6],[50,8,50,13],[50,15,50,16],[50,17,50,21],[50,22,54,23],[50,27,50,28],[48,75,48,84],[48,85,48,86],[48,87,48,89],[49,0,49,5],[49,8,49,13],[49,15,49,16],[49,17,49,21],[49,27,49,28],[49,30,49,31],[49,34,49,43],[48,55,48,56],[48,57,48,58],[48,59,50,60],[48,61,48,69],[48,70,48,71],[48,72,48,74],[49,55,49,56],[49,57,49,58],[49,61,49,69],[49,70,49,71],[48,30,48,31],[48,32,49,33],[48,34,48,43],[50,70,50,71],[50,72,50,74],[51,0,51,6],[51,8,51,13],[51,15,51,16],[51,17,51,21],[51,27,51,28],[51,30,51,31],[51,34,51,43],[51,47,51,49],[50,34,50,43],[50,47,50,49],[50,51,50,53],[50,55,50,56],[50,57,50,58],[50,61,50,69],[49,72,49,74],[48,44,51,46],[48,47,48,49],[48,51,48,53],[49,47,49,49],[49,51,49,53],[50,30,50,31],[50,32,54,33],[51,72,51,74],[53,0,53,6],[53,8,53,13],[53,15,53,16],[53,17,53,21],[53,27,53,28],[53,30,53,31],[51,75,51,84],[51,85,51,86],[51,87,51,89],[52,0,52,6],[52,8,52,13],[52,15,52,16],[52,17,52,21],[52,27,52,28],[52,30,52,31],[51,51,51,53],[51,55,51,56],[51,57,51,58],[51,59,52,60],[51,61,51,69],[51,70,51,71],[52,61,52,69],[52,70,52,71],[52,72,52,74],[52,75,52,84],[52,85,52,86],[52,87,52,89],[52,34,52,43],[52,44,53,46],[52,47,52,49],[52,51,52,53],[52,55,52,56],[52,57,52,58],[53,34,53,43],[53,47,53,49],[53,51,53,53],[53,55,53,56],[53,85,53,86],[53,87,53,89],[54,0,54,6],[54,8,54,13],[54,15,54,16],[54,17,54,21],[54,27,54,28],[54,30,54,31],[54,34,54,43],[54,44,54,46],[53,57,53,58],[53,59,54,60],[53,61,53,69],[53,70,53,71],[53,72,53,74],[53,75,53,84],[54,72,54,74],[54,75,54,84],[54,85,54,86],[54,87,54,89],[55,0,55,6],[55,8,55,13],[55,15,55,16],[55,17,55,21],[55,27,55,28],[55,30,55,31],[55,32,60,33],[54,47,54,49],[54,51,54,53],[54,55,54,56],[54,57,54,58],[54,61,54,69],[54,70,54,71],[56,87,56,89],[57,0,57,6],[57,8,57,13],[57,15,57,16],[57,17,57,21],[57,27,57,28],[57,30,57,31],[57,34,57,43],[56,51,56,53],[56,55,56,56],[56,57,56,58],[56,61,56,69],[56,70,56,71],[56,72,56,74],[55,87,55,89],[56,0,56,6],[56,8,56,13],[56,15,56,16],[56,17,56,21],[56,27,56,28],[56,30,56,31],[56,34,56,43],[56,44,57,46],[56,47,56,49],[55,59,56,60],[55,61,55,69],[55,70,55,71],[55,72,55,74],[55,75,55,84],[55,85,55,86],[56,75,56,84],[56,85,56,86],[55,34,55,43],[55,44,55,46],[55,47,55,49],[55,51,55,53],[55,55,55,56],[55,57,55,58],[57,75,57,84],[57,85,57,86],[55,22,61,23],[61,17,61,21],[61,27,61,28],[61,30,61,31],[57,87,57,89],[58,0,59,6],[58,7,59,7],[58,8,58,13],[58,15,58,16],[58,17,58,21],[58,27,58,28],[58,30,58,31],[57,55,57,56],[57,57,57,58],[57,59,57,60],[57,61,57,69],[57,70,57,71],[57,72,57,74],[59,85,59,86],[59,87,59,89],[57,47,57,49],[57,51,57,53],[58,87,58,89],[59,8,60,13],[59,14,60,14],[59,15,60,16],[59,17,59,21],[59,27,59,28],[59,30,59,31],[59,34,59,43],[59,47,59,49],[59,51,59,53],[58,59,59,60],[58,61,58,69],[58,70,58,71],[58,72,58,74],[60,75,60,84],[60,85,60,86],[62,61,62,89],[58,75,58,84],[58,85,58,86],[59,61,60,69],[59,70,60,71],[59,72,60,74],[59,75,59,84],[58,34,58,43],[58,44,59,46],[58,47,58,49],[58,51,58,53],[58,55,58,56],[58,57,58,58],[59,55,59,56],[59,57,59,58],[61,61,61,69],[61,70,61,71],[61,72,61,74],[61,75,61,84],[61,85,61,86],[62,0,62,6],[62,8,62,12],[62,13,62,14],[62,15,62,16],[62,32,62,33],[62,34,62,43],[64,81,64,83],[64,84,64,85],[61,87,61,89],[61,32,61,33],[61,34,61,43],[61,44,61,60],[62,44,62,60],[60,87,60,89],[61,0,61,6],[61,8,61,12],[61,13,61,14],[61,15,61,16],[60,0,60,6],[60,17,60,21],[60,27,60,28],[60,30,60,31],[60,34,60,43],[60,44,60,60],[63,86,63,89],[64,0,64,6],[64,8,64,12],[64,13,64,14],[64,15,64,16],[64,17,66,19],[64,20,66,22],[64,23,64,26],[64,27,64,49],[64,50,66,54],[65,0,65,6],[65,8,65,12],[65,13,65,14],[66,86,67,88],[66,89,67,89],[67,0,67,6],[67,8,67,12],[67,13,67,14],[67,15,67,16],[67,17,67,19],[66,38,66,49],[66,61,66,64],[66,66,66,68],[63,0,63,6],[63,8,63,12],[63,13,63,14],[63,15,63,16],[63,17,63,60],[63,61,63,65],[63,66,63,70],[63,71,63,80],[63,81,63,85],[66,69,66,70],[66,71,66,73],[66,74,66,75],[65,76,65,79],[65,81,65,83],[65,84,65,85],[65,86,65,88],[66,0,66,6],[66,8,66,12],[66,13,66,14],[66,15,66,16],[66,23,66,26],[66,27,66,37],[65,15,65,16],[65,23,65,26],[65,27,65,37],[65,38,65,49],[64,55,66,60],[64,61,64,64],[64,66,64,68],[64,69,64,70],[64,74,64,75],[64,86,64,88],[64,76,64,79],[65,61,65,64],[65,66,65,68],[65,69,65,70],[65,74,65,75],[66,76,66,79],[66,81,66,83],[66,84,66,85],[68,84,71,86],[67,81,67,83],[67,84,67,85],[68,0,68,6],[68,8,68,12],[68,13,68,14],[68,15,68,16],[68,17,68,60],[68,61,73,62],[68,63,71,65],[68,66,71,68],[67,61,67,64],[67,66,67,68],[67,69,67,70],[67,71,67,73],[67,74,67,75],[67,76,67,79],[67,20,67,22],[67,23,67,26],[67,27,67,37],[67,38,67,49],[67,50,67,54],[67,55,67,60],[70,38,70,41],[70,42,70,45],[70,46,70,55],[70,56,70,60],[71,17,71,23],[71,24,71,32],[71,33,71,37],[71,38,71,41],[71,42,71,45],[71,46,71,55],[69,46,69,55],[69,56,69,60],[70,0,71,6],[70,7,71,7],[70,8,71,12],[70,13,71,14],[70,15,71,16],[70,17,70,23],[70,24,70,32],[70,33,70,37],[69,0,69,6],[69,8,69,12],[69,13,69,14],[69,15,69,16],[69,17,69,23],[69,24,69,32],[69,33,69,37],[69,38,69,41],[69,42,69,45],[72,75,73,78],[72,79,73,80],[72,81,73,83],[72,84,73,86],[72,87,73,89],[73,0,73,6],[73,17,73,23],[73,24,73,32],[73,33,73,37],[73,38,73,41],[72,46,72,55],[72,56,72,60],[72,63,73,65],[72,66,73,68],[72,69,73,71],[72,72,73,74],[71,56,71,60],[72,0,72,6],[72,8,73,12],[72,13,73,14],[72,15,73,16],[72,17,72,23],[72,24,72,32],[72,33,72,37],[72,38,72,41],[72,42,72,45],[68,87,71,89],[68,69,71,71],[68,72,71,74],[68,75,71,78],[68,79,71,80],[68,81,71,83],[75,17,75,23],[75,24,75,32]],"merged_total":1135,"flags":["merged_cut"]}
[null,null,null,null,null,null,null,null,null,null,null,null,null,null,null,null,null,null,null,null,null,null,null,null,null,null,null,"DIRECCION - PROGRAMA  APS \nSUBSECRETARIA DE MEDICINA SOCIAL\nRONDA N°: 192   AÑO: 2025",null,null,null,null,null,null,null,null,null,null,null,null,null,null,null,null,null,null,null,null,null,null,null,null,null,null,"1r","2r","3r",null,"4r",null,"T",null,null,null,null,null,null,null,null,null,null,null,null,null,null,null,null,null,null,null,"Informe y orden de Ronda: ",6,null,null,null,null,2]
[null,null,null,null,null,null,null,"Area Operativa N°: ",4,null,null,null,null,null,"Nombre: ","MORILLO",null,null,null,null,null,null,null,null,null,null,null,null,null,null,null,null,null,null,null,null,null,null,null,null,null,null,null,null,null,null,"Mort. Mater. Acum. Año",null,null,null,null,null,null,null,0,{"$f":"CE41","v":0},0,null,{"$f":"CE41","v":0},null,{"$f":"SUM(BC2:BG2)","v":0},null,null,null,null,"Sector:",null,"POZO EL CHAÑAR",null,null,null,null,null,null,null,null,null,null,null,null,null,null,null,null,null,"N°",6]
[null,null,null,null,null,null,null,null,null,null,null,null,null,null,null,null,null,null,null,null,null,null,null,null,null,null,null,null,null,null,null,null,null,null,null,null,null,null,null,null,null,null,null,null,null,null,"Mort. 0-1 año Acum Año",null,null,null,null,null,null,null,0,{"$f":"BR41+BU41+BY41","v":0},0,null,{"$f":"BR41+BU41+BY41","v":0},null,{"$f":"SUM(BC3:BG3)","v":0},null,null,null,null,null,"Etnia: ","CRIOLLO-WICHI",null,null,null,null,null,null,null,null,null,null,null,null,null,null,null,null,null,"Sector Riesgo:","si"]
[null,null,null,null,null,null,null,"Establec. Base: ","HOSPITAL MORILLO",null,null,null,null,null,null,null,null,null,null,null,null,null,null,null,null,null,null,null,null,null,null,null,null,null,null,null,null,null,null,null,null,null,null,null,null,null,"Mort. 1-4 años Acum Año",null,null,null,null,null,null,null,0,{"$f":"CC41","v":0},0,null,{"$f":"CC41","v":0},null,{"$f":"SUM(BC4:BG4)","v":0},null,null,null,null,null,null,null,null,null,null,null,null,"Desde: ","07/03/2025",null,null,null,null,null,null,null,null,"Hasta: ","05/06/2026"]
[null,null,null,null,null,null,null,null,null,null,null,null,null,null,null,null,null,null,null,null,null,null,null,null,null,null,null,null,null,null,null,null,null,null,null,null,null,null,null,null,null,null,null,null,null,null,null,null,null,null,null,null,null,null,null,null,null,null,null,null,null,null,null,null,null,null,null,null,null,null,null,null,null,null,null,null,null,null,null,"Cobertura: ","CUBIERTO"]
[null,null,null,null,null,null,null,"Sup. Intermedio: ","CORREA, MIGUEL ANGEL",null,null,null,null,null,null,null,null,null,null,null,null,null,null,null,null,null,null,null,null,null,null,null,"Responsable A.P.S.: ","Dr. Abel Ibarra",null,null,null,null,null,null,null,null,null,null,null,null,null,null,null,null,null,null,null,null,null,null,"Agente Sanitario: ","Blanca Diaz",null,null,null,null,null,null,null,null,null,null,null,null,null,null,null,null,"Sit. Revista: ","BECARIO",null,null,null,null,null,"Reg. Horario: ","20 HS."]
[]
["A) FAMILIAS VISITADAS EN LA RONDA",null,null,null,null,null,null,null,null,null,null,null,null,null,null,null,null,null,null,null,null,null,null,null,null,null,null,null,null,null,null,null,null,null,null,null,null,null,null,null,null,null,null,null,null,null,null,"B) FACTORES DE PRIORIZACION DE VISITAS"]
["ASIGNADAS",null,null,"VISITADAS",null,null,"TOTAL\nVISITAS",null,"NO VISITADAS",null,null,null,null,null,null,null,null,"FLIAS ORIG.",null,"FLIAS. URB.",null,"FLIAS. PERIURB",null,null,"FLIAS. RURALES",null,"GOLON\nMIGRANTES",null,null,null,null,"FLIAS. CON PL. SOCIALES",null,null,null,null,null,"PRODUCCION\nFAMILIAR",null,null,null,null,null,null,null,null,null,1,null,2,null,3,null,null,4,null,5,null,6,null,7,null,null,8,null,null,9,null,null,10,null,null,null,11,null,null,12,null,null,null,13,null,null,14,null,null,15]
[null,null,null,null,null,null,null,null,"RECHAZO TOTAL",null,"AUSEN\n-TE",null,"NO VISITADAS",null,"TOT NO VISIT.",null,null,null,null,null,null,null,null,null,null,null,"HACIA\nEL AO",null,"DESDE\nEL AO",null,null,null,null,null,null,null,null,"HUERTA",null,null,null,"GRANJA",null,null,null,null,null,0,null,0,null,0,null,null,0,null,0,null,0,null,0,null,null,0,null,null,0,null,null,"Total",null,null,null,"Tot",null,"Trat","Tot.",null,null,"Trat.","Tot.","Trat.",null,"Tot.",null,"Trat","Total"]
[null,null,null,null,null,null,null,null,null,null,0,null,null,null,null,null,null,null,null,null,null,null,null,null,null,null,null,null,null,null,null,null,null,null,null,null,null,null,null,null,null,null,null,null,null,null,null,null,null,null,null,null,null,null,null,null,null,null,null,null,null,null,null,null,null,null,null,null,null,0,null,null,null,0,null,0,0,null,null,0,0,0,null,0,null,0,0]
[0,null,null,0,null,null,0,null,0,null,0,null,0,null,{"$f":"M12+K12+I12","v":0},null,null,0,null,0,null,0,null,null,0,null,0,null,0,null,null,0,null,null,null,null,null,0,null,null,null,0,null,null,null,null,null,"C) VISITAS A FLIAS. PRIORIZADAS",null,null,null,null,null,null,null,null,null,null,null,null,null,null,null,null,null,null,null,null,null,"D) SUPERV. A FLIAS. "]
[null,null,null,null,null,null,null,null,null,null,null,null,null,null,null,null,null,null,null,null,null,null,null,null,null,null,null,null,null,null,null,null,null,null,null,null,null,null,null,null,null,null,null,null,null,null,null,"PRIORIDAD",null,null,null,null,null,1,null,null,2,null,null,null,3,null,null,"Total",null,null,null,null,null,"PRIORIDAD",null,null,null,null,null,1,null,null,null,2,null,3,null,null,null,"TOTAL"]
[null,null,null,null,null,null,null,null,null,null,null,null,null,null,null,null,null,null,null,null,null,null,null,null,null,null,null,null,null,null,null,null,null,null,null,null,null,null,null,null,null,null,null,null,null,null,null,"N° FAMILIAS",null,null,null,null,null,0,null,null,0,null,null,null,0,null,null,{"$f":"SUM(BB14:BI14)","v":0},null,null,null,null,null,"INTERMEDIA",null,null,null,null,null,0,null,null,null,0,null,0,null,null,null,{"$f":"SUM(BX14:CD14)","v":0}]
[null,null,null,null,null,null,null,null,null,null,null,null,null,null,null,null,null,null,null,null,null,null,null,null,null,null,null,null,null,null,null,null,null,null,null,null,null,null,null,null,null,null,null,null,null,null,null,"VISITAS",null,null,null,null,null,0,null,null,0,null,null,null,0,null,null,{"$f":"SUM(BB15:BI15)","v":0},null,null,null,null,null,"PROFESIONAL",null,null,null,null,null,0,null,null,null,0,null,0,null,null,null,{"$f":"SUM(BX15:CB15)","v":0}]
["E) EDAD FERTIL",null,null,null,null,"F) EMBARAZADAS",null,null,null,null,null,null,"G) PARTOS",null,null,null,null,null,null,null,"H) R.N. EN LA RONDA",null,null,null,null,null,null,null,null,"I) EVALUACION ANTROPOMETRICA",null,null,null,null,null,null,null,null,null,null,null,null,null,null,null,null,null,null,null,null,null,null,null,null,null,null,null,null,null,null,null,null,null,null,null,null,"NIÑ MBP/BP/RBP CTRL. INT.",null,null,null,null,null,null,null,null,null,"LACT. MATERNA"]
["PAP",null,null,0,null,"CAPT. 1er TRIMESTRE","ESP EN EL AÑO","ACUMULADAS","NUEVAS\nRONDA","TOTAL","DE RIESGO","<19 Años","TOTAL",null,"HOSPITALARIOS",null,"DOMIC.",null,"N° PUERPERAS",null,"NACIDOS VIVOS",null,"P AL NACER",null,null,null,null,null,null,"NIÑOS CONTROLADOS",null,null,null,null,null,null,null,null,null,null,null,null,null,null,null,null,null,null,null,null,null,null,null,null,null,null,null,null,null,null,null,null,null,null,null,null,"MELAN",null,"MED",null,"ENF.",null,"LAB",null,"NUTR",null,"< 6 M EN LA RONDA",null,null,null,{"$f":"CC20+CC22+CC23","v":0}]
[null,null,null,null,null,null,null,null,null,null,null,null,null,null,null,null,"DOM","ASIS",null,null,null,null,"ALTO PESO","ADEC",null,"BAJO PESO",null,"MB\nPESO",null,"EDAD",null,null,"A CONTROLAR",null,null,"ADECUADO",null,"BP\nBAJO PESO",null,"MBP\nMUY B. PESO",null,"ALTO PESO",null,"RIESGO",null,null,null,"RECUPERADOS",null,null,null,"TALLA / EDAD",null,null,null,null,"NUEVOS\nEPISODIOS",null,"PERDIDOS",null,null,null,null,"FALLECIDOS\nC/ANTEC. ANTROPOM."]
[]
["Antic.",null,null,0,null,0,{"$f":"IF(ISERROR(((CC92*1.8)/100)),0,(((CC92*1.8)/100)))","v":0},0,0,{"$f":"SUM(F23:L23)","v":0},0,0,{"$f":"O20+Q20+R20","v":0},null,0,null,0,0,0,null,{"$f":"W20+X20+Z20+AB20","v":0},null,0,0,null,0,null,0,null,null,null,null,null,null,null,null,null,null,null,null,null,null,null,"BP",null,"AP",null,"BP",null,null,"AP","BT",null,"MBT",null,"RGO\nBT",null,null,"BP\nMBP",null,null,"A.P.",null,null,null,null,0,null,0,null,0,null,0,null,0,null,"EXCLUSIVO",null,null,null,0]
[null,null,null,null,null,"CONTROLES",null,null,null,null,null,null," ",null,null,null,null,null,null,null,"PREMATUROS",null,null,null,"PESQUISA"]
["Aborto",null,null,0,null,"MELON",null,"MEL","MED","ENF","LAB","S/C","PUERP",null,null,null,"R.N.",null,null,null,null,null,null,null,null,null,null,null,null,"< 2 años",null,null,{"$f":"A27+C27+D27+F27+G27+H27","v":0},null,null,0,null,0,null,0,null,0,null,0,null,0,null,0,null,null,0,0,null,0,null,0,0,null,0,null,null,0,null,0,null,null,"CONTROLES EN DOMIC. NIÑO BP o MBP",null,null,null,null,null,null,null,0,null,"MIXTA",null,null,null,0]
[null,null,null,null,null,0,null,0,0,0,0,0,0,null,null,null,0,null,null,null,0,null,null,null,0,null,null,null,null,"2 a 6 años",null,null,{"$f":"I27+J27+K27+L27+M27+O27+P27+R27","v":0},null,null,0,null,0,null,0,null,0,null,0,null,0,null,0,null,null,0,0,null,0,null,0,0,null,0,null,null,0,null,0,null,null,null,null,null,null,null,null,null,null,null,null,"ARTIF",null,null,null,0]
["J) DATOS DE POBLACION"]
["0 a 5m",null,null,"6 a 11m",null,null,"1 AÑO",null,"2 AÑOS",null,"3 AÑOS",null,"4 AÑOS",null,null,"5 AÑOS",null,null,"6 AÑOS",null,null,"7 A 9 AÑOS",null,null,null,"10 AÑOS",null,"11 AÑOS",null,null,"12 A 14",null,null,null,null,null,"15 A 19",null,null,"20 A 24",null,null,null,"25 A 29",null,null,null,"30 A 34",null,null,null,"35 A 39",null,null,null,"40 A 44",null,null,null,null,"45 A 49",null,null,null,"50 A 54",null,null,null,"55 A 59",null,null,null,"60 A 64",null,null,null,"65 y +",null,null,null,"TOTAL",null,null,null,null,"MUJERES\n10 A 49","O. SOCIAL",null,"INDOCUM"]
["M",null,"F","M",null,"F","M","F","M","F","M","F","M",null,"F","M",null,"F","M",null,"F","M",null,"F",null,"M","F","M",null,"F","M",null,null,"F",null,null,"M","F",null,"M",null,"F",null,"M",null,null,"F","M",null,null,"F","M",null,"F",null,"M",null,null,"F",null,"M",null,"F",null,"M",null,"F",null,"M",null,"F",null,"M",null,"F",null,"M",null,null,"F","M",null,"F"]
[0,null,0,0,null,0,0,0,0,0,0,0,0,null,0,0,null,0,0,null,0,0,null,0,null,0,0,0,null,0,0,null,null,0,null,null,0,0,null,0,null,0,null,0,null,null,0,0,null,null,0,0,null,0,null,0,null,null,0,null,0,null,0,null,0,null,0,null,0,null,0,null,0,null,0,null,0,null,null,0,{"$f":"BY27+BU27+BQ27+BM27+BI27+BD27+AZ27+AV27+AR27+AN27+AK27+AE27+AB27+Z27+V27+S27+P27+M27+K27+I27+G27+D27+A27","v":0},null,{"$f":"CB27+BW27+BS27+BO27+BK27+BG27+BB27+AY27+AU27+AP27+AL27+AH27+AD27+AA27+X27+U27+R27+O27+L27+J27+H27+F27+C27","v":0},null,null,{"$f":"BK27+BG27+BB27+AY27+AU27+AP27+AL27+AH27+AD27+AA27","v":0},0,null,0]
[{"$f":"A27+C27","v":0},null,null,{"$f":"D27+F27","v":0},null,null,{"$f":"G27+H27","v":0},null,{"$f":"I27+J27","v":0},null,{"$f":"K27+L27","v":0},null,{"$f":"M27+O27","v":0},null,null,{"$f":"P27+R27","v":0},null,null,{"$f":"S27+U27","v":0},null,null,{"$f":"V27+X27","v":0},null,null,null,{"$f":"Z27+AA27","v":0},null,{"$f":"AB27+AD27","v":0},null,null,{"$f":"AE27+AH27","v":0},null,null,null,null,null,{"$f":"AL27+AK27","v":0},null,null,{"$f":"AN27+AP27","v":0},null,null,null,{"$f":"AR27+AU27","v":0},null,null,null,{"$f":"AV27+AY27","v":0},null,null,null,{"$f":"AZ27+BB27","v":0},null,null,null,{"$f":"BD27+BG27","v":0},null,null,null,null,{"$f":"BI27+BK27","v":0},null,null,null,{"$f":"BM27+BO27","v":0},null,null,null,{"$f":"BQ27+BS27","v":0},null,null,null,{"$f":"BU27+BW27","v":0},null,null,null,{"$f":"BY27+CB27","v":0},null,null,null,{"$f":"CC27+CE27","v":0}]
["K) TUBERCULOSIS ",null,null,null,null,null,null,null,null,null,null,null,null,null,null," CHAGAS ",null,null,null,null,null,"L) PERSONAS CON ENF. CRONICAS",null,null,null,null,null,null,null,null,null,null,null,"M) OBSERVACIONES"]
["Coef. Sint.Resp.: ",null,null,"MUESTRAS",null,null,null,null,"TRATAM. TBC",null,null,null,null,null,null,"TRATAMIENTOS CHAGAS",null,null,null,null,null,"PERSONAS CON",null,null,null,null,null,"TOTAL",null,null,"EN TRAT.",null,null," "]
[{"$f":"Control!H9","v":8},null,null,"DIAGNOSTICOS",null,null,"CONTROL",null,"Total",null,"TAES",null," ABANDONO",null,null,"INICIO ",null,null,0,null,null,"DIABETES",null,null,null,null,null,0,null,null,0]
["SINT. ESP..",null,null,"Tot",null,"(+)","Tot","(+)",0,null,0,null,0,null,null,"FINALIZACION ",null,null,0,null,null,"HIPERTENSION \nARTERIAL",null,null,null,null,null,0,null,null,0]
[{"$f":"IF(ISERROR(((AK91+AL91+AN91+AP91+AR91+AU91+AV91+AY91+AZ91+BB91+BD91+BG91+BI91+BK91+BM91+BO91+BQ91+BS91+BU91+BW91+BY91+CB91)*0.2)*A31/100),0,(((AK91+AL91+AN91+AP91+AR91+AU91+AV91+AY91+AZ91+BB91+BD91+BG91+BI91+BK91+BM91+BO91+BQ91+BS91+BU91+BW91+BY91+CB91)*0.2)*A31/100))","v":0},null,null,0,null,0,0,0,"QUIMIO Total",null,0,null,null,null,null,null,null,null,null,null,null,"PERSONAS CON OTRAS ENF. CRONICAS AL CUIDADO DE NIÑOS",null,null,null,null,null,0,null,null,0]
["SINT. DETEC.",null,null,"CONTACTO",null,null,null,null,"CTRL. MEDICO",null,null,null,"FINALIZAD0",null,null,"ABANDONO ",null,null,0]
[0,null,null,"< 14a",null,null,"> 15a",null,"Pcte/Rda",null,"A Cont",null,0,null,null,null,null,null,null,null,null,"ADULTOS MAYORES EN SITUACION DE RIESGO",null,null,null,null,null,0]
[null,null,null,0,null,null,0,null,0,null,0]
["N) DERIVACIONES",null,null,null,null,null,null,null,null,null,null,null,null,null,null,null,null,null,null,null,null,null,null,null,null,null,null,null,null,null,null,null,null,null,null,null,null,null,null,null,null,"Ñ) VIVIENDA Y SANEAMIENTO",null,null,null,null,null,null,null,null,null,null,null,null,null,null,null,null,null,null,null,null,null,null,null,null,null,null,null,"O) DEFUNCIONES EN LA RONDA"]
[null,null,null,null,null,null,null,null,null,null,null,null,null,null,null,null,null,null,null,null,null,null,null,null,null,null,null,null,null,null,null,null,null,null,null,null,null,null,null,null,null,"TRAT. AGUA",null,null,null,null,null,"DISP SANITARIA EXCRETAS",null,null,null,null,null,null,null,null,null,null,null,"TRATAM. SANIT BASURA",null,null,null,null,null,null,null,null,null,"MENORES 1 AÑO",null,null,null,null,null,null,null,null,null,null,"1 a 4 AÑOS",null,"MATERNA",null,null,null,"OTRAS"]
["EMB",null,null,null,"RN",null,null,null,"PUERP",null,null,null,"Menores de 6 años",null,null,null,null,null,null,null,"E.\nCRONICAS",null,"PAP",null,"CHAGAS",null,null,null,"TBC",null,null,null,"PSICOSOC",null,null,null,"TOTAL\nDERIVACIONES",null,null,null,null,"RED",null,"EN\nVIV",null,null,"S/T","ARRASTRE",null,null,null,null,null,"LETRINA",null,null,null,"S/T",null,"REC. DOMIC.",null,null,"POZO BASURA",null,null,null,"S/T",null,null,"<7d",null,null,"7 a 28d",null,null,null,"29d a 11 m"]
[null,null,null,null,null,null,null,null,null,null,null,null,"BP- MBP",null,"RGO BP",null,"Resp",null,"Diarr",null,null,null,null,null,null,null,null,null,null,null,null,null,null,null,null,null,null,null,null,null,null,null,null,null,null,null,null,"CLOACAS",null,"PC-CT",null,"PC-ST",null,"CT",null,"ST"]
["Env",null,"Rec",null,"Env",null,"Rec",null,"Env",null,"Rec",null,"Env","Rec","Env","Rec","Env","Rec","Env","Rec","Env","Rec","Env","Rec","Env",null,"Rec",null,"Env",null,"Rec",null,"Env",null,"Rec",null,"ENV",null,null,"Rec",null,0,null,0,null,null,0,0,null,0,null,0,null,0,null,0,null,0,null,0,null,null,0,null,null,null,0,null,null,0,null,null,0,null,null,null,0,null,null,null,0,null,0,null,null,null,0]
[null,null,null,null,null,null,null,null,null,null,null,null,null,null,null,null,null,null,null,null,null,null,null,null,null,null,null,null,null,null,null,null,null,null,null,null,null,null,null,null,null,"CASAS ",null,null,null,null,null,null,null,null,null,null,null,"CHAGAS",null,null,null,null,null,null,null,null,null,null,null,"DENGUE CHIKUNGUNYA",null,null,null,null,null,null,null,null,null,null,null,"P) PROM. SALUD"]
[0,null,0,null,0,null,0,null,0,null,0,null,0,0,0,0,0,0,0,0,0,0,0,0,0,null,0,null,0,null,0,null,0,null,0,null,{"$f":"AG43+AC43+Y43+W43+U43+S43+Q43+O43+M43+I43+E43+A43","v":0},null,null,{"$f":"AI43+AE43+AA43+X43+V43+T43+R43+P43+N43+K43+G43+C43","v":0},null,"ASIGNADAS",null,null,null,null,"VISITADAS",null,null,"VACIAS",null,"DESTRUIDAS",null,"EVALUADAS",null,null,"POSITIVAS",null,null,null,null,"TRATADAS",null,null,null,"EVALUADAS",null,null,null,"POSITIVAS",null,null,null,"TRATADAS",null,null,null,"PLANIFICADAS \nEN COMUNIDAD",null,null,null,null,null,null,null,0]
[]
[null,null,null,null,null,null,null,null,null,null,null,null,null,null,null,null,null,null,null,null,null,null,null,null,null,null,null,null,null,null,null,null,null,null,null,null,null,null,null,null,null,0,null,null,null,null,0,null,null,0,null,0,null,0,null,null,0,null,null,null,null,0,null,null,null,0,null,null,null,0,null,null,null,0,null,null,null,"REALIZADAS ",null,null,null,null,null,null,null,0]
["Q) INDICADORES"]
["DE ESTRUCTURA",null,null,null,null,null,"SI","NO","DE PRODUCCION",null,null,null,null,null,"%","META",null," DE INMUNIZACIONES",null,null,null,null,null,null,null,null,null,null,null,null,null,null,null,null," DE INMUNIZACIONES",null,null,null,null,null,null,null,null,null,null,null,null,null,null,null,null,null,null,null,null,null,null,null,null,null,null," DE RESULTADO",null,null,null,null,null,null,null,null,"%",null,"META",null,null," DE RESULTADO",null,null,null,null,null,null,null,null,null,"%",null,"META RDA"]
["Formularios",null,null,null,null,null,0,0,"Cobertura a Familias",null,null,null,null,null,{"$f":"IF(ISERROR(D12/A12),0,(D12/A12)*100)","v":0},100,null,"VACUNA",null,null,null,null,"P. REF",null,"1r","2r","3r","4r",null,"T","%",null,"META",null,"VACUNA",null,null,null,null,null,null,null,null,null,"P. REF",null,null,"1r",null,null,"2r","3r",null,null,"4r","T",null,"%",null,"META",null,"Ed Fértil c/Anticoncepción",null,null,null,null,null,null,null,null,{"$f":"IF(ISERROR(D20/CH27),0,(D20/CH27)*100)","v":0},null,null,null,null,"Niños 2 a 5 Recup BP",null,null,null,null,null,null,null,null,null,{"$f":"IF(ISERROR(AV23/K80),0,(AV23/K80)*100)","v":0},null,100]
["Equipo",null,null,null,null,null,0,0,"Niños < 2 años Controlados",null,null,null,null,null,{"$f":"IF(ISERROR(((AJ22+AL22+AN22+AP22)/(A28+D28+G28))),0,(((AJ22+AL22+AN22+AP22)/(A28+D28+G28)))*100)","v":0},100,null,"BCG RN",null,null,null,null,{"$f":"U20","v":0},null,2,0,0,0,null,{"$f":"SUM(Y49:AB49)","v":2},{"$f":"IF(ISERROR(Z49/W49),0,(Z49/W49)*100)","v":0},null,100,null,"2 Ref. Varicela Ingreso Esc",null,null,null,null,null,null,null,null,null,4,null,null,4,null,null,0,0,null,null,0,{"$f":"SUM(AV49:BC49)","v":4},null,{"$f":"IF(ISERROR(AY49/AS49),0,(AY49/AS49)*100)","v":0},null,25,null,"PAP",null,null,null,null,null,null,null,null,{"$f":"IF(ISERROR(D17/CH27),0,(D17/CH27)*100)","v":0},null,null,null,null,"Niños 2 a 5 Recup AP",null,null,null,null,null,null,null,null,null,{"$f":"IF(ISERROR(AY23/K82),0,(AY23/K82)*100)","v":0},null,100]
["Combustible",null,null,null,null,null,0,0,"Niños  (2 a 5 años) Controlados",null,null,null,null,null,{"$f":"IF(ISERROR(((AJ23+AL23+AN23+AP23)/(I28+K28+M28+P28))),0,(((AJ23+AL23+AN23+AP23)/(I28+K28+M28+P28)))*100)","v":0},100,null,"Hepatitis B RN","Hepatitis B RN",null,"Hepatitis B RN","Hepatitis B RN",null,null,2,0,0,0,null,{"$f":"SUM(Y50:AB50)","v":2},{"$f":"IF(ISERROR(Z50/W49),0,(Z50/W49)*100)","v":0},null,null,null,"2° Ref. Antipolio Ingreso Escolar",null,null,null,null,null,null,null,null,null,null,null,null,4,null,null,0,0,null,null,0,{"$f":"SUM(AV50:BC50)","v":4},null,{"$f":"IF(ISERROR(AY50/AS49),0,(AY50/AS49)*100)","v":0},null,null,null,"Embarazadas Con MELON",null,null,null,null,null,null,null,null,{"$f":"IF(ISERROR(F23/J20),0,(F23/J20)*100)","v":0},null,80,null,null,"Niños 6 meses con LME",null,null,null,null,null,null,null,null,null,{"$f":"IF(ISERROR(CC20/CC17),0,(CC20/CC17)*100)","v":0},null,80]
[" DE DIAGNOSTICO",null,null,null,null,null,null,"%","Conc. Vis. Flias Prio",null,null,null,null,null,{"$f":"IF(ISERROR((BB15+BE15)/(BB14+BE14)),0,((BB15+BE15)/(BB14+BE14)))","v":0},25,null,"2° Neumococo < 1a","3ª SOT/Salk < 1a",null,"3ª SOT/Salk < 1a","3ª SOT/Salk < 1a",{"$f":"A91+C91+D91+F91","v":0},null,6,0,0,0,null,{"$f":"SUM(Y51:AB51)","v":6},{"$f":"IF(ISERROR(Z51/W51),0,(Z51/W51)*100)","v":0},null,100,null,"2° Ref. DPT Ingreso Escolar",null,null,null,null,null,null,null,null,null,null,null,null,4,null,null,0,0,null,null,0,{"$f":"SUM(AV51:BC51)","v":4},null,{"$f":"IF(ISERROR(AY51/AS49),0,(AY51/AS49)*100)","v":0},null,null,null,"Partos Hospitalarios",null,null,null,null,null,null,null,null,{"$f":"IF(ISERROR(O20/M20),0,(O20/M20)*100)","v":0},null,100]
["Flias Priorizadas 3 + 2:",null,null,null,null,null,null,{"$f":"IF(ISERROR((BB14+BE14)/D12),0,(BB14+BE14)/D12*100)","v":0},"Conc.C.Dom Niños Bp/MBP",null,null,null,null,null,{"$f":"IF(ISERROR(BW22/(AL22+AN22+AL23+AN23)),0,(BW22/(AL22+AN22+AL23+AN23)))","v":0},3,null,"2° Rotavirus <1 a","3º Pentavalente <1 a",null,"3º Pentavalente <1 a","3º Pentavalente <1 a",null,null,6,0,0,0,null,{"$f":"SUM(Y52:AB52)","v":6},{"$f":"IF(ISERROR(Z52/W51),0,(Z52/W51)*100)","v":0},null,null,null,"2° TV Ingreso Escolar",null,null,null,null,null,null,null,null,null,null,null,null,4,null,null,0,0,null,null,0,{"$f":"SUM(AV52:BC52)","v":4},null,{"$f":"IF(ISERROR(AY52/AS49),0,(AY52/AS49)*100)","v":0},null,100,null,"Conc Control Médico a RN",null,null,null,null,null,null,null,null,{"$f":"IF(ISERROR(Q23/M20),0,(Q23/M20))","v":0},null,4,null,null,"% Niños BP MBP y RBP con MELaN",null,null,null,null,null,null,null,null,null,{"$f":"IF(ISERROR(BO20/(AL22+AN22+AR22+AL23+AN23+AR23)),0,(BO20/(AL22+AN22+AR22+AL23+AN23+AR23))*100)","v":0},null,100]
["Flias Urbanas",null,null,null,null,null,null,{"$f":"IF(ISERROR(T12/D12),0,(T12/D12)*100)","v":0},"Rel. Muestra/Sint Resp.",null,null,null,null,null,{"$f":"IF(ISERROR(D33/A35),0,(D33/A35))","v":0},2,null,"2° Meningococo < 1a",null,null,null,null,null,null,6,0,0,0,null,{"$f":"SUM(Y53:AB53)","v":6},{"$f":"IF(ISERROR(Z53/W51),0,(Z53/W51)*100)","v":0},null,null,null,"dTpa 11 años",null,null,null,null,null,null,null,null,null,6,null,null,5,null,null,0,0,null,null,0,{"$f":"SUM(AV53:BC53)","v":5},null,{"$f":"IF(ISERROR(AY53/AS53),0,(AY53/AS53)*100)","v":0},null,null,null,"Conc Control Méd. a puérpera",null,null,null,null,null,null,null,null,{"$f":"IF(ISERROR(M23/S20),0,(M23/S20))","v":0},null,4,null,null,"Sint Resp Detect. Seg zona",null,null,null,null,null,null,null,null,null,{"$f":"IF(ISERROR((A35*100)/(((20*(AK28+AN28+AR28+AV28+AZ28+BD28+BI28+BM28+BQ28+BU28+BY28))/100)*A31)),0,(A35*100)/((((20*(AK28+AN28+AR28+AV28+AZ28+BD28+BI28+BM28+BQ28+BU28+BY28))/100)*A31)/100))","v":0},null,"S/Z"]
["Flias Periurbanas",null,null,null,null,null,null,{"$f":"IF(ISERROR(V12/D12),0,(V12/D12)*100)","v":0},"Casas Evaluadas Chagas",null,null,null,null,null,{"$f":"IF(ISERROR(BB45/AU45),0,(BB45/AU45)*100)","v":0},100,null,"3° Antipolio < 1 año","2ª Rotavirus < 1 año",null,"2ª Rotavirus < 1 año","2ª Rotavirus < 1 año",null,null,6,0,0,0,null,{"$f":"SUM(Y54:AB54)","v":6},{"$f":"IF(ISERROR(Z54/W51),0,(Z54/W51)*100)","v":0},null,null,null,"U.D. Meningococo",null,null,null,null,null,null,null,null,null,null,null,null,5,null,null,0,0,null,null,0,{"$f":"SUM(AV54:BC54)","v":5},null,{"$f":"IF(ISERROR(AY54/AS53),0,(AY54/AS53)*100)","v":0},null,"95% AL 1° SEM",null,"RN con Pesquisa",null,null,null,null,null,null,null,null,{"$f":"IF(ISERROR(Y23/U20),0,(Y23/U20)*100)","v":0},null,100,null,null,"Pacientes TBC con Control Médico",null,null,null,null,null,null,null,null,null,{"$f":"IF(ISERROR(I36/I32),0,(I36/I32)*100)","v":0},null,100]
["Flias Rurales",null,null,null,null,null,null,{"$f":"IF(ISERROR(Y12/D12),0,(Y12/D12)*100)","v":0},"Casas Tratadas Chagas",null,null,null,null,null,{"$f":"IF(ISERROR(BJ45/BE45),0,(BJ45/BE45)*100)","v":0},100,null,"3° Pentavalente <1 año","TV 1 año",null,"TV 1 año","TV 1 año",null,null,6,0,0,0,null,{"$f":"SUM(Y55:AB55)","v":6},{"$f":"IF(ISERROR(Z55/W51),0,(Z55/W51)*100)","v":0},null,null,null,"1° HPV Niñas cumplen 11 a en año en curso",null,null,null,null,null,null,null,null,null,3,null,null,2,null,null,0,0,null,null,0,{"$f":"SUM(AV55:BC55)","v":2},null,{"$f":"IF(ISERROR(AY55/AS55),0,(AY55/AS55)*100)","v":0},null,null,null,"Derivaciones Enviadas/Recibidas",null,null,null,null,null,null,null,null,{"$f":"IF(ISERROR(AN43/AK43),0,(AN43/AK43)*100)","v":0},null,100,null,null,"Contactos TBC Controlados",null,null,null,null,null,null,null,null,null,{"$f":"IF(ISERROR(K36/(D36+G36)),0,(K36/(D36+G36)))*100","v":0},null,100]
["Flias Originarias",null,null,null,null,null,null,{"$f":"IF(ISERROR(R12/D12),0,(R12/D12)*100)","v":0},"Casas Evaluadas Dengue",null,null,null,null,null,{"$f":"IF(ISERROR(BN45/AU45),0,(BN45/AU45)*100)","v":0},100,null,"1° TV","A HA 1 año",null,"A HA 1 año","A HA 1 año",{"$f":"G91+H91","v":0},null,5,0,0,0,null,{"$f":"SUM(Y56:AB56)","v":5},{"$f":"IF(ISERROR(Z56/W56),0,(Z56/W56)*100)","v":0},null,100,null,"1° HPV Niños cumplen 11 a en año en curso",25,25,null,null,null,null,null,null,null,3,null,null,3,null,null,0,0,null,null,0,{"$f":"SUM(AV56:BC56)","v":3},null,{"$f":"IF(ISERROR(AY56/AS56),0,(AY56/AS56)*100)","v":0},null,"95% AL 1° SEM",null,"Niños < 2 a Riesgo BP",null,null,null,null,null,null,null,null,{"$f":"IF(ISERROR(AR22/AJ22),0,(AR22/AJ22)*100)","v":0},null,null,null,null,"TAES de TBC",null,null,null,null,null,null,null,null,null,{"$f":"IF(ISERROR(K32/I32),0,(K32/I32)*100)","v":0},null,100]
["Flias Migr. desde AO",null,null,null,null,null,null,{"$f":"IF(ISERROR(AC12/A12),0,(AC12/A12)*100)","v":0},"Casas Tratadas Dengue",null,null,null,null,null,{"$f":"IF(ISERROR(BV45/BR45),0,(BV45/BR45)*100)","v":0},100,null,"2° TV","A HA 1 año",null,"A HA 1 año","A HA 1 año",null,null,0,0,0,0,null,{"$f":"SUM(Y57:AB57)","v":0},{"$f":"IF(ISERROR(Z57/W56),0,(Z57/W56)*100)","v":0},null,null,null,"Emb. con dTpa",null,null,null,null,null,null,null,null,null,2,null,null,2,null,null,0,0,null,null,0,{"$f":"SUM(AV57:BC57)","v":2},null,{"$f":"IF(ISERROR(AY57/AS57),0,(AY57/AS57)*100)","v":0},null,null,null,"Niños < 2 a Riesgo AP",null,null,null,null,null,null,null,null,{"$f":"IF(ISERROR(AT22/AJ22),0,(AT22/AJ22)*100)","v":0},null,null,null,null,"Ptes. con tratamiento por Chagas",null,null,null,null,null,null,null,null,null,{"$f":"S31","v":0}]
["Flias Migr. hacia el AO",null,null,null,null,null,null,{"$f":"IF(ISERROR(AA12/A12),0,(AA12/A12)*100)","v":0},"Superv Int. a la Familia",null,null,null,null,null,{"$f":"IF(ISERROR((CH14*100)/BL14),0,((CH14*100)/BL14))","v":0},20,null,"Unica Dosis A HA",null,null,null,null,null,null,5,0,0,0,null,{"$f":"SUM(Y58:AB58)","v":5},{"$f":"IF(ISERROR(Z58/W56),0,(Z58/W56)*100)","v":0},null,null,null,"Emb. con Vac Sinsicial",null,null,null,null,null,null,null,null,null,null,null,null,0,null,null,0,0,null,null,0,{"$f":"SUM(AV58:BC58)","v":0},null,{"$f":"IF(ISERROR(AY58/AS57),0,(AY58/AS57)*100)","v":0},null,100,null,"Niños < 2 Recup BP",null,null,null,null,null,null,null,null,{"$f":"IF(ISERROR(AV22/K79),0,(AV22/K79)*100)","v":0},null,100,null,null,"Casas positivas Chagas",null,null,null,null,null,null,null,null,null,{"$f":"IF(ISERROR(BE45/BB45),0,(BE45/BB45)*100)","v":0},null,0]
["Flias con planes sociales",null,null,null,null,null,null,{"$f":"IF(ISERROR(AF12/D12),0,(AF12/D12)*100)","v":0},"Superv Prof. Flias Prio (3v)",null,null,null,null,null,{"$f":"IF(ISERROR(CH15/(BB14+BE14)),0,(CH15/(BB14+BE14))*100)","v":0},70,null,"Ref Neumococo 1 año","Ref Neumoc 1 año",null,"Ref Neumoc 1 año","Ref Neumoc 1 año",null,null,5,0,0,0,null,{"$f":"SUM(Y59:AB59)","v":5},{"$f":"IF(ISERROR(Z59/W56),0,(Z59/W56)*100)","v":0},null,null,null,"dT  Vigente > 65 a",null,null,null,null,null,null,null,null,null,23,null,null,19,null,null,0,0,null,null,0,{"$f":"SUM(AV59:BC59)","v":19},null,{"$f":"IF(ISERROR(AY59/AS59),0,(AY59/AS59)*100)","v":0},null,100,null,"Niños < 2 Recup AP",null,null,null,null,null,null,null,null,{"$f":"IF(ISERROR(AY22/K81),0,(AY22/K81)*100)","v":0},null,100,null,null,"Casas Positivas Aedes",null,null,null,null,null,null,null,null,null,{"$f":"IF(ISERROR(BR45/BN45),0,(BR45/BN45)*100)","v":0},null," "]
[null,null,null,null,null,null,null,null,"% Activ Prom.Salud Comunitarias",null,null,null,null,null,{"$f":"IF(ISERROR(CH45/CH43),0,(CH45/CH43)*100)","v":0},100,null,"Ref. Meningococo 1 año","Ref Cuádruple 1 año",null,"Ref Cuádruple 1 año","Ref Cuádruple 1 año",null,null,5,0,0,0,null,{"$f":"SUM(Y60:AB60)","v":5},{"$f":"IF(ISERROR(Z60/W56),0,(Z60/W56)*100)","v":0},null,null,null,"Neumo 20 > 65 años",null,null,null,null,null,null,null,null,null,null,null,null,19,null,null,0,0,null,null,0,{"$f":"SUM(AV60:BC60)","v":19},null,{"$f":"IF(ISERROR(AY60/AS59),0,(AY60/AS59)*100)","v":0},null,null,null,"Niños 2 a 5 Riesgo BP",null,null,null,null,null,null,null,null,{"$f":"IF(ISERROR(AR23/AJ23),0,(AR23/AJ23)*100)","v":0},null,null,null,null,"UROCS 1/SEC",null,null,null,null,null,null,null,null,null,0,null,"1/SEC"]
["Flias. c/Antec Mort Mat Inf",null,null,null,null,null,null,{"$f":"IF(ISERROR(AV10/D12),0,(AV10/D12)*100)","v":0},null,null,null,null,null,null,null,null,null,"Unica Dosis Varicela","Ref SOT 1 año",null,"Ref SOT 1 año","Ref SOT 1 año",null,null,5,0,0,0,null,{"$f":"SUM(Y61:AB61)","v":5},{"$f":"IF(ISERROR(Z61/W56),0,(Z61/W56)*100)","v":0},null,null,null,"Aplic. Cargadas a Nomivac",null,null,null,null,null,null,null,null,null,0,null,null,null,null,null,null,null,null,null,null,null,null,null,null,null,null,null,null,null,null,null,null,null,null,null,null,null,null,null,null,"Flias con Huerta",null,null,null,null,null,null,null,null,null,{"$f":"IF(ISERROR(AL12/D12),0,(AL12/D12)*100)","v":0}]
["F con 3 o más <6 años",null,null,null,null,null,null,{"$f":"IF(ISERROR(BI10/D12),0,(BI10/D12)*100)","v":0}," DE IMPACTO",null,null,null,null,"%",null,"META",null,"4° Dosis o 1° Ref. Pentavalente",null,null,null,null,null,null,5,0,0,0,null,{"$f":"SUM(Y62:AB62)","v":5},{"$f":"IF(ISERROR(Z62/W56),0,(Z62/W56)*100)","v":0},null,null,null,"Total Aplic /AS",null,null,null,null,null,null,null,null,null,0,null,null,null,null,null,null,null,null,null,null,null,null,null,null,null,null,"Niños 2 a 5 Riesgo AP",null,null,null,null,null,null,null,null,{"$f":"IF(ISERROR(AT23/AJ23),0,(AT23/AJ23)*100)","v":0},null,null,null,null,"Flias con Granja",null,null,null,null,null,null,null,null,null,{"$f":"IF(ISERROR(AP12/D12),0,(AP12/D12)*100)","v":0}]
["Flias con Hacinamiento",null,null,null,null,null,null,{"$f":"IF(ISERROR(BL10/D12),0,(BL10/D12)*100)","v":0},"Agua Seg (Trat Red + Viv)",null,null,null,null,{"$f":"IF(ISERROR((AP41+AR41)/D12),0,((AP41+AR41)/D12)*100)","v":0},null,100,null,"2° AG 6m a 24m",null,null,null,null,{"$f":"D91+F91+G91+H91","v":0},null,0,0,0,0,null,{"$f":"SUM(Y63:AB63)","v":0},{"$f":"IF(ISERROR(Z63/W63),0,(Z63/W63)*100)","v":0},null," ",null,"VAC COVID APLIC EN LA RONDA",null,null,null,null,null,null,null,null,null,0,null,null,null,null,null,null,null,null,null,null,null,null,null,null,null,null,"U) A llenar en 1° Ronda del Año"]
["Flias con Analfabet",null,null,null,null,null,null,{"$f":"IF(ISERROR(BO10/D12),0,(BO10/D12)*100)","v":0},"DSE (Arrastre y letrinas)",null,null,null,null,{"$f":"IF(ISERROR((AV41+AX41+AZ41+BB41+BD41)/D12),0,((AV41+AX41+AZ41+BB41+BD41)/D12)*100)","v":0},null,100,null,"R) PRODUCCION Y RENDIMIENTO",null,null,null,null,null,null,null,null,null,null,null,null,null,null,null,null,null,null,null,null,null,null,null,null,null,null,null,null,null,null,null,null,null,null,null,null,null,null,null,null,null,null,null,"Piso",null,null,null,null,"Techo",null,null,null,null,"Paredes",null,null,null,null,null,null,null,null,null,"Cocina",null,null,null,null,"Tenencia"]
["Flias con Suicidio",null,null,null,null,null,null,{"$f":"IF(ISERROR(BT11/D12),0,(BT11/D12)*100)","v":0},"TSB (Recolección + Pozo)",null,null,null,null,{"$f":"IF(ISERROR((BH41+BK41)/D12),0,((BH41+BK41)/D12)*100)","v":0},null,100,null,"DIAS A TRAB. /RONDA",null,null,"DIAS INCLEM CLIMAT.",null,null,"DIAS Y NROS DE ARTICULOS TOMADOS",null,null,null,"CAPACITACIONES Y OTRAS ACTIVIDADES",null,null,null,null,null,null,null,null,null,null,null,null,null,null,null,null,null,null,null,null,null,null,"DIAS TRABAJADOS\nEN TERRENO",null,null,null,null,"PROM. DIARIO DE FLIAS VISIT.",null,null,null,null,null,"Mosaico/B.",null,null,null,0,"Losa",null,null,0,null,"Ladrillo",null,null,0,null,"Madera",null,null,null,0,"Gas",null,null,0,null,"Segura",null,null,0]
["Flias c /tentativa suicidio",null,null,null,null,null,null,{"$f":"IF(ISERROR(BV11/D12),0,(BV11/D12)*100)","v":0},"Emb Adolescente",null,null,null,null,{"$f":"IF(ISERROR(L20/J20),0,(L20/J20)*100)","v":0},null,null,null,null,null,null,null,null,null,0,null,null,null,0,null,null,null,null,null,null,null,null,null,null,0,null,null,null,null,null,null,null,null,null,null,null,null,null,null,null,null,null,null,null,null,null,null,"Cemento",null,null,null,0,"Chapa\nZinc",null,null,0,null,"Bloque",null,null,0,null,"Quincho",null,null,null,0,"Leña/\nCarb",null,null,0,null,"Inseg.",null,null,0]
["Flias con Alcoholismo",null,null,null,null,null,null,{"$f":"IF(ISERROR(BY11/D12),0,(BY11/D12)*100)","v":0},"Niños <2 Bajo Peso/MBP",null,null,null,null,{"$f":"IF(ISERROR((AL22+AN22)/(AJ22+AP22+AL22+AN22)),0,((AL22+AN22)/(AJ22+AP22+AL22+AN22))*100)","v":0},null,null,null,null,null,null,null,null,null,0,null,null,null,0,null,null,null,null,null,null,null,null,null,null,0,null,null,null,null,null,null,null,null,null,null,null,null,null,null,null,null,null,null,null,null,null,null,"Tierra",null,null,null,0,"Paja/\nBarro",null,null,0,null,"Adobe",null,null,0,null,"Carton/Pl",null,null,null,0,"Otros",null,null,0,null,"Hac",null,null,0,null,null,null,5]
["Flias c/ otras Adicciones",null,null,null,null,null,null,{"$f":"IF(ISERROR(CC11/D12),0,(CC11/D12)*100)","v":0},"Niños <2 a AP",null,null,null,null,{"$f":"IF(ISERROR(AP22/(AJ22+AP22+AL22+AN22)),0,(AP22/(AJ22+AP22+AL22+AN22))*100)","v":0},null,null,null,0,null,null,0,null,null,0,null,null,null,0,null,null,null,null,null,null,null,null,null,null,0,null,null,null,null,null,null,null,null,null,null,null,0,null,null,null,null,{"$f":"IF(ISERROR(G12/AY68),0,(G12/AY68))","v":0},null,null,null,null,null,"Otros",null,null,null,0,"Otros",null,null,0,null,"Piedra",null,null,0,null,"Otro",null,null,null,0,"Helad.",null,null,0]
["Flias con VIF",null,null,null,null,null,null,{"$f":"IF(ISERROR(CF11/D12),0,(CF11/D12)*100)","v":0},"Niños < 2 baja y MBT",null,null,null,null,{"$f":"IF(ISERROR((AZ22+BB22)/(AJ22+AP22+AL22+AN22)),0,((AZ22+BB22)/(AJ22+AP22+AL22+AN22))*100)","v":0},null,null,null,"S) DETALLE DE LAS DEFUNCIONES (Todas las del Sector)",null,null,null,null,null,null,null,null,null,null,null,null,null,null,null,null,null,null,null,null,null,null,null,null,null,null,null,null,null,null,null,null,null,null,null,null,null,null,null,null,null,null,null,"Agua",null,"Corriente a Domic",null,null,"Grifo Terr",null,null,"Grifo Público",null,null,"Bomba",null,null,"Pozo",null,null,null,"Camión Aguatero / Cisterna",null,"Vertiente/Rio/Aceq",null,null,"Laguna",null,null,"Lluvia/Aljibe"]
["Flias con Diabetes",null,null,null,null,null,null,{"$f":"IF(ISERROR(AB31/D12),0,(AB31/D12)*100)","v":0},"Niños 2 a 5 Bajo Peso/MBP",null,null,null,null,{"$f":"IF(ISERROR((AL23+AN23)/(AJ23+AP23+AL23+AN23)),0,((AL23+AN23)/(AJ23+AP23+AL23+AN23))*100)","v":0},null,null,null,"APELLIDO Y NOMBRE",null,null,null,null,null,null,"DOMICILIO",null,null,null,null,null,null,null,null,"NACIMIENTO",null,null,null,null,"DEFUNCION",null,null,null,"PESO\nAL NACER",null,null,null,"CAUSA",null,null,null,null,null,null,null,null,null,"CLASIFICAC."]
["Flias con Hipertensión",null,null,null,null,null,null,{"$f":"IF(ISERROR(AB32/D12),0,(AB32/D12)*100)","v":0},"Niños 2 a 5 AP",null,null,null,null,{"$f":"IF(ISERROR(AP23/(AJ23+AP23+AL23+AN23)),0,(AP23/(AJ23+AP23+AL23+AN23))*100)","v":0}]
[]
["Personas con otras enfermedades crónicas al cuidado de niños",null,null,null,null,null,null,{"$f":"IF(ISERROR(AB33/D12),0,(AB33/D12)*100)","v":0},"Niños 2 a 5 baja y MBT",null,null,null,null,{"$f":"IF(ISERROR((AZ23+BB23)/(AJ23+AP23+AL23+AN23)),0,((AZ23+BB23)/(AJ23+AP23+AL23+AN23))*100)","v":0},null,null,null,null,null,null,null,null,null,null,null,null,null,null,null,null,null,null,null,null,null,null,null,null,null,null,null,null,null,null,null,null,null,null,null,null,null,null,null,null,null,null,null,null,null,null,null,null,null,0,null,null,0,null,null,0,null,null,0,null,null,0,null,null,null,0,null,0,null,null,0,null,null,0]
["Pers c/O Social/Pob total",null,null,null,null,null,null,{"$f":"IF(ISERROR(CI27/CC28),0,(CI27/CC28)*100)","v":0}]
[]
[]
[]
[]
["BP+MBP Ronda Anterior Men2a: ",null,null,null,null,null,null,null,null,null,0]
["BP+MBP Ronda Anterior 2 a 6a: ",null,null,null,null,null,null,null,null,null,0]
["AP Ronda Anterior Men2a: ",null,null,null,null,null,null,null,null,null,0]
["AP Ronda Anterior 2 a 6a: ",null,null,null,null,null,null,null,null,null,0]
[]
[]
[]
[]
[]
["0 a 5m",null,null,"6 a 11m",null,null,"1 AÑO",null,"2 AÑOS",null,"3 AÑOS",null,"4 AÑOS",null,null,"5 AÑOS",null,null,"6 AÑOS",null,null,"7 A 9 AÑOS",null,null,null,"10 AÑOS",null,"11 AÑOS",null,null,"12 A 14",null,null,null,null,null,"15 A 19",null,null,"20 A 24",null,null,null,"25 A 29",null,null,null,"30 A 34",null,null,null,"35 A 39",null,null,null,"40 A 44",null,null,null,null,"45 A 49",null,null,null,"50 A 54",null,null,null,"55 A 59",null,null,null,"60 A 64",null,null,null,"65 y +",null,null,null,"TOTAL",null,null,null,null,"MUJERES\n10 A 49"]
["M",null,"F","M",null,"F","M","F","M","F","M","F","M",null,"F","M",null,"F","M",null,"F","M",null,"F",null,"M","F","M",null,"F","M",null,null,"F",null,null,"M","F",null,"M",null,"F",null,"M",null,null,"F","M",null,null,"F","M",null,"F",null,"M",null,null,"F",null,"M",null,"F",null,"M",null,"F",null,"M",null,"F",null,"M",null,"F",null,"M",null,null,"F","M",null,"F"]
[0,null,0,0,null,0,0,0,0,0,0,0,0,null,0,0,null,0,0,null,0,0,null,0,null,0,0,0,null,0,0,null,null,0,null,null,0,0,null,0,null,0,null,0,null,null,0,0,null,null,0,0,null,0,null,0,null,null,0,null,0,null,0,null,0,null,0,null,0,null,0,null,0,null,0,null,0,null,null,0,{"$f":"SUM(A90,D90,G90,I90,K90,M90,P90,S90,V90,Z90,AB90,AE90,AK90,AN90,AR90,AV90,AZ90,BD90,BI90,BM90,BQ90,BU90,BY90)","v":0},null,{"$f":"SUM(C90,F90,H90,J90,L90,O90,R90,U90,X90,AA90,AD90,AH90,AL90,AP90,AU90,AY90,BB90,BG90,BK90,BO90,BS90,BW90,CB90)","v":0},null,null,{"$f":"SUM(AA90,AD90,AH90,AL90,AP90,AU90,AY90,BB90,BG90,BK90)","v":0}]
[{"$f":"SUM(A90:C90)","v":0},null,null,{"$f":"SUM(D90,F90)","v":0},null,null,{"$f":"SUM(G90,H90)","v":0},null,{"$f":"SUM(I90,J90)","v":0},null,{"$f":"SUM(K90,L90)","v":0},null,{"$f":"SUM(M90,O90)","v":0},null,null,{"$f":"SUM(P90,R90)","v":0},null,null,{"$f":"SUM(S90,U90)","v":0},null,null,{"$f":"SUM(V90,X90)","v":0},null,null,null,{"$f":"SUM(Z90,AA90)","v":0},null,{"$f":"SUM(AB90,AD90)","v":0},null,null,{"$f":"SUM(AE90,AH90)","v":0},null,null,null,null,null,{"$f":"SUM(AK90,AL90)","v":0},null,null,{"$f":"SUM(AN90,AP90)","v":0},null,null,null,{"$f":"SUM(AR90,AU90)","v":0},null,null,null,{"$f":"SUM(AV90,AY90)","v":0},null,null,null,{"$f":"SUM(AZ90,BB90)","v":0},null,null,null,{"$f":"SUM(BD90,BG90)","v":0},null,null,null,null,{"$f":"SUM(BI90,BK90)","v":0},null,null,null,{"$f":"SUM(BM90,BO90)","v":0},null,null,null,{"$f":"SUM(BQ90,BS90)","v":0},null,null,null,{"$f":"SUM(BU90,BW90)","v":0},null,null,null,{"$f":"SUM(BY90,CB90)","v":0},null,null,null,{"$f":"A91+D91+G91+I91+K91+M91+P91+S91+V91+Z91+AB91+AE91+AK91+AN91+AR91+AV91+AZ91+BD91+BI91+BM91+BQ91+BU91+BY91","v":0}]
["Mejor Población: 1° - 2019",null,null,null,null,null,null,null,null,null,null,null,null,null,null,null,null,null,null,null,null,null,null,null,null,null,null,null,null,null,null,null,null,null,null,null,null,null,null,null,null,null,null,null,null,null,null,null,null,null,null,null,null,null,null,null,null,null,null,null,null,null,null,null,null,null,null,null,null,null,null,null,null,null,null,null,null,null,null,null,{"$f":"SUM(CC91,CE91)","v":0}]
["Cobertura: 1%"]

{"sheet":"EL TALAR","index":15,"n_rows":93,"n_cols":94,"rows_kept":93,"cut":false,"hidden":false,"merged":[[62,17,62,21],[62,22,62,23],[62,27,62,28],[62,30,62,31],[0,86,0,87],[1,8,1,9],[1,15,1,25],[1,46,1,53],[1,56,1,57],[1,58,1,59],[1,60,1,61],[1,67,1,84],[1,86,1,87],[0,27,3,45],[0,46,0,52],[0,56,0,57],[0,58,0,59],[0,60,0,61],[0,81,0,84],[2,46,2,53],[2,56,2,57],[2,58,2,59],[2,60,2,61],[6,0,6,89],[7,0,7,46],[7,47,7,89],[8,0,10,2],[8,3,10,5],[8,6,10,7],[8,8,8,16],[8,17,10,18],[8,19,10,20],[8,21,10,23],[4,80,4,87],[5,8,5,24],[5,33,5,46],[5,57,5,67],[5,75,5,77],[5,82,5,87],[2,67,2,79],[2,86,2,87],[3,8,3,23],[3,46,3,53],[3,56,3,57],[3,58,3,59],[3,60,3,61],[3,74,3,79],[3,84,3,87],[8,86,8,89],[9,8,10,9],[9,10,10,11],[9,12,10,13],[9,14,10,16],[9,26,10,27],[9,28,10,30],[8,66,8,68],[8,69,8,72],[8,73,8,75],[8,76,8,79],[8,80,8,82],[8,83,8,85],[8,51,8,53],[8,54,8,55],[8,56,8,57],[8,58,8,59],[8,60,8,62],[8,63,8,65],[8,24,10,25],[8,26,8,30],[8,31,10,36],[8,37,8,46],[8,47,8,48],[8,49,8,50],[9,49,10,50],[11,0,14,2],[11,3,14,5],[11,6,14,7],[11,8,14,9],[11,10,14,11],[11,12,14,13],[9,86,9,89],[10,69,10,72],[10,73,10,74],[10,76,10,78],[10,81,10,82],[10,83,10,84],[10,86,10,89],[9,66,10,68],[9,69,9,72],[9,73,9,74],[9,76,9,78],[9,81,9,82],[9,83,9,84],[9,51,10,53],[9,54,10,55],[9,56,10,57],[9,58,10,59],[9,60,10,62],[9,63,10,65],[13,75,13,78],[13,79,13,80],[13,81,13,84],[9,37,10,40],[9,41,10,46],[9,47,10,48],[12,85,12,89],[13,47,13,52],[13,63,13,68],[13,69,13,74],[12,47,12,52],[12,63,12,68],[12,53,12,55],[12,56,12,59],[12,60,12,62],[13,53,13,55],[13,56,13,59],[13,60,13,62],[14,53,14,55],[14,56,14,59],[14,60,14,62],[11,19,14,20],[11,21,14,23],[11,24,14,25],[11,26,14,27],[16,0,18,2],[16,6,18,6],[16,7,18,7],[16,8,18,8],[16,9,18,9],[16,10,18,10],[16,11,18,11],[16,12,18,13],[14,79,14,80],[14,81,14,84],[14,85,14,89],[15,12,15,19],[15,20,15,28],[15,29,15,65],[15,66,15,75],[11,28,14,30],[11,31,14,36],[11,37,14,40],[11,41,14,46],[11,47,11,68],[11,69,11,89],[11,14,14,16],[11,17,14,18],[13,85,13,89],[14,47,14,52],[14,63,14,68],[14,69,14,74],[14,75,14,78],[12,69,12,74],[12,75,12,78],[12,79,12,80],[12,81,12,84],[19,0,20,2],[19,12,19,13],[19,14,19,15],[19,18,19,19],[19,20,19,21],[19,23,19,24],[19,25,19,26],[19,27,19,28],[17,41,20,42],[17,43,18,46],[17,47,18,50],[17,51,18,55],[17,56,20,57],[17,58,18,62],[19,43,20,44],[19,45,20,46],[19,47,20,49],[19,50,20,50],[17,16,18,16],[17,17,18,17],[17,22,18,22],[17,23,18,24],[17,25,18,26],[17,27,18,28],[17,29,20,31],[16,14,18,15],[16,16,16,17],[16,18,18,19],[16,20,18,21],[16,22,16,28],[16,29,16,65],[17,32,20,34],[21,12,21,15],[21,16,21,19],[21,29,21,31],[21,32,21,34],[20,12,20,19],[20,20,21,23],[20,24,21,28],[21,35,21,36],[21,37,21,38],[21,39,21,40],[21,41,21,42],[19,68,20,69],[19,70,20,71],[19,72,20,73],[19,74,20,75],[19,76,20,79],[19,51,20,52],[19,53,20,54],[19,55,20,55],[19,58,20,60],[19,61,20,62],[19,66,20,67],[17,63,20,65],[16,66,18,67],[16,68,18,69],[16,70,18,71],[16,72,18,73],[16,74,18,75],[16,76,18,79],[17,35,20,36],[17,37,20,38],[17,39,20,40],[22,16,22,19],[22,20,22,23],[22,24,22,28],[22,29,22,31],[22,32,22,34],[22,35,22,36],[21,58,21,60],[21,61,21,62],[21,63,21,65],[21,66,22,73],[21,74,22,75],[21,76,21,79],[22,76,22,79],[21,43,21,44],[21,45,21,46],[21,47,21,49],[21,51,21,52],[21,53,21,54],[21,56,21,57],[23,0,23,89],[24,0,24,2],[24,3,24,5],[24,6,24,7],[24,8,24,9],[24,10,24,11],[24,12,24,14],[24,15,24,17],[24,18,24,20],[22,51,22,52],[22,53,22,54],[22,56,22,57],[22,58,22,60],[22,61,22,62],[22,63,22,65],[22,37,22,38],[22,39,22,40],[22,41,22,42],[22,43,22,44],[22,45,22,46],[22,47,22,49],[21,0,22,2],[24,88,25,89],[25,0,25,1],[25,3,25,4],[25,12,25,13],[25,15,25,16],[25,18,25,19],[25,21,25,22],[25,23,25,24],[25,27,25,28],[22,12,22,15],[24,68,24,71],[24,72,24,75],[24,76,24,79],[24,80,24,84],[24,85,25,85],[24,86,25,87],[25,76,25,78],[25,80,25,81],[25,82,25,84],[24,43,24,46],[24,47,24,50],[24,51,24,54],[24,55,24,59],[24,60,24,63],[24,64,24,67],[24,21,24,24],[24,25,24,26],[24,27,24,29],[24,30,24,35],[24,36,24,38],[24,39,24,42],[26,37,26,38],[26,39,26,40],[26,0,26,1],[26,3,26,4],[26,12,26,13],[26,15,26,16],[26,18,26,19],[26,21,26,22],[25,64,25,65],[25,66,25,67],[25,68,25,69],[25,70,25,71],[25,72,25,73],[25,74,25,75],[25,51,25,52],[25,53,25,54],[25,55,25,57],[25,58,25,59],[25,60,25,61],[25,62,25,63],[25,33,25,35],[25,37,25,38],[25,39,25,40],[25,41,25,42],[25,43,25,45],[25,47,25,49],[25,30,25,32],[26,85,27,85],[26,86,27,87],[26,88,27,89],[27,0,27,2],[27,3,27,5],[27,6,27,7],[27,8,27,9],[27,10,27,11],[27,12,27,14],[27,15,27,17],[26,70,26,71],[26,72,26,73],[26,74,26,75],[26,76,26,78],[26,80,26,81],[26,82,26,84],[26,58,26,59],[26,60,26,61],[26,62,26,63],[26,64,26,65],[26,66,26,67],[26,68,26,69],[26,41,26,42],[26,43,26,45],[26,47,26,49],[26,51,26,52],[26,53,26,54],[26,55,26,57],[26,23,26,24],[26,27,26,28],[26,30,26,32],[26,33,26,35],[27,64,27,67],[27,68,27,71],[27,72,27,75],[27,76,27,79],[27,80,27,84],[28,0,28,14],[28,15,28,20],[28,21,28,32],[27,39,27,42],[27,43,27,46],[27,47,27,50],[27,51,27,54],[27,55,27,59],[27,60,27,63],[27,18,27,20],[27,21,27,24],[27,25,27,26],[27,27,27,29],[27,30,27,35],[27,36,27,38],[30,21,30,26],[30,27,30,29],[30,30,30,32],[31,0,31,2],[31,3,31,4],[31,8,31,9],[31,10,31,11],[31,12,32,14],[31,15,32,17],[31,18,32,20],[29,30,29,32],[29,33,35,89],[30,0,30,2],[30,3,30,5],[30,6,30,7],[30,8,30,9],[30,10,30,11],[30,12,30,14],[30,15,30,17],[30,18,30,20],[29,0,29,2],[29,3,29,7],[29,8,29,14],[29,15,29,20],[29,21,29,26],[29,27,29,29],[33,0,33,2],[33,3,33,7],[33,8,33,11],[33,12,33,14],[33,15,35,17],[33,18,35,20],[34,0,35,2],[34,3,34,5],[34,6,34,7],[34,8,34,9],[31,21,31,26],[31,27,31,29],[31,30,31,32],[32,0,32,2],[32,3,32,4],[32,8,32,9],[32,10,32,11],[32,21,33,26],[32,27,33,29],[32,30,33,32],[38,4,39,7],[38,8,39,11],[38,12,38,19],[38,20,39,21],[38,22,39,23],[36,0,37,40],[36,41,36,68],[36,69,36,89],[37,41,37,46],[37,47,37,58],[37,59,37,68],[37,69,37,79],[37,80,39,81],[37,82,39,85],[37,86,39,89],[34,10,34,11],[34,12,35,14],[34,21,35,26],[34,27,35,32],[35,3,35,5],[35,6,35,7],[35,8,35,9],[35,10,35,11],[40,0,41,1],[40,2,41,3],[40,4,41,5],[40,6,41,7],[40,8,41,9],[40,10,41,11],[38,66,39,68],[38,69,39,71],[38,72,39,75],[38,76,39,79],[39,12,39,13],[39,14,39,15],[39,16,39,17],[39,18,39,19],[39,47,39,48],[39,49,39,50],[38,46,39,46],[38,47,38,52],[38,53,38,56],[38,57,39,58],[38,59,39,61],[38,62,39,65],[39,51,39,52],[39,53,39,54],[39,55,39,56],[38,24,39,27],[38,28,39,31],[38,32,39,35],[38,36,39,40],[38,41,39,42],[38,43,39,45],[38,0,39,3],[40,41,40,42],[40,43,40,45],[40,47,40,48],[40,49,40,50],[40,24,41,25],[40,26,41,27],[40,28,41,29],[40,30,41,31],[40,32,41,33],[40,34,41,35],[40,18,41,18],[40,19,41,19],[40,20,41,20],[40,21,41,21],[40,22,41,22],[40,23,41,23],[40,12,41,12],[40,13,41,13],[40,14,41,14],[40,15,41,15],[40,16,41,16],[40,17,41,17],[42,21,44,21],[42,22,44,22],[42,10,44,11],[42,12,44,12],[42,13,44,13],[42,14,44,14],[42,15,44,15],[42,16,44,16],[40,86,40,89],[41,41,41,52],[41,53,41,64],[41,65,41,76],[41,77,41,89],[42,0,44,1],[42,2,44,3],[42,4,44,5],[42,6,44,7],[42,8,44,9],[40,66,40,68],[40,69,40,71],[40,72,40,75],[40,76,40,79],[40,80,40,81],[40,82,40,85],[40,51,40,52],[40,53,40,54],[40,55,40,56],[40,57,40,58],[40,59,40,61],[40,62,40,65],[40,36,41,38],[40,39,41,40],[42,73,43,76],[42,77,43,84],[42,85,43,89],[44,41,44,45],[44,46,44,48],[44,49,44,50],[44,51,44,52],[44,53,44,55],[44,56,44,60],[44,61,44,64],[42,51,43,52],[42,53,43,55],[42,56,43,60],[42,61,43,64],[42,65,43,68],[42,69,43,72],[42,34,44,35],[42,36,44,38],[42,39,44,40],[42,41,43,45],[42,46,43,48],[42,49,43,50],[46,70,46,71],[46,72,46,74],[46,75,46,84],[46,85,46,86],[46,87,46,89],[47,0,47,5],[47,8,47,13],[47,15,47,16],[47,17,47,21],[47,22,47,23],[46,0,46,5],[46,8,46,13],[46,15,46,16],[46,17,46,33],[46,34,46,60],[46,61,46,69],[44,65,44,68],[44,69,44,72],[44,73,44,76],[44,77,44,84],[44,85,44,89],[45,0,45,89],[42,23,44,23],[42,24,44,25],[42,26,44,27],[42,28,44,29],[42,30,44,31],[42,32,44,33],[42,17,44,17],[42,18,44,18],[42,19,44,19],[42,20,44,20],[47,72,47,74],[47,75,47,84],[47,85,47,86],[47,87,47,89],[48,0,48,5],[48,8,48,13],[48,15,48,16],[48,17,48,21],[48,22,49,23],[48,27,48,28],[47,51,47,53],[47,55,47,56],[47,57,47,58],[47,59,47,60],[47,61,47,69],[47,70,47,71],[47,27,47,28],[47,30,47,31],[47,32,47,33],[47,34,47,43],[47,44,47,46],[47,47,47,49],[49,75,50,84],[49,85,50,86],[49,87,50,89],[50,0,50,6],[50,8,50,13],[50,15,50,16],[50,17,50,21],[50,22,54,23],[50,27,50,28],[48,75,48,84],[48,85,48,86],[48,87,48,89],[49,0,49,5],[49,8,49,13],[49,15,49,16],[49,17,49,21],[49,27,49,28],[49,30,49,31],[49,34,49,43],[48,55,48,56],[48,57,48,58],[48,59,50,60],[48,61,48,69],[48,70,48,71],[48,72,48,74],[49,55,49,56],[49,57,49,58],[49,61,49,69],[49,70,49,71],[48,30,48,31],[48,32,49,33],[48,34,48,43],[50,70,50,71],[50,72,50,74],[51,0,51,6],[51,8,51,13],[51,15,51,16],[51,17,51,21],[51,27,51,28],[51,30,51,31],[51,34,51,43],[51,47,51,49],[50,34,50,43],[50,47,50,49],[50,51,50,53],[50,55,50,56],[50,57,50,58],[50,61,50,69],[49,72,49,74],[48,44,51,46],[48,47,48,49],[48,51,48,53],[49,47,49,49],[49,51,49,53],[50,30,50,31],[50,32,54,33],[51,72,51,74],[53,0,53,6],[53,8,53,13],[53,15,53,16],[53,17,53,21],[53,27,53,28],[53,30,53,31],[51,75,51,84],[51,85,51,86],[51,87,51,89],[52,0,52,6],[52,8,52,13],[52,15,52,16],[52,17,52,21],[52,27,52,28],[52,30,52,31],[51,51,51,53],[51,55,51,56],[51,57,51,58],[51,59,52,60],[51,61,51,69],[51,70,51,71],[52,61,52,69],[52,70,52,71],[52,72,52,74],[52,75,52,84],[52,85,52,86],[52,87,52,89],[52,34,52,43],[52,44,53,46],[52,47,52,49],[52,51,52,53],[52,55,52,56],[52,57,52,58],[53,34,53,43],[53,47,53,49],[53,51,53,53],[53,55,53,56],[53,85,53,86],[53,87,53,89],[54,0,54,6],[54,8,54,13],[54,15,54,16],[54,17,54,21],[54,27,54,28],[54,30,54,31],[54,34,54,43],[54,44,54,46],[53,57,53,58],[53,59,54,60],[53,61,53,69],[53,70,53,71],[53,72,53,74],[53,75,53,84],[54,72,54,74],[54,75,54,84],[54,85,54,86],[54,87,54,89],[55,0,55,6],[55,8,55,13],[55,15,55,16],[55,17,55,21],[55,27,55,28],[55,30,55,31],[55,32,60,33],[54,47,54,49],[54,51,54,53],[54,55,54,56],[54,57,54,58],[54,61,54,69],[54,70,54,71],[56,87,56,89],[57,0,57,6],[57,8,57,13],[57,15,57,16],[57,17,57,21],[57,27,57,28],[57,30,57,31],[57,34,57,43],[56,51,56,53],[56,55,56,56],[56,57,56,58],[56,61,56,69],[56,70,56,71],[56,72,56,74],[55,87,55,89],[56,0,56,6],[56,8,56,13],[56,15,56,16],[56,17,56,21],[56,27,56,28],[56,30,56,31],[56,34,56,43],[56,44,57,46],[56,47,56,49],[55,59,56,60],[55,61,55,69],[55,70,55,71],[55,72,55,74],[55,75,55,84],[55,85,55,86],[56,75,56,84],[56,85,56,86],[55,34,55,43],[55,44,55,46],[55,47,55,49],[55,51,55,53],[55,55,55,56],[55,57,55,58],[57,75,57,84],[57,85,57,86],[55,22,61,23],[61,17,61,21],[61,27,61,28],[61,30,61,31],[57,87,57,89],[58,0,59,6],[58,7,59,7],[58,8,58,13],[58,15,58,16],[58,17,58,21],[58,27,58,28],[58,30,58,31],[57,55,57,56],[57,57,57,58],[57,59,57,60],[57,61,57,69],[57,70,57,71],[57,72,57,74],[59,85,59,86],[59,87,59,89],[57,47,57,49],[57,51,57,53],[58,87,58,89],[59,8,60,13],[59,14,60,14],[59,15,60,16],[59,17,59,21],[59,27,59,28],[59,30,59,31],[59,34,59,43],[59,47,59,49],[59,51,59,53],[58,59,59,60],[58,61,58,69],[58,70,58,71],[58,72,58,74],[60,75,60,84],[60,85,60,86],[62,61,62,89],[58,75,58,84],[58,85,58,86],[59,61,60,69],[59,70,60,71],[59,72,60,74],[59,75,59,84],[58,34,58,43],[58,44,59,46],[58,47,58,49],[58,51,58,53],[58,55,58,56],[58,57,58,58],[59,55,59,56],[59,57,59,58],[61,61,61,69],[61,70,61,71],[61,72,61,74],[61,75,61,84],[61,85,61,86],[62,0,62,6],[62,8,62,12],[62,13,62,14],[62,15,62,16],[62,32,62,33],[62,34,62,43],[64,81,64,83],[64,84,64,85],[61,87,61,89],[61,32,61,33],[61,34,61,43],[61,44,61,60],[62,44,62,60],[60,87,60,89],[61,0,61,6],[61,8,61,12],[61,13,61,14],[61,15,61,16],[60,0,60,6],[60,17,60,21],[60,27,60,28],[60,30,60,31],[60,34,60,43],[60,44,60,60],[63,86,63,89],[64,0,64,6],[64,8,64,12],[64,13,64,14],[64,15,64,16],[64,17,66,19],[64,20,66,22],[64,23,64,26],[64,27,64,49],[64,50,66,54],[65,0,65,6],[65,8,65,12],[65,13,65,14],[66,86,67,88],[66,89,67,89],[67,0,67,6],[67,8,67,12],[67,13,67,14],[67,15,67,16],[67,17,67,19],[66,38,66,49],[66,61,66,64],[66,66,66,68],[63,0,63,6],[63,8,63,12],[63,13,63,14],[63,15,63,16],[63,17,63,60],[63,61,63,65],[63,66,63,70],[63,71,63,80],[63,81,63,85],[66,69,66,70],[66,71,66,73],[66,74,66,75],[65,76,65,79],[65,81,65,83],[65,84,65,85],[65,86,65,88],[66,0,66,6],[66,8,66,12],[66,13,66,14],[66,15,66,16],[66,23,66,26],[66,27,66,37],[65,15,65,16],[65,23,65,26],[65,27,65,37],[65,38,65,49],[64,55,66,60],[64,61,64,64],[64,66,64,68],[64,69,64,70],[64,74,64,75],[64,86,64,88],[64,76,64,79],[65,61,65,64],[65,66,65,68],[65,69,65,70],[65,74,65,75],[66,76,66,79],[66,81,66,83],[66,84,66,85],[68,84,71,86],[67,81,67,83],[67,84,67,85],[68,0,68,6],[68,8,68,12],[68,13,68,14],[68,15,68,16],[68,17,68,60],[68,61,73,62],[68,63,71,65],[68,66,71,68],[67,61,67,64],[67,66,67,68],[67,69,67,70],[67,71,67,73],[67,74,67,75],[67,76,67,79],[67,20,67,22],[67,23,67,26],[67,27,67,37],[67,38,67,49],[67,50,67,54],[67,55,67,60],[70,38,70,41],[70,42,70,45],[70,46,70,55],[70,56,70,60],[71,17,71,23],[71,24,71,32],[71,33,71,37],[71,38,71,41],[71,42,71,45],[71,46,71,55],[69,46,69,55],[69,56,69,60],[70,0,71,6],[70,7,71,7],[70,8,71,12],[70,13,71,14],[70,15,71,16],[70,17,70,23],[70,24,70,32],[70,33,70,37],[69,0,69,6],[69,8,69,12],[69,13,69,14],[69,15,69,16],[69,17,69,23],[69,24,69,32],[69,33,69,37],[69,38,69,41],[69,42,69,45],[72,75,73,78],[72,79,73,80],[72,81,73,83],[72,84,73,86],[72,87,73,89],[73,0,73,6],[73,17,73,23],[73,24,73,32],[73,33,73,37],[73,38,73,41],[72,46,72,55],[72,56,72,60],[72,63,73,65],[72,66,73,68],[72,69,73,71],[72,72,73,74],[71,56,71,60],[72,0,72,6],[72,8,73,12],[72,13,73,14],[72,15,73,16],[72,17,72,23],[72,24,72,32],[72,33,72,37],[72,38,72,41],[72,42,72,45],[68,87,71,89],[68,69,71,71],[68,72,71,74],[68,75,71,78],[68,79,71,80],[68,81,71,83],[75,17,75,23],[75,24,75,32]],"merged_total":1135,"flags":["merged_cut"]}
[null,null,null,null,null,null,null,null,null,null,null,null,null,null,null,null,null,null,null,null,null,null,null,null,null,null,null,"DIRECCION - PROGRAMA  APS \nSUBSECRETARIA DE MEDICINA SOCIAL\nRONDA N°: 192   AÑO: 2025",null,null,null,null,null,null,null,null,null,null,null,null,null,null,null,null,null,null,null,null,null,null,null,null,null,null,"1r","2r","3r",null,"4r",null,"T",null,null,null,null,null,null,null,null,null,null,null,null,null,null,null,null,null,null,null,"Informe y orden de Ronda: ",6,null,null,null,null,2]
[null,null,null,null,null,null,null,"Area Operativa N°: ",4,null,null,null,null,null,"Nombre: ","MORILLO",null,null,null,null,null,null,null,null,null,null,null,null,null,null,null,null,null,null,null,null,null,null,null,null,null,null,null,null,null,null,"Mort. Mater. Acum. Año",null,null,null,null,null,null,null,0,{"$f":"CE41","v":0},0,null,{"$f":"CE41","v":0},null,{"$f":"SUM(BC2:BG2)","v":0},null,null,null,null,"Sector:",null,"EL TALAR",null,null,null,null,null,null,null,null,null,null,null,null,null,null,null,null,null,"N°",7]
[null,null,null,null,null,null,null,null,null,null,null,null,null,null,null,null,null,null,null,null,null,null,null,null,null,null,null,null,null,null,null,null,null,null,null,null,null,null,null,null,null,null,null,null,null,null,"Mort. 0-1 año Acum Año",null,null,null,null,null,null,null,0,{"$f":"BR41+BU41+BY41","v":0},0,null,{"$f":"BR41+BU41+BY41","v":0},null,{"$f":"SUM(BC3:BG3)","v":0},null,null,null,null,null,"Etnia: ","CRIOLLO Y WICHI",null,null,null,null,null,null,null,null,null,null,null,null,null,null,null,null,null,"Sector Riesgo:","NO"]
[null,null,null,null,null,null,null,"Establec. Base: ","HOSPITAL MORILLO",null,null,null,null,null,null,null,null,null,null,null,null,null,null,null,null,null,null,null,null,null,null,null,null,null,null,null,null,null,null,null,null,null,null,null,null,null,"Mort. 1-4 años Acum Año",null,null,null,null,null,null,null,0,{"$f":"CC41","v":0},0,null,{"$f":"CC41","v":0},null,{"$f":"SUM(BC4:BG4)","v":0},null,null,null,null,null,null,null,null,null,null,null,null,"Desde: ","07/03/2025",null,null,null,null,null,null,null,null,"Hasta: ","05/06/2026"]
[null,null,null,null,null,null,null,null,null,null,null,null,null,null,null,null,null,null,null,null,null,null,null,null,null,null,null,null,null,null,null,null,null,null,null,null,null,null,null,null,null,null,null,null,null,null,null,null,null,null,null,null,null,null,null,null,null,null,null,null,null,null,null,null,null,null,null,null,null,null,null,null,null,null,null,null,null,null,null,"Cobertura: ","CUBIERTO"]
[null,null,null,null,null,null,null,"Sup. Intermedio: ","Miguel Angel Correa",null,null,null,null,null,null,null,null,null,null,null,null,null,null,null,null,null,null,null,null,null,null,null,"Responsable A.P.S.: ","Dr. A bel Ibarra",null,null,null,null,null,null,null,null,null,null,null,null,null,null,null,null,null,null,null,null,null,null,"Agente Sanitario: ","Noelia Freyre",null,null,null,null,null,null,null,null,null,null,null,null,null,null,null,null,"Sit. Revista: ",null,null,null,null,null,null,"Reg. Horario: "]
[]
["A) FAMILIAS VISITADAS EN LA RONDA",null,null,null,null,null,null,null,null,null,null,null,null,null,null,null,null,null,null,null,null,null,null,null,null,null,null,null,null,null,null,null,null,null,null,null,null,null,null,null,null,null,null,null,null,null,null,"B) FACTORES DE PRIORIZACION DE VISITAS"]
["ASIGNADAS",null,null,"VISITADAS",null,null,"TOTAL\nVISITAS",null,"NO VISITADAS",null,null,null,null,null,null,null,null,"FLIAS ORIG.",null,"FLIAS. URB.",null,"FLIAS. PERIURB",null,null,"FLIAS. RURALES",null,"GOLON\nMIGRANTES",null,null,null,null,"FLIAS. CON PL. SOCIALES",null,null,null,null,null,"PRODUCCION\nFAMILIAR",null,null,null,null,null,null,null,null,null,1,null,2,null,3,null,null,4,null,5,null,6,null,7,null,null,8,null,null,9,null,null,10,null,null,null,11,null,null,12,null,null,null,13,null,null,14,null,null,15]
[null,null,null,null,null,null,null,null,"RECHAZO TOTAL",null,"AUSEN\n-TE",null,"NO VISITADAS",null,"TOT NO VISIT.",null,null,null,null,null,null,null,null,null,null,null,"HACIA\nEL AO",null,"DESDE\nEL AO",null,null,null,null,null,null,null,null,"HUERTA",null,null,null,"GRANJA",null,null,null,null,null,0,null,0,null,0,null,null,0,null,0,null,0,null,0,null,null,0,null,null,0,null,null,"Total",null,null,null,"Tot",null,"Trat","Tot.",null,null,"Trat.","Tot.","Trat.",null,"Tot.",null,"Trat","Total"]
[null,null,null,null,null,null,null,null,null,null,0,null,null,null,null,null,null,null,null,null,null,null,null,null,null,null,null,null,null,null,null,null,null,null,null,null,null,null,null,null,null,null,null,null,null,null,null,null,null,null,null,null,null,null,null,null,null,null,null,null,null,null,null,null,null,null,null,null,null,0,null,null,null,0,null,0,0,null,null,0,0,0,null,0,null,0,0]
[0,null,null,0,null,null,0,null,0,null,0,null,0,null,{"$f":"M12+K12+I12","v":0},null,null,0,null,0,null,0,null,null,0,null,0,null,0,null,null,0,null,null,null,null,null,0,null,null,null,0,null,null,null,null,null,"C) VISITAS A FLIAS. PRIORIZADAS",null,null,null,null,null,null,null,null,null,null,null,null,null,null,null,null,null,null,null,null,null,"D) SUPERV. A FLIAS. "]
[null,null,null,null,null,null,null,null,null,null,null,null,null,null,null,null,null,null,null,null,null,null,null,null,null,null,null,null,null,null,null,null,null,null,null,null,null,null,null,null,null,null,null,null,null,null,null,"PRIORIDAD",null,null,null,null,null,1,null,null,2,null,null,null,3,null,null,"Total",null,null,null,null,null,"PRIORIDAD",null,null,null,null,null,3,null,null,null,2,null,1,null,null,null,"TOTAL"]
[null,null,null,null,null,null,null,null,null,null,null,null,null,null,null,null,null,null,null,null,null,null,null,null,null,null,null,null,null,null,null,null,null,null,null,null,null,null,null,null,null,null,null,null,null,null,null,"N° FAMILIAS",null,null,null,null,null,0,null,null,0,null,null,null,0,null,null,{"$f":"SUM(BB14:BI14)","v":0},null,null,null,null,null,"INTERMEDIA",null,null,null,null,null,0,null,null,null,0,null,0,null,null,null,{"$f":"SUM(BX14:CD14)","v":0}]
[null,null,null,null,null,null,null,null,null,null,null,null,null,null,null,null,null,null,null,null,null,null,null,null,null,null,null,null,null,null,null,null,null,null,null,null,null,null,null,null,null,null,null,null,null,null,null,"VISITAS",null,null,null,null,null,0,null,null,0,null,null,null,0,null,null,{"$f":"SUM(BB15:BI15)","v":0},null,null,null,null,null,"PROFESIONAL",null,null,null,null,null,0,null,null,null,0,null,0,null,null,null,{"$f":"SUM(BX15:CB15)","v":0}]
["E) EDAD FERTIL",null,null,null,null,"F) EMBARAZADAS",null,null,null,null,null,null,"G) PARTOS",null,null,null,null,null,null,null,"H) R.N. EN LA RONDA",null,null,null,null,null,null,null,null,"I) EVALUACION ANTROPOMETRICA",null,null,null,null,null,null,null,null,null,null,null,null,null,null,null,null,null,null,null,null,null,null,null,null,null,null,null,null,null,null,null,null,null,null,null,null,"NIÑ MBP/BP/RBP CTRL. INT.",null,null,null,null,null,null,null,null,null,"LACT. MATERNA"]
["PAP",null,null,0,null,"CAPT. 1er TRIMESTRE","ESP EN EL AÑO","ACUMULADAS","NUEVAS\nRONDA","TOTAL","DE RIESGO","<19 Años","TOTAL",null,"HOSPITALARIOS",null,"DOMIC.",null,"N° PUERPERAS",null,"NACIDOS VIVOS",null,"P AL NACER",null,null,null,null,null,null,"NIÑOS CONTROLADOS",null,null,null,null,null,null,null,null,null,null,null,null,null,null,null,null,null,null,null,null,null,null,null,null,null,null,null,null,null,null,null,null,null,null,null,null,"MELAN",null,"MED",null,"ENF.",null,"LAB",null,"NUTR",null,"< 6 M EN LA RONDA",null,null,null,{"$f":"CC20+CC22+CC23","v":0}]
[null,null,null,null,null,null,null,null,null,null,null,null,null,null,null,null,"DOM","ASIS",null,null,null,null,"ALTO PESO","ADEC",null,"BAJO PESO",null,"MB\nPESO",null,"EDAD",null,null,"A CONTROLAR",null,null,"ADECUADO",null,"BP\nBAJO PESO",null,"MBP\nMUY B. PESO",null,"ALTO PESO",null,"RIESGO",null,null,null,"RECUPERADOS",null,null,null,"TALLA / EDAD",null,null,null,null,"NUEVOS\nEPISODIOS",null,"PERDIDOS",null,null,null,null,"FALLECIDOS\nC/ANTEC. ANTROPOM."]
[]
["Antic.",null,null,0,null,0,{"$f":"IF(ISERROR(((CC92*1.8)/100)),0,(((CC92*1.8)/100)))","v":0},0,0,{"$f":"SUM(F23:L23)","v":0},0,0,{"$f":"O20+Q20+R20","v":0},null,0,null,0,0,0,null,{"$f":"W20+X20+Z20+AB20","v":0},null,0,0,null,0,null,0,null,null,null,null,null,null,null,null,null,null,null,null,null,null,null,"BP",null,"AP",null,"BP",null,null,"AP","BT",null,"MBT",null,"RGO\nBT",null,null,"BP\nMBP",null,null,"A.P.",null,null,null,null,0,null,0,null,0,null,0,null,0,null,"EXCLUSIVO",null,null,null,0]
[null,null,null,null,null,"CONTROLES",null,null,null,null,null,null," ",null,null,null,null,null,null,null,"PREMATUROS",null,null,null,"PESQUISA"]
["Aborto",null,null,0,null,"MELON",null,"MEL","MED","ENF","LAB","S/C","PUERP",null,null,null,"R.N.",null,null,null,null,null,null,null,null,null,null,null,null,"< 2 años",null,null,{"$f":"A27+C27+D27+F27+G27+H27","v":0},null,null,0,null,0,null,0,null,0,null,0,null,0,null,0,null,null,0,0,null,0,null,0,0,null,0,null,null,0,null,0,null,null,"CONTROLES EN DOMIC. NIÑO BP o MBP",null,null,null,null,null,null,null,0,null,"MIXTA",null,null,null,0]
[null,null,null,null,null,0,null,0,0,0,0,0,0,null,null,null,0,null,null,null,0,null,null,null,0,null,null,null,null,"2 a 6 años",null,null,{"$f":"I27+J27+K27+L27+M27+O27+P27+R27","v":0},null,null,0,null,0,null,0,null,0,null,0,null,0,null,0,null,null,0,0,null,0,null,0,0,null,0,null,null,0,null,0,null,null,null,null,null,null,null,null,null,null,null,null,"ARTIF",null,null,null,0]
["J) DATOS DE POBLACION"]
["0 a 5m",null,null,"6 a 11m",null,null,"1 AÑO",null,"2 AÑOS",null,"3 AÑOS",null,"4 AÑOS",null,null,"5 AÑOS",null,null,"6 AÑOS",null,null,"7 A 9 AÑOS",null,null,null,"10 AÑOS",null,"11 AÑOS",null,null,"12 A 14",null,null,null,null,null,"15 A 19",null,null,"20 A 24",null,null,null,"25 A 29",null,null,null,"30 A 34",null,null,null,"35 A 39",null,null,null,"40 A 44",null,null,null,null,"45 A 49",null,null,null,"50 A 54",null,null,null,"55 A 59",null,null,null,"60 A 64",null,null,null,"65 y +",null,null,null,"TOTAL",null,null,null,null,"MUJERES\n10 A 49","O. SOCIAL",null,"INDOCUM"]
["M",null,"F","M",null,"F","M","F","M","F","M","F","M",null,"F","M",null,"F","M",null,"F","M",null,"F",null,"M","F","M",null,"F","M",null,null,"F",null,null,"M","F",null,"M",null,"F",null,"M",null,null,"F","M",null,null,"F","M",null,"F",null,"M",null,null,"F",null,"M",null,"F",null,"M",null,"F",null,"M",null,"F",null,"M",null,"F",null,"M",null,null,"F","M",null,"F"]
[0,null,0,0,null,0,0,0,0,0,0,0,0,null,0,0,null,0,0,null,0,0,null,0,null,0,0,0,null,0,0,null,null,0,null,null,0,0,null,0,null,0,null,0,null,null,0,0,null,null,0,0,null,0,null,0,null,null,0,null,0,null,0,null,0,null,0,null,0,null,0,null,0,null,0,null,0,null,null,0,{"$f":"BY27+BU27+BQ27+BM27+BI27+BD27+AZ27+AV27+AR27+AN27+AK27+AE27+AB27+Z27+V27+S27+P27+M27+K27+I27+G27+D27+A27","v":0},null,{"$f":"CB27+BW27+BS27+BO27+BK27+BG27+BB27+AY27+AU27+AP27+AL27+AH27+AD27+AA27+X27+U27+R27+O27+L27+J27+H27+F27+C27","v":0},null,null,{"$f":"BK27+BG27+BB27+AY27+AU27+AP27+AL27+AH27+AD27+AA27","v":0},0,null,0]
[{"$f":"A27+C27","v":0},null,null,{"$f":"D27+F27","v":0},null,null,{"$f":"G27+H27","v":0},null,{"$f":"I27+J27","v":0},null,{"$f":"K27+L27","v":0},null,{"$f":"M27+O27","v":0},null,null,{"$f":"P27+R27","v":0},null,null,{"$f":"S27+U27","v":0},null,null,{"$f":"V27+X27","v":0},null,null,null,{"$f":"Z27+AA27","v":0},null,{"$f":"AB27+AD27","v":0},null,null,{"$f":"AE27+AH27","v":0},null,null,null,null,null,{"$f":"AL27+AK27","v":0},null,null,{"$f":"AN27+AP27","v":0},null,null,null,{"$f":"AR27+AU27","v":0},null,null,null,{"$f":"AV27+AY27","v":0},null,null,null,{"$f":"AZ27+BB27","v":0},null,null,null,{"$f":"BD27+BG27","v":0},null,null,null,null,{"$f":"BI27+BK27","v":0},null,null,null,{"$f":"BM27+BO27","v":0},null,null,null,{"$f":"BQ27+BS27","v":0},null,null,null,{"$f":"BU27+BW27","v":0},null,null,null,{"$f":"BY27+CB27","v":0},null,null,null,{"$f":"CC27+CE27","v":0}]
["K) TUBERCULOSIS ",null,null,null,null,null,null,null,null,null,null,null,null,null,null," CHAGAS ",null,null,null,null,null,"L) PERSONAS CON ENF. CRONICAS",null,null,null,null,null,null,null,null,null,null,null,"M) OBSERVACIONES"]
["Coef. Sint.Resp.: ",null,null,"MUESTRAS",null,null,null,null,"TRATAM. TBC",null,null,null,null,null,null,"TRATAMIENTOS CHAGAS",null,null,null,null,null,"PERSONAS CON",null,null,null,null,null,"TOTAL",null,null,"EN TRAT.",null,null," "]
[{"$f":"Control!H9","v":8},null,null,"DIAGNOSTICOS",null,null,"CONTROL",null,"Total",null,"TAES",null," ABANDONO",null,null,"INICIO ",null,null,0,null,null,"DIABETES",null,null,null,null,null,0,null,null,0]
["SINT. ESP..",null,null,"Tot",null,"(+)","Tot","(+)",0,null,0,null,0,null,null,"FINALIZACION ",null,null,0,null,null,"HIPERTENSION \nARTERIAL",null,null,null,null,null,0,null,null,0]
[{"$f":"IF(ISERROR(((AK91+AL91+AN91+AP91+AR91+AU91+AV91+AY91+AZ91+BB91+BD91+BG91+BI91+BK91+BM91+BO91+BQ91+BS91+BU91+BW91+BY91+CB91)*0.2)*A31/100),0,(((AK91+AL91+AN91+AP91+AR91+AU91+AV91+AY91+AZ91+BB91+BD91+BG91+BI91+BK91+BM91+BO91+BQ91+BS91+BU91+BW91+BY91+CB91)*0.2)*A31/100))","v":0},null,null,0,null,0,0,0,"QUIMIO Total",null,0,null,null,null,null,null,null,null,null,null,null,"PERSONAS CON OTRAS ENF. CRONICAS AL CUIDADO DE NIÑOS",null,null,null,null,null,0,null,null,0]
["SINT. DETEC.",null,null,"CONTACTO",null,null,null,null,"CTRL. MEDICO",null,null,null,"FINALIZAD0",null,null,"ABANDONO ",null,null,0]
[0,null,null,"< 14a",null,null,"> 15a",null,"Pcte/Rda",null,"A Cont",null,0,null,null,null,null,null,null,null,null,"ADULTOS MAYORES EN SITUACION DE RIESGO",null,null,null,null,null,0]
[null,null,null,0,null,null,0,null,0,null,0]
["N) DERIVACIONES",null,null,null,null,null,null,null,null,null,null,null,null,null,null,null,null,null,null,null,null,null,null,null,null,null,null,null,null,null,null,null,null,null,null,null,null,null,null,null,null,"Ñ) VIVIENDA Y SANEAMIENTO",null,null,null,null,null,null,null,null,null,null,null,null,null,null,null,null,null,null,null,null,null,null,null,null,null,null,null,"O) DEFUNCIONES EN LA RONDA"]
[null,null,null,null,null,null,null,null,null,null,null,null,null,null,null,null,null,null,null,null,null,null,null,null,null,null,null,null,null,null,null,null,null,null,null,null,null,null,null,null,null,"TRAT. AGUA",null,null,null,null,null,"DISP SANITARIA EXCRETAS",null,null,null,null,null,null,null,null,null,null,null,"TRATAM. SANIT BASURA",null,null,null,null,null,null,null,null,null,"MENORES 1 AÑO",null,null,null,null,null,null,null,null,null,null,"1 a 4 AÑOS",null,"MATERNA",null,null,null,"OTRAS"]
["EMB",null,null,null,"RN",null,null,null,"PUERP",null,null,null,"Menores de 6 años",null,null,null,null,null,null,null,"E.\nCRONICAS",null,"PAP",null,"CHAGAS",null,null,null,"TBC",null,null,null,"PSICOSOC",null,null,null,"TOTAL\nDERIVACIONES",null,null,null,null,"RED",null,"EN\nVIV",null,null,"S/T","ARRASTRE",null,null,null,null,null,"LETRINA",null,null,null,"S/T",null,"REC. DOMIC.",null,null,"POZO BASURA",null,null,null,"S/T",null,null,"<7d",null,null,"7 a 28d",null,null,null,"29d a 11 m"]
[null,null,null,null,null,null,null,null,null,null,null,null,"BP- MBP",null,"RGO BP",null,"Resp",null,"Diarr",null,null,null,null,null,null,null,null,null,null,null,null,null,null,null,null,null,null,null,null,null,null,null,null,null,null,null,null,"CLOACAS",null,"PC-CT",null,"PC-ST",null,"CT",null,"ST"]
["Env",null,"Rec",null,"Env",null,"Rec",null,"Env",null,"Rec",null,"Env","Rec","Env","Rec","Env","Rec","Env","Rec","Env","Rec","Env","Rec","Env",null,"Rec",null,"Env",null,"Rec",null,"Env",null,"Rec",null,"ENV",null,null,"Rec",null,0,null,0,null,null,0,0,null,0,null,0,null,0,null,0,null,0,null,0,null,null,0,null,null,null,0,null,null,0,null,null,0,null,null,null,0,null,null,null,0,null,0,null,null,null,0]
[null,null,null,null,null,null,null,null,null,null,null,null,null,null,null,null,null,null,null,null,null,null,null,null,null,null,null,null,null,null,null,null,null,null,null,null,null,null,null,null,null,"CASAS ",null,null,null,null,null,null,null,null,null,null,null,"CHAGAS",null,null,null,null,null,null,null,null,null,null,null,"DENGUE CHIKUNGUNYA",null,null,null,null,null,null,null,null,null,null,null,"P) PROM. SALUD"]
[0,null,0,null,0,null,0,null,0,null,0,null,0,0,0,0,0,0,0,0,0,0,0,0,0,null,0,null,0,null,0,null,0,null,0,null,{"$f":"AG43+AC43+Y43+W43+U43+S43+Q43+O43+M43+I43+E43+A43","v":0},null,null,{"$f":"AI43+AE43+AA43+X43+V43+T43+R43+P43+N43+K43+G43+C43","v":0},null,"ASIGNADAS",null,null,null,null,"VISITADAS",null,null,"VACIAS",null,"DESTRUIDAS",null,"EVALUADAS",null,null,"POSITIVAS",null,null,null,null,"TRATADAS",null,null,null,"EVALUADAS",null,null,null,"POSITIVAS",null,null,null,"TRATADAS",null,null,null,"PLANIFICADAS \nEN COMUNIDAD",null,null,null,null,null,null,null,0]
[]
[null,null,null,null,null,null,null,null,null,null,null,null,null,null,null,null,null,null,null,null,null,null,null,null,null,null,null,null,null,null,null,null,null,null,null,null,null,null,null,null,null,0,null,null,null,null,0,null,null,0,null,0,null,0,null,null,0,null,null,null,null,0,null,null,null,0,null,null,null,0,null,null,null,0,null,null,null,"REALIZADAS ",null,null,null,null,null,null,null,0]
["Q) INDICADORES"]
["DE ESTRUCTURA",null,null,null,null,null,"SI","NO","DE PRODUCCION",null,null,null,null,null,"%","META",null," DE INMUNIZACIONES",null,null,null,null,null,null,null,null,null,null,null,null,null,null,null,null," DE INMUNIZACIONES",null,null,null,null,null,null,null,null,null,null,null,null,null,null,null,null,null,null,null,null,null,null,null,null,null,null," DE RESULTADO",null,null,null,null,null,null,null,null,"%",null,"META",null,null," DE RESULTADO",null,null,null,null,null,null,null,null,null,"%",null,"META RDA"]
["Formularios",null,null,null,null,null,0,0,"Cobertura a Familias",null,null,null,null,null,{"$f":"IF(ISERROR(D12/A12),0,(D12/A12)*100)","v":0},100,null,"VACUNA",null,null,null,null,"P. REF",null,"1r","2r","3r","4r",null,"T","%",null,"META",null,"VACUNA",null,null,null,null,null,null,null,null,null,"P. REF",null,null,"1r",null,null,"2r","3r",null,null,"4r","T",null,"%",null,"META",null,"Ed Fértil c/Anticoncepción",null,null,null,null,null,null,null,null,{"$f":"IF(ISERROR(D20/CH27),0,(D20/CH27)*100)","v":0},null,null,null,null,"Niños 2 a 5 Recup BP",null,null,null,null,null,null,null,null,null,{"$f":"IF(ISERROR(AV23/K80),0,(AV23/K80)*100)","v":0},null,100]
["Equipo",null,null,null,null,null,0,0,"Niños < 2 años Controlados",null,null,null,null,null,{"$f":"IF(ISERROR(((AJ22+AL22+AN22+AP22)/(A28+D28+G28))),0,(((AJ22+AL22+AN22+AP22)/(A28+D28+G28)))*100)","v":0},100,null,"BCG RN",null,null,null,null,{"$f":"U20","v":0},null,2,0,0,0,null,{"$f":"SUM(Y49:AB49)","v":2},{"$f":"IF(ISERROR(Z49/W49),0,(Z49/W49)*100)","v":0},null,100,null,"2 Ref. Varicela Ingreso Esc",null,null,null,null,null,null,null,null,null,5,null,null,2,null,null,0,0,null,null,0,{"$f":"SUM(AV49:BC49)","v":2},null,{"$f":"IF(ISERROR(AY49/AS49),0,(AY49/AS49)*100)","v":0},null,25,null,"PAP",null,null,null,null,null,null,null,null,{"$f":"IF(ISERROR(D17/CH27),0,(D17/CH27)*100)","v":0},null,null,null,null,"Niños 2 a 5 Recup AP",null,null,null,null,null,null,null,null,null,{"$f":"IF(ISERROR(AY23/K82),0,(AY23/K82)*100)","v":0},null,100]
["Combustible",null,null,null,null,null,0,0,"Niños  (2 a 5 años) Controlados",null,null,null,null,null,{"$f":"IF(ISERROR(((AJ23+AL23+AN23+AP23)/(I28+K28+M28+P28))),0,(((AJ23+AL23+AN23+AP23)/(I28+K28+M28+P28)))*100)","v":0},100,null,"Hepatitis B RN","Hepatitis B RN",null,"Hepatitis B RN","Hepatitis B RN",null,null,2,0,0,0,null,{"$f":"SUM(Y50:AB50)","v":2},{"$f":"IF(ISERROR(Z50/W49),0,(Z50/W49)*100)","v":0},null,null,null,"2° Ref. Antipolio Ingreso Escolar",null,null,null,null,null,null,null,null,null,null,null,null,2,null,null,0,0,null,null,0,{"$f":"SUM(AV50:BC50)","v":2},null,{"$f":"IF(ISERROR(AY50/AS49),0,(AY50/AS49)*100)","v":0},null,null,null,"Embarazadas Con MELON",null,null,null,null,null,null,null,null,{"$f":"IF(ISERROR(F23/J20),0,(F23/J20)*100)","v":0},null,80,null,null,"Niños 6 meses con LME",null,null,null,null,null,null,null,null,null,{"$f":"IF(ISERROR(CC20/CC17),0,(CC20/CC17)*100)","v":0},null,80]
[" DE DIAGNOSTICO",null,null,null,null,null,null,"%","Conc. Vis. Flias Prio",null,null,null,null,null,{"$f":"IF(ISERROR((BB15+BE15)/(BB14+BE14)),0,((BB15+BE15)/(BB14+BE14)))","v":0},25,null,"2° Neumococo < 1a","3ª SOT/Salk < 1a",null,"3ª SOT/Salk < 1a","3ª SOT/Salk < 1a",{"$f":"A91+C91+D91+F91","v":0},null,0,0,0,0,null,{"$f":"SUM(Y51:AB51)","v":0},{"$f":"IF(ISERROR(Z51/W51),0,(Z51/W51)*100)","v":0},null,100,null,"2° Ref. DPT Ingreso Escolar",null,null,null,null,null,null,null,null,null,null,null,null,2,null,null,0,0,null,null,0,{"$f":"SUM(AV51:BC51)","v":2},null,{"$f":"IF(ISERROR(AY51/AS49),0,(AY51/AS49)*100)","v":0},null,null,null,"Partos Hospitalarios",null,null,null,null,null,null,null,null,{"$f":"IF(ISERROR(O20/M20),0,(O20/M20)*100)","v":0},null,100]
["Flias Priorizadas 3 + 2:",null,null,null,null,null,null,{"$f":"IF(ISERROR((BB14+BE14)/D12),0,(BB14+BE14)/D12*100)","v":0},"Conc.C.Dom Niños Bp/MBP",null,null,null,null,null,{"$f":"IF(ISERROR(BW22/(AL22+AN22+AL23+AN23)),0,(BW22/(AL22+AN22+AL23+AN23)))","v":0},3,null,"2° Rotavirus <1 a","3º Pentavalente <1 a",null,"3º Pentavalente <1 a","3º Pentavalente <1 a",null,null,0,0,0,0,null,{"$f":"SUM(Y52:AB52)","v":0},{"$f":"IF(ISERROR(Z52/W51),0,(Z52/W51)*100)","v":0},null,null,null,"2° TV Ingreso Escolar",null,null,null,null,null,null,null,null,null,null,null,null,2,null,null,0,0,null,null,0,{"$f":"SUM(AV52:BC52)","v":2},null,{"$f":"IF(ISERROR(AY52/AS49),0,(AY52/AS49)*100)","v":0},null,100,null,"Conc Control Médico a RN",null,null,null,null,null,null,null,null,{"$f":"IF(ISERROR(Q23/M20),0,(Q23/M20))","v":0},null,4,null,null,"% Niños BP MBP y RBP con MELaN",null,null,null,null,null,null,null,null,null,{"$f":"IF(ISERROR(BO20/(AL22+AN22+AR22+AL23+AN23+AR23)),0,(BO20/(AL22+AN22+AR22+AL23+AN23+AR23))*100)","v":0},null,100]
["Flias Urbanas",null,null,null,null,null,null,{"$f":"IF(ISERROR(T12/D12),0,(T12/D12)*100)","v":0},"Rel. Muestra/Sint Resp.",null,null,null,null,null,{"$f":"IF(ISERROR(D33/A35),0,(D33/A35))","v":0},2,null,"2° Meningococo < 1a",null,null,null,null,null,null,0,0,0,0,null,{"$f":"SUM(Y53:AB53)","v":0},{"$f":"IF(ISERROR(Z53/W51),0,(Z53/W51)*100)","v":0},null,null,null,"dTpa 11 años",null,null,null,null,null,null,null,null,null,5,null,null,null,null,null,0,0,null,null,0,{"$f":"SUM(AV53:BC53)","v":0},null,{"$f":"IF(ISERROR(AY53/AS53),0,(AY53/AS53)*100)","v":0},null,null,null,"Conc Control Méd. a puérpera",null,null,null,null,null,null,null,null,{"$f":"IF(ISERROR(M23/S20),0,(M23/S20))","v":0},null,4,null,null,"Sint Resp Detect. Seg zona",null,null,null,null,null,null,null,null,null,{"$f":"IF(ISERROR((A35*100)/(((20*(AK28+AN28+AR28+AV28+AZ28+BD28+BI28+BM28+BQ28+BU28+BY28))/100)*A31)),0,(A35*100)/((((20*(AK28+AN28+AR28+AV28+AZ28+BD28+BI28+BM28+BQ28+BU28+BY28))/100)*A31)/100))","v":0},null,"S/Z"]
["Flias Periurbanas",null,null,null,null,null,null,{"$f":"IF(ISERROR(V12/D12),0,(V12/D12)*100)","v":0},"Casas Evaluadas Chagas",null,null,null,null,null,{"$f":"IF(ISERROR(BB45/AU45),0,(BB45/AU45)*100)","v":0},100,null,"3° Antipolio < 1 año","2ª Rotavirus < 1 año",null,"2ª Rotavirus < 1 año","2ª Rotavirus < 1 año",null,null,0,0,0,0,null,{"$f":"SUM(Y54:AB54)","v":0},{"$f":"IF(ISERROR(Z54/W51),0,(Z54/W51)*100)","v":0},null,null,null,"U.D. Meningococo",null,null,null,null,null,null,null,null,null,null,null,null,0,null,null,0,0,null,null,0,{"$f":"SUM(AV54:BC54)","v":0},null,{"$f":"IF(ISERROR(AY54/AS53),0,(AY54/AS53)*100)","v":0},null,"95% AL 1° SEM",null,"RN con Pesquisa",null,null,null,null,null,null,null,null,{"$f":"IF(ISERROR(Y23/U20),0,(Y23/U20)*100)","v":0},null,100,null,null,"Pacientes TBC con Control Médico",null,null,null,null,null,null,null,null,null,{"$f":"IF(ISERROR(I36/I32),0,(I36/I32)*100)","v":0},null,100]
["Flias Rurales",null,null,null,null,null,null,{"$f":"IF(ISERROR(Y12/D12),0,(Y12/D12)*100)","v":0},"Casas Tratadas Chagas",null,null,null,null,null,{"$f":"IF(ISERROR(BJ45/BE45),0,(BJ45/BE45)*100)","v":0},100,null,"3° Pentavalente <1 año","TV 1 año",null,"TV 1 año","TV 1 año",null,null,0,0,0,0,null,{"$f":"SUM(Y55:AB55)","v":0},{"$f":"IF(ISERROR(Z55/W51),0,(Z55/W51)*100)","v":0},null,null,null,"1° HPV Niñas cumplen 11 a en año en curso",null,null,null,null,null,null,null,null,null,1,null,null,0,null,null,0,0,null,null,0,{"$f":"SUM(AV55:BC55)","v":0},null,{"$f":"IF(ISERROR(AY55/AS55),0,(AY55/AS55)*100)","v":0},null,null,null,"Derivaciones Enviadas/Recibidas",null,null,null,null,null,null,null,null,{"$f":"IF(ISERROR(AN43/AK43),0,(AN43/AK43)*100)","v":0},null,100,null,null,"Contactos TBC Controlados",null,null,null,null,null,null,null,null,null,{"$f":"IF(ISERROR(K36/(D36+G36)),0,(K36/(D36+G36)))*100","v":0},null,100]
["Flias Originarias",null,null,null,null,null,null,{"$f":"IF(ISERROR(R12/D12),0,(R12/D12)*100)","v":0},"Casas Evaluadas Dengue",null,null,null,null,null,{"$f":"IF(ISERROR(BN45/AU45),0,(BN45/AU45)*100)","v":0},100,null,"1° TV","A HA 1 año",null,"A HA 1 año","A HA 1 año",{"$f":"G91+H91","v":0},null,3,0,0,0,null,{"$f":"SUM(Y56:AB56)","v":3},{"$f":"IF(ISERROR(Z56/W56),0,(Z56/W56)*100)","v":0},null,100,null,"1° HPV Niños cumplen 11 a en año en curso",25,25,null,null,null,null,null,null,null,4,null,null,0,null,null,0,0,null,null,0,{"$f":"SUM(AV56:BC56)","v":0},null,{"$f":"IF(ISERROR(AY56/AS56),0,(AY56/AS56)*100)","v":0},null,"95% AL 1° SEM",null,"Niños < 2 a Riesgo BP",null,null,null,null,null,null,null,null,{"$f":"IF(ISERROR(AR22/AJ22),0,(AR22/AJ22)*100)","v":0},null,null,null,null,"TAES de TBC",null,null,null,null,null,null,null,null,null,{"$f":"IF(ISERROR(K32/I32),0,(K32/I32)*100)","v":0},null,100]
["Flias Migr. desde AO",null,null,null,null,null,null,{"$f":"IF(ISERROR(AC12/A12),0,(AC12/A12)*100)","v":0},"Casas Tratadas Dengue",null,null,null,null,null,{"$f":"IF(ISERROR(BV45/BR45),0,(BV45/BR45)*100)","v":0},100,null,"2° TV","A HA 1 año",null,"A HA 1 año","A HA 1 año",null,null,0,0,0,0,null,{"$f":"SUM(Y57:AB57)","v":0},{"$f":"IF(ISERROR(Z57/W56),0,(Z57/W56)*100)","v":0},null,null,null,"Emb. con dTpa",null,null,null,null,null,null,null,null,null,3,null,null,0,null,null,0,0,null,null,0,{"$f":"SUM(AV57:BC57)","v":0},null,{"$f":"IF(ISERROR(AY57/AS57),0,(AY57/AS57)*100)","v":0},null,null,null,"Niños < 2 a Riesgo AP",null,null,null,null,null,null,null,null,{"$f":"IF(ISERROR(AT22/AJ22),0,(AT22/AJ22)*100)","v":0},null,null,null,null,"Ptes. con tratamiento por Chagas",null,null,null,null,null,null,null,null,null,{"$f":"S31","v":0}]
["Flias Migr. hacia el AO",null,null,null,null,null,null,{"$f":"IF(ISERROR(AA12/A12),0,(AA12/A12)*100)","v":0},"Superv Int. a la Familia",null,null,null,null,null,{"$f":"IF(ISERROR((CH14*100)/BL14),0,((CH14*100)/BL14))","v":0},20,null,"Unica Dosis A HA",null,null,null,null,null,null,3,0,0,0,null,{"$f":"SUM(Y58:AB58)","v":3},{"$f":"IF(ISERROR(Z58/W56),0,(Z58/W56)*100)","v":0},null,null,null,"Emb. con Vac Sinsicial",null,null,null,null,null,null,null,null,null,null,null,null,0,null,null,0,0,null,null,0,{"$f":"SUM(AV58:BC58)","v":0},null,{"$f":"IF(ISERROR(AY58/AS57),0,(AY58/AS57)*100)","v":0},null,100,null,"Niños < 2 Recup BP",null,null,null,null,null,null,null,null,{"$f":"IF(ISERROR(AV22/K79),0,(AV22/K79)*100)","v":0},null,100,null,null,"Casas positivas Chagas",null,null,null,null,null,null,null,null,null,{"$f":"IF(ISERROR(BE45/BB45),0,(BE45/BB45)*100)","v":0},null,0]
["Flias con planes sociales",null,null,null,null,null,null,{"$f":"IF(ISERROR(AF12/D12),0,(AF12/D12)*100)","v":0},"Superv Prof. Flias Prio (3v)",null,null,null,null,null,{"$f":"IF(ISERROR(CH15/(BB14+BE14)),0,(CH15/(BB14+BE14))*100)","v":0},70,null,"Ref Neumococo 1 año","Ref Neumoc 1 año",null,"Ref Neumoc 1 año","Ref Neumoc 1 año",null,null,3,0,0,0,null,{"$f":"SUM(Y59:AB59)","v":3},{"$f":"IF(ISERROR(Z59/W56),0,(Z59/W56)*100)","v":0},null,null,null,"dT  Vigente > 65 a",null,null,null,null,null,null,null,null,null,6,null,null,0,null,null,0,0,null,null,0,{"$f":"SUM(AV59:BC59)","v":0},null,{"$f":"IF(ISERROR(AY59/AS59),0,(AY59/AS59)*100)","v":0},null,100,null,"Niños < 2 Recup AP",null,null,null,null,null,null,null,null,{"$f":"IF(ISERROR(AY22/K81),0,(AY22/K81)*100)","v":0},null,100,null,null,"Casas Positivas Aedes",null,null,null,null,null,null,null,null,null,{"$f":"IF(ISERROR(BR45/BN45),0,(BR45/BN45)*100)","v":0},null," "]
[null,null,null,null,null,null,null,null,"% Activ Prom.Salud Comunitarias",null,null,null,null,null,{"$f":"IF(ISERROR(CH45/CH43),0,(CH45/CH43)*100)","v":0},100,null,"Ref. Meningococo 1 año","Ref Cuádruple 1 año",null,"Ref Cuádruple 1 año","Ref Cuádruple 1 año",null,null,3,0,0,0,null,{"$f":"SUM(Y60:AB60)","v":3},{"$f":"IF(ISERROR(Z60/W56),0,(Z60/W56)*100)","v":0},null,null,null,"Neumo 20 > 65 años",null,null,null,null,null,null,null,null,null,null,null,null,0,null,null,0,0,null,null,0,{"$f":"SUM(AV60:BC60)","v":0},null,{"$f":"IF(ISERROR(AY60/AS59),0,(AY60/AS59)*100)","v":0},null,null,null,"Niños 2 a 5 Riesgo BP",null,null,null,null,null,null,null,null,{"$f":"IF(ISERROR(AR23/AJ23),0,(AR23/AJ23)*100)","v":0},null,null,null,null,"UROCS 1/SEC",null,null,null,null,null,null,null,null,null,0,null,"1/SEC"]
["Flias. c/Antec Mort Mat Inf",null,null,null,null,null,null,{"$f":"IF(ISERROR(AV10/D12),0,(AV10/D12)*100)","v":0},null,null,null,null,null,null,null,null,null,"Unica Dosis Varicela","Ref SOT 1 año",null,"Ref SOT 1 año","Ref SOT 1 año",null,null,3,0,0,0,null,{"$f":"SUM(Y61:AB61)","v":3},{"$f":"IF(ISERROR(Z61/W56),0,(Z61/W56)*100)","v":0},null,null,null,"Aplic. Cargadas a Nomivac",null,null,null,null,null,null,null,null,null,0,null,null,null,null,null,null,null,null,null,null,null,null,null,null,null,null,null,null,null,null,null,null,null,null,null,null,null,null,null,null,"Flias con Huerta",null,null,null,null,null,null,null,null,null,{"$f":"IF(ISERROR(AL12/D12),0,(AL12/D12)*100)","v":0}]
["F con 3 o más <6 años",null,null,null,null,null,null,{"$f":"IF(ISERROR(BI10/D12),0,(BI10/D12)*100)","v":0}," DE IMPACTO",null,null,null,null,"%",null,"META",null,"4° Dosis o 1° Ref. Pentavalente",null,null,null,null,null,null,3,0,0,0,null,{"$f":"SUM(Y62:AB62)","v":3},{"$f":"IF(ISERROR(Z62/W56),0,(Z62/W56)*100)","v":0},null,null,null,"Total Aplic /AS",null,null,null,null,null,null,null,null,null,0,null,null,null,null,null,null,null,null,null,null,null,null,null,null,null,null,"Niños 2 a 5 Riesgo AP",null,null,null,null,null,null,null,null,{"$f":"IF(ISERROR(AT23/AJ23),0,(AT23/AJ23)*100)","v":0},null,null,null,null,"Flias con Granja",null,null,null,null,null,null,null,null,null,{"$f":"IF(ISERROR(AP12/D12),0,(AP12/D12)*100)","v":0}]
["Flias con Hacinamiento",null,null,null,null,null,null,{"$f":"IF(ISERROR(BL10/D12),0,(BL10/D12)*100)","v":0},"Agua Seg (Trat Red + Viv)",null,null,null,null,{"$f":"IF(ISERROR((AP41+AR41)/D12),0,((AP41+AR41)/D12)*100)","v":0},null,100,null,"2° AG 6m a 24m",null,null,null,null,{"$f":"D91+F91+G91+H91","v":0},null,0,0,0,0,null,{"$f":"SUM(Y63:AB63)","v":0},{"$f":"IF(ISERROR(Z63/W63),0,(Z63/W63)*100)","v":0},null," ",null,"VAC COVID APLIC EN LA RONDA",null,null,null,null,null,null,null,null,null,0,null,null,null,null,null,null,null,null,null,null,null,null,null,null,null,null,"U) A llenar en 1° Ronda del Año"]
["Flias con Analfabet",null,null,null,null,null,null,{"$f":"IF(ISERROR(BO10/D12),0,(BO10/D12)*100)","v":0},"DSE (Arrastre y letrinas)",null,null,null,null,{"$f":"IF(ISERROR((AV41+AX41+AZ41+BB41+BD41)/D12),0,((AV41+AX41+AZ41+BB41+BD41)/D12)*100)","v":0},null,100,null,"R) PRODUCCION Y RENDIMIENTO",null,null,null,null,null,null,null,null,null,null,null,null,null,null,null,null,null,null,null,null,null,null,null,null,null,null,null,null,null,null,null,null,null,null,null,null,null,null,null,null,null,null,null,"Piso",null,null,null,null,"Techo",null,null,null,null,"Paredes",null,null,null,null,null,null,null,null,null,"Cocina",null,null,null,null,"Tenencia"]
["Flias con Suicidio",null,null,null,null,null,null,{"$f":"IF(ISERROR(BT11/D12),0,(BT11/D12)*100)","v":0},"TSB (Recolección + Pozo)",null,null,null,null,{"$f":"IF(ISERROR((BH41+BK41)/D12),0,((BH41+BK41)/D12)*100)","v":0},null,100,null,"DIAS A TRAB. /RONDA",null,null,"DIAS INCLEM CLIMAT.",null,null,"DIAS Y NROS DE ARTICULOS TOMADOS",null,null,null,"CAPACITACIONES Y OTRAS ACTIVIDADES",null,null,null,null,null,null,null,null,null,null,null,null,null,null,null,null,null,null,null,null,null,null,"DIAS TRABAJADOS\nEN TERRENO",null,null,null,null,"PROM. DIARIO DE FLIAS VISIT.",null,null,null,null,null,"Mosaico/B.",null,null,null,0,"Losa",null,null,0,null,"Ladrillo",null,null,0,null,"Madera",null,null,null,0,"Gas",null,null,0,null,"Segura",null,null,0]
["Flias c /tentativa suicidio",null,null,null,null,null,null,{"$f":"IF(ISERROR(BV11/D12),0,(BV11/D12)*100)","v":0},"Emb Adolescente",null,null,null,null,{"$f":"IF(ISERROR(L20/J20),0,(L20/J20)*100)","v":0},null,null,null,null,null,null,null,null,null,0,null,null,null,0,null,null,null,null,null,null,null,null,null,null,0,null,null,null,null,null,null,null,null,null,null,null,null,null,null,null,null,null,null,null,null,null,null,"Cemento",null,null,null,0,"Chapa\nZinc",null,null,0,null,"Bloque",null,null,0,null,"Quincho",null,null,null,0,"Leña/\nCarb",null,null,0,null,"Inseg.",null,null,0]
["Flias con Alcoholismo",null,null,null,null,null,null,{"$f":"IF(ISERROR(BY11/D12),0,(BY11/D12)*100)","v":0},"Niños <2 Bajo Peso/MBP",null,null,null,null,{"$f":"IF(ISERROR((AL22+AN22)/(AJ22+AP22+AL22+AN22)),0,((AL22+AN22)/(AJ22+AP22+AL22+AN22))*100)","v":0},null,null,null,null,null,null,null,null,null,0,null,null,null,0,null,null,null,null,null,null,null,null,null,null,0,null,null,null,null,null,null,null,null,null,null,null,null,null,null,null,null,null,null,null,null,null,null,"Tierra",null,null,null,0,"Paja/\nBarro",null,null,0,null,"Adobe",null,null,0,null,"Carton/Pl",null,null,null,0,"Otros",null,null,0,null,"Hac",null,null,0,null,null,null,5]
["Flias c/ otras Adicciones",null,null,null,null,null,null,{"$f":"IF(ISERROR(CC11/D12),0,(CC11/D12)*100)","v":0},"Niños <2 a AP",null,null,null,null,{"$f":"IF(ISERROR(AP22/(AJ22+AP22+AL22+AN22)),0,(AP22/(AJ22+AP22+AL22+AN22))*100)","v":0},null,null,null,0,null,null,0,null,null,0,null,null,null,0,null,null,null,null,null,null,null,null,null,null,0,null,null,null,null,null,null,null,null,null,null,null,0,null,null,null,null,{"$f":"IF(ISERROR(G12/AY68),0,(G12/AY68))","v":0},null,null,null,null,null,"Otros",null,null,null,0,"Otros",null,null,0,null,"Piedra",null,null,0,null,"Otro",null,null,null,0,"Helad.",null,null,0]
["Flias con VIF",null,null,null,null,null,null,{"$f":"IF(ISERROR(CF11/D12),0,(CF11/D12)*100)","v":0},"Niños < 2 baja y MBT",null,null,null,null,{"$f":"IF(ISERROR((AZ22+BB22)/(AJ22+AP22+AL22+AN22)),0,((AZ22+BB22)/(AJ22+AP22+AL22+AN22))*100)","v":0},null,null,null,"S) DETALLE DE LAS DEFUNCIONES (Todas las del Sector)",null,null,null,null,null,null,null,null,null,null,null,null,null,null,null,null,null,null,null,null,null,null,null,null,null,null,null,null,null,null,null,null,null,null,null,null,null,null,null,null,null,null,null,"Agua",null,"Corriente a Domic",null,null,"Grifo Terr",null,null,"Grifo Público",null,null,"Bomba",null,null,"Pozo",null,null,null,"Camión Aguatero / Cisterna",null,"Vertiente/Rio/Aceq",null,null,"Laguna",null,null,"Lluvia/Aljibe"]
["Flias con Diabetes",null,null,null,null,null,null,{"$f":"IF(ISERROR(AB31/D12),0,(AB31/D12)*100)","v":0},"Niños 2 a 5 Bajo Peso/MBP",null,null,null,null,{"$f":"IF(ISERROR((AL23+AN23)/(AJ23+AP23+AL23+AN23)),0,((AL23+AN23)/(AJ23+AP23+AL23+AN23))*100)","v":0},null,null,null,"APELLIDO Y NOMBRE",null,null,null,null,null,null,"DOMICILIO",null,null,null,null,null,null,null,null,"NACIMIENTO",null,null,null,null,"DEFUNCION",null,null,null,"PESO\nAL NACER",null,null,null,"CAUSA",null,null,null,null,null,null,null,null,null,"CLASIFICAC."]
["Flias con Hipertensión",null,null,null,null,null,null,{"$f":"IF(ISERROR(AB32/D12),0,(AB32/D12)*100)","v":0},"Niños 2 a 5 AP",null,null,null,null,{"$f":"IF(ISERROR(AP23/(AJ23+AP23+AL23+AN23)),0,(AP23/(AJ23+AP23+AL23+AN23))*100)","v":0}]
[]
["Personas con otras enfermedades crónicas al cuidado de niños",null,null,null,null,null,null,{"$f":"IF(ISERROR(AB33/D12),0,(AB33/D12)*100)","v":0},"Niños 2 a 5 baja y MBT",null,null,null,null,{"$f":"IF(ISERROR((AZ23+BB23)/(AJ23+AP23+AL23+AN23)),0,((AZ23+BB23)/(AJ23+AP23+AL23+AN23))*100)","v":0},null,null,null,null,null,null,null,null,null,null,null,null,null,null,null,null,null,null,null,null,null,null,null,null,null,null,null,null,null,null,null,null,null,null,null,null,null,null,null,null,null,null,null,null,null,null,null,null,null,0,null,null,0,null,null,0,null,null,0,null,null,0,null,null,null,0,null,0,null,null,0,null,null,0]
["Pers c/O Social/Pob total",null,null,null,null,null,null,{"$f":"IF(ISERROR(CI27/CC28),0,(CI27/CC28)*100)","v":0}]
[]
[]
[]
[]
["BP+MBP Ronda Anterior Men2a: ",null,null,null,null,null,null,null,null,null,0]
["BP+MBP Ronda Anterior 2 a 6a: ",null,null,null,null,null,null,null,null,null,0]
["AP Ronda Anterior Men2a: ",null,null,null,null,null,null,null,null,null,0]
["AP Ronda Anterior 2 a 6a: ",null,null,null,null,null,null,null,null,null,0]
[]
[]
[]
[]
[]
["0 a 5m",null,null,"6 a 11m",null,null,"1 AÑO",null,"2 AÑOS",null,"3 AÑOS",null,"4 AÑOS",null,null,"5 AÑOS",null,null,"6 AÑOS",null,null,"7 A 9 AÑOS",null,null,null,"10 AÑOS",null,"11 AÑOS",null,null,"12 A 14",null,null,null,null,null,"15 A 19",null,null,"20 A 24",null,null,null,"25 A 29",null,null,null,"30 A 34",null,null,null,"35 A 39",null,null,null,"40 A 44",null,null,null,null,"45 A 49",null,null,null,"50 A 54",null,null,null,"55 A 59",null,null,null,"60 A 64",null,null,null,"65 y +",null,null,null,"TOTAL",null,null,null,null,"MUJERES\n10 A 49"]
["M",null,"F","M",null,"F","M","F","M","F","M","F","M",null,"F","M",null,"F","M",null,"F","M",null,"F",null,"M","F","M",null,"F","M",null,null,"F",null,null,"M","F",null,"M",null,"F",null,"M",null,null,"F","M",null,null,"F","M",null,"F",null,"M",null,null,"F",null,"M",null,"F",null,"M",null,"F",null,"M",null,"F",null,"M",null,"F",null,"M",null,null,"F","M",null,"F"]
[0,null,0,0,null,0,0,0,0,0,0,0,0,null,0,0,null,0,0,null,0,0,null,0,null,0,0,0,null,0,0,null,null,0,null,null,0,0,null,0,null,0,null,0,null,null,0,0,null,null,0,0,null,0,null,0,null,null,0,null,0,null,0,null,0,null,0,null,0,null,0,null,0,null,0,null,0,null,null,0,{"$f":"SUM(A90,D90,G90,I90,K90,M90,P90,S90,V90,Z90,AB90,AE90,AK90,AN90,AR90,AV90,AZ90,BD90,BI90,BM90,BQ90,BU90,BY90)","v":0},null,{"$f":"SUM(C90,F90,H90,J90,L90,O90,R90,U90,X90,AA90,AD90,AH90,AL90,AP90,AU90,AY90,BB90,BG90,BK90,BO90,BS90,BW90,CB90)","v":0},null,null,{"$f":"SUM(AA90,AD90,AH90,AL90,AP90,AU90,AY90,BB90,BG90,BK90)","v":0}]
[{"$f":"SUM(A90:C90)","v":0},null,null,{"$f":"SUM(D90,F90)","v":0},null,null,{"$f":"SUM(G90,H90)","v":0},null,{"$f":"SUM(I90,J90)","v":0},null,{"$f":"SUM(K90,L90)","v":0},null,{"$f":"SUM(M90,O90)","v":0},null,null,{"$f":"SUM(P90,R90)","v":0},null,null,{"$f":"SUM(S90,U90)","v":0},null,null,{"$f":"SUM(V90,X90)","v":0},null,null,null,{"$f":"SUM(Z90,AA90)","v":0},null,{"$f":"SUM(AB90,AD90)","v":0},null,null,{"$f":"SUM(AE90,AH90)","v":0},null,null,null,null,null,{"$f":"SUM(AK90,AL90)","v":0},null,null,{"$f":"SUM(AN90,AP90)","v":0},null,null,null,{"$f":"SUM(AR90,AU90)","v":0},null,null,null,{"$f":"SUM(AV90,AY90)","v":0},null,null,null,{"$f":"SUM(AZ90,BB90)","v":0},null,null,null,{"$f":"SUM(BD90,BG90)","v":0},null,null,null,null,{"$f":"SUM(BI90,BK90)","v":0},null,null,null,{"$f":"SUM(BM90,BO90)","v":0},null,null,null,{"$f":"SUM(BQ90,BS90)","v":0},null,null,null,{"$f":"SUM(BU90,BW90)","v":0},null,null,null,{"$f":"SUM(BY90,CB90)","v":0},null,null,null,{"$f":"A91+D91+G91+I91+K91+M91+P91+S91+V91+Z91+AB91+AE91+AK91+AN91+AR91+AV91+AZ91+BD91+BI91+BM91+BQ91+BU91+BY91","v":0}]
["Mejor Población: 1° - 2019",null,null,null,null,null,null,null,null,null,null,null,null,null,null,null,null,null,null,null,null,null,null,null,null,null,null,null,null,null,null,null,null,null,null,null,null,null,null,null,null,null,null,null,null,null,null,null,null,null,null,null,null,null,null,null,null,null,null,null,null,null,null,null,null,null,null,null,null,null,null,null,null,null,null,null,null,null,null,null,{"$f":"SUM(CC91,CE91)","v":0}]
["Cobertura: 1%"]

{"sheet":"Kilometro 2","index":16,"n_rows":93,"n_cols":94,"rows_kept":93,"cut":false,"hidden":false,"merged":[[62,17,62,21],[62,22,62,23],[62,27,62,28],[62,30,62,31],[0,86,0,87],[1,8,1,9],[1,15,1,25],[1,46,1,53],[1,56,1,57],[1,58,1,59],[1,60,1,61],[1,67,1,84],[1,86,1,87],[0,27,3,45],[0,46,0,52],[0,56,0,57],[0,58,0,59],[0,60,0,61],[0,81,0,84],[2,46,2,53],[2,56,2,57],[2,58,2,59],[2,60,2,61],[6,0,6,89],[7,0,7,46],[7,47,7,89],[8,0,10,2],[8,3,10,5],[8,6,10,7],[8,8,8,16],[8,17,10,18],[8,19,10,20],[8,21,10,23],[4,80,4,87],[5,8,5,24],[5,33,5,46],[5,57,5,67],[5,75,5,77],[5,82,5,87],[2,67,2,79],[2,86,2,87],[3,8,3,23],[3,46,3,53],[3,56,3,57],[3,58,3,59],[3,60,3,61],[3,74,3,79],[3,84,3,87],[8,86,8,89],[9,8,10,9],[9,10,10,11],[9,12,10,13],[9,14,10,16],[9,26,10,27],[9,28,10,30],[8,66,8,68],[8,69,8,72],[8,73,8,75],[8,76,8,79],[8,80,8,82],[8,83,8,85],[8,51,8,53],[8,54,8,55],[8,56,8,57],[8,58,8,59],[8,60,8,62],[8,63,8,65],[8,24,10,25],[8,26,8,30],[8,31,10,36],[8,37,8,46],[8,47,8,48],[8,49,8,50],[9,49,10,50],[11,0,14,2],[11,3,14,5],[11,6,14,7],[11,8,14,9],[11,10,14,11],[11,12,14,13],[9,86,9,89],[10,69,10,72],[10,73,10,74],[10,76,10,78],[10,81,10,82],[10,83,10,84],[10,86,10,89],[9,66,10,68],[9,69,9,72],[9,73,9,74],[9,76,9,78],[9,81,9,82],[9,83,9,84],[9,51,10,53],[9,54,10,55],[9,56,10,57],[9,58,10,59],[9,60,10,62],[9,63,10,65],[13,75,13,78],[13,79,13,80],[13,81,13,84],[9,37,10,40],[9,41,10,46],[9,47,10,48],[12,85,12,89],[13,47,13,52],[13,63,13,68],[13,69,13,74],[12,47,12,52],[12,63,12,68],[12,53,12,55],[12,56,12,59],[12,60,12,62],[13,53,13,55],[13,56,13,59],[13,60,13,62],[14,53,14,55],[14,56,14,59],[14,60,14,62],[11,19,14,20],[11,21,14,23],[11,24,14,25],[11,26,14,27],[16,0,18,2],[16,6,18,6],[16,7,18,7],[16,8,18,8],[16,9,18,9],[16,10,18,10],[16,11,18,11],[16,12,18,13],[14,79,14,80],[14,81,14,84],[14,85,14,89],[15,12,15,19],[15,20,15,28],[15,29,15,65],[15,66,15,75],[11,28,14,30],[11,31,14,36],[11,37,14,40],[11,41,14,46],[11,47,11,68],[11,69,11,89],[11,14,14,16],[11,17,14,18],[13,85,13,89],[14,47,14,52],[14,63,14,68],[14,69,14,74],[14,75,14,78],[12,69,12,74],[12,75,12,78],[12,79,12,80],[12,81,12,84],[19,0,20,2],[19,12,19,13],[19,14,19,15],[19,18,19,19],[19,20,19,21],[19,23,19,24],[19,25,19,26],[19,27,19,28],[17,41,20,42],[17,43,18,46],[17,47,18,50],[17,51,18,55],[17,56,20,57],[17,58,18,62],[19,43,20,44],[19,45,20,46],[19,47,20,49],[19,50,20,50],[17,16,18,16],[17,17,18,17],[17,22,18,22],[17,23,18,24],[17,25,18,26],[17,27,18,28],[17,29,20,31],[16,14,18,15],[16,16,16,17],[16,18,18,19],[16,20,18,21],[16,22,16,28],[16,29,16,65],[17,32,20,34],[21,12,21,15],[21,16,21,19],[21,29,21,31],[21,32,21,34],[20,12,20,19],[20,20,21,23],[20,24,21,28],[21,35,21,36],[21,37,21,38],[21,39,21,40],[21,41,21,42],[19,68,20,69],[19,70,20,71],[19,72,20,73],[19,74,20,75],[19,76,20,79],[19,51,20,52],[19,53,20,54],[19,55,20,55],[19,58,20,60],[19,61,20,62],[19,66,20,67],[17,63,20,65],[16,66,18,67],[16,68,18,69],[16,70,18,71],[16,72,18,73],[16,74,18,75],[16,76,18,79],[17,35,20,36],[17,37,20,38],[17,39,20,40],[22,16,22,19],[22,20,22,23],[22,24,22,28],[22,29,22,31],[22,32,22,34],[22,35,22,36],[21,58,21,60],[21,61,21,62],[21,63,21,65],[21,66,22,73],[21,74,22,75],[21,76,21,79],[22,76,22,79],[21,43,21,44],[21,45,21,46],[21,47,21,49],[21,51,21,52],[21,53,21,54],[21,56,21,57],[23,0,23,89],[24,0,24,2],[24,3,24,5],[24,6,24,7],[24,8,24,9],[24,10,24,11],[24,12,24,14],[24,15,24,17],[24,18,24,20],[22,51,22,52],[22,53,22,54],[22,56,22,57],[22,58,22,60],[22,61,22,62],[22,63,22,65],[22,37,22,38],[22,39,22,40],[22,41,22,42],[22,43,22,44],[22,45,22,46],[22,47,22,49],[21,0,22,2],[24,88,25,89],[25,0,25,1],[25,3,25,4],[25,12,25,13],[25,15,25,16],[25,18,25,19],[25,21,25,22],[25,23,25,24],[25,27,25,28],[22,12,22,15],[24,68,24,71],[24,72,24,75],[24,76,24,79],[24,80,24,84],[24,85,25,85],[24,86,25,87],[25,76,25,78],[25,80,25,81],[25,82,25,84],[24,43,24,46],[24,47,24,50],[24,51,24,54],[24,55,24,59],[24,60,24,63],[24,64,24,67],[24,21,24,24],[24,25,24,26],[24,27,24,29],[24,30,24,35],[24,36,24,38],[24,39,24,42],[26,37,26,38],[26,39,26,40],[26,0,26,1],[26,3,26,4],[26,12,26,13],[26,15,26,16],[26,18,26,19],[26,21,26,22],[25,64,25,65],[25,66,25,67],[25,68,25,69],[25,70,25,71],[25,72,25,73],[25,74,25,75],[25,51,25,52],[25,53,25,54],[25,55,25,57],[25,58,25,59],[25,60,25,61],[25,62,25,63],[25,33,25,35],[25,37,25,38],[25,39,25,40],[25,41,25,42],[25,43,25,45],[25,47,25,49],[25,30,25,32],[26,85,27,85],[26,86,27,87],[26,88,27,89],[27,0,27,2],[27,3,27,5],[27,6,27,7],[27,8,27,9],[27,10,27,11],[27,12,27,14],[27,15,27,17],[26,70,26,71],[26,72,26,73],[26,74,26,75],[26,76,26,78],[26,80,26,81],[26,82,26,84],[26,58,26,59],[26,60,26,61],[26,62,26,63],[26,64,26,65],[26,66,26,67],[26,68,26,69],[26,41,26,42],[26,43,26,45],[26,47,26,49],[26,51,26,52],[26,53,26,54],[26,55,26,57],[26,23,26,24],[26,27,26,28],[26,30,26,32],[26,33,26,35],[27,64,27,67],[27,68,27,71],[27,72,27,75],[27,76,27,79],[27,80,27,84],[28,0,28,14],[28,15,28,20],[28,21,28,32],[27,39,27,42],[27,43,27,46],[27,47,27,50],[27,51,27,54],[27,55,27,59],[27,60,27,63],[27,18,27,20],[27,21,27,24],[27,25,27,26],[27,27,27,29],[27,30,27,35],[27,36,27,38],[30,21,30,26],[30,27,30,29],[30,30,30,32],[31,0,31,2],[31,3,31,4],[31,8,31,9],[31,10,31,11],[31,12,32,14],[31,15,32,17],[31,18,32,20],[29,30,29,32],[29,33,35,89],[30,0,30,2],[30,3,30,5],[30,6,30,7],[30,8,30,9],[30,10,30,11],[30,12,30,14],[30,15,30,17],[30,18,30,20],[29,0,29,2],[29,3,29,7],[29,8,29,14],[29,15,29,20],[29,21,29,26],[29,27,29,29],[33,0,33,2],[33,3,33,7],[33,8,33,11],[33,12,33,14],[33,15,35,17],[33,18,35,20],[34,0,35,2],[34,3,34,5],[34,6,34,7],[34,8,34,9],[31,21,31,26],[31,27,31,29],[31,30,31,32],[32,0,32,2],[32,3,32,4],[32,8,32,9],[32,10,32,11],[32,21,33,26],[32,27,33,29],[32,30,33,32],[38,4,39,7],[38,8,39,11],[38,12,38,19],[38,20,39,21],[38,22,39,23],[36,0,37,40],[36,41,36,68],[36,69,36,89],[37,41,37,46],[37,47,37,58],[37,59,37,68],[37,69,37,79],[37,80,39,81],[37,82,39,85],[37,86,39,89],[34,10,34,11],[34,12,35,14],[34,21,35,26],[34,27,35,32],[35,3,35,5],[35,6,35,7],[35,8,35,9],[35,10,35,11],[40,0,41,1],[40,2,41,3],[40,4,41,5],[40,6,41,7],[40,8,41,9],[40,10,41,11],[38,66,39,68],[38,69,39,71],[38,72,39,75],[38,76,39,79],[39,12,39,13],[39,14,39,15],[39,16,39,17],[39,18,39,19],[39,47,39,48],[39,49,39,50],[38,46,39,46],[38,47,38,52],[38,53,38,56],[38,57,39,58],[38,59,39,61],[38,62,39,65],[39,51,39,52],[39,53,39,54],[39,55,39,56],[38,24,39,27],[38,28,39,31],[38,32,39,35],[38,36,39,40],[38,41,39,42],[38,43,39,45],[38,0,39,3],[40,41,40,42],[40,43,40,45],[40,47,40,48],[40,49,40,50],[40,24,41,25],[40,26,41,27],[40,28,41,29],[40,30,41,31],[40,32,41,33],[40,34,41,35],[40,18,41,18],[40,19,41,19],[40,20,41,20],[40,21,41,21],[40,22,41,22],[40,23,41,23],[40,12,41,12],[40,13,41,13],[40,14,41,14],[40,15,41,15],[40,16,41,16],[40,17,41,17],[42,21,44,21],[42,22,44,22],[42,10,44,11],[42,12,44,12],[42,13,44,13],[42,14,44,14],[42,15,44,15],[42,16,44,16],[40,86,40,89],[41,41,41,52],[41,53,41,64],[41,65,41,76],[41,77,41,89],[42,0,44,1],[42,2,44,3],[42,4,44,5],[42,6,44,7],[42,8,44,9],[40,66,40,68],[40,69,40,71],[40,72,40,75],[40,76,40,79],[40,80,40,81],[40,82,40,85],[40,51,40,52],[40,53,40,54],[40,55,40,56],[40,57,40,58],[40,59,40,61],[40,62,40,65],[40,36,41,38],[40,39,41,40],[42,73,43,76],[42,77,43,84],[42,85,43,89],[44,41,44,45],[44,46,44,48],[44,49,44,50],[44,51,44,52],[44,53,44,55],[44,56,44,60],[44,61,44,64],[42,51,43,52],[42,53,43,55],[42,56,43,60],[42,61,43,64],[42,65,43,68],[42,69,43,72],[42,34,44,35],[42,36,44,38],[42,39,44,40],[42,41,43,45],[42,46,43,48],[42,49,43,50],[46,70,46,71],[46,72,46,74],[46,75,46,84],[46,85,46,86],[46,87,46,89],[47,0,47,5],[47,8,47,13],[47,15,47,16],[47,17,47,21],[47,22,47,23],[46,0,46,5],[46,8,46,13],[46,15,46,16],[46,17,46,33],[46,34,46,60],[46,61,46,69],[44,65,44,68],[44,69,44,72],[44,73,44,76],[44,77,44,84],[44,85,44,89],[45,0,45,89],[42,23,44,23],[42,24,44,25],[42,26,44,27],[42,28,44,29],[42,30,44,31],[42,32,44,33],[42,17,44,17],[42,18,44,18],[42,19,44,19],[42,20,44,20],[47,72,47,74],[47,75,47,84],[47,85,47,86],[47,87,47,89],[48,0,48,5],[48,8,48,13],[48,15,48,16],[48,17,48,21],[48,22,49,23],[48,27,48,28],[47,51,47,53],[47,55,47,56],[47,57,47,58],[47,59,47,60],[47,61,47,69],[47,70,47,71],[47,27,47,28],[47,30,47,31],[47,32,47,33],[47,34,47,43],[47,44,47,46],[47,47,47,49],[49,75,50,84],[49,85,50,86],[49,87,50,89],[50,0,50,6],[50,8,50,13],[50,15,50,16],[50,17,50,21],[50,22,54,23],[50,27,50,28],[48,75,48,84],[48,85,48,86],[48,87,48,89],[49,0,49,5],[49,8,49,13],[49,15,49,16],[49,17,49,21],[49,27,49,28],[49,30,49,31],[49,34,49,43],[48,55,48,56],[48,57,48,58],[48,59,50,60],[48,61,48,69],[48,70,48,71],[48,72,48,74],[49,55,49,56],[49,57,49,58],[49,61,49,69],[49,70,49,71],[48,30,48,31],[48,32,49,33],[48,34,48,43],[50,70,50,71],[50,72,50,74],[51,0,51,6],[51,8,51,13],[51,15,51,16],[51,17,51,21],[51,27,51,28],[51,30,51,31],[51,34,51,43],[51,47,51,49],[50,34,50,43],[50,47,50,49],[50,51,50,53],[50,55,50,56],[50,57,50,58],[50,61,50,69],[49,72,49,74],[48,44,51,46],[48,47,48,49],[48,51,48,53],[49,47,49,49],[49,51,49,53],[50,30,50,31],[50,32,54,33],[51,72,51,74],[53,0,53,6],[53,8,53,13],[53,15,53,16],[53,17,53,21],[53,27,53,28],[53,30,53,31],[51,75,51,84],[51,85,51,86],[51,87,51,89],[52,0,52,6],[52,8,52,13],[52,15,52,16],[52,17,52,21],[52,27,52,28],[52,30,52,31],[51,51,51,53],[51,55,51,56],[51,57,51,58],[51,59,52,60],[51,61,51,69],[51,70,51,71],[52,61,52,69],[52,70,52,71],[52,72,52,74],[52,75,52,84],[52,85,52,86],[52,87,52,89],[52,34,52,43],[52,44,53,46],[52,47,52,49],[52,51,52,53],[52,55,52,56],[52,57,52,58],[53,34,53,43],[53,47,53,49],[53,51,53,53],[53,55,53,56],[53,85,53,86],[53,87,53,89],[54,0,54,6],[54,8,54,13],[54,15,54,16],[54,17,54,21],[54,27,54,28],[54,30,54,31],[54,34,54,43],[54,44,54,46],[53,57,53,58],[53,59,54,60],[53,61,53,69],[53,70,53,71],[53,72,53,74],[53,75,53,84],[54,72,54,74],[54,75,54,84],[54,85,54,86],[54,87,54,89],[55,0,55,6],[55,8,55,13],[55,15,55,16],[55,17,55,21],[55,27,55,28],[55,30,55,31],[55,32,60,33],[54,47,54,49],[54,51,54,53],[54,55,54,56],[54,57,54,58],[54,61,54,69],[54,70,54,71],[56,87,56,89],[57,0,57,6],[57,8,57,13],[57,15,57,16],[57,17,57,21],[57,27,57,28],[57,30,57,31],[57,34,57,43],[56,51,56,53],[56,55,56,56],[56,57,56,58],[56,61,56,69],[56,70,56,71],[56,72,56,74],[55,87,55,89],[56,0,56,6],[56,8,56,13],[56,15,56,16],[56,17,56,21],[56,27,56,28],[56,30,56,31],[56,34,56,43],[56,44,57,46],[56,47,56,49],[55,59,56,60],[55,61,55,69],[55,70,55,71],[55,72,55,74],[55,75,55,84],[55,85,55,86],[56,75,56,84],[56,85,56,86],[55,34,55,43],[55,44,55,46],[55,47,55,49],[55,51,55,53],[55,55,55,56],[55,57,55,58],[57,75,57,84],[57,85,57,86],[55,22,61,23],[61,17,61,21],[61,27,61,28],[61,30,61,31],[57,87,57,89],[58,0,59,6],[58,7,59,7],[58,8,58,13],[58,15,58,16],[58,17,58,21],[58,27,58,28],[58,30,58,31],[57,55,57,56],[57,57,57,58],[57,59,57,60],[57,61,57,69],[57,70,57,71],[57,72,57,74],[59,85,59,86],[59,87,59,89],[57,47,57,49],[57,51,57,53],[58,87,58,89],[59,8,60,13],[59,14,60,14],[59,15,60,16],[59,17,59,21],[59,27,59,28],[59,30,59,31],[59,34,59,43],[59,47,59,49],[59,51,59,53],[58,59,59,60],[58,61,58,69],[58,70,58,71],[58,72,58,74],[60,75,60,84],[60,85,60,86],[62,61,62,89],[58,75,58,84],[58,85,58,86],[59,61,60,69],[59,70,60,71],[59,72,60,74],[59,75,59,84],[58,34,58,43],[58,44,59,46],[58,47,58,49],[58,51,58,53],[58,55,58,56],[58,57,58,58],[59,55,59,56],[59,57,59,58],[61,61,61,69],[61,70,61,71],[61,72,61,74],[61,75,61,84],[61,85,61,86],[62,0,62,6],[62,8,62,12],[62,13,62,14],[62,15,62,16],[62,32,62,33],[62,34,62,43],[64,81,64,83],[64,84,64,85],[61,87,61,89],[61,32,61,33],[61,34,61,43],[61,44,61,60],[62,44,62,60],[60,87,60,89],[61,0,61,6],[61,8,61,12],[61,13,61,14],[61,15,61,16],[60,0,60,6],[60,17,60,21],[60,27,60,28],[60,30,60,31],[60,34,60,43],[60,44,60,60],[63,86,63,89],[64,0,64,6],[64,8,64,12],[64,13,64,14],[64,15,64,16],[64,17,66,19],[64,20,66,22],[64,23,64,26],[64,27,64,49],[64,50,66,54],[65,0,65,6],[65,8,65,12],[65,13,65,14],[66,86,67,88],[66,89,67,89],[67,0,67,6],[67,8,67,12],[67,13,67,14],[67,15,67,16],[67,17,67,19],[66,38,66,49],[66,61,66,64],[66,66,66,68],[63,0,63,6],[63,8,63,12],[63,13,63,14],[63,15,63,16],[63,17,63,60],[63,61,63,65],[63,66,63,70],[63,71,63,80],[63,81,63,85],[66,69,66,70],[66,71,66,73],[66,74,66,75],[65,76,65,79],[65,81,65,83],[65,84,65,85],[65,86,65,88],[66,0,66,6],[66,8,66,12],[66,13,66,14],[66,15,66,16],[66,23,66,26],[66,27,66,37],[65,15,65,16],[65,23,65,26],[65,27,65,37],[65,38,65,49],[64,55,66,60],[64,61,64,64],[64,66,64,68],[64,69,64,70],[64,74,64,75],[64,86,64,88],[64,76,64,79],[65,61,65,64],[65,66,65,68],[65,69,65,70],[65,74,65,75],[66,76,66,79],[66,81,66,83],[66,84,66,85],[68,84,71,86],[67,81,67,83],[67,84,67,85],[68,0,68,6],[68,8,68,12],[68,13,68,14],[68,15,68,16],[68,17,68,60],[68,61,73,62],[68,63,71,65],[68,66,71,68],[67,61,67,64],[67,66,67,68],[67,69,67,70],[67,71,67,73],[67,74,67,75],[67,76,67,79],[67,20,67,22],[67,23,67,26],[67,27,67,37],[67,38,67,49],[67,50,67,54],[67,55,67,60],[70,38,70,41],[70,42,70,45],[70,46,70,55],[70,56,70,60],[71,17,71,23],[71,24,71,32],[71,33,71,37],[71,38,71,41],[71,42,71,45],[71,46,71,55],[69,46,69,55],[69,56,69,60],[70,0,71,6],[70,7,71,7],[70,8,71,12],[70,13,71,14],[70,15,71,16],[70,17,70,23],[70,24,70,32],[70,33,70,37],[69,0,69,6],[69,8,69,12],[69,13,69,14],[69,15,69,16],[69,17,69,23],[69,24,69,32],[69,33,69,37],[69,38,69,41],[69,42,69,45],[72,75,73,78],[72,79,73,80],[72,81,73,83],[72,84,73,86],[72,87,73,89],[73,0,73,6],[73,17,73,23],[73,24,73,32],[73,33,73,37],[73,38,73,41],[72,46,72,55],[72,56,72,60],[72,63,73,65],[72,66,73,68],[72,69,73,71],[72,72,73,74],[71,56,71,60],[72,0,72,6],[72,8,73,12],[72,13,73,14],[72,15,73,16],[72,17,72,23],[72,24,72,32],[72,33,72,37],[72,38,72,41],[72,42,72,45],[68,87,71,89],[68,69,71,71],[68,72,71,74],[68,75,71,78],[68,79,71,80],[68,81,71,83],[75,17,75,23],[75,24,75,32]],"merged_total":1135,"flags":["merged_cut"]}
[null,null,null,null,null,null,null,null,null,null,null,null,null,null,null,null,null,null,null,null,null,null,null,null,null,null,null,"DIRECCION - PROGRAMA  APS \nSUBSECRETARIA DE MEDICINA SOCIAL\nRONDA N°: 192   AÑO: 2025",null,null,null,null,null,null,null,null,null,null,null,null,null,null,null,null,null,null,null,null,null,null,null,null,null,null,"1r","2r","3r",null,"4r",null,"T",null,null,null,null,null,null,null,null,null,null,null,null,null,null,null,null,null,null,null,"Informe y orden de Ronda: ",6,null,null,null,null,2]
[null,null,null,null,null,null,null,"Area Operativa N°: ",4,null,null,null,null,null,"Nombre: ","MORILLO",null,null,null,null,null,null,null,null,null,null,null,null,null,null,null,null,null,null,null,null,null,null,null,null,null,null,null,null,null,null,"Mort. Mater. Acum. Año",null,null,null,null,null,null,null,0,{"$f":"CE41","v":0},0,null,{"$f":"CE41","v":0},null,{"$f":"SUM(BC2:BG2)","v":0},null,null,null,null,"Sector:",null,"KM2",null,null,null,null,null,null,null,null,null,null,null,null,null,null,null,null,null,"N°",8]
[null,null,null,null,null,null,null,null,null,null,null,null,null,null,null,null,null,null,null,null,null,null,null,null,null,null,null,null,null,null,null,null,null,null,null,null,null,null,null,null,null,null,null,null,null,null,"Mort. 0-1 año Acum Año",null,null,null,null,null,null,null,0,{"$f":"BR41+BU41+BY41","v":0},0,null,{"$f":"BR41+BU41+BY41","v":0},null,{"$f":"SUM(BC3:BG3)","v":0},null,null,null,null,null,"Etnia: ","CRIOLLO Y WICHI",null,null,null,null,null,null,null,null,null,null,null,null,null,null,null,null,null,"Sector Riesgo:"]
[null,null,null,null,null,null,null,"Establec. Base: ","HOSPITAL MORILLO",null,null,null,null,null,null,null,null,null,null,null,null,null,null,null,null,null,null,null,null,null,null,null,null,null,null,null,null,null,null,null,null,null,null,null,null,null,"Mort. 1-4 años Acum Año",null,null,null,null,null,null,null,0,{"$f":"CC41","v":0},0,null,{"$f":"CC41","v":0},null,{"$f":"SUM(BC4:BG4)","v":0},null,null,null,null,null,null,null,null,null,null,null,null,"Desde: ","07/03/2025",null,null,null,null,null,null,null,null,"Hasta: ","05/06/2026"]
[null,null,null,null,null,null,null,null,null,null,null,null,null,null,null,null,null,null,null,null,null,null,null,null,null,null,null,null,null,null,null,null,null,null,null,null,null,null,null,null,null,null,null,null,null,null,null,null,null,null,null,null,null,null,null,null,null,null,null,null,null,null,null,null,null,null,null,null,null,null,null,null,null,null,null,null,null,null,null,"Cobertura: ","CUBIERTO"]
[null,null,null,null,null,null,null,"Sup. Intermedio: ","MIGUEL CORREA",null,null,null,null,null,null,null,null,null,null,null,null,null,null,null,null,null,null,null,null,null,null,null,"Responsable A.P.S.: ","Dr. Abel Ibarra",null,null,null,null,null,null,null,null,null,null,null,null,null,null,null,null,null,null,null,null,null,null,"Agente Sanitario: ","JORGELINA TORREZ",null,null,null,null,null,null,null,null,null,null,null,null,null,null,null,null,"Sit. Revista: ","PLANTA PERMANENTE",null,null,null,null,null,"Reg. Horario: ","30 HS."]
[]
["A) FAMILIAS VISITADAS EN LA RONDA",null,null,null,null,null,null,null,null,null,null,null,null,null,null,null,null,null,null,null,null,null,null,null,null,null,null,null,null,null,null,null,null,null,null,null,null,null,null,null,null,null,null,null,null,null,null,"B) FACTORES DE PRIORIZACION DE VISITAS"]
["ASIGNADAS",null,null,"VISITADAS",null,null,"TOTAL\nVISITAS",null,"NO VISITADAS",null,null,null,null,null,null,null,null,"FLIAS ORIG.",null,"FLIAS. URB.",null,"FLIAS. PERIURB",null,null,"FLIAS. RURALES",null,"GOLON\nMIGRANTES",null,null,null,null,"FLIAS. CON PL. SOCIALES",null,null,null,null,null,"PRODUCCION\nFAMILIAR",null,null,null,null,null,null,null,null,null,1,null,2,null,3,null,null,4,null,5,null,6,null,7,null,null,8,null,null,9,null,null,10,null,null,null,11,null,null,12,null,null,null,13,null,null,14,null,null,15]
[null,null,null,null,null,null,null,null,"RECHAZO TOTAL",null,"AUSEN\n-TE",null,"NO VISITADAS",null,"TOT NO VISIT.",null,null,null,null,null,null,null,null,null,null,null,"HACIA\nEL AO",null,"DESDE\nEL AO",null,null,null,null,null,null,null,null,"HUERTA",null,null,null,"GRANJA",null,null,null,null,null,0,null,0,null,0,null,null,0,null,0,null,0,null,0,null,null,0,null,null,0,null,null,"Total",null,null,null,"Tot",null,"Trat","Tot.",null,null,"Trat.","Tot.","Trat.",null,"Tot.",null,"Trat","Total"]
[null,null,null,null,null,null,null,null,null,null,0,null,null,null,null,null,null,null,null,null,null,null,null,null,null,null,null,null,null,null,null,null,null,null,null,null,null,null,null,null,null,null,null,null,null,null,null,null,null,null,null,null,null,null,null,null,null,null,null,null,null,null,null,null,null,null,null,null,null,0,null,null,null,0,null,0,0,null,null,0,0,0,null,0,null,0,0]
[0,null,null,0,null,null,0,null,0,null,0,null,0,null,{"$f":"M12+K12+I12","v":0},null,null,0,null,0,null,0,null,null,0,null,0,null,0,null,null,0,null,null,null,null,null,0,null,null,null,0,null,null,null,null,null,"C) VISITAS A FLIAS. PRIORIZADAS",null,null,null,null,null,null,null,null,null,null,null,null,null,null,null,null,null,null,null,null,null,"D) SUPERV. A FLIAS. "]
[null,null,null,null,null,null,null,null,null,null,null,null,null,null,null,null,null,null,null,null,null,null,null,null,null,null,null,null,null,null,null,null,null,null,null,null,null,null,null,null,null,null,null,null,null,null,null,"PRIORIDAD",null,null,null,null,null,1,null,null,2,null,null,null,3,null,null,"Total",null,null,null,null,null,"PRIORIDAD",null,null,null,null,null,1,null,null,null,2,null,3,null,null,null,"TOTAL"]
[null,null,null,null,null,null,null,null,null,null,null,null,null,null,null,null,null,null,null,null,null,null,null,null,null,null,null,null,null,null,null,null,null,null,null,null,null,null,null,null,null,null,null,null,null,null,null,"N° FAMILIAS",null,null,null,null,null,0,null,null,0,null,null,null,0,null,null,{"$f":"SUM(BB14:BI14)","v":0},null,null,null,null,null,"INTERMEDIA",null,null,null,null,null,0,null,null,null,0,null,0,null,null,null,{"$f":"SUM(BX14:CD14)","v":0}]
[null,null,null,null,null,null,null,null,null,null,null,null,null,null,null,null,null,null,null,null,null,null,null,null,null,null,null,null,null,null,null,null,null,null,null,null,null,null,null,null,null,null,null,null,null,null,null,"VISITAS",null,null,null,null,null,0,null,null,0,null,null,null,0,null,null,{"$f":"SUM(BB15:BI15)","v":0},null,null,null,null,null,"PROFESIONAL",null,null,null,null,null,0,null,null,null,0,null,0,null,null,null,{"$f":"SUM(BX15:CB15)","v":0}]
[null,null,null,null,null,"F) EMBARAZADAS",null,null,null,null,null,null,"G) PARTOS",null,null,null,null,null,null,null,"H) R.N. EN LA RONDA",null,null,null,null,null,null,null,null,"I) EVALUACION ANTROPOMETRICA",null,null,null,null,null,null,null,null,null,null,null,null,null,null,null,null,null,null,null,null,null,null,null,null,null,null,null,null,null,null,null,null,null,null,null,null,"NIÑ MBP/BP/RBP CTRL. INT.",null,null,null,null,null,null,null,null,null,"LACT. MATERNA"]
["PAP",null,null,0,null,"CAPT. 1er TRIMESTRE","ESP EN EL AÑO","ACUMULADAS","NUEVAS\nRONDA","TOTAL","DE RIESGO","<19 Años","TOTAL",null,"HOSPITALARIOS",null,"DOMIC.",null,"N° PUERPERAS",null,"NACIDOS VIVOS",null,"P AL NACER",null,null,null,null,null,null,"NIÑOS CONTROLADOS",null,null,null,null,null,null,null,null,null,null,null,null,null,null,null,null,null,null,null,null,null,null,null,null,null,null,null,null,null,null,null,null,null,null,null,null,"MELAN",null,"MED",null,"ENF.",null,"LAB",null,"NUTR",null,"< 6 M EN LA RONDA",null,null,null,{"$f":"CC20+CC22+CC23","v":0}]
[null,null,null,null,null,null,null,null,null,null,null,null,null,null,null,null,"DOM","ASIS",null,null,null,null,"ALTO PESO","ADEC",null,"BAJO PESO",null,"MB\nPESO",null,"EDAD",null,null,"A CONTROLAR",null,null,"ADECUADO",null,"BP\nBAJO PESO",null,"MBP\nMUY B. PESO",null,"ALTO PESO",null,"RIESGO",null,null,null,"RECUPERADOS",null,null,null,"TALLA / EDAD",null,null,null,null,"NUEVOS\nEPISODIOS",null,"PERDIDOS",null,null,null,null,"FALLECIDOS\nC/ANTEC. ANTROPOM."]
[]
["Antic.",null,null,0,null,0,{"$f":"IF(ISERROR(((CC92*1.8)/100)),0,(((CC92*1.8)/100)))","v":0},0,0,{"$f":"SUM(F23:L23)","v":0},0,0,{"$f":"O20+Q20+R20","v":0},null,0,null,0,0,0,null,{"$f":"W20+X20+Z20+AB20","v":0},null,0,0,null,0,null,0,null,null,null,null,null,null,null,null,null,null,null,null,null,null,null,"BP",null,"AP",null,"BP",null,null,"AP","BT",null,"MBT",null,"RGO\nBT",null,null,"BP\nMBP",null,null,"A.P.",null,null,null,null,0,null,0,null,0,null,0,null,0,null,"EXCLUSIVO",null,null,null,0]
[null,null,null,null,null,"CONTROLES",null,null,null,null,null,null," ",null,null,null,null,null,null,null,"PREMATUROS",null,null,null,"PESQUISA"]
["Aborto",null,null,0,null,"MELON",null,"MEL","MED","ENF","LAB","S/C","PUERP",null,null,null,"R.N.",null,null,null,null,null,null,null,null,null,null,null,null,"< 2 años",null,null,{"$f":"A27+C27+D27+F27+G27+H27","v":0},null,null,0,null,0,null,0,null,0,null,0,null,0,null,0,null,null,0,0,null,0,null,0,0,null,0,null,null,0,null,0,null,null,"CONTROLES EN DOMIC. NIÑO BP o MBP",null,null,null,null,null,null,null,0,null,"MIXTA",null,null,null,0]
[null,null,null,null,null,0,null,0,0,0,0,0,0,null,null,null,0,null,null,null,0,null,null,null,0,null,null,null,null,"2 a 6 años",null,null,{"$f":"I27+J27+K27+L27+M27+O27+P27+R27","v":0},null,null,0,null,0,null,0,null,0,null,0,null,0,null,0,null,null,0,0,null,0,null,0,0,null,0,null,null,0,null,0,null,null,null,null,null,null,null,null,null,null,null,null,"ARTIF",null,null,null,0]
[2]
["0 a 5m",null,null,"6 a 11m",null,null,"1 AÑO",null,"2 AÑOS",null,"3 AÑOS",null,"4 AÑOS",null,null,"5 AÑOS",null,null,"6 AÑOS",null,null,"7 A 9 AÑOS",null,null,null,"10 AÑOS",null,"11 AÑOS",null,null,"12 A 14",null,null,null,null,null,"15 A 19",null,null,"20 A 24",null,null,null,"25 A 29",null,null,null,"30 A 34",null,null,null,"35 A 39",null,null,null,"40 A 44",null,null,null,null,"45 A 49",null,null,null,"50 A 54",null,null,null,"55 A 59",null,null,null,"60 A 64",null,null,null,"65 y +",null,null,null,"TOTAL",null,null,null,null,"MUJERES\n10 A 49","O. SOCIAL",null,"INDOCUM"]
["M",null,"F","M",null,"F","M","F","M","F","M","F","M",null,"F","M",null,"F","M",null,"F","M",null,"F",null,"M","F","M",null,"F","M",null,null,"F",null,null,"M","F",null,"M",null,"F",null,"M",null,null,"F","M",null,null,"F","M",null,"F",null,"M",null,null,"F",null,"M",null,"F",null,"M",null,"F",null,"M",null,"F",null,"M",null,"F",null,"M",null,null,"F","M",null,"F"]
[0,null,0,0,null,0,0,0,0,0,0,0,0,null,0,0,null,0,0,null,0,0,null,0,null,0,0,0,null,0,0,null,null,0,null,null,0,0,null,0,null,0,null,0,null,null,0,0,null,null,0,0,null,0,null,0,null,null,0,null,0,null,0,null,0,null,0,null,0,null,0,null,0,null,0,null,0,null,null,0,{"$f":"BY27+BU27+BQ27+BM27+BI27+BD27+AZ27+AV27+AR27+AN27+AK27+AE27+AB27+Z27+V27+S27+P27+M27+K27+I27+G27+D27+A27","v":0},null,{"$f":"CB27+BW27+BS27+BO27+BK27+BG27+BB27+AY27+AU27+AP27+AL27+AH27+AD27+AA27+X27+U27+R27+O27+L27+J27+H27+F27+C27","v":0},null,null,{"$f":"BK27+BG27+BB27+AY27+AU27+AP27+AL27+AH27+AD27+AA27","v":0},0,null,0]
[{"$f":"A27+C27","v":0},null,null,{"$f":"D27+F27","v":0},null,null,{"$f":"G27+H27","v":0},null,{"$f":"I27+J27","v":0},null,{"$f":"K27+L27","v":0},null,{"$f":"M27+O27","v":0},null,null,{"$f":"P27+R27","v":0},null,null,{"$f":"S27+U27","v":0},null,null,{"$f":"V27+X27","v":0},null,null,null,{"$f":"Z27+AA27","v":0},null,{"$f":"AB27+AD27","v":0},null,null,{"$f":"AE27+AH27","v":0},null,null,null,null,null,{"$f":"AL27+AK27","v":0},null,null,{"$f":"AN27+AP27","v":0},null,null,null,{"$f":"AR27+AU27","v":0},null,null,null,{"$f":"AV27+AY27","v":0},null,null,null,{"$f":"AZ27+BB27","v":0},null,null,null,{"$f":"BD27+BG27","v":0},null,null,null,null,{"$f":"BI27+BK27","v":0},null,null,null,{"$f":"BM27+BO27","v":0},null,null,null,{"$f":"BQ27+BS27","v":0},null,null,null,{"$f":"BU27+BW27","v":0},null,null,null,{"$f":"BY27+CB27","v":0},null,null,null,{"$f":"CC27+CE27","v":0}]
["K) TUBERCULOSIS ",null,null,null,null,null,null,null,null,null,null,null,null,null,null," CHAGAS ",null,null,null,null,null,"L) PERSONAS CON ENF. CRONICAS",null,null,null,null,null,null,null,null,null,null,null,"M) OBSERVACIONES"]
["Coef. Sint.Resp.: ",null,null,"MUESTRAS",null,null,null,null,"TRATAM. TBC",null,null,null,null,null,null,"TRATAMIENTOS CHAGAS",null,null,null,null,null,"PERSONAS CON",null,null,null,null,null,"TOTAL",null,null,"EN TRAT.",null,null," "]
[{"$f":"Control!H9","v":8},null,null,"DIAGNOSTICOS",null,null,"CONTROL",null,"Total",null,"TAES",null," ABANDONO",null,null,"INICIO ",null,null,0,null,null,"DIABETES",null,null,null,null,null,0,null,null,0]
["SINT. ESP..",null,null,"Tot",null,"(+)","Tot","(+)",0,null,0,null,0,null,null,"FINALIZACION ",null,null,0,null,null,"HIPERTENSION \nARTERIAL",null,null,null,null,null,0,null,null,0]
[{"$f":"IF(ISERROR(((AK91+AL91+AN91+AP91+AR91+AU91+AV91+AY91+AZ91+BB91+BD91+BG91+BI91+BK91+BM91+BO91+BQ91+BS91+BU91+BW91+BY91+CB91)*0.2)*A31/100),0,(((AK91+AL91+AN91+AP91+AR91+AU91+AV91+AY91+AZ91+BB91+BD91+BG91+BI91+BK91+BM91+BO91+BQ91+BS91+BU91+BW91+BY91+CB91)*0.2)*A31/100))","v":0},null,null,0,null,0,0,0,"QUIMIO Total",null,0,null,null,null,null,null,null,null,null,null,null,"PERSONAS CON OTRAS ENF. CRONICAS AL CUIDADO DE NIÑOS",null,null,null,null,null,0,null,null,0]
["SINT. DETEC.",null,null,"CONTACTO",null,null,null,null,"CTRL. MEDICO",null,null,null,"FINALIZAD0",null,null,"ABANDONO ",null,null,0]
[0,null,null,"< 14a",null,null,"> 15a",null,"Pcte/Rda",null,"A Cont",null,0,null,null,null,null,null,null,null,null,"ADULTOS MAYORES EN SITUACION DE RIESGO",null,null,null,null,null,0]
[null,null,null,0,null,null,0,null,0,null,0]
["N) DERIVACIONES",null,null,null,null,null,null,null,null,null,null,null,null,null,null,null,null,null,null,null,null,null,null,null,null,null,null,null,null,null,null,null,null,null,null,null,null,null,null,null,null,"Ñ) VIVIENDA Y SANEAMIENTO",null,null,null,null,null,null,null,null,null,null,null,null,null,null,null,null,null,null,null,null,null,null,null,null,null,null,null,"O) DEFUNCIONES EN LA RONDA"]
[null,null,null,null,null,null,null,null,null,null,null,null,null,null,null,null,null,null,null,null,null,null,null,null,null,null,null,null,null,null,null,null,null,null,null,null,null,null,null,null,null,"TRAT. AGUA",null,null,null,null,null,"DISP SANITARIA EXCRETAS",null,null,null,null,null,null,null,null,null,null,null,"TRATAM. SANIT BASURA",null,null,null,null,null,null,null,null,null,"MENORES 1 AÑO",null,null,null,null,null,null,null,null,null,null,"1 a 4 AÑOS",null,"MATERNA",null,null,null,"OTRAS"]
["EMB",null,null,null,"RN",null,null,null,"PUERP",null,null,null,"Menores de 6 años",null,null,null,null,null,null,null,"E.\nCRONICAS",null,"PAP",null,"CHAGAS",null,null,null,"TBC",null,null,null,"PSICOSOC",null,null,null,"TOTAL\nDERIVACIONES",null,null,null,null,"RED",null,"EN\nVIV",null,null,"S/T","ARRASTRE",null,null,null,null,null,"LETRINA",null,null,null,"S/T",null,"REC. DOMIC.",null,null,"POZO BASURA",null,null,null,"S/T",null,null,"<7d",null,null,"7 a 28d",null,null,null,"29d a 11 m"]
[null,null,null,null,null,null,null,null,null,null,null,null,"BP- MBP",null,"RGO BP",null,"Resp",null,"Diarr",null,null,null,null,null,null,null,null,null,null,null,null,null,null,null,null,null,null,null,null,null,null,null,null,null,null,null,null,"CLOACAS",null,"PC-CT",null,"PC-ST",null,"CT",null,"ST"]
["Env",null,"Rec",null,"Env",null,"Rec",null,"Env",null,"Rec",null,"Env","Rec","Env","Rec","Env","Rec","Env","Rec","Env","Rec","Env","Rec","Env",null,"Rec",null,"Env",null,"Rec",null,"Env",null,"Rec",null,"ENV",null,null,"Rec",null,0,null,0,null,null,0,0,null,0,null,0,null,0,null,0,null,0,null,0,null,null,0,null,null,null,0,null,null,0,null,null,0,null,null,null,0,null,null,null,0,null,0,null,null,null,0]
[null,null,null,null,null,null,null,null,null,null,null,null,null,null,null,null,null,null,null,null,null,null,null,null,null,null,null,null,null,null,null,null,null,null,null,null,null,null,null,null,null,"CASAS ",null,null,null,null,null,null,null,null,null,null,null,"CHAGAS",null,null,null,null,null,null,null,null,null,null,null,"DENGUE CHIKUNGUNYA",null,null,null,null,null,null,null,null,null,null,null,"P) PROM. SALUD"]
[0,null,0,null,0,null,0,null,0,null,0,null,0,0,0,0,0,0,0,0,0,0,0,0,0,null,0,null,0,null,0,null,0,null,0,null,{"$f":"AG43+AC43+Y43+W43+U43+S43+Q43+O43+M43+I43+E43+A43","v":0},null,null,{"$f":"AI43+AE43+AA43+X43+V43+T43+R43+P43+N43+K43+G43+C43","v":0},null,"ASIGNADAS",null,null,null,null,"VISITADAS",null,null,"VACIAS",null,"DESTRUIDAS",null,"EVALUADAS",null,null,"POSITIVAS",null,null,null,null,"TRATADAS",null,null,null,"EVALUADAS",null,null,null,"POSITIVAS",null,null,null,"TRATADAS",null,null,null,"PLANIFICADAS \nEN COMUNIDAD",null,null,null,null,null,null,null,0]
[]
[null,null,null,null,null,null,null,null,null,null,null,null,null,null,null,null,null,null,null,null,null,null,null,null,null,null,null,null,null,null,null,null,null,null,null,null,null,null,null,null,null,0,null,null,null,null,0,null,null,0,null,0,null,0,null,null,0,null,null,null,null,0,null,null,null,0,null,null,null,0,null,null,null,0,null,null,null,"REALIZADAS ",null,null,null,null,null,null,null,0]
["Q) INDICADORES"]
["DE ESTRUCTURA",null,null,null,null,null,"SI","NO","DE PRODUCCION",null,null,null,null,null,"%","META",null," DE INMUNIZACIONES",null,null,null,null,null,null,null,null,null,null,null,null,null,null,null,null," DE INMUNIZACIONES",null,null,null,null,null,null,null,null,null,null,null,null,null,null,null,null,null,null,null,null,null,null,null,null,null,null," DE RESULTADO",null,null,null,null,null,null,null,null,"%",null,"META",null,null," DE RESULTADO",null,null,null,null,null,null,null,null,null,"%",null,"META RDA"]
["Formularios",null,null,null,null,null,0,0,"Cobertura a Familias",null,null,null,null,null,{"$f":"IF(ISERROR(D12/A12),0,(D12/A12)*100)","v":0},100,null,"VACUNA",null,null,null,null,"P. REF",null,"1r","2r","3r","4r",null,"T","%",null,"META",null,"VACUNA",null,null,null,null,null,null,null,null,null,"P. REF",null,null,"1r",null,null,"2r","3r",null,null,"4r","T",null,"%",null,"META",null,"Ed Fértil c/Anticoncepción",null,null,null,null,null,null,null,null,{"$f":"IF(ISERROR(D20/CH27),0,(D20/CH27)*100)","v":0},null,null,null,null,"Niños 2 a 5 Recup BP",null,null,null,null,null,null,null,null,null,{"$f":"IF(ISERROR(AV23/K80),0,(AV23/K80)*100)","v":0},null,100]
["Equipo",null,null,null,null,null,0,0,"Niños < 2 años Controlados",null,null,null,null,null,{"$f":"IF(ISERROR(((AJ22+AL22+AN22+AP22)/(A28+D28+G28))),0,(((AJ22+AL22+AN22+AP22)/(A28+D28+G28)))*100)","v":0},100,null,"BCG RN",null,null,null,null,{"$f":"U20","v":0},null,3,0,0,0,null,{"$f":"SUM(Y49:AB49)","v":3},{"$f":"IF(ISERROR(Z49/W49),0,(Z49/W49)*100)","v":0},null,100,null,"2 Ref. Varicela Ingreso Esc",null,null,null,null,null,null,null,null,null,15,null,null,15,null,null,0,0,null,null,0,{"$f":"SUM(AV49:BC49)","v":15},null,{"$f":"IF(ISERROR(AY49/AS49),0,(AY49/AS49)*100)","v":0},null,25,null,"PAP",null,null,null,null,null,null,null,null,{"$f":"IF(ISERROR(D17/CH27),0,(D17/CH27)*100)","v":0},null,null,null,null,"Niños 2 a 5 Recup AP",null,null,null,null,null,null,null,null,null,{"$f":"IF(ISERROR(AY23/K82),0,(AY23/K82)*100)","v":0},null,100]
["Combustible",null,null,null,null,null,0,0,"Niños  (2 a 5 años) Controlados",null,null,null,null,null,{"$f":"IF(ISERROR(((AJ23+AL23+AN23+AP23)/(I28+K28+M28+P28))),0,(((AJ23+AL23+AN23+AP23)/(I28+K28+M28+P28)))*100)","v":0},100,null,"Hepatitis B RN","Hepatitis B RN",null,"Hepatitis B RN","Hepatitis B RN",null,null,3,0,0,0,null,{"$f":"SUM(Y50:AB50)","v":3},{"$f":"IF(ISERROR(Z50/W49),0,(Z50/W49)*100)","v":0},null,null,null,"2° Ref. Antipolio Ingreso Escolar",null,null,null,null,null,null,null,null,null,null,null,null,15,null,null,0,0,null,null,0,{"$f":"SUM(AV50:BC50)","v":15},null,{"$f":"IF(ISERROR(AY50/AS49),0,(AY50/AS49)*100)","v":0},null,null,null,"Embarazadas Con MELON",null,null,null,null,null,null,null,null,{"$f":"IF(ISERROR(F23/J20),0,(F23/J20)*100)","v":0},null,80,null,null,"Niños 6 meses con LME",null,null,null,null,null,null,null,null,null,{"$f":"IF(ISERROR(CC20/CC17),0,(CC20/CC17)*100)","v":0},null,80]
[" DE DIAGNOSTICO",null,null,null,null,null,null,"%","Conc. Vis. Flias Prio",null,null,null,null,null,{"$f":"IF(ISERROR((BB15+BE15)/(BB14+BE14)),0,((BB15+BE15)/(BB14+BE14)))","v":0},25,null,"2° Neumococo < 1a","3ª SOT/Salk < 1a",null,"3ª SOT/Salk < 1a","3ª SOT/Salk < 1a",{"$f":"A91+C91+D91+F91","v":0},null,2,0,0,0,null,{"$f":"SUM(Y51:AB51)","v":2},{"$f":"IF(ISERROR(Z51/W51),0,(Z51/W51)*100)","v":0},null,100,null,"2° Ref. DPT Ingreso Escolar",null,null,null,null,null,null,null,null,null,null,null,null,15,null,null,0,0,null,null,0,{"$f":"SUM(AV51:BC51)","v":15},null,{"$f":"IF(ISERROR(AY51/AS49),0,(AY51/AS49)*100)","v":0},null,null,null,"Partos Hospitalarios",null,null,null,null,null,null,null,null,{"$f":"IF(ISERROR(O20/M20),0,(O20/M20)*100)","v":0},null,100]
["Flias Priorizadas 3 + 2:",null,null,null,null,null,null,{"$f":"IF(ISERROR((BB14+BE14)/D12),0,(BB14+BE14)/D12*100)","v":0},"Conc.C.Dom Niños Bp/MBP",null,null,null,null,null,{"$f":"IF(ISERROR(BW22/(AL22+AN22+AL23+AN23)),0,(BW22/(AL22+AN22+AL23+AN23)))","v":0},3,null,"2° Rotavirus <1 a","3º Pentavalente <1 a",null,"3º Pentavalente <1 a","3º Pentavalente <1 a",null,null,2,0,0,0,null,{"$f":"SUM(Y52:AB52)","v":2},{"$f":"IF(ISERROR(Z52/W51),0,(Z52/W51)*100)","v":0},null,null,null,"2° TV Ingreso Escolar",null,null,null,null,null,null,null,null,null,null,null,null,15,null,null,0,0,null,null,0,{"$f":"SUM(AV52:BC52)","v":15},null,{"$f":"IF(ISERROR(AY52/AS49),0,(AY52/AS49)*100)","v":0},null,100,null,"Conc Control Médico a RN",null,null,null,null,null,null,null,null,{"$f":"IF(ISERROR(Q23/M20),0,(Q23/M20))","v":0},null,4,null,null,"% Niños BP MBP y RBP con MELaN",null,null,null,null,null,null,null,null,null,{"$f":"IF(ISERROR(BO20/(AL22+AN22+AR22+AL23+AN23+AR23)),0,(BO20/(AL22+AN22+AR22+AL23+AN23+AR23))*100)","v":0},null,100]
["Flias Urbanas",null,null,null,null,null,null,{"$f":"IF(ISERROR(T12/D12),0,(T12/D12)*100)","v":0},"Rel. Muestra/Sint Resp.",null,null,null,null,null,{"$f":"IF(ISERROR(D33/A35),0,(D33/A35))","v":0},2,null,"2° Meningococo < 1a",null,null,null,null,null,null,1,0,0,0,null,{"$f":"SUM(Y53:AB53)","v":1},{"$f":"IF(ISERROR(Z53/W51),0,(Z53/W51)*100)","v":0},null,null,null,"dTpa 11 años",null,null,null,null,null,null,null,null,null,18,null,null,7,null,null,0,0,null,null,0,{"$f":"SUM(AV53:BC53)","v":7},null,{"$f":"IF(ISERROR(AY53/AS53),0,(AY53/AS53)*100)","v":0},null,null,null,"Conc Control Méd. a puérpera",null,null,null,null,null,null,null,null,{"$f":"IF(ISERROR(M23/S20),0,(M23/S20))","v":0},null,4,null,null,"Sint Resp Detect. Seg zona",null,null,null,null,null,null,null,null,null,{"$f":"IF(ISERROR((A35*100)/(((20*(AK28+AN28+AR28+AV28+AZ28+BD28+BI28+BM28+BQ28+BU28+BY28))/100)*A31)),0,(A35*100)/((((20*(AK28+AN28+AR28+AV28+AZ28+BD28+BI28+BM28+BQ28+BU28+BY28))/100)*A31)/100))","v":0},null,"S/Z"]
["Flias Periurbanas",null,null,null,null,null,null,{"$f":"IF(ISERROR(V12/D12),0,(V12/D12)*100)","v":0},"Casas Evaluadas Chagas",null,null,null,null,null,{"$f":"IF(ISERROR(BB45/AU45),0,(BB45/AU45)*100)","v":0},100,null,"3° Antipolio < 1 año","2ª Rotavirus < 1 año",null,"2ª Rotavirus < 1 año","2ª Rotavirus < 1 año",null,null,1,0,0,0,null,{"$f":"SUM(Y54:AB54)","v":1},{"$f":"IF(ISERROR(Z54/W51),0,(Z54/W51)*100)","v":0},null,null,null,"U.D. Meningococo",null,null,null,null,null,null,null,null,null,null,null,null,7,null,null,0,0,null,null,0,{"$f":"SUM(AV54:BC54)","v":7},null,{"$f":"IF(ISERROR(AY54/AS53),0,(AY54/AS53)*100)","v":0},null,"95% AL 1° SEM",null,"RN con Pesquisa",null,null,null,null,null,null,null,null,{"$f":"IF(ISERROR(Y23/U20),0,(Y23/U20)*100)","v":0},null,100,null,null,"Pacientes TBC con Control Médico",null,null,null,null,null,null,null,null,null,{"$f":"IF(ISERROR(I36/I32),0,(I36/I32)*100)","v":0},null,100]
["Flias Rurales",null,null,null,null,null,null,{"$f":"IF(ISERROR(Y12/D12),0,(Y12/D12)*100)","v":0},"Casas Tratadas Chagas",null,null,null,null,null,{"$f":"IF(ISERROR(BJ45/BE45),0,(BJ45/BE45)*100)","v":0},100,null,"3° Pentavalente <1 año","TV 1 año",null,"TV 1 año","TV 1 año",null,null,1,0,0,0,null,{"$f":"SUM(Y55:AB55)","v":1},{"$f":"IF(ISERROR(Z55/W51),0,(Z55/W51)*100)","v":0},null,null,null,"1° HPV Niñas cumplen 11 a en año en curso",null,null,null,null,null,null,null,null,null,8,null,null,7,null,null,0,0,null,null,0,{"$f":"SUM(AV55:BC55)","v":7},null,{"$f":"IF(ISERROR(AY55/AS55),0,(AY55/AS55)*100)","v":0},null,null,null,"Derivaciones Enviadas/Recibidas",null,null,null,null,null,null,null,null,{"$f":"IF(ISERROR(AN43/AK43),0,(AN43/AK43)*100)","v":0},null,100,null,null,"Contactos TBC Controlados",null,null,null,null,null,null,null,null,null,{"$f":"IF(ISERROR(K36/(D36+G36)),0,(K36/(D36+G36)))*100","v":0},null,100]
["Flias Originarias",null,null,null,null,null,null,{"$f":"IF(ISERROR(R12/D12),0,(R12/D12)*100)","v":0},"Casas Evaluadas Dengue",null,null,null,null,null,{"$f":"IF(ISERROR(BN45/AU45),0,(BN45/AU45)*100)","v":0},100,null,"1° TV","A HA 1 año",null,"A HA 1 año","A HA 1 año",{"$f":"G91+H91","v":0},null,3,0,0,0,null,{"$f":"SUM(Y56:AB56)","v":3},{"$f":"IF(ISERROR(Z56/W56),0,(Z56/W56)*100)","v":0},null,100,null,"1° HPV Niños cumplen 11 a en año en curso",25,25,null,null,null,null,null,null,null,10,null,null,10,null,null,0,0,null,null,0,{"$f":"SUM(AV56:BC56)","v":10},null,{"$f":"IF(ISERROR(AY56/AS56),0,(AY56/AS56)*100)","v":0},null,"95% AL 1° SEM",null,"Niños < 2 a Riesgo BP",null,null,null,null,null,null,null,null,{"$f":"IF(ISERROR(AR22/AJ22),0,(AR22/AJ22)*100)","v":0},null,null,null,null,"TAES de TBC",null,null,null,null,null,null,null,null,null,{"$f":"IF(ISERROR(K32/I32),0,(K32/I32)*100)","v":0},null,100]
["Flias Migr. desde AO",null,null,null,null,null,null,{"$f":"IF(ISERROR(AC12/A12),0,(AC12/A12)*100)","v":0},"Casas Tratadas Dengue",null,null,null,null,null,{"$f":"IF(ISERROR(BV45/BR45),0,(BV45/BR45)*100)","v":0},100,null,"2° TV","A HA 1 año",null,"A HA 1 año","A HA 1 año",null,null,0,0,0,0,null,{"$f":"SUM(Y57:AB57)","v":0},{"$f":"IF(ISERROR(Z57/W56),0,(Z57/W56)*100)","v":0},null,null,null,"Emb. con dTpa",null,null,null,null,null,null,null,null,null,5,null,null,1,null,null,0,0,null,null,0,{"$f":"SUM(AV57:BC57)","v":1},null,{"$f":"IF(ISERROR(AY57/AS57),0,(AY57/AS57)*100)","v":0},null,null,null,"Niños < 2 a Riesgo AP",null,null,null,null,null,null,null,null,{"$f":"IF(ISERROR(AT22/AJ22),0,(AT22/AJ22)*100)","v":0},null,null,null,null,"Ptes. con tratamiento por Chagas",null,null,null,null,null,null,null,null,null,{"$f":"S31","v":0}]
["Flias Migr. hacia el AO",null,null,null,null,null,null,{"$f":"IF(ISERROR(AA12/A12),0,(AA12/A12)*100)","v":0},"Superv Int. a la Familia",null,null,null,null,null,{"$f":"IF(ISERROR((CH14*100)/BL14),0,((CH14*100)/BL14))","v":0},20,null,"Unica Dosis A HA",null,null,null,null,null,null,3,0,0,0,null,{"$f":"SUM(Y58:AB58)","v":3},{"$f":"IF(ISERROR(Z58/W56),0,(Z58/W56)*100)","v":0},null,null,null,"Emb. con Vac Sinsicial",null,null,null,null,null,null,null,null,null,null,null,null,0,null,null,0,0,null,null,0,{"$f":"SUM(AV58:BC58)","v":0},null,{"$f":"IF(ISERROR(AY58/AS57),0,(AY58/AS57)*100)","v":0},null,100,null,"Niños < 2 Recup BP",null,null,null,null,null,null,null,null,{"$f":"IF(ISERROR(AV22/K79),0,(AV22/K79)*100)","v":0},null,100,null,null,"Casas positivas Chagas",null,null,null,null,null,null,null,null,null,{"$f":"IF(ISERROR(BE45/BB45),0,(BE45/BB45)*100)","v":0},null,0]
["Flias con planes sociales",null,null,null,null,null,null,{"$f":"IF(ISERROR(AF12/D12),0,(AF12/D12)*100)","v":0},"Superv Prof. Flias Prio (3v)",null,null,null,null,null,{"$f":"IF(ISERROR(CH15/(BB14+BE14)),0,(CH15/(BB14+BE14))*100)","v":0},70,null,"Ref Neumococo 1 año","Ref Neumoc 1 año",null,"Ref Neumoc 1 año","Ref Neumoc 1 año",null,null,3,0,0,0,null,{"$f":"SUM(Y59:AB59)","v":3},{"$f":"IF(ISERROR(Z59/W56),0,(Z59/W56)*100)","v":0},null,null,null,"dT  Vigente > 65 a",null,null,null,null,null,null,null,null,null,31,null,null,0,null,null,0,0,null,null,0,{"$f":"SUM(AV59:BC59)","v":0},null,{"$f":"IF(ISERROR(AY59/AS59),0,(AY59/AS59)*100)","v":0},null,100,null,"Niños < 2 Recup AP",null,null,null,null,null,null,null,null,{"$f":"IF(ISERROR(AY22/K81),0,(AY22/K81)*100)","v":0},null,100,null,null,"Casas Positivas Aedes",null,null,null,null,null,null,null,null,null,{"$f":"IF(ISERROR(BR45/BN45),0,(BR45/BN45)*100)","v":0},null," "]
[null,null,null,null,null,null,null,null,"% Activ Prom.Salud Comunitarias",null,null,null,null,null,{"$f":"IF(ISERROR(CH45/CH43),0,(CH45/CH43)*100)","v":0},100,null,"Ref. Meningococo 1 año","Ref Cuádruple 1 año",null,"Ref Cuádruple 1 año","Ref Cuádruple 1 año",null,null,0,0,0,0,null,{"$f":"SUM(Y60:AB60)","v":0},{"$f":"IF(ISERROR(Z60/W56),0,(Z60/W56)*100)","v":0},null,null,null,"Neumo 20 > 65 años",null,null,null,null,null,null,null,null,null,null,null,null,0,null,null,0,0,null,null,0,{"$f":"SUM(AV60:BC60)","v":0},null,{"$f":"IF(ISERROR(AY60/AS59),0,(AY60/AS59)*100)","v":0},null,null,null,"Niños 2 a 5 Riesgo BP",null,null,null,null,null,null,null,null,{"$f":"IF(ISERROR(AR23/AJ23),0,(AR23/AJ23)*100)","v":0},null,null,null,null,"UROCS 1/SEC",null,null,null,null,null,null,null,null,null,0,null,"1/SEC"]
["Flias. c/Antec Mort Mat Inf",null,null,null,null,null,null,{"$f":"IF(ISERROR(AV10/D12),0,(AV10/D12)*100)","v":0},null,null,null,null,null,null,null,null,null,"Unica Dosis Varicela","Ref SOT 1 año",null,"Ref SOT 1 año","Ref SOT 1 año",null,null,0,0,0,0,null,{"$f":"SUM(Y61:AB61)","v":0},{"$f":"IF(ISERROR(Z61/W56),0,(Z61/W56)*100)","v":0},null,null,null,"Aplic. Cargadas a Nomivac",null,null,null,null,null,null,null,null,null,0,null,null,null,null,null,null,null,null,null,null,null,null,null,null,null,null,null,null,null,null,null,null,null,null,null,null,null,null,null,null,"Flias con Huerta",null,null,null,null,null,null,null,null,null,{"$f":"IF(ISERROR(AL12/D12),0,(AL12/D12)*100)","v":0}]
["F con 3 o más <6 años",null,null,null,null,null,null,{"$f":"IF(ISERROR(BI10/D12),0,(BI10/D12)*100)","v":0}," DE IMPACTO",null,null,null,null,"%",null,"META",null,"4° Dosis o 1° Ref. Pentavalente",null,null,null,null,null,null,0,0,0,0,null,{"$f":"SUM(Y62:AB62)","v":0},{"$f":"IF(ISERROR(Z62/W56),0,(Z62/W56)*100)","v":0},null,null,null,"Total Aplic /AS",null,null,null,null,null,null,null,null,null,0,null,null,null,null,null,null,null,null,null,null,null,null,null,null,null,null,"Niños 2 a 5 Riesgo AP",null,null,null,null,null,null,null,null,{"$f":"IF(ISERROR(AT23/AJ23),0,(AT23/AJ23)*100)","v":0},null,null,null,null,"Flias con Granja",null,null,null,null,null,null,null,null,null,{"$f":"IF(ISERROR(AP12/D12),0,(AP12/D12)*100)","v":0}]
["Flias con Hacinamiento",null,null,null,null,null,null,{"$f":"IF(ISERROR(BL10/D12),0,(BL10/D12)*100)","v":0},"Agua Seg (Trat Red + Viv)",null,null,null,null,{"$f":"IF(ISERROR((AP41+AR41)/D12),0,((AP41+AR41)/D12)*100)","v":0},null,100,null,"2° AG 6m a 24m",null,null,null,null,{"$f":"D91+F91+G91+H91","v":0},null,0,0,0,0,null,{"$f":"SUM(Y63:AB63)","v":0},{"$f":"IF(ISERROR(Z63/W63),0,(Z63/W63)*100)","v":0},null," ",null,"VAC COVID APLIC EN LA RONDA",null,null,null,null,null,null,null,null,null,0,null,null,null,null,null,null,null,null,null,null,null,null,null,null,null,null,"U) A llenar en 1° Ronda del Año"]
["Flias con Analfabet",null,null,null,null,null,null,{"$f":"IF(ISERROR(BO10/D12),0,(BO10/D12)*100)","v":0},"DSE (Arrastre y letrinas)",null,null,null,null,{"$f":"IF(ISERROR((AV41+AX41+AZ41+BB41+BD41)/D12),0,((AV41+AX41+AZ41+BB41+BD41)/D12)*100)","v":0},null,100,null,"R) PRODUCCION Y RENDIMIENTO",null,null,null,null,null,null,null,null,null,null,null,null,null,null,null,null,null,null,null,null,null,null,null,null,null,null,null,null,null,null,null,null,null,null,null,null,null,null,null,null,null,null,null,"Piso",null,null,null,null,"Techo",null,null,null,null,"Paredes",null,null,null,null,null,null,null,null,null,"Cocina",null,null,null,null,"Tenencia"]
["Flias con Suicidio",null,null,null,null,null,null,{"$f":"IF(ISERROR(BT11/D12),0,(BT11/D12)*100)","v":0},"TSB (Recolección + Pozo)",null,null,null,null,{"$f":"IF(ISERROR((BH41+BK41)/D12),0,((BH41+BK41)/D12)*100)","v":0},null,100,null,"DIAS A TRAB. /RONDA",null,null,"DIAS INCLEM CLIMAT.",null,null,"DIAS Y NROS DE ARTICULOS TOMADOS",null,null,null,"CAPACITACIONES Y OTRAS ACTIVIDADES",null,null,null,null,null,null,null,null,null,null,null,null,null,null,null,null,null,null,null,null,null,null,"DIAS TRABAJADOS\nEN TERRENO",null,null,null,null,"PROM. DIARIO DE FLIAS VISIT.",null,null,null,null,null,"Mosaico/B.",null,null,null,0,"Losa",null,null,0,null,"Ladrillo",null,null,0,null,"Madera",null,null,null,0,"Gas",null,null,0,null,"Segura",null,null,0]
["Flias c /tentativa suicidio",null,null,null,null,null,null,{"$f":"IF(ISERROR(BV11/D12),0,(BV11/D12)*100)","v":0},"Emb Adolescente",null,null,null,null,{"$f":"IF(ISERROR(L20/J20),0,(L20/J20)*100)","v":0},null,null,null,null,null,null,null,null,null,0,null,null,null,0,null,null,null,null,null,null,null,null,null,null,0,null,null,null,null,null,null,null,null,null,null,null,null,null,null,null,null,null,null,null,null,null,null,"Cemento",null,null,null,0,"Chapa\nZinc",null,null,0,null,"Bloque",null,null,0,null,"Quincho",null,null,null,0,"Leña/\nCarb",null,null,0,null,"Inseg.",null,null,0]
["Flias con Alcoholismo",null,null,null,null,null,null,{"$f":"IF(ISERROR(BY11/D12),0,(BY11/D12)*100)","v":0},"Niños <2 Bajo Peso/MBP",null,null,null,null,{"$f":"IF(ISERROR((AL22+AN22)/(AJ22+AP22+AL22+AN22)),0,((AL22+AN22)/(AJ22+AP22+AL22+AN22))*100)","v":0},null,null,null,null,null,null,null,null,null,0,null,null,null,0,null,null,null,null,null,null,null,null,null,null,0,null,null,null,null,null,null,null,null,null,null,null,null,null,null,null,null,null,null,null,null,null,null,"Tierra",null,null,null,0,"Paja/\nBarro",null,null,0,null,"Adobe",null,null,0,null,"Carton/Pl",null,null,null,0,"Otros",null,null,0,null,"Hac",null,null,0,null,null,null,5]
["Flias c/ otras Adicciones",null,null,null,null,null,null,{"$f":"IF(ISERROR(CC11/D12),0,(CC11/D12)*100)","v":0},"Niños <2 a AP",null,null,null,null,{"$f":"IF(ISERROR(AP22/(AJ22+AP22+AL22+AN22)),0,(AP22/(AJ22+AP22+AL22+AN22))*100)","v":0},null,null,null,0,null,null,0,null,null,0,null,null,null,0,null,null,null,null,null,null,null,null,null,null,0,null,null,null,null,null,null,null,null,null,null,null,0,null,null,null,null,{"$f":"IF(ISERROR(G12/AY68),0,(G12/AY68))","v":0},null,null,null,null,null,"Otros",null,null,null,0,"Otros",null,null,0,null,"Piedra",null,null,0,null,"Otro",null,null,null,0,"Helad.",null,null,0]
["Flias con VIF",null,null,null,null,null,null,{"$f":"IF(ISERROR(CF11/D12),0,(CF11/D12)*100)","v":0},"Niños < 2 baja y MBT",null,null,null,null,{"$f":"IF(ISERROR((AZ22+BB22)/(AJ22+AP22+AL22+AN22)),0,((AZ22+BB22)/(AJ22+AP22+AL22+AN22))*100)","v":0},null,null,null,"S) DETALLE DE LAS DEFUNCIONES (Todas las del Sector)",null,null,null,null,null,null,null,null,null,null,null,null,null,null,null,null,null,null,null,null,null,null,null,null,null,null,null,null,null,null,null,null,null,null,null,null,null,null,null,null,null,null,null,"Agua",null,"Corriente a Domic",null,null,"Grifo Terr",null,null,"Grifo Público",null,null,"Bomba",null,null,"Pozo",null,null,null,"Camión Aguatero / Cisterna",null,"Vertiente/Rio/Aceq",null,null,"Laguna",null,null,"Lluvia/Aljibe"]
["Flias con Diabetes",null,null,null,null,null,null,{"$f":"IF(ISERROR(AB31/D12),0,(AB31/D12)*100)","v":0},"Niños 2 a 5 Bajo Peso/MBP",null,null,null,null,{"$f":"IF(ISERROR((AL23+AN23)/(AJ23+AP23+AL23+AN23)),0,((AL23+AN23)/(AJ23+AP23+AL23+AN23))*100)","v":0},null,null,null,"APELLIDO Y NOMBRE",null,null,null,null,null,null,"DOMICILIO",null,null,null,null,null,null,null,null,"NACIMIENTO",null,null,null,null,"DEFUNCION",null,null,null,"PESO\nAL NACER",null,null,null,"CAUSA",null,null,null,null,null,null,null,null,null,"CLASIFICAC."]
["Flias con Hipertensión",null,null,null,null,null,null,{"$f":"IF(ISERROR(AB32/D12),0,(AB32/D12)*100)","v":0},"Niños 2 a 5 AP",null,null,null,null,{"$f":"IF(ISERROR(AP23/(AJ23+AP23+AL23+AN23)),0,(AP23/(AJ23+AP23+AL23+AN23))*100)","v":0}]
[]
["Personas con otras enfermedades crónicas al cuidado de niños",null,null,null,null,null,null,{"$f":"IF(ISERROR(AB33/D12),0,(AB33/D12)*100)","v":0},"Niños 2 a 5 baja y MBT",null,null,null,null,{"$f":"IF(ISERROR((AZ23+BB23)/(AJ23+AP23+AL23+AN23)),0,((AZ23+BB23)/(AJ23+AP23+AL23+AN23))*100)","v":0},null,null,null,null,null,null,null,null,null,null,null,null,null,null,null,null,null,null,null,null,null,null,null,null,null,null,null,null,null,null,null,null,null,null,null,null,null,null,null,null,null,null,null,null,null,null,null,null,null,0,null,null,0,null,null,0,null,null,0,null,null,0,null,null,null,0,null,0,null,null,0,null,null,0]
["Pers c/O Social/Pob total",null,null,null,null,null,null,{"$f":"IF(ISERROR(CI27/CC28),0,(CI27/CC28)*100)","v":0}]
[]
[]
[]
[]
["BP+MBP Ronda Anterior Men2a: ",null,null,null,null,null,null,null,null,null,0]
["BP+MBP Ronda Anterior 2 a 6a: ",null,null,null,null,null,null,null,null,null,2]
["AP Ronda Anterior Men2a: ",null,null,null,null,null,null,null,null,null,0]
["AP Ronda Anterior 2 a 6a: ",null,null,null,null,null,null,null,null,null,0]
[]
[]
[]
[]
[]
["0 a 5m",null,null,"6 a 11m",null,null,"1 AÑO",null,"2 AÑOS",null,"3 AÑOS",null,"4 AÑOS",null,null,"5 AÑOS",null,null,"6 AÑOS",null,null,"7 A 9 AÑOS",null,null,null,"10 AÑOS",null,"11 AÑOS",null,null,"12 A 14",null,null,null,null,null,"15 A 19",null,null,"20 A 24",null,null,null,"25 A 29",null,null,null,"30 A 34",null,null,null,"35 A 39",null,null,null,"40 A 44",null,null,null,null,"45 A 49",null,null,null,"50 A 54",null,null,null,"55 A 59",null,null,null,"60 A 64",null,null,null,"65 y +",null,null,null,"TOTAL",null,null,null,null,"MUJERES\n10 A 49"]
["M",null,"F","M",null,"F","M","F","M","F","M","F","M",null,"F","M",null,"F","M",null,"F","M",null,"F",null,"M","F","M",null,"F","M",null,null,"F",null,null,"M","F",null,"M",null,"F",null,"M",null,null,"F","M",null,null,"F","M",null,"F",null,"M",null,null,"F",null,"M",null,"F",null,"M",null,"F",null,"M",null,"F",null,"M",null,"F",null,"M",null,null,"F","M",null,"F"]
[0,null,0,0,null,0,0,0,0,0,0,0,0,null,0,0,null,0,0,null,0,0,null,0,null,0,0,0,null,0,0,null,null,0,null,null,0,0,null,0,null,0,null,0,null,null,0,0,null,null,0,0,null,0,null,0,null,null,0,null,0,null,0,null,0,null,0,null,0,null,0,null,0,null,0,null,0,null,null,0,{"$f":"SUM(A90,D90,G90,I90,K90,M90,P90,S90,V90,Z90,AB90,AE90,AK90,AN90,AR90,AV90,AZ90,BD90,BI90,BM90,BQ90,BU90,BY90)","v":0},null,{"$f":"SUM(C90,F90,H90,J90,L90,O90,R90,U90,X90,AA90,AD90,AH90,AL90,AP90,AU90,AY90,BB90,BG90,BK90,BO90,BS90,BW90,CB90)","v":0},null,null,{"$f":"SUM(AA90,AD90,AH90,AL90,AP90,AU90,AY90,BB90,BG90,BK90)","v":0}]
[{"$f":"SUM(A90:C90)","v":0},null,null,{"$f":"SUM(D90,F90)","v":0},null,null,{"$f":"SUM(G90,H90)","v":0},null,{"$f":"SUM(I90,J90)","v":0},null,{"$f":"SUM(K90,L90)","v":0},null,{"$f":"SUM(M90,O90)","v":0},null,null,{"$f":"SUM(P90,R90)","v":0},null,null,{"$f":"SUM(S90,U90)","v":0},null,null,{"$f":"SUM(V90,X90)","v":0},null,null,null,{"$f":"SUM(Z90,AA90)","v":0},null,{"$f":"SUM(AB90,AD90)","v":0},null,null,{"$f":"SUM(AE90,AH90)","v":0},null,null,null,null,null,{"$f":"SUM(AK90,AL90)","v":0},null,null,{"$f":"SUM(AN90,AP90)","v":0},null,null,null,{"$f":"SUM(AR90,AU90)","v":0},null,null,null,{"$f":"SUM(AV90,AY90)","v":0},null,null,null,{"$f":"SUM(AZ90,BB90)","v":0},null,null,null,{"$f":"SUM(BD90,BG90)","v":0},null,null,null,null,{"$f":"SUM(BI90,BK90)","v":0},null,null,null,{"$f":"SUM(BM90,BO90)","v":0},null,null,null,{"$f":"SUM(BQ90,BS90)","v":0},null,null,null,{"$f":"SUM(BU90,BW90)","v":0},null,null,null,{"$f":"SUM(BY90,CB90)","v":0},null,null,null,{"$f":"A91+D91+G91+I91+K91+M91+P91+S91+V91+Z91+AB91+AE91+AK91+AN91+AR91+AV91+AZ91+BD91+BI91+BM91+BQ91+BU91+BY91","v":0}]
["Mejor Población: 1° - 2019",null,null,null,null,null,null,null,null,null,null,null,null,null,null,null,null,null,null,null,null,null,null,null,null,null,null,null,null,null,null,null,null,null,null,null,null,null,null,null,null,null,null,null,null,null,null,null,null,null,null,null,null,null,null,null,null,null,null,null,null,null,null,null,null,null,null,null,null,null,null,null,null,null,null,null,null,null,null,null,{"$f":"SUM(CC91,CE91)","v":0}]
["Cobertura: 1%"]

{"sheet":"PLUMA DE PATO","index":17,"n_rows":93,"n_cols":94,"rows_kept":93,"cut":false,"hidden":false,"merged":[[61,30,61,31],[62,30,62,31],[89,85,90,85],[90,0,90,2],[90,3,90,5],[90,6,90,7],[90,8,90,9],[90,10,90,11],[90,12,90,14],[90,15,90,17],[90,18,90,20],[90,21,90,24],[89,70,89,71],[89,72,89,73],[89,74,89,75],[89,76,89,78],[89,80,89,81],[89,82,89,84],[89,58,89,59],[89,51,89,52],[89,53,89,54],[89,55,89,57],[89,23,89,24],[89,27,89,28],[89,30,89,32],[89,33,89,35],[89,37,89,38],[89,39,89,40],[90,72,90,75],[90,76,90,79],[90,80,90,84],[90,47,90,50],[90,51,90,54],[90,55,90,59],[90,60,90,63],[90,64,90,67],[90,68,90,71],[90,25,90,26],[90,27,90,29],[90,30,90,35],[90,36,90,38],[90,39,90,42],[90,43,90,46],[89,0,89,1],[89,3,89,4],[89,12,89,13],[89,15,89,16],[89,18,89,19],[89,21,89,22],[88,62,88,63],[88,64,88,65],[88,66,88,67],[88,68,88,69],[88,70,88,71],[88,72,88,73],[88,47,88,49],[88,51,88,52],[88,53,88,54],[88,55,88,57],[88,58,88,59],[88,60,88,61],[88,30,88,32],[88,33,88,35],[88,37,88,38],[88,39,88,40],[88,41,88,42],[88,43,88,45],[89,60,89,61],[89,62,89,63],[89,64,89,65],[89,66,89,67],[89,68,89,69],[89,41,89,42],[89,43,89,45],[89,47,89,49],[87,80,87,84],[87,85,88,85],[88,0,88,1],[88,3,88,4],[88,12,88,13],[88,15,88,16],[88,18,88,19],[88,21,88,22],[88,23,88,24],[88,27,88,28],[87,55,87,59],[87,60,87,63],[87,64,87,67],[87,68,87,71],[87,72,87,75],[87,76,87,79],[87,30,87,35],[87,36,87,38],[87,39,87,42],[87,43,87,46],[87,47,87,50],[87,51,87,54],[87,12,87,14],[87,15,87,17],[87,18,87,20],[87,21,87,24],[87,25,87,26],[87,27,87,29],[88,74,88,75],[88,76,88,78],[88,80,88,81],[88,82,88,84],[75,17,75,23],[75,24,75,32],[75,38,75,41],[75,42,75,45],[75,46,75,55],[87,0,87,2],[87,3,87,5],[87,6,87,7],[87,8,87,9],[87,10,87,11],[73,42,73,45],[73,46,73,55],[73,56,73,60],[74,17,74,23],[74,24,74,32],[74,38,74,41],[74,42,74,45],[74,46,74,55],[72,75,73,78],[72,79,73,80],[72,81,73,83],[72,84,73,86],[72,87,73,89],[73,0,73,6],[73,17,73,23],[73,24,73,32],[73,33,73,37],[73,38,73,41],[72,46,72,55],[72,56,72,60],[72,63,73,65],[72,66,73,68],[72,69,73,71],[72,72,73,74],[71,56,71,60],[72,0,72,6],[72,8,73,12],[72,13,73,14],[72,15,73,16],[72,17,72,23],[72,24,72,32],[72,33,72,37],[72,38,72,41],[72,42,72,45],[68,87,71,89],[68,69,71,71],[68,72,71,74],[68,75,71,78],[68,79,71,80],[68,81,71,83],[71,46,71,55],[69,46,69,55],[69,56,69,60],[70,0,71,6],[70,7,71,7],[70,8,71,12],[70,13,71,14],[70,15,71,16],[70,17,70,23],[70,24,70,32],[70,33,70,37],[69,0,69,6],[69,8,69,12],[69,13,69,14],[69,15,69,16],[69,17,69,23],[69,24,69,32],[69,33,69,37],[69,38,69,41],[69,42,69,45],[68,84,71,86],[67,81,67,83],[67,84,67,85],[68,0,68,6],[68,8,68,12],[68,13,68,14],[68,15,68,16],[68,17,68,60],[68,61,73,62],[68,63,71,65],[68,66,71,68],[67,61,67,64],[67,66,67,68],[67,69,67,70],[67,71,67,73],[67,74,67,75],[67,76,67,79],[67,20,67,22],[67,23,67,26],[67,27,67,37],[67,38,67,49],[67,50,67,54],[67,55,67,60],[70,38,70,41],[70,42,70,45],[70,46,70,55],[70,56,70,60],[71,17,71,23],[71,24,71,32],[71,33,71,37],[71,38,71,41],[71,42,71,45],[63,0,63,6],[63,8,63,12],[63,13,63,14],[63,15,63,16],[63,17,63,60],[63,61,63,65],[63,66,63,70],[63,71,63,80],[63,81,63,85],[66,69,66,70],[66,71,66,73],[66,74,66,75],[65,76,65,79],[65,81,65,83],[65,84,65,85],[65,86,65,88],[66,0,66,6],[66,8,66,12],[66,13,66,14],[66,15,66,16],[66,23,66,26],[66,27,66,37],[65,15,65,16],[65,23,65,26],[65,27,65,37],[65,38,65,49],[64,55,66,60],[64,61,64,64],[64,66,64,68],[64,69,64,70],[64,74,64,75],[64,86,64,88],[64,20,66,22],[64,23,64,26],[64,27,64,49],[64,50,66,54],[65,0,65,6],[65,8,65,12],[65,13,65,14],[66,86,67,88],[66,89,67,89],[67,0,67,6],[67,8,67,12],[67,13,67,14],[67,15,67,16],[67,17,67,19],[66,38,66,49],[66,61,66,64],[66,66,66,68],[64,76,64,79],[65,61,65,64],[65,66,65,68],[65,69,65,70],[65,74,65,75],[66,76,66,79],[66,81,66,83],[66,84,66,85],[62,0,62,6],[62,8,62,12],[62,13,62,14],[62,15,62,16],[62,32,62,33],[62,34,62,43],[64,81,64,83],[64,84,64,85],[61,87,61,89],[61,32,61,33],[61,34,61,43],[61,44,61,60],[62,44,62,60],[60,87,60,89],[61,0,61,6],[61,8,61,12],[61,13,61,14],[61,15,61,16],[60,0,60,6],[60,17,60,21],[60,27,60,28],[60,30,60,31],[60,34,60,43],[60,44,60,60],[63,86,63,89],[64,0,64,6],[64,8,64,12],[64,13,64,14],[64,15,64,16],[64,17,66,19],[60,75,60,84],[60,85,60,86],[62,61,62,89],[58,75,58,84],[58,85,58,86],[59,61,60,69],[59,70,60,71],[59,72,60,74],[59,75,59,84],[58,34,58,43],[58,44,59,46],[58,47,58,49],[58,51,58,53],[58,55,58,56],[58,57,58,58],[59,55,59,56],[59,57,59,58],[61,61,61,69],[61,70,61,71],[61,72,61,74],[61,75,61,84],[61,85,61,86],[57,87,57,89],[58,0,59,6],[58,7,59,7],[58,8,58,13],[58,15,58,16],[58,17,58,21],[58,27,58,28],[58,30,58,31],[57,55,57,56],[57,57,57,58],[57,59,57,60],[57,61,57,69],[57,70,57,71],[57,72,57,74],[59,85,59,86],[59,87,59,89],[57,47,57,49],[57,51,57,53],[58,87,58,89],[59,8,60,13],[59,14,60,14],[59,15,60,16],[59,17,59,21],[59,27,59,28],[59,30,59,31],[59,34,59,43],[59,47,59,49],[59,51,59,53],[58,59,59,60],[58,61,58,69],[58,70,58,71],[58,72,58,74],[56,27,56,28],[56,30,56,31],[56,34,56,43],[56,44,57,46],[56,47,56,49],[55,59,56,60],[55,61,55,69],[55,70,55,71],[55,72,55,74],[55,75,55,84],[55,85,55,86],[56,75,56,84],[56,85,56,86],[55,34,55,43],[55,44,55,46],[55,47,55,49],[55,51,55,53],[55,55,55,56],[55,57,55,58],[57,75,57,84],[57,85,57,86],[55,0,55,6],[55,8,55,13],[55,15,55,16],[55,17,55,21],[55,27,55,28],[55,30,55,31],[55,32,60,33],[54,47,54,49],[54,51,54,53],[54,55,54,56],[54,57,54,58],[54,61,54,69],[54,70,54,71],[56,87,56,89],[57,0,57,6],[57,8,57,13],[57,15,57,16],[57,17,57,21],[57,27,57,28],[57,30,57,31],[57,34,57,43],[56,51,56,53],[56,55,56,56],[56,57,56,58],[56,61,56,69],[56,70,56,71],[56,72,56,74],[55,87,55,89],[56,0,56,6],[56,8,56,13],[56,15,56,16],[56,17,56,21],[53,87,53,89],[54,0,54,6],[54,8,54,13],[54,15,54,16],[54,17,54,21],[54,27,54,28],[54,30,54,31],[54,34,54,43],[54,44,54,46],[53,57,53,58],[53,59,54,60],[53,61,53,69],[53,70,53,71],[53,72,53,74],[53,75,53,84],[54,72,54,74],[54,75,54,84],[54,85,54,86],[54,87,54,89],[51,75,51,84],[51,85,51,86],[51,87,51,89],[52,0,52,6],[52,8,52,13],[52,15,52,16],[52,17,52,21],[52,27,52,28],[52,30,52,31],[51,51,51,53],[51,55,51,56],[51,57,51,58],[51,59,52,60],[51,61,51,69],[51,70,51,71],[52,61,52,69],[52,70,52,71],[52,72,52,74],[52,75,52,84],[52,85,52,86],[52,87,52,89],[52,34,52,43],[52,44,53,46],[52,47,52,49],[52,51,52,53],[52,55,52,56],[52,57,52,58],[53,34,53,43],[53,47,53,49],[53,51,53,53],[53,55,53,56],[53,85,53,86],[51,0,51,6],[51,8,51,13],[51,15,51,16],[51,17,51,21],[51,27,51,28],[51,30,51,31],[51,34,51,43],[51,47,51,49],[50,34,50,43],[50,47,50,49],[50,51,50,53],[50,55,50,56],[50,57,50,58],[50,61,50,69],[49,72,49,74],[48,44,51,46],[48,47,48,49],[48,51,48,53],[49,47,49,49],[49,51,49,53],[50,30,50,31],[50,32,54,33],[51,72,51,74],[53,0,53,6],[53,8,53,13],[53,15,53,16],[53,17,53,21],[53,27,53,28],[53,30,53,31],[48,85,48,86],[48,87,48,89],[49,0,49,5],[49,8,49,13],[49,15,49,16],[49,17,49,21],[49,27,49,28],[49,30,49,31],[49,34,49,43],[48,55,48,56],[48,57,48,58],[48,59,50,60],[48,61,48,69],[48,70,48,71],[48,72,48,74],[49,55,49,56],[49,57,49,58],[49,61,49,69],[49,70,49,71],[48,30,48,31],[48,32,49,33],[48,34,48,43],[50,70,50,71],[50,72,50,74],[47,72,47,74],[47,75,47,84],[47,85,47,86],[47,87,47,89],[48,0,48,5],[48,8,48,13],[48,15,48,16],[48,17,48,21],[48,22,49,23],[48,27,48,28],[47,51,47,53],[47,55,47,56],[47,57,47,58],[47,59,47,60],[47,61,47,69],[47,70,47,71],[47,27,47,28],[47,30,47,31],[47,32,47,33],[47,34,47,43],[47,44,47,46],[47,47,47,49],[49,75,50,84],[49,85,50,86],[49,87,50,89],[50,0,50,6],[50,8,50,13],[50,15,50,16],[50,17,50,21],[50,22,54,23],[50,27,50,28],[48,75,48,84],[46,70,46,71],[46,72,46,74],[46,75,46,84],[46,85,46,86],[46,87,46,89],[47,0,47,5],[47,8,47,13],[47,15,47,16],[47,17,47,21],[47,22,47,23],[46,0,46,5],[46,8,46,13],[46,15,46,16],[46,17,46,33],[46,34,46,60],[46,61,46,69],[44,65,44,68],[44,69,44,72],[44,73,44,76],[44,77,44,84],[44,85,44,89],[45,0,45,89],[42,23,44,23],[42,24,44,25],[42,26,44,27],[42,28,44,29],[42,30,44,31],[42,32,44,33],[42,17,44,17],[42,18,44,18],[42,19,44,19],[42,20,44,20],[42,73,43,76],[42,77,43,84],[42,85,43,89],[44,41,44,45],[44,46,44,48],[44,49,44,50],[44,51,44,52],[44,53,44,55],[44,56,44,60],[44,61,44,64],[42,51,43,52],[42,53,43,55],[42,56,43,60],[42,61,43,64],[42,65,43,68],[42,69,43,72],[42,34,44,35],[42,36,44,38],[42,39,44,40],[42,41,43,45],[42,46,43,48],[42,49,43,50],[42,21,44,21],[42,22,44,22],[42,10,44,11],[42,12,44,12],[42,13,44,13],[42,14,44,14],[42,15,44,15],[42,16,44,16],[40,86,40,89],[41,41,41,52],[41,53,41,64],[41,65,41,76],[41,77,41,89],[42,0,44,1],[42,2,44,3],[42,4,44,5],[42,6,44,7],[42,8,44,9],[40,66,40,68],[40,69,40,71],[40,72,40,75],[40,76,40,79],[40,80,40,81],[40,82,40,85],[40,51,40,52],[40,53,40,54],[40,55,40,56],[40,57,40,58],[40,59,40,61],[40,62,40,65],[40,36,41,38],[40,39,41,40],[40,41,40,42],[40,43,40,45],[40,47,40,48],[40,49,40,50],[40,24,41,25],[40,26,41,27],[40,28,41,29],[40,30,41,31],[40,32,41,33],[40,34,41,35],[40,18,41,18],[40,19,41,19],[40,20,41,20],[40,21,41,21],[40,22,41,22],[40,23,41,23],[40,12,41,12],[40,13,41,13],[40,14,41,14],[40,15,41,15],[40,16,41,16],[40,17,41,17],[40,0,41,1],[40,2,41,3],[40,4,41,5],[40,6,41,7],[40,8,41,9],[40,10,41,11],[38,66,39,68],[38,69,39,71],[38,72,39,75],[38,76,39,79],[39,12,39,13],[39,14,39,15],[39,16,39,17],[39,18,39,19],[39,47,39,48],[39,49,39,50],[38,46,39,46],[38,47,38,52],[38,53,38,56],[38,57,39,58],[38,59,39,61],[38,62,39,65],[39,51,39,52],[39,53,39,54],[39,55,39,56],[38,24,39,27],[38,28,39,31],[38,32,39,35],[38,36,39,40],[38,41,39,42],[38,43,39,45],[38,0,39,3],[36,41,36,68],[36,69,36,89],[37,41,37,46],[37,47,37,58],[37,59,37,68],[37,69,37,79],[37,80,39,81],[37,82,39,85],[37,86,39,89],[34,10,34,11],[34,12,35,14],[34,21,35,26],[34,27,35,32],[35,3,35,5],[35,6,35,7],[35,8,35,9],[35,10,35,11],[34,0,35,2],[34,3,34,5],[34,6,34,7],[34,8,34,9],[31,21,31,26],[31,27,31,29],[31,30,31,32],[32,0,32,2],[32,3,32,4],[32,8,32,9],[32,10,32,11],[32,21,33,26],[32,27,33,29],[32,30,33,32],[38,4,39,7],[38,8,39,11],[38,12,38,19],[38,20,39,21],[38,22,39,23],[36,0,37,40],[30,21,30,26],[30,27,30,29],[30,30,30,32],[31,0,31,2],[31,3,31,4],[31,8,31,9],[31,10,31,11],[31,12,32,14],[31,15,32,17],[31,18,32,20],[29,30,29,32],[29,33,35,89],[30,0,30,2],[30,3,30,5],[30,6,30,7],[30,8,30,9],[30,10,30,11],[30,12,30,14],[30,15,30,17],[30,18,30,20],[29,0,29,2],[29,3,29,7],[29,8,29,14],[29,15,29,20],[29,21,29,26],[29,27,29,29],[33,0,33,2],[33,3,33,7],[33,8,33,11],[33,12,33,14],[33,15,35,17],[33,18,35,20],[27,64,27,67],[27,68,27,71],[27,72,27,75],[27,76,27,79],[27,80,27,84],[28,0,28,14],[28,15,28,20],[28,21,28,32],[27,39,27,42],[27,43,27,46],[27,47,27,50],[27,51,27,54],[27,55,27,59],[27,60,27,63],[27,18,27,20],[27,21,27,24],[27,25,27,26],[27,27,27,29],[27,30,27,35],[27,36,27,38],[22,12,22,15],[22,16,22,19],[22,20,22,23],[22,24,22,28],[26,85,27,85],[26,86,27,87],[26,88,27,89],[27,0,27,2],[27,3,27,5],[27,6,27,7],[27,8,27,9],[27,10,27,11],[27,12,27,14],[27,15,27,17],[26,70,26,71],[26,72,26,73],[26,74,26,75],[26,76,26,78],[26,80,26,81],[26,82,26,84],[26,58,26,59],[26,60,26,61],[26,62,26,63],[26,64,26,65],[26,66,26,67],[26,68,26,69],[26,41,26,42],[26,43,26,45],[26,47,26,49],[26,51,26,52],[26,53,26,54],[26,55,26,57],[26,37,26,38],[26,39,26,40],[26,0,26,1],[26,3,26,4],[26,12,26,13],[26,15,26,16],[26,18,26,19],[26,21,26,22],[25,64,25,65],[25,66,25,67],[25,68,25,69],[25,70,25,71],[25,72,25,73],[25,74,25,75],[25,51,25,52],[25,53,25,54],[25,55,25,57],[25,58,25,59],[25,60,25,61],[25,62,25,63],[25,33,25,35],[25,37,25,38],[25,39,25,40],[25,41,25,42],[25,43,25,45],[25,47,25,49],[25,30,25,32],[26,23,26,24],[26,27,26,28],[26,30,26,32],[26,33,26,35],[24,88,25,89],[25,0,25,1],[25,3,25,4],[25,12,25,13],[25,15,25,16],[25,18,25,19],[25,21,25,22],[25,23,25,24],[25,27,25,28],[24,68,24,71],[24,72,24,75],[24,76,24,79],[24,80,24,84],[24,85,25,85],[24,86,25,87],[25,76,25,78],[25,80,25,81],[25,82,25,84],[24,43,24,46],[24,47,24,50],[24,51,24,54],[24,55,24,59],[24,60,24,63],[24,64,24,67],[24,21,24,24],[24,25,24,26],[24,27,24,29],[24,30,24,35],[24,36,24,38],[24,39,24,42],[21,76,21,79],[22,76,22,79],[21,43,21,44],[21,45,21,46],[21,47,21,49],[21,51,21,52],[21,53,21,54],[21,56,21,57],[21,12,21,15],[21,16,21,19],[21,29,21,31],[21,32,21,34],[21,41,21,42],[23,0,23,89],[24,0,24,2],[24,3,24,5],[24,6,24,7],[24,8,24,9],[24,10,24,11],[24,12,24,14],[24,15,24,17],[24,18,24,20],[22,51,22,52],[22,53,22,54],[22,56,22,57],[22,58,22,60],[22,61,22,62],[22,63,22,65],[22,37,22,38],[22,39,22,40],[22,41,22,42],[21,0,22,2],[22,29,22,31],[22,32,22,34],[22,35,22,36],[21,58,21,60],[21,61,21,62],[21,63,21,65],[21,66,22,73],[22,43,22,44],[22,45,22,46],[22,47,22,49],[19,68,20,69],[19,70,20,71],[19,72,20,73],[17,29,20,31],[17,32,20,34],[17,35,20,36],[19,74,20,75],[17,37,20,38],[17,39,20,40],[17,41,20,42],[21,74,22,75],[19,76,20,79],[19,51,20,52],[19,53,20,54],[19,55,20,55],[19,58,20,60],[19,61,20,62],[19,66,20,67],[17,63,20,65],[16,66,18,67],[16,68,18,69],[16,70,18,71],[16,72,18,73],[16,74,18,75],[16,76,18,79],[19,45,20,46],[19,47,20,49],[19,50,20,50],[17,43,18,46],[17,47,18,50],[17,51,18,55],[17,56,20,57],[17,58,18,62],[19,43,20,44],[11,0,14,2],[16,0,18,2],[16,6,18,6],[16,7,18,7],[16,8,18,8],[16,9,18,9],[16,10,18,10],[16,11,18,11],[16,12,18,13],[16,14,18,15],[16,16,16,17],[16,18,18,19],[19,18,19,19],[19,20,19,21],[19,23,19,24],[19,25,19,26],[19,27,19,28],[17,16,18,16],[17,17,18,17],[17,22,18,22],[17,23,18,24],[17,25,18,26],[17,27,18,28],[14,85,14,89],[15,12,15,19],[15,20,15,28],[15,29,15,65],[15,66,15,75],[11,28,14,30],[11,31,14,36],[11,37,14,40],[11,41,14,46],[11,47,11,68],[11,69,11,89],[11,14,14,16],[11,17,14,18],[11,3,14,5],[11,6,14,7],[11,8,14,9],[11,10,14,11],[11,12,14,13],[13,75,13,78],[13,79,13,80],[12,85,12,89],[13,47,13,52],[13,63,13,68],[13,69,13,74],[12,47,12,52],[12,63,12,68],[12,53,12,55],[12,56,12,59],[12,60,12,62],[13,53,13,55],[14,53,14,55],[14,56,14,59],[14,60,14,62],[11,19,14,20],[11,21,14,23],[11,24,14,25],[11,26,14,27],[9,69,9,72],[9,73,9,74],[9,76,9,78]],"merged_total":1135,"flags":["merged_cut"]}
[null,null,null,null,null,null,null,null,null,null,null,null,null,null,null,null,null,null,null,null,null,null,null,null,null,null,null,"DIRECCION - PROGRAMA  APS \nSUBSECRETARIA DE MEDICINA SOCIAL\nRONDA N°: 191  AÑO: 2025",null,null,null,null,null,null,null,null,null,null,null,null,null,null,null,null,null,null,null,null,null,null,null,null,null,null,"1r","2r","3r",null,"4r",null,"T",null,null,null,null,null,null,null,null,null,null,null,null,null,null,null,null,null,null,null,"Informe y orden de Ronda: ",6,null,null,null,null,2]
[null,null,null,null,null,null,null,"Area Operativa N°: ",4,null,null,null,null,null,"Nombre: ","MORILLO",null,null,null,null,null,null,null,null,null,null,null,null,null,null,null,null,null,null,null,null,null,null,null,null,null,null,null,null,null,null,"Mort. Mater. Acum. Año",null,null,null,null,null,null,null,0,{"$f":"CE41","v":0},0,null,{"$f":"CE41","v":0},null,{"$f":"SUM(BC2:BG2)","v":0},null,null,null,null,"Sector:",null,"PLUMA DE PATO",null,null,null,null,null,null,null,null,null,null,null,null,null,null,null,null,null,"N°",9]
[null,null,null,null,null,null,null,null,null,null,null,null,null,null,null,null,null,null,null,null,null,null,null,null,null,null,null,null,null,null,null,null,null,null,null,null,null,null,null,null,null,null,null,null,null,null,"Mort. 0-1 año Acum Año",null,null,null,null,null,null,null,0,{"$f":"BR41+BU41+BY41","v":0},0,null,{"$f":"BR41+BU41+BY41","v":0},null,{"$f":"SUM(BC3:BG3)","v":0},null,null,null,null,null,"Etnia: ","Criollo-Wichi",null,null,null,null,null,null,null,null,null,null,null,null,null,null,null,null,null,"Sector Riesgo:"]
[null,null,null,null,null,null,null,"Establec. Base: ","HOSPITAL MORILLO",null,null,null,null,null,null,null,null,null,null,null,null,null,null,null,null,null,null,null,null,null,null,null,null,null,null,null,null,null,null,null,null,null,null,null,null,null,"Mort. 1-4 años Acum Año",null,null,null,null,null,null,null,0,{"$f":"CC41","v":0},0,null,{"$f":"CC41","v":0},null,{"$f":"SUM(BC4:BG4)","v":0},null,null,null,null,null,null,null,null,null,null,null,null,"Desde: ","07/03/2025",null,null,null,null,null,null,null,null,"Hasta: ","05/06/2026"]
[null,null,null,null,null,null,null,null,null,null,null,null,null,null,null,null,null,null,null,null,null,null,null,null,null,null,null,null,null,null,null,null,null,null,null,null,null,null,null,null,null,null,null,null,null,null,null,null,null,null,null,null,null,null,null,null,null,null,null,null,null,null,null,null,null,null,null,null,null,null,null,null,null,null,null,null,null,null,null,"Cobertura: ","CUBIERTO"]
[null,null,null,null,null,null,null,"Sup. Intermedio: ","Miguel Correa",null,null,null,null,null,null,null,null,null,null,null,null,null,null,null,null,null,null,null,null,null,null,null,"Responsable A.P.S.: ","Dr. Abel Ibarra",null,null,null,null,null,null,null,null,null,null,null,null,null,null,null,null,null,null,null,null,null,null,"Agente Sanitario: ","Eliberto Ortiz",null,null,null,null,null,null,null,null,null,null,null,null,null,null,null,null,"Sit. Revista: ","PLANTA PERMANENTE",null,null,null,null,null,"Reg. Horario: ","44 HS."]
[]
["A) FAMILIAS VISITADAS EN LA RONDA",null,null,null,null,null,null,null,null,null,null,null,null,null,null,null,null,null,null,null,null,null,null,null,null,null,null,null,null,null,null,null,null,null,null,null,null,null,null,null,null,null,null,null,null,null,null,"B) FACTORES DE PRIORIZACION DE VISITAS"]
["ASIGNADAS",null,null,"VISITADAS",null,null,"TOTAL\nVISITAS",null,"NO VISITADAS",null,null,null,null,null,null,null,null,"FLIAS ORIG.",null,"FLIAS. URB.",null,"FLIAS. PERIURB",null,null,"FLIAS. RURALES",null,"GOLON\nMIGRANTES",null,null,null,null,"FLIAS. CON PL. SOCIALES",null,null,null,null,null,"PRODUCCION\nFAMILIAR",null,null,null,null,null,null,null,null,null,1,null,2,null,3,null,null,4,null,5,null,6,null,7,null,null,8,null,null,9,null,null,10,null,null,null,11,null,null,12,null,null,null,13,null,null,14,null,null,15]
[null,null,null,null,null,null,null,null,"RECHAZO TOTAL",null,"AUSEN\n-TE",null,"NO VISITADAS",null,"TOT NO VISIT.",null,null,null,null,null,null,null,null,null,null,null,"HACIA\nEL AO",null,"DESDE\nEL AO",null,null,null,null,null,null,null,null,"HUERTA",null,null,null,"GRANJA",null,null,null,null,null,0,null,0,null,0,null,null,0,null,0,null,0,null,0,null,null,0,null,null,0,null,null,"Total",null,null,null,"Tot",null,"Trat","Tot.",null,null,"Trat.","Tot.","Trat.",null,"Tot.",null,"Trat","Total"]
[null,null,null,null,null,null,null,null,null,null,0,null,null,null,null,null,null,null,null,null,null,null,null,null,null,null,null,null,null,null,null,null,null,null,null,null,null,null,null,null,null,null,null,null,null,null,null,null,null,null,null,null,null,null,null,null,null,null,null,null,null,null,null,null,null,null,null,null,null,0,null,null,null,0,null,0,0,null,null,0,0,0,null,0,null,0,0]
[0,null,null,0,null,null,0,null,0,null,0,null,0,null,{"$f":"M12+K12+I12","v":0},null,null,0,null,0,null,0,null,null,0,null,0,null,0,null,null,0,null,null,null,null,null,0,null,null,null,0,null,null,null,null,null,"C) VISITAS A FLIAS. PRIORIZADAS",null,null,null,null,null,null,null,null,null,null,null,null,null,null,null,null,null,null,null,null,null,"D) SUPERV. A FLIAS. "]
[null,null,null,null,null,null,null,null,null,null,null,null,null,null,null,null,null,null,null,null,null,null,null,null,null,null,null,null,null,null,null,null,null,null,null,null,null,null,null,null,null,null,null,null,null,null,null,"PRIORIDAD",null,null,null,null,null,1,null,null,2,null,null,null,3,null,null,"Total",null,null,null,null,null,"PRIORIDAD",null,null,null,null,null,1,null,null,null,2,null,3,null,null,null,"TOTAL"]
[null,null,null,null,null,null,null,null,null,null,null,null,null,null,null,null,null,null,null,null,null,null,null,null,null,null,null,null,null,null,null,null,null,null,null,null,null,null,null,null,null,null,null,null,null,null,null,"N° FAMILIAS",null,null,null,null,null,0,null,null,0,null,null,null,0,null,null,{"$f":"SUM(BB14:BI14)","v":0},null,null,null,null,null,"INTERMEDIA",null,null,null,null,null,0,null,null,null,0,null,0,null,null,null,{"$f":"SUM(BX14:CD14)","v":0}]
[null,null,null,null,null,null,null,null,null,null,null,null,null,null,null,null,null,null,null,null,null,null,null,null,null,null,null,null,null,null,null,null,null,null,null,null,null,null,null,null,null,null,null,null,null,null,null,"VISITAS",null,null,null,null,null,0,null,null,0,null,null,null,0,null,null,{"$f":"SUM(BB15:BI15)","v":0},null,null,null,null,null,"PROFESIONAL",null,null,null,null,null,0,null,null,null,0,null,0,null,null,null,{"$f":"SUM(BX15:CB15)","v":0}]
[null,null,null,null,null,"F) EMBARAZADAS",null,null,null,null,null,null,"G) PARTOS",null,null,null,null,null,null,null,"H) R.N. EN LA RONDA",null,null,null,null,null,null,null,null,"I) EVALUACION ANTROPOMETRICA",null,null,null,null,null,null,null,null,null,null,null,null,null,null,null,null,null,null,null,null,null,null,null,null,null,null,null,null,null,null,null,null,null,null,null,null,"NIÑ MBP/BP/RBP CTRL. INT.",null,null,null,null,null,null,null,null,null,"LACT. MATERNA"]
["PAP",null,null,0,null,"CAPT. 1er TRIMESTRE","ESP EN EL AÑO","ACUMULADAS","NUEVAS\nRONDA","TOTAL","DE RIESGO","<19 Años","TOTAL",null,"HOSPITALARIOS",null,"DOMIC.",null,"N° PUERPERAS",null,"NACIDOS VIVOS",null,"P AL NACER",null,null,null,null,null,null,"NIÑOS CONTROLADOS",null,null,null,null,null,null,null,null,null,null,null,null,null,null,null,null,null,null,null,null,null,null,null,null,null,null,null,null,null,null,null,null,null,null,null,null,"MELAN",null,"MED",null,"ENF.",null,"LAB",null,"NUTR",null,"< 6 M EN LA RONDA",null,null,null,{"$f":"CC20+CC22+CC23","v":0}]
[null,null,null,null,null,null,null,null,null,null,null,null,null,null,null,null,"DOM","ASIS",null,null,null,null,"ALTO PESO","ADEC",null,"BAJO PESO",null,"MB\nPESO",null,"EDAD",null,null,"A CONTROLAR",null,null,"ADECUADO",null,"BP\nBAJO PESO",null,"MBP\nMUY B. PESO",null,"ALTO PESO",null,"RIESGO",null,null,null,"RECUPERADOS",null,null,null,"TALLA / EDAD",null,null,null,null,"NUEVOS\nEPISODIOS",null,"PERDIDOS",null,null,null,null,"FALLECIDOS\nC/ANTEC. ANTROPOM."]
[]
["Antic.",null,null,0,null,0,{"$f":"IF(ISERROR(((CC92*1.8)/100)),0,(((CC92*1.8)/100)))","v":0},0,0,{"$f":"SUM(F23:L23)","v":0},0,0,{"$f":"O20+Q20+R20","v":0},null,0,null,0,0,0,null,{"$f":"W20+X20+Z20+AB20","v":0},null,0,0,null,0,null,0,null,null,null,null,null,null,null,null,null,null,null,null,null,null,null,"BP",null,"AP",null,"BP",null,null,"AP","BT",null,"MBT",null,"RGO\nBT",null,null,"BP\nMBP",null,null,"A.P.",null,null,null,null,0,null,0,null,0,null,0,null,0,null,"EXCLUSIVO",null,null,null,0]
[null,null,null,null,null,"CONTROLES",null,null,null,null,null,null," ",null,null,null,null,null,null,null,"PREMATUROS",null,null,null,"PESQUISA"]
["Aborto",null,null,0,null,"MELON",null,"MEL","MED","ENF","LAB","S/C","PUERP",null,null,null,"R.N.",null,null,null,null,null,null,null,null,null,null,null,null,"< 2 años",null,null,{"$f":"A27+C27+D27+F27+G27+H27","v":0},null,null,0,null,0,null,0,null,0,null,0,null,0,null,0,null,null,0,0,null,0,null,0,0,null,0,null,null,0,null,0,null,null,"CONTROLES EN DOMIC. NIÑO BP o MBP",null,null,null,null,null,null,null,0,null,"MIXTA",null,null,null,0]
[null,null,null,null,null,0,null,0,0,0,0,0,0,null,null,null,0,null,null,null,0,null,null,null,0,null,null,null,null,"2 a 6 años",null,null,{"$f":"I27+J27+K27+L27+M27+O27+P27+R27","v":0},null,null,0,null,0,null,0,null,0,null,0,null,0,null,0,null,null,0,0,null,0,null,0,0,null,0,null,null,0,null,0,null,null,null,null,null,null,null,null,null,null,null,null,"ARTIF",null,null,null,0]
["J) DATOS DE POBLACION"]
["0 a 5m",null,null,"6 a 11m",null,null,"1 AÑO",null,"2 AÑOS",null,"3 AÑOS",null,"4 AÑOS",null,null,"5 AÑOS",null,null,"6 AÑOS",null,null,"7 A 9 AÑOS",null,null,null,"10 AÑOS",null,"11 AÑOS",null,null,"12 A 14",null,null,null,null,null,"15 A 19",null,null,"20 A 24",null,null,null,"25 A 29",null,null,null,"30 A 34",null,null,null,"35 A 39",null,null,null,"40 A 44",null,null,null,null,"45 A 49",null,null,null,"50 A 54",null,null,null,"55 A 59",null,null,null,"60 A 64",null,null,null,"65 y +",null,null,null,"TOTAL",null,null,null,null,"MUJERES\n10 A 49","O. SOCIAL",null,"INDOCUM"]
["M",null,"F","M",null,"F","M","F","M","F","M","F","M",null,"F","M",null,"F","M",null,"F","M",null,"F",null,"M","F","M",null,"F","M",null,null,"F",null,null,"M","F",null,"M",null,"F",null,"M",null,null,"F","M",null,null,"F","M",null,"F",null,"M",null,null,"F",null,"M",null,"F",null,"M",null,"F",null,"M",null,"F",null,"M",null,"F",null,"M",null,null,"F","M",null,"F"]
[0,null,0,0,null,0,0,0,0,0,0,0,0,null,0,0,null,0,0,null,0,0,null,0,null,0,0,0,null,0,0,null,null,0,null,null,0,0,null,0,null,0,null,0,null,null,0,0,null,null,0,0,null,0,null,0,null,null,0,null,0,null,0,null,0,null,0,null,0,null,0,null,0,null,0,null,0,null,null,0,{"$f":"BY27+BU27+BQ27+BM27+BI27+BD27+AZ27+AV27+AR27+AN27+AK27+AE27+AB27+Z27+V27+S27+P27+M27+K27+I27+G27+D27+A27","v":0},null,{"$f":"CB27+BW27+BS27+BO27+BK27+BG27+BB27+AY27+AU27+AP27+AL27+AH27+AD27+AA27+X27+U27+R27+O27+L27+J27+H27+F27+C27","v":0},null,null,{"$f":"BK27+BG27+BB27+AY27+AU27+AP27+AL27+AH27+AD27+AA27","v":0},0,null,0]
[{"$f":"A27+C27","v":0},null,null,{"$f":"D27+F27","v":0},null,null,{"$f":"G27+H27","v":0},null,{"$f":"I27+J27","v":0},null,{"$f":"K27+L27","v":0},null,{"$f":"M27+O27","v":0},null,null,{"$f":"P27+R27","v":0},null,null,{"$f":"S27+U27","v":0},null,null,{"$f":"V27+X27","v":0},null,null,null,{"$f":"Z27+AA27","v":0},null,{"$f":"AB27+AD27","v":0},null,null,{"$f":"AE27+AH27","v":0},null,null,null,null,null,{"$f":"AL27+AK27","v":0},null,null,{"$f":"AN27+AP27","v":0},null,null,null,{"$f":"AR27+AU27","v":0},null,null,null,{"$f":"AV27+AY27","v":0},null,null,null,{"$f":"AZ27+BB27","v":0},null,null,null,{"$f":"BD27+BG27","v":0},null,null,null,null,{"$f":"BI27+BK27","v":0},null,null,null,{"$f":"BM27+BO27","v":0},null,null,null,{"$f":"BQ27+BS27","v":0},null,null,null,{"$f":"BU27+BW27","v":0},null,null,null,{"$f":"BY27+CB27","v":0},null,null,null,{"$f":"CC27+CE27","v":0}]
["K) TUBERCULOSIS ",null,null,null,null,null,null,null,null,null,null,null,null,null,null," CHAGAS ",null,null,null,null,null,"L) PERSONAS CON ENF. CRONICAS",null,null,null,null,null,null,null,null,null,null,null,"M) OBSERVACIONES"]
["Coef. Sint.Resp.: ",null,null,"MUESTRAS",null,null,null,null,"TRATAM. TBC",null,null,null,null,null,null,"TRATAMIENTOS CHAGAS",null,null,null,null,null,"PERSONAS CON",null,null,null,null,null,"TOTAL",null,null,"EN TRAT.",null,null," "]
[{"$f":"Control!H9","v":8},null,null,"DIAGNOSTICOS",null,null,"CONTROL",null,"Total",null,"TAES",null," ABANDONO",null,null,"INICIO ",null,null,0,null,null,"DIABETES",null,null,null,null,null,0,null,null,0]
["SINT. ESP..",null,null,"Tot",null,"(+)","Tot","(+)",0,null,0,null,0,null,null,"FINALIZACION ",null,null,0,null,null,"HIPERTENSION \nARTERIAL",null,null,null,null,null,0,null,null,0]
[{"$f":"IF(ISERROR(((AK91+AL91+AN91+AP91+AR91+AU91+AV91+AY91+AZ91+BB91+BD91+BG91+BI91+BK91+BM91+BO91+BQ91+BS91+BU91+BW91+BY91+CB91)*0.2)*A31/100),0,(((AK91+AL91+AN91+AP91+AR91+AU91+AV91+AY91+AZ91+BB91+BD91+BG91+BI91+BK91+BM91+BO91+BQ91+BS91+BU91+BW91+BY91+CB91)*0.2)*A31/100))","v":0},null,null,0,null,0,0,0,"QUIMIO Total",null,0,null,null,null,null,null,null,null,null,null,null,"PERSONAS CON OTRAS ENF. CRONICAS AL CUIDADO DE NIÑOS",null,null,null,null,null,0,null,null,0]
["SINT. DETEC.",null,null,"CONTACTO",null,null,null,null,"CTRL. MEDICO",null,null,null,"FINALIZAD0",null,null,"ABANDONO ",null,null,0]
[0,null,null,"< 14a",null,null,"> 15a",null,"Pcte/Rda",null,"A Cont",null,0,null,null,null,null,null,null,null,null,"ADULTOS MAYORES EN SITUACION DE RIESGO",null,null,null,null,null,0]
[null,null,null,0,null,null,0,null,0,null,0]
["N) DERIVACIONES",null,null,null,null,null,null,null,null,null,null,null,null,null,null,null,null,null,null,null,null,null,null,null,null,null,null,null,null,null,null,null,null,null,null,null,null,null,null,null,null,"Ñ) VIVIENDA Y SANEAMIENTO",null,null,null,null,null,null,null,null,null,null,null,null,null,null,null,null,null,null,null,null,null,null,null,null,null,null,null,"O) DEFUNCIONES EN LA RONDA"]
[null,null,null,null,null,null,null,null,null,null,null,null,null,null,null,null,null,null,null,null,null,null,null,null,null,null,null,null,null,null,null,null,null,null,null,null,null,null,null,null,null,"TRAT. AGUA",null,null,null,null,null,"DISP SANITARIA EXCRETAS",null,null,null,null,null,null,null,null,null,null,null,"TRATAM. SANIT BASURA",null,null,null,null,null,null,null,null,null,"MENORES 1 AÑO",null,null,null,null,null,null,null,null,null,null,"1 a 4 AÑOS",null,"MATERNA",null,null,null,"OTRAS"]
["EMB",null,null,null,"RN",null,null,null,"PUERP",null,null,null,"Menores de 6 años",null,null,null,null,null,null,null,"E.\nCRONICAS",null,"PAP",null,"CHAGAS",null,null,null,"TBC",null,null,null,"PSICOSOC",null,null,null,"TOTAL\nDERIVACIONES",null,null,null,null,"RED",null,"EN\nVIV",null,null,"S/T","ARRASTRE",null,null,null,null,null,"LETRINA",null,null,null,"S/T",null,"REC. DOMIC.",null,null,"POZO BASURA",null,null,null,"S/T",null,null,"<7d",null,null,"7 a 28d",null,null,null,"29d a 11 m"]
[null,null,null,null,null,null,null,null,null,null,null,null,"BP- MBP",null,"RGO BP",null,"Resp",null,"Diarr",null,null,null,null,null,null,null,null,null,null,null,null,null,null,null,null,null,null,null,null,null,null,null,null,null,null,null,null,"CLOACAS",null,"PC-CT",null,"PC-ST",null,"CT",null,"ST"]
["Env",null,"Rec",null,"Env",null,"Rec",null,"Env",null,"Rec",null,"Env","Rec","Env","Rec","Env","Rec","Env","Rec","Env","Rec","Env","Rec","Env",null,"Rec",null,"Env",null,"Rec",null,"Env",null,"Rec",null,"ENV",null,null,"Rec",null,0,null,0,null,null,0,0,null,0,null,0,null,0,null,0,null,0,null,0,null,null,0,null,null,null,0,null,null,0,null,null,0,null,null,null,0,null,null,null,0,null,0,null,null,null,0]
[null,null,null,null,null,null,null,null,null,null,null,null,null,null,null,null,null,null,null,null,null,null,null,null,null,null,null,null,null,null,null,null,null,null,null,null,null,null,null,null,null,"CASAS ",null,null,null,null,null,null,null,null,null,null,null,"CHAGAS",null,null,null,null,null,null,null,null,null,null,null,"DENGUE CHIKUNGUNYA",null,null,null,null,null,null,null,null,null,null,null,"P) PROM. SALUD"]
[0,null,0,null,0,null,0,null,0,null,0,null,0,0,0,0,0,0,0,0,0,0,0,0,0,null,0,null,0,null,0,null,0,null,0,null,{"$f":"AG43+AC43+Y43+W43+U43+S43+Q43+O43+M43+I43+E43+A43","v":0},null,null,{"$f":"AI43+AE43+AA43+X43+V43+T43+R43+P43+N43+K43+G43+C43","v":0},null,"ASIGNADAS",null,null,null,null,"VISITADAS",null,null,"VACIAS",null,"DESTRUIDAS",null,"EVALUADAS",null,null,"POSITIVAS",null,null,null,null,"TRATADAS",null,null,null,"EVALUADAS",null,null,null,"POSITIVAS",null,null,null,"TRATADAS",null,null,null,"PLANIFICADAS \nEN COMUNIDAD",null,null,null,null,null,null,null,0]
[]
[null,null,null,null,null,null,null,null,null,null,null,null,null,null,null,null,null,null,null,null,null,null,null,null,null,null,null,null,null,null,null,null,null,null,null,null,null,null,null,null,null,0,null,null,null,null,0,null,null,0,null,0,null,0,null,null,0,null,null,null,null,0,null,null,null,0,null,null,null,0,null,null,null,0,null,null,null,"REALIZADAS ",null,null,null,null,null,null,null,0]
["Q) INDICADORES"]
["DE ESTRUCTURA",null,null,null,null,null,"SI","NO","DE PRODUCCION",null,null,null,null,null,"%","META",null," DE INMUNIZACIONES",null,null,null,null,null,null,null,null,null,null,null,null,null,null,null,null," DE INMUNIZACIONES",null,null,null,null,null,null,null,null,null,null,null,null,null,null,null,null,null,null,null,null,null,null,null,null,null,null," DE RESULTADO",null,null,null,null,null,null,null,null,"%",null,"META",null,null," DE RESULTADO",null,null,null,null,null,null,null,null,null,"%",null,"META RDA"]
["Formularios",null,null,null,null,null,0,0,"Cobertura a Familias",null,null,null,null,null,{"$f":"IF(ISERROR(D12/A12),0,(D12/A12)*100)","v":0},100,null,"VACUNA",null,null,null,null,"P. REF",null,"1r","2r","3r","4r",null,"T","%",null,"META",null,"VACUNA",null,null,null,null,null,null,null,null,null,"P. REF",null,null,"1r",null,null,"2r","3r",null,null,"4r","T",null,"%",null,"META",null,"Ed Fértil c/Anticoncepción",null,null,null,null,null,null,null,null,{"$f":"IF(ISERROR(D20/CH27),0,(D20/CH27)*100)","v":0},null,null,null,null,"Niños 2 a 5 Recup BP",null,null,null,null,null,null,null,null,null,{"$f":"IF(ISERROR(AV23/K80),0,(AV23/K80)*100)","v":0},null,100]
["Equipo",null,null,null,null,null,0,0,"Niños < 2 años Controlados",null,null,null,null,null,{"$f":"IF(ISERROR(((AJ22+AL22+AN22+AP22)/(A28+D28+G28))),0,(((AJ22+AL22+AN22+AP22)/(A28+D28+G28)))*100)","v":0},100,null,"BCG RN",null,null,null,null,{"$f":"U20","v":0},null,0,0,0,0,null,{"$f":"SUM(Y49:AB49)","v":0},{"$f":"IF(ISERROR(Z49/W49),0,(Z49/W49)*100)","v":0},null,100,null,"2 Ref. Varicela Ingreso Esc",null,null,null,null,null,null,null,null,null,11,null,null,0,null,null,0,0,null,null,0,{"$f":"SUM(AV49:BC49)","v":0},null,{"$f":"IF(ISERROR(AY49/AS49),0,(AY49/AS49)*100)","v":0},null,25,null,"PAP",null,null,null,null,null,null,null,null,{"$f":"IF(ISERROR(D17/CH27),0,(D17/CH27)*100)","v":0},null,null,null,null,"Niños 2 a 5 Recup AP",null,null,null,null,null,null,null,null,null,{"$f":"IF(ISERROR(AY23/K82),0,(AY23/K82)*100)","v":0},null,100]
["Combustible",null,null,null,null,null,0,0,"Niños  (2 a 5 años) Controlados",null,null,null,null,null,{"$f":"IF(ISERROR(((AJ23+AL23+AN23+AP23)/(I28+K28+M28+P28))),0,(((AJ23+AL23+AN23+AP23)/(I28+K28+M28+P28)))*100)","v":0},100,null,"Hepatitis B RN","Hepatitis B RN",null,"Hepatitis B RN","Hepatitis B RN",null,null,0,0,0,0,null,{"$f":"SUM(Y50:AB50)","v":0},{"$f":"IF(ISERROR(Z50/W49),0,(Z50/W49)*100)","v":0},null,null,null,"2° Ref. Antipolio Ingreso Escolar",null,null,null,null,null,null,null,null,null,null,null,null,0,null,null,0,0,null,null,0,{"$f":"SUM(AV50:BC50)","v":0},null,{"$f":"IF(ISERROR(AY50/AS49),0,(AY50/AS49)*100)","v":0},null,null,null,"Embarazadas Con MELON",null,null,null,null,null,null,null,null,{"$f":"IF(ISERROR(F23/J20),0,(F23/J20)*100)","v":0},null,80,null,null,"Niños 6 meses con LME",null,null,null,null,null,null,null,null,null,{"$f":"IF(ISERROR(CC20/CC17),0,(CC20/CC17)*100)","v":0},null,80]
[" DE DIAGNOSTICO",null,null,null,null,null,null,"%","Conc. Vis. Flias Prio",null,null,null,null,null,{"$f":"IF(ISERROR((BB15+BE15)/(BB14+BE14)),0,((BB15+BE15)/(BB14+BE14)))","v":0},25,null,"2° Neumococo < 1a","3ª SOT/Salk < 1a",null,"3ª SOT/Salk < 1a","3ª SOT/Salk < 1a",{"$f":"A91+C91+D91+F91","v":0},null,0,0,0,0,null,{"$f":"SUM(Y51:AB51)","v":0},{"$f":"IF(ISERROR(Z51/W51),0,(Z51/W51)*100)","v":0},null,100,null,"2° Ref. DPT Ingreso Escolar",null,null,null,null,null,null,null,null,null,null,null,null,0,null,null,0,0,null,null,0,{"$f":"SUM(AV51:BC51)","v":0},null,{"$f":"IF(ISERROR(AY51/AS49),0,(AY51/AS49)*100)","v":0},null,null,null,"Partos Hospitalarios",null,null,null,null,null,null,null,null,{"$f":"IF(ISERROR(O20/M20),0,(O20/M20)*100)","v":0},null,100]
["Flias Priorizadas 3 + 2:",null,null,null,null,null,null,{"$f":"IF(ISERROR((BB14+BE14)/D12),0,(BB14+BE14)/D12*100)","v":0},"Conc.C.Dom Niños Bp/MBP",null,null,null,null,null,{"$f":"IF(ISERROR(BW22/(AL22+AN22+AL23+AN23)),0,(BW22/(AL22+AN22+AL23+AN23)))","v":0},3,null,"2° Rotavirus <1 a","3º Pentavalente <1 a",null,"3º Pentavalente <1 a","3º Pentavalente <1 a",null,null,0,0,0,0,null,{"$f":"SUM(Y52:AB52)","v":0},{"$f":"IF(ISERROR(Z52/W51),0,(Z52/W51)*100)","v":0},null,null,null,"2° TV Ingreso Escolar",null,null,null,null,null,null,null,null,null,null,null,null,0,null,null,0,0,null,null,0,{"$f":"SUM(AV52:BC52)","v":0},null,{"$f":"IF(ISERROR(AY52/AS49),0,(AY52/AS49)*100)","v":0},null,100,null,"Conc Control Médico a RN",null,null,null,null,null,null,null,null,{"$f":"IF(ISERROR(Q23/M20),0,(Q23/M20))","v":0},null,4,null,null,"% Niños BP MBP y RBP con MELaN",null,null,null,null,null,null,null,null,null,{"$f":"IF(ISERROR(BO20/(AL22+AN22+AR22+AL23+AN23+AR23)),0,(BO20/(AL22+AN22+AR22+AL23+AN23+AR23))*100)","v":0},null,100]
["Flias Urbanas",null,null,null,null,null,null,{"$f":"IF(ISERROR(T12/D12),0,(T12/D12)*100)","v":0},"Rel. Muestra/Sint Resp.",null,null,null,null,null,{"$f":"IF(ISERROR(D33/A35),0,(D33/A35))","v":0},2,null,"2° Meningococo < 1a",null,null,null,null,null,null,0,0,0,0,null,{"$f":"SUM(Y53:AB53)","v":0},{"$f":"IF(ISERROR(Z53/W51),0,(Z53/W51)*100)","v":0},null,null,null,"dTpa 11 años",null,null,null,null,null,null,null,null,null,13,null,null,0,null,null,0,0,null,null,0,{"$f":"SUM(AV53:BC53)","v":0},null,{"$f":"IF(ISERROR(AY53/AS53),0,(AY53/AS53)*100)","v":0},null,null,null,"Conc Control Méd. a puérpera",null,null,null,null,null,null,null,null,{"$f":"IF(ISERROR(M23/S20),0,(M23/S20))","v":0},null,4,null,null,"Sint Resp Detect. Seg zona",null,null,null,null,null,null,null,null,null,{"$f":"IF(ISERROR((A35*100)/(((20*(AK28+AN28+AR28+AV28+AZ28+BD28+BI28+BM28+BQ28+BU28+BY28))/100)*A31)),0,(A35*100)/((((20*(AK28+AN28+AR28+AV28+AZ28+BD28+BI28+BM28+BQ28+BU28+BY28))/100)*A31)/100))","v":0},null,"S/Z"]
["Flias Periurbanas",null,null,null,null,null,null,{"$f":"IF(ISERROR(V12/D12),0,(V12/D12)*100)","v":0},"Casas Evaluadas Chagas",null,null,null,null,null,{"$f":"IF(ISERROR(BB45/AU45),0,(BB45/AU45)*100)","v":0},100,null,"3° Antipolio < 1 año","2ª Rotavirus < 1 año",null,"2ª Rotavirus < 1 año","2ª Rotavirus < 1 año",null,null,0,0,0,0,null,{"$f":"SUM(Y54:AB54)","v":0},{"$f":"IF(ISERROR(Z54/W51),0,(Z54/W51)*100)","v":0},null,null,null,"U.D. Meningococo",null,null,null,null,null,null,null,null,null,null,null,null,0,null,null,0,0,null,null,0,{"$f":"SUM(AV54:BC54)","v":0},null,{"$f":"IF(ISERROR(AY54/AS53),0,(AY54/AS53)*100)","v":0},null,"95% AL 1° SEM",null,"RN con Pesquisa",null,null,null,null,null,null,null,null,{"$f":"IF(ISERROR(Y23/U20),0,(Y23/U20)*100)","v":0},null,100,null,null,"Pacientes TBC con Control Médico",null,null,null,null,null,null,null,null,null,{"$f":"IF(ISERROR(I36/I32),0,(I36/I32)*100)","v":0},null,100]
["Flias Rurales",null,null,null,null,null,null,{"$f":"IF(ISERROR(Y12/D12),0,(Y12/D12)*100)","v":0},"Casas Tratadas Chagas",null,null,null,null,null,{"$f":"IF(ISERROR(BJ45/BE45),0,(BJ45/BE45)*100)","v":0},100,null,"3° Pentavalente <1 año","TV 1 año",null,"TV 1 año","TV 1 año",null,null,0,0,0,0,null,{"$f":"SUM(Y55:AB55)","v":0},{"$f":"IF(ISERROR(Z55/W51),0,(Z55/W51)*100)","v":0},null,null,null,"1° HPV Niñas cumplen 11 a en año en curso",null,null,null,null,null,null,null,null,null,6,null,null,0,null,null,0,0,null,null,0,{"$f":"SUM(AV55:BC55)","v":0},null,{"$f":"IF(ISERROR(AY55/AS55),0,(AY55/AS55)*100)","v":0},null,null,null,"Derivaciones Enviadas/Recibidas",null,null,null,null,null,null,null,null,{"$f":"IF(ISERROR(AN43/AK43),0,(AN43/AK43)*100)","v":0},null,100,null,null,"Contactos TBC Controlados",null,null,null,null,null,null,null,null,null,{"$f":"IF(ISERROR(K36/(D36+G36)),0,(K36/(D36+G36)))*100","v":0},null,100]
["Flias Originarias",null,null,null,null,null,null,{"$f":"IF(ISERROR(R12/D12),0,(R12/D12)*100)","v":0},"Casas Evaluadas Dengue",null,null,null,null,null,{"$f":"IF(ISERROR(BN45/AU45),0,(BN45/AU45)*100)","v":0},100,null,"1° TV","A HA 1 año",null,"A HA 1 año","A HA 1 año",{"$f":"G91+H91","v":0},null,0,0,0,0,null,{"$f":"SUM(Y56:AB56)","v":0},{"$f":"IF(ISERROR(Z56/W56),0,(Z56/W56)*100)","v":0},null,100,null,"1° HPV Niños cumplen 11 a en año en curso",25,25,null,null,null,null,null,null,null,5,null,null,0,null,null,0,0,null,null,0,{"$f":"SUM(AV56:BC56)","v":0},null,{"$f":"IF(ISERROR(AY56/AS56),0,(AY56/AS56)*100)","v":0},null,"95% AL 1° SEM",null,"Niños < 2 a Riesgo BP",null,null,null,null,null,null,null,null,{"$f":"IF(ISERROR(AR22/AJ22),0,(AR22/AJ22)*100)","v":0},null,null,null,null,"TAES de TBC",null,null,null,null,null,null,null,null,null,{"$f":"IF(ISERROR(K32/I32),0,(K32/I32)*100)","v":0},null,100]
["Flias Migr. desde AO",null,null,null,null,null,null,{"$f":"IF(ISERROR(AC12/A12),0,(AC12/A12)*100)","v":0},"Casas Tratadas Dengue",null,null,null,null,null,{"$f":"IF(ISERROR(BV45/BR45),0,(BV45/BR45)*100)","v":0},100,null,"2° TV","A HA 1 año",null,"A HA 1 año","A HA 1 año",null,null,0,0,0,0,null,{"$f":"SUM(Y57:AB57)","v":0},{"$f":"IF(ISERROR(Z57/W56),0,(Z57/W56)*100)","v":0},null,null,null,"Emb. con dTpa",null,null,null,null,null,null,null,null,null,8,null,null,0,null,null,0,0,null,null,0,{"$f":"SUM(AV57:BC57)","v":0},null,{"$f":"IF(ISERROR(AY57/AS57),0,(AY57/AS57)*100)","v":0},null,null,null,"Niños < 2 a Riesgo AP",null,null,null,null,null,null,null,null,{"$f":"IF(ISERROR(AT22/AJ22),0,(AT22/AJ22)*100)","v":0},null,null,null,null,"Ptes. con tratamiento por Chagas",null,null,null,null,null,null,null,null,null,{"$f":"S31","v":0}]
["Flias Migr. hacia el AO",null,null,null,null,null,null,{"$f":"IF(ISERROR(AA12/A12),0,(AA12/A12)*100)","v":0},"Superv Int. a la Familia",null,null,null,null,null,{"$f":"IF(ISERROR((CH14*100)/BL14),0,((CH14*100)/BL14))","v":0},20,null,"Unica Dosis A HA",null,null,null,null,null,null,0,0,0,0,null,{"$f":"SUM(Y58:AB58)","v":0},{"$f":"IF(ISERROR(Z58/W56),0,(Z58/W56)*100)","v":0},null,null,null,"Emb. con Vac Sinsicial",null,null,null,null,null,null,null,null,null,null,null,null,0,null,null,0,0,null,null,0,{"$f":"SUM(AV58:BC58)","v":0},null,{"$f":"IF(ISERROR(AY58/AS57),0,(AY58/AS57)*100)","v":0},null,100,null,"Niños < 2 Recup BP",null,null,null,null,null,null,null,null,{"$f":"IF(ISERROR(AV22/K79),0,(AV22/K79)*100)","v":0},null,100,null,null,"Casas positivas Chagas",null,null,null,null,null,null,null,null,null,{"$f":"IF(ISERROR(BE45/BB45),0,(BE45/BB45)*100)","v":0},null,0]
["Flias con planes sociales",null,null,null,null,null,null,{"$f":"IF(ISERROR(AF12/D12),0,(AF12/D12)*100)","v":0},"Superv Prof. Flias Prio (3v)",null,null,null,null,null,{"$f":"IF(ISERROR(CH15/(BB14+BE14)),0,(CH15/(BB14+BE14))*100)","v":0},70,null,"Ref Neumococo 1 año","Ref Neumoc 1 año",null,"Ref Neumoc 1 año","Ref Neumoc 1 año",null,null,0,0,0,0,null,{"$f":"SUM(Y59:AB59)","v":0},{"$f":"IF(ISERROR(Z59/W56),0,(Z59/W56)*100)","v":0},null,null,null,"dT  Vigente > 65 a",null,null,null,null,null,null,null,null,null,26,null,null,0,null,null,0,0,null,null,0,{"$f":"SUM(AV59:BC59)","v":0},null,{"$f":"IF(ISERROR(AY59/AS59),0,(AY59/AS59)*100)","v":0},null,100,null,"Niños < 2 Recup AP",null,null,null,null,null,null,null,null,{"$f":"IF(ISERROR(AY22/K81),0,(AY22/K81)*100)","v":0},null,100,null,null,"Casas Positivas Aedes",null,null,null,null,null,null,null,null,null,{"$f":"IF(ISERROR(BR45/BN45),0,(BR45/BN45)*100)","v":0},null," "]
[null,null,null,null,null,null,null,null,"% Activ Prom.Salud Comunitarias",null,null,null,null,null,{"$f":"IF(ISERROR(CH45/CH43),0,(CH45/CH43)*100)","v":0},100,null,"Ref. Meningococo 1 año","Ref Cuádruple 1 año",null,"Ref Cuádruple 1 año","Ref Cuádruple 1 año",null,null,0,0,0,0,null,{"$f":"SUM(Y60:AB60)","v":0},{"$f":"IF(ISERROR(Z60/W56),0,(Z60/W56)*100)","v":0},null,null,null,"Neumo 20 > 65 años",null,null,null,null,null,null,null,null,null,null,null,null,0,null,null,0,0,null,null,0,{"$f":"SUM(AV60:BC60)","v":0},null,{"$f":"IF(ISERROR(AY60/AS59),0,(AY60/AS59)*100)","v":0},null,null,null,"Niños 2 a 5 Riesgo BP",null,null,null,null,null,null,null,null,{"$f":"IF(ISERROR(AR23/AJ23),0,(AR23/AJ23)*100)","v":0},null,null,null,null,"UROCS 1/SEC",null,null,null,null,null,null,null,null,null,0,null,"1/SEC"]
["Flias. c/Antec Mort Mat Inf",null,null,null,null,null,null,{"$f":"IF(ISERROR(AV10/D12),0,(AV10/D12)*100)","v":0},null,null,null,null,null,null,null,null,null,"Unica Dosis Varicela","Ref SOT 1 año",null,"Ref SOT 1 año","Ref SOT 1 año",null,null,0,0,0,0,null,{"$f":"SUM(Y61:AB61)","v":0},{"$f":"IF(ISERROR(Z61/W56),0,(Z61/W56)*100)","v":0},null,null,null,"Aplic. Cargadas a Nomivac",null,null,null,null,null,null,null,null,null,0,null,null,null,null,null,null,null,null,null,null,null,null,null,null,null,null,null,null,null,null,null,null,null,null,null,null,null,null,null,null,"Flias con Huerta",null,null,null,null,null,null,null,null,null,{"$f":"IF(ISERROR(AL12/D12),0,(AL12/D12)*100)","v":0}]
["F con 3 o más <6 años",null,null,null,null,null,null,{"$f":"IF(ISERROR(BI10/D12),0,(BI10/D12)*100)","v":0}," DE IMPACTO",null,null,null,null,"%",null,"META",null,"4° Dosis o 1° Ref. Pentavalente",null,null,null,null,null,null,0,0,0,0,null,{"$f":"SUM(Y62:AB62)","v":0},{"$f":"IF(ISERROR(Z62/W56),0,(Z62/W56)*100)","v":0},null,null,null,"Total Aplic /AS",null,null,null,null,null,null,null,null,null,0,null,null,null,null,null,null,null,null,null,null,null,null,null,null,null,null,"Niños 2 a 5 Riesgo AP",null,null,null,null,null,null,null,null,{"$f":"IF(ISERROR(AT23/AJ23),0,(AT23/AJ23)*100)","v":0},null,null,null,null,"Flias con Granja",null,null,null,null,null,null,null,null,null,{"$f":"IF(ISERROR(AP12/D12),0,(AP12/D12)*100)","v":0}]
["Flias con Hacinamiento",null,null,null,null,null,null,{"$f":"IF(ISERROR(BL10/D12),0,(BL10/D12)*100)","v":0},"Agua Seg (Trat Red + Viv)",null,null,null,null,{"$f":"IF(ISERROR((AP41+AR41)/D12),0,((AP41+AR41)/D12)*100)","v":0},null,100,null,"2° AG 6m a 24m",null,null,null,null,{"$f":"D91+F91+G91+H91","v":0},null,0,0,0,0,null,{"$f":"SUM(Y63:AB63)","v":0},{"$f":"IF(ISERROR(Z63/W63),0,(Z63/W63)*100)","v":0},null," ",null,"VAC COVID APLIC EN LA RONDA",null,null,null,null,null,null,null,null,null,0,null,null,null,null,null,null,null,null,null,null,null,null,null,null,null,null,"U) A llenar en 1° Ronda del Año"]
["Flias con Analfabet",null,null,null,null,null,null,{"$f":"IF(ISERROR(BO10/D12),0,(BO10/D12)*100)","v":0},"DSE (Arrastre y letrinas)",null,null,null,null,{"$f":"IF(ISERROR((AV41+AX41+AZ41+BB41+BD41)/D12),0,((AV41+AX41+AZ41+BB41+BD41)/D12)*100)","v":0},null,100,null,"R) PRODUCCION Y RENDIMIENTO",null,null,null,null,null,null,null,null,null,null,null,null,null,null,null,null,null,null,null,null,null,null,null,null,null,null,null,null,null,null,null,null,null,null,null,null,null,null,null,null,null,null,null,"Piso",null,null,null,null,"Techo",null,null,null,null,"Paredes",null,null,null,null,null,null,null,null,null,"Cocina",null,null,null,null,"Tenencia"]
["Flias con Suicidio",null,null,null,null,null,null,{"$f":"IF(ISERROR(BT11/D12),0,(BT11/D12)*100)","v":0},"TSB (Recolección + Pozo)",null,null,null,null,{"$f":"IF(ISERROR((BH41+BK41)/D12),0,((BH41+BK41)/D12)*100)","v":0},null,100,null,"DIAS A TRAB. /RONDA",null,null,"DIAS INCLEM CLIMAT.",null,null,"DIAS Y NROS DE ARTICULOS TOMADOS",null,null,null,"CAPACITACIONES Y OTRAS ACTIVIDADES",null,null,null,null,null,null,null,null,null,null,null,null,null,null,null,null,null,null,null,null,null,null,"DIAS TRABAJADOS\nEN TERRENO",null,null,null,null,"PROM. DIARIO DE FLIAS VISIT.",null,null,null,null,null,"Mosaico/B.",null,null,null,0,"Losa",null,null,0,null,"Ladrillo",null,null,0,null,"Madera",null,null,null,0,"Gas",null,null,0,null,"Segura",null,null,0]
["Flias c /tentativa suicidio",null,null,null,null,null,null,{"$f":"IF(ISERROR(BV11/D12),0,(BV11/D12)*100)","v":0},"Emb Adolescente",null,null,null,null,{"$f":"IF(ISERROR(L20/J20),0,(L20/J20)*100)","v":0},null,null,null,null,null,null,null,null,null,0,null,null,null,0,null,null,null,null,null,null,null,null,null,null,0,null,null,null,null,null,null,null,null,null,null,null,null,null,null,null,null,null,null,null,null,null,null,"Cemento",null,null,null,0,"Chapa\nZinc",null,null,0,null,"Bloque",null,null,0,null,"Quincho",null,null,null,0,"Leña/\nCarb",null,null,0,null,"Inseg.",null,null,0]
["Flias con Alcoholismo",null,null,null,null,null,null,{"$f":"IF(ISERROR(BY11/D12),0,(BY11/D12)*100)","v":0},"Niños <2 Bajo Peso/MBP",null,null,null,null,{"$f":"IF(ISERROR((AL22+AN22)/(AJ22+AP22+AL22+AN22)),0,((AL22+AN22)/(AJ22+AP22+AL22+AN22))*100)","v":0},null,null,null,null,null,null,null,null,null,0,null,null,null,0,null,null,null,null,null,null,null,null,null,null,0,null,null,null,null,null,null,null,null,null,null,null,null,null,null,null,null,null,null,null,null,null,null,"Tierra",null,null,null,0,"Paja/\nBarro",null,null,0,null,"Adobe",null,null,0,null,"Carton/Pl",null,null,null,0,"Otros",null,null,0,null,"Hac",null,null,0,null,null,null,5]
["Flias c/ otras Adicciones",null,null,null,null,null,null,{"$f":"IF(ISERROR(CC11/D12),0,(CC11/D12)*100)","v":0},"Niños <2 a AP",null,null,null,null,{"$f":"IF(ISERROR(AP22/(AJ22+AP22+AL22+AN22)),0,(AP22/(AJ22+AP22+AL22+AN22))*100)","v":0},null,null,null,0,null,null,0,null,null,0,null,null,null,0,null,null,null,null,null,null,null,null,null,null,0,null,null,null,null,null,null,null,null,null,null,null,0,null,null,null,null,{"$f":"IF(ISERROR(G12/AY68),0,(G12/AY68))","v":0},null,null,null,null,null,"Otros",null,null,null,0,"Otros",null,null,0,null,"Piedra",null,null,0,null,"Otro",null,null,null,0,"Helad.",null,null,0]
["Flias con VIF",null,null,null,null,null,null,{"$f":"IF(ISERROR(CF11/D12),0,(CF11/D12)*100)","v":0},"Niños < 2 baja y MBT",null,null,null,null,{"$f":"IF(ISERROR((AZ22+BB22)/(AJ22+AP22+AL22+AN22)),0,((AZ22+BB22)/(AJ22+AP22+AL22+AN22))*100)","v":0},null,null,null,"S) DETALLE DE LAS DEFUNCIONES (Todas las del Sector)",null,null,null,null,null,null,null,null,null,null,null,null,null,null,null,null,null,null,null,null,null,null,null,null,null,null,null,null,null,null,null,null,null,null,null,null,null,null,null,null,null,null,null,"Agua",null,"Corriente a Domic",null,null,"Grifo Terr",null,null,"Grifo Público",null,null,"Bomba",null,null,"Pozo",null,null,null,"Camión Aguatero / Cisterna",null,"Vertiente/Rio/Aceq",null,null,"Laguna",null,null,"Lluvia/Aljibe"]
["Flias con Diabetes",null,null,null,null,null,null,{"$f":"IF(ISERROR(AB31/D12),0,(AB31/D12)*100)","v":0},"Niños 2 a 5 Bajo Peso/MBP",null,null,null,null,{"$f":"IF(ISERROR((AL23+AN23)/(AJ23+AP23+AL23+AN23)),0,((AL23+AN23)/(AJ23+AP23+AL23+AN23))*100)","v":0},null,null,null,"APELLIDO Y NOMBRE",null,null,null,null,null,null,"DOMICILIO",null,null,null,null,null,null,null,null,"NACIMIENTO",null,null,null,null,"DEFUNCION",null,null,null,"PESO\nAL NACER",null,null,null,"CAUSA",null,null,null,null,null,null,null,null,null,"CLASIFICAC."]
["Flias con Hipertensión",null,null,null,null,null,null,{"$f":"IF(ISERROR(AB32/D12),0,(AB32/D12)*100)","v":0},"Niños 2 a 5 AP",null,null,null,null,{"$f":"IF(ISERROR(AP23/(AJ23+AP23+AL23+AN23)),0,(AP23/(AJ23+AP23+AL23+AN23))*100)","v":0}]
[]
["Personas con otras enfermedades crónicas al cuidado de niños",null,null,null,null,null,null,{"$f":"IF(ISERROR(AB33/D12),0,(AB33/D12)*100)","v":0},"Niños 2 a 5 baja y MBT",null,null,null,null,{"$f":"IF(ISERROR((AZ23+BB23)/(AJ23+AP23+AL23+AN23)),0,((AZ23+BB23)/(AJ23+AP23+AL23+AN23))*100)","v":0},null,null,null,null,null,null,null,null,null,null,null,null,null,null,null,null,null,null,null,null,null,null,null,null,null,null,null,null,null,null,null,null,null,null,null,null,null,null,null,null,null,null,null,null,null,null,null,null,null,0,null,null,0,null,null,0,null,null,0,null,null,0,null,null,null,0,null,0,null,null,0,null,null,0]
["Pers c/O Social/Pob total",null,null,null,null,null,null,{"$f":"IF(ISERROR(CI27/CC28),0,(CI27/CC28)*100)","v":0}]
[]
[]
[]
[]
["BP+MBP Ronda Anterior Men2a: ",null,null,null,null,null,null,null,null,null,0]
["BP+MBP Ronda Anterior 2 a 6a: ",null,null,null,null,null,null,null,null,null,0]
["AP Ronda Anterior Men2a: ",null,null,null,null,null,null,null,null,null,0]
["AP Ronda Anterior 2 a 6a: ",null,null,null,null,null,null,null,null,null,0]
[]
[]
[]
[]
[]
["0 a 5m",null,null,"6 a 11m",null,null,"1 AÑO",null,"2 AÑOS",null,"3 AÑOS",null,"4 AÑOS",null,null,"5 AÑOS",null,null,"6 AÑOS",null,null,"7 A 9 AÑOS",null,null,null,"10 AÑOS",null,"11 AÑOS",null,null,"12 A 14",null,null,null,null,null,"15 A 19",null,null,"20 A 24",null,null,null,"25 A 29",null,null,null,"30 A 34",null,null,null,"35 A 39",null,null,null,"40 A 44",null,null,null,null,"45 A 49",null,null,null,"50 A 54",null,null,null,"55 A 59",null,null,null,"60 A 64",null,null,null,"65 y +",null,null,null,"TOTAL",null,null,null,null,"MUJERES\n10 A 49"]
["M",null,"F","M",null,"F","M","F","M","F","M","F","M",null,"F","M",null,"F","M",null,"F","M",null,"F",null,"M","F","M",null,"F","M",null,null,"F",null,null,"M","F",null,"M",null,"F",null,"M",null,null,"F","M",null,null,"F","M",null,"F",null,"M",null,null,"F",null,"M",null,"F",null,"M",null,"F",null,"M",null,"F",null,"M",null,"F",null,"M",null,null,"F","M",null,"F"]
[0,null,0,0,null,0,0,0,0,0,0,0,0,null,0,0,null,0,0,null,0,0,null,0,null,0,0,0,null,0,0,null,null,0,null,null,0,0,null,0,null,0,null,0,null,null,0,0,null,null,0,0,null,0,null,0,null,null,0,null,0,null,0,null,0,null,0,null,0,null,0,null,0,null,0,null,0,null,null,0,{"$f":"SUM(A90,D90,G90,I90,K90,M90,P90,S90,V90,Z90,AB90,AE90,AK90,AN90,AR90,AV90,AZ90,BD90,BI90,BM90,BQ90,BU90,BY90)","v":0},null,{"$f":"SUM(C90,F90,H90,J90,L90,O90,R90,U90,X90,AA90,AD90,AH90,AL90,AP90,AU90,AY90,BB90,BG90,BK90,BO90,BS90,BW90,CB90)","v":0},null,null,{"$f":"SUM(AA90,AD90,AH90,AL90,AP90,AU90,AY90,BB90,BG90,BK90)","v":0}]
[{"$f":"SUM(A90:C90)","v":0},null,null,{"$f":"SUM(D90,F90)","v":0},null,null,{"$f":"SUM(G90,H90)","v":0},null,{"$f":"SUM(I90,J90)","v":0},null,{"$f":"SUM(K90,L90)","v":0},null,{"$f":"SUM(M90,O90)","v":0},null,null,{"$f":"SUM(P90,R90)","v":0},null,null,{"$f":"SUM(S90,U90)","v":0},null,null,{"$f":"SUM(V90,X90)","v":0},null,null,null,{"$f":"SUM(Z90,AA90)","v":0},null,{"$f":"SUM(AB90,AD90)","v":0},null,null,{"$f":"SUM(AE90,AH90)","v":0},null,null,null,null,null,{"$f":"SUM(AK90,AL90)","v":0},null,null,{"$f":"SUM(AN90,AP90)","v":0},null,null,null,{"$f":"SUM(AR90,AU90)","v":0},null,null,null,{"$f":"SUM(AV90,AY90)","v":0},null,null,null,{"$f":"SUM(AZ90,BB90)","v":0},null,null,null,{"$f":"SUM(BD90,BG90)","v":0},null,null,null,null,{"$f":"SUM(BI90,BK90)","v":0},null,null,null,{"$f":"SUM(BM90,BO90)","v":0},null,null,null,{"$f":"SUM(BQ90,BS90)","v":0},null,null,null,{"$f":"SUM(BU90,BW90)","v":0},null,null,null,{"$f":"SUM(BY90,CB90)","v":0},null,null,null,{"$f":"A91+D91+G91+I91+K91+M91+P91+S91+V91+Z91+AB91+AE91+AK91+AN91+AR91+AV91+AZ91+BD91+BI91+BM91+BQ91+BU91+BY91","v":0}]
["Mejor Población: 1° - 2019",null,null,null,null,null,null,null,null,null,null,null,null,null,null,null,null,null,null,null,null,null,null,null,null,null,null,null,null,null,null,null,null,null,null,null,null,null,null,null,null,null,null,null,null,null,null,null,null,null,null,null,null,null,null,null,null,null,null,null,null,null,null,null,null,null,null,null,null,null,null,null,null,null,null,null,null,null,null,null,{"$f":"SUM(CC91,CE91)","v":0}]
["Cobertura: 1%"]

{"sheet":"Buena Vista","index":18,"n_rows":93,"n_cols":94,"rows_kept":93,"cut":false,"hidden":false,"merged":[[61,30,61,31],[62,30,62,31],[0,86,0,87],[1,8,1,9],[1,15,1,25],[1,46,1,53],[1,56,1,57],[1,58,1,59],[1,60,1,61],[1,67,1,84],[1,86,1,87],[0,27,3,45],[0,46,0,52],[0,56,0,57],[0,58,0,59],[0,60,0,61],[0,81,0,84],[2,46,2,53],[2,56,2,57],[2,58,2,59],[2,60,2,61],[6,0,6,89],[7,0,7,46],[7,47,7,89],[8,0,10,2],[8,3,10,5],[8,6,10,7],[8,8,8,16],[8,17,10,18],[8,19,10,20],[8,21,10,23],[4,80,4,87],[5,8,5,24],[5,33,5,46],[5,57,5,67],[5,75,5,77],[5,82,5,87],[2,67,2,79],[2,86,2,87],[3,8,3,23],[3,46,3,53],[3,56,3,57],[3,58,3,59],[3,60,3,61],[3,74,3,79],[3,84,3,87],[8,86,8,89],[9,8,10,9],[9,10,10,11],[9,12,10,13],[9,14,10,16],[9,26,10,27],[9,28,10,30],[8,66,8,68],[8,69,8,72],[8,73,8,75],[8,76,8,79],[8,80,8,82],[8,83,8,85],[8,51,8,53],[8,54,8,55],[8,56,8,57],[8,58,8,59],[8,60,8,62],[8,63,8,65],[8,24,10,25],[8,26,8,30],[8,31,10,36],[8,37,8,46],[8,47,8,48],[8,49,8,50],[9,49,10,50],[11,0,14,2],[11,3,14,5],[11,6,14,7],[11,8,14,9],[11,10,14,11],[11,12,14,13],[9,86,9,89],[10,69,10,72],[10,73,10,74],[10,76,10,78],[10,81,10,82],[10,83,10,84],[10,86,10,89],[9,66,10,68],[9,69,9,72],[9,73,9,74],[9,76,9,78],[9,81,9,82],[9,83,9,84],[9,51,10,53],[9,54,10,55],[9,56,10,57],[9,58,10,59],[9,60,10,62],[9,63,10,65],[13,75,13,78],[13,79,13,80],[13,81,13,84],[9,37,10,40],[9,41,10,46],[9,47,10,48],[12,85,12,89],[13,47,13,52],[13,63,13,68],[13,69,13,74],[12,47,12,52],[12,63,12,68],[12,53,12,55],[12,56,12,59],[12,60,12,62],[13,53,13,55],[13,56,13,59],[13,60,13,62],[14,53,14,55],[14,56,14,59],[14,60,14,62],[11,19,14,20],[11,21,14,23],[11,24,14,25],[11,26,14,27],[16,0,18,2],[16,6,18,6],[16,7,18,7],[16,8,18,8],[16,9,18,9],[16,10,18,10],[16,11,18,11],[16,12,18,13],[14,79,14,80],[14,81,14,84],[14,85,14,89],[15,12,15,19],[15,20,15,28],[15,29,15,65],[15,66,15,75],[11,28,14,30],[11,31,14,36],[11,37,14,40],[11,41,14,46],[11,47,11,68],[11,69,11,89],[11,14,14,16],[11,17,14,18],[13,85,13,89],[14,47,14,52],[14,63,14,68],[14,69,14,74],[14,75,14,78],[12,69,12,74],[12,75,12,78],[12,79,12,80],[12,81,12,84],[19,0,20,2],[19,12,19,13],[19,14,19,15],[19,18,19,19],[19,20,19,21],[19,23,19,24],[19,25,19,26],[19,27,19,28],[17,41,20,42],[17,43,18,46],[17,47,18,50],[17,51,18,55],[17,56,20,57],[17,58,18,62],[19,43,20,44],[19,45,20,46],[19,47,20,49],[19,50,20,50],[17,16,18,16],[17,17,18,17],[17,22,18,22],[17,23,18,24],[17,25,18,26],[17,27,18,28],[17,29,20,31],[16,14,18,15],[16,16,16,17],[16,18,18,19],[16,20,18,21],[16,22,16,28],[16,29,16,65],[17,32,20,34],[21,12,21,15],[21,16,21,19],[21,29,21,31],[21,32,21,34],[20,12,20,19],[20,20,21,23],[20,24,21,28],[21,35,21,36],[21,37,21,38],[21,39,21,40],[21,41,21,42],[19,68,20,69],[19,70,20,71],[19,72,20,73],[19,74,20,75],[19,76,20,79],[19,51,20,52],[19,53,20,54],[19,55,20,55],[19,58,20,60],[19,61,20,62],[19,66,20,67],[17,63,20,65],[16,66,18,67],[16,68,18,69],[16,70,18,71],[16,72,18,73],[16,74,18,75],[16,76,18,79],[17,35,20,36],[17,37,20,38],[17,39,20,40],[22,16,22,19],[22,20,22,23],[22,24,22,28],[22,29,22,31],[22,32,22,34],[22,35,22,36],[21,58,21,60],[21,61,21,62],[21,63,21,65],[21,66,22,73],[21,74,22,75],[21,76,21,79],[22,76,22,79],[21,43,21,44],[21,45,21,46],[21,47,21,49],[21,51,21,52],[21,53,21,54],[21,56,21,57],[23,0,23,89],[24,0,24,2],[24,3,24,5],[24,6,24,7],[24,8,24,9],[24,10,24,11],[24,12,24,14],[24,15,24,17],[24,18,24,20],[22,51,22,52],[22,53,22,54],[22,56,22,57],[22,58,22,60],[22,61,22,62],[22,63,22,65],[22,37,22,38],[22,39,22,40],[22,41,22,42],[22,43,22,44],[22,45,22,46],[22,47,22,49],[21,0,22,2],[24,88,25,89],[25,0,25,1],[25,3,25,4],[25,12,25,13],[25,15,25,16],[25,18,25,19],[25,21,25,22],[25,23,25,24],[25,27,25,28],[22,12,22,15],[24,68,24,71],[24,72,24,75],[24,76,24,79],[24,80,24,84],[24,85,25,85],[24,86,25,87],[25,76,25,78],[25,80,25,81],[25,82,25,84],[24,43,24,46],[24,47,24,50],[24,51,24,54],[24,55,24,59],[24,60,24,63],[24,64,24,67],[24,21,24,24],[24,25,24,26],[24,27,24,29],[24,30,24,35],[24,36,24,38],[24,39,24,42],[26,37,26,38],[26,39,26,40],[26,0,26,1],[26,3,26,4],[26,12,26,13],[26,15,26,16],[26,18,26,19],[26,21,26,22],[25,64,25,65],[25,66,25,67],[25,68,25,69],[25,70,25,71],[25,72,25,73],[25,74,25,75],[25,51,25,52],[25,53,25,54],[25,55,25,57],[25,58,25,59],[25,60,25,61],[25,62,25,63],[25,33,25,35],[25,37,25,38],[25,39,25,40],[25,41,25,42],[25,43,25,45],[25,47,25,49],[25,30,25,32],[26,85,27,85],[26,86,27,87],[26,88,27,89],[27,0,27,2],[27,3,27,5],[27,6,27,7],[27,8,27,9],[27,10,27,11],[27,12,27,14],[27,15,27,17],[26,70,26,71],[26,72,26,73],[26,74,26,75],[26,76,26,78],[26,80,26,81],[26,82,26,84],[26,58,26,59],[26,60,26,61],[26,62,26,63],[26,64,26,65],[26,66,26,67],[26,68,26,69],[26,41,26,42],[26,43,26,45],[26,47,26,49],[26,51,26,52],[26,53,26,54],[26,55,26,57],[26,23,26,24],[26,27,26,28],[26,30,26,32],[26,33,26,35],[27,64,27,67],[27,68,27,71],[27,72,27,75],[27,76,27,79],[27,80,27,84],[28,0,28,14],[28,15,28,20],[28,21,28,32],[27,39,27,42],[27,43,27,46],[27,47,27,50],[27,51,27,54],[27,55,27,59],[27,60,27,63],[27,18,27,20],[27,21,27,24],[27,25,27,26],[27,27,27,29],[27,30,27,35],[27,36,27,38],[30,21,30,26],[30,27,30,29],[30,30,30,32],[31,0,31,2],[31,3,31,4],[31,8,31,9],[31,10,31,11],[31,12,32,14],[31,15,32,17],[31,18,32,20],[29,30,29,32],[29,33,35,89],[30,0,30,2],[30,3,30,5],[30,6,30,7],[30,8,30,9],[30,10,30,11],[30,12,30,14],[30,15,30,17],[30,18,30,20],[29,0,29,2],[29,3,29,7],[29,8,29,14],[29,15,29,20],[29,21,29,26],[29,27,29,29],[33,0,33,2],[33,3,33,7],[33,8,33,11],[33,12,33,14],[33,15,35,17],[33,18,35,20],[34,0,35,2],[34,3,34,5],[34,6,34,7],[34,8,34,9],[31,21,31,26],[31,27,31,29],[31,30,31,32],[32,0,32,2],[32,3,32,4],[32,8,32,9],[32,10,32,11],[32,21,33,26],[32,27,33,29],[32,30,33,32],[38,4,39,7],[38,8,39,11],[38,12,38,19],[38,20,39,21],[38,22,39,23],[36,0,37,40],[36,41,36,68],[36,69,36,89],[37,41,37,46],[37,47,37,58],[37,59,37,68],[37,69,37,79],[37,80,39,81],[37,82,39,85],[37,86,39,89],[34,10,34,11],[34,12,35,14],[34,21,35,26],[34,27,35,32],[35,3,35,5],[35,6,35,7],[35,8,35,9],[35,10,35,11],[40,0,41,1],[40,2,41,3],[40,4,41,5],[40,6,41,7],[40,8,41,9],[40,10,41,11],[38,66,39,68],[38,69,39,71],[38,72,39,75],[38,76,39,79],[39,12,39,13],[39,14,39,15],[39,16,39,17],[39,18,39,19],[39,47,39,48],[39,49,39,50],[38,46,39,46],[38,47,38,52],[38,53,38,56],[38,57,39,58],[38,59,39,61],[38,62,39,65],[39,51,39,52],[39,53,39,54],[39,55,39,56],[38,24,39,27],[38,28,39,31],[38,32,39,35],[38,36,39,40],[38,41,39,42],[38,43,39,45],[38,0,39,3],[40,41,40,42],[40,43,40,45],[40,47,40,48],[40,49,40,50],[40,24,41,25],[40,26,41,27],[40,28,41,29],[40,30,41,31],[40,32,41,33],[40,34,41,35],[40,18,41,18],[40,19,41,19],[40,20,41,20],[40,21,41,21],[40,22,41,22],[40,23,41,23],[40,12,41,12],[40,13,41,13],[40,14,41,14],[40,15,41,15],[40,16,41,16],[40,17,41,17],[42,21,44,21],[42,22,44,22],[42,10,44,11],[42,12,44,12],[42,13,44,13],[42,14,44,14],[42,15,44,15],[42,16,44,16],[40,86,40,89],[41,41,41,52],[41,53,41,64],[41,65,41,76],[41,77,41,89],[42,0,44,1],[42,2,44,3],[42,4,44,5],[42,6,44,7],[42,8,44,9],[40,66,40,68],[40,69,40,71],[40,72,40,75],[40,76,40,79],[40,80,40,81],[40,82,40,85],[40,51,40,52],[40,53,40,54],[40,55,40,56],[40,57,40,58],[40,59,40,61],[40,62,40,65],[40,36,41,38],[40,39,41,40],[42,73,43,76],[42,77,43,84],[42,85,43,89],[44,41,44,45],[44,46,44,48],[44,49,44,50],[44,51,44,52],[44,53,44,55],[44,56,44,60],[44,61,44,64],[42,51,43,52],[42,53,43,55],[42,56,43,60],[42,61,43,64],[42,65,43,68],[42,69,43,72],[42,34,44,35],[42,36,44,38],[42,39,44,40],[42,41,43,45],[42,46,43,48],[42,49,43,50],[46,70,46,71],[46,72,46,74],[46,75,46,84],[46,85,46,86],[46,87,46,89],[47,0,47,5],[47,8,47,13],[47,15,47,16],[47,17,47,21],[47,22,47,23],[46,0,46,5],[46,8,46,13],[46,15,46,16],[46,17,46,33],[46,34,46,60],[46,61,46,69],[44,65,44,68],[44,69,44,72],[44,73,44,76],[44,77,44,84],[44,85,44,89],[45,0,45,89],[42,23,44,23],[42,24,44,25],[42,26,44,27],[42,28,44,29],[42,30,44,31],[42,32,44,33],[42,17,44,17],[42,18,44,18],[42,19,44,19],[42,20,44,20],[47,72,47,74],[47,75,47,84],[47,85,47,86],[47,87,47,89],[48,0,48,5],[48,8,48,13],[48,15,48,16],[48,17,48,21],[48,22,49,23],[48,27,48,28],[47,51,47,53],[47,55,47,56],[47,57,47,58],[47,59,47,60],[47,61,47,69],[47,70,47,71],[47,27,47,28],[47,30,47,31],[47,32,47,33],[47,34,47,43],[47,44,47,46],[47,47,47,49],[49,75,50,84],[49,85,50,86],[49,87,50,89],[50,0,50,6],[50,8,50,13],[50,15,50,16],[50,17,50,21],[50,22,54,23],[50,27,50,28],[48,75,48,84],[48,85,48,86],[48,87,48,89],[49,0,49,5],[49,8,49,13],[49,15,49,16],[49,17,49,21],[49,27,49,28],[49,30,49,31],[49,34,49,43],[48,55,48,56],[48,57,48,58],[48,59,50,60],[48,61,48,69],[48,70,48,71],[48,72,48,74],[49,55,49,56],[49,57,49,58],[49,61,49,69],[49,70,49,71],[48,30,48,31],[48,32,49,33],[48,34,48,43],[50,70,50,71],[50,72,50,74],[51,0,51,6],[51,8,51,13],[51,15,51,16],[51,17,51,21],[51,27,51,28],[51,30,51,31],[51,34,51,43],[51,47,51,49],[50,34,50,43],[50,47,50,49],[50,51,50,53],[50,55,50,56],[50,57,50,58],[50,61,50,69],[49,72,49,74],[48,44,51,46],[48,47,48,49],[48,51,48,53],[49,47,49,49],[49,51,49,53],[50,30,50,31],[50,32,54,33],[51,72,51,74],[53,0,53,6],[53,8,53,13],[53,15,53,16],[53,17,53,21],[53,27,53,28],[53,30,53,31],[51,75,51,84],[51,85,51,86],[51,87,51,89],[52,0,52,6],[52,8,52,13],[52,15,52,16],[52,17,52,21],[52,27,52,28],[52,30,52,31],[51,51,51,53],[51,55,51,56],[51,57,51,58],[51,59,52,60],[51,61,51,69],[51,70,51,71],[52,61,52,69],[52,70,52,71],[52,72,52,74],[52,75,52,84],[52,85,52,86],[52,87,52,89],[52,34,52,43],[52,44,53,46],[52,47,52,49],[52,51,52,53],[52,55,52,56],[52,57,52,58],[53,34,53,43],[53,47,53,49],[53,51,53,53],[53,55,53,56],[53,85,53,86],[53,87,53,89],[54,0,54,6],[54,8,54,13],[54,15,54,16],[54,17,54,21],[54,27,54,28],[54,30,54,31],[54,34,54,43],[54,44,54,46],[53,57,53,58],[53,59,54,60],[53,61,53,69],[53,70,53,71],[53,72,53,74],[53,75,53,84],[54,72,54,74],[54,75,54,84],[54,85,54,86],[54,87,54,89],[55,0,55,6],[55,8,55,13],[55,15,55,16],[55,17,55,21],[55,27,55,28],[55,30,55,31],[55,32,60,33],[54,47,54,49],[54,51,54,53],[54,55,54,56],[54,57,54,58],[54,61,54,69],[54,70,54,71],[56,87,56,89],[57,0,57,6],[57,8,57,13],[57,15,57,16],[57,17,57,21],[57,27,57,28],[57,30,57,31],[57,34,57,43],[56,51,56,53],[56,55,56,56],[56,57,56,58],[56,61,56,69],[56,70,56,71],[56,72,56,74],[55,87,55,89],[56,0,56,6],[56,8,56,13],[56,15,56,16],[58,61,58,69],[58,70,58,71],[58,72,58,74],[56,17,56,21],[56,27,56,28],[56,30,56,31],[56,34,56,43],[56,44,57,46],[56,47,56,49],[55,59,56,60],[55,61,55,69],[55,70,55,71],[55,72,55,74],[55,75,55,84],[55,85,55,86],[56,75,56,84],[56,85,56,86],[55,34,55,43],[55,44,55,46],[55,47,55,49],[55,51,55,53],[55,55,55,56],[55,57,55,58],[57,75,57,84],[57,85,57,86],[61,72,61,74],[61,75,61,84],[61,85,61,86],[57,87,57,89],[58,0,59,6],[58,7,59,7],[58,8,58,13],[58,15,58,16],[58,17,58,21],[58,27,58,28],[58,30,58,31],[57,55,57,56],[57,57,57,58],[57,59,57,60],[57,61,57,69],[57,70,57,71],[57,72,57,74],[59,85,59,86],[59,87,59,89],[57,47,57,49],[57,51,57,53],[58,87,58,89],[59,8,60,13],[59,14,60,14],[59,15,60,16],[59,17,59,21],[59,27,59,28],[59,30,59,31],[59,34,59,43],[59,47,59,49],[59,51,59,53],[58,59,59,60],[64,84,64,85],[61,87,61,89],[61,32,61,33],[61,34,61,43],[61,44,61,60],[62,44,62,60],[60,87,60,89],[61,0,61,6],[61,8,61,12],[61,13,61,14],[61,15,61,16],[60,0,60,6],[60,17,60,21],[60,27,60,28],[60,30,60,31],[60,34,60,43],[60,44,60,60],[60,75,60,84],[60,85,60,86],[62,61,62,89],[59,61,60,69],[59,70,60,71],[59,72,60,74],[59,75,59,84],[58,44,59,46],[58,47,58,49],[58,51,58,53],[58,55,58,56],[58,57,58,58],[59,55,59,56],[63,86,63,89],[64,0,64,6],[64,8,64,12],[64,13,64,14],[64,15,64,16],[64,17,66,19],[64,20,66,22],[64,23,64,26],[64,27,64,49],[64,50,66,54],[65,0,65,6],[65,8,65,12],[65,13,65,14],[66,86,67,88],[66,89,67,89],[67,0,67,6],[67,8,67,12],[67,13,67,14],[67,15,67,16],[67,17,67,19],[66,38,66,49],[66,61,66,64],[66,66,66,68],[63,0,63,6],[63,8,63,12],[63,13,63,14],[63,15,63,16],[63,17,63,60],[63,61,63,65],[63,66,63,70],[63,71,63,80],[63,81,63,85],[66,69,66,70],[66,71,66,73],[66,74,66,75],[65,76,65,79],[65,81,65,83],[65,84,65,85],[65,86,65,88],[66,0,66,6],[66,8,66,12],[66,13,66,14],[66,15,66,16],[66,23,66,26],[66,27,66,37],[65,15,65,16],[65,23,65,26],[65,27,65,37],[65,38,65,49],[64,55,66,60],[64,61,64,64],[64,66,64,68],[64,69,64,70],[64,74,64,75],[64,86,64,88],[64,76,64,79],[65,61,65,64],[65,66,65,68],[65,69,65,70],[65,74,65,75],[66,76,66,79],[66,81,66,83],[66,84,66,85],[64,81,64,83],[68,84,71,86],[67,81,67,83],[67,84,67,85],[68,0,68,6],[68,8,68,12],[68,13,68,14],[68,15,68,16],[68,17,68,60],[68,61,73,62],[68,63,71,65],[68,66,71,68],[67,61,67,64],[67,66,67,68],[67,69,67,70],[67,71,67,73],[67,74,67,75],[67,76,67,79],[67,20,67,22],[67,23,67,26],[67,27,67,37],[67,38,67,49],[67,50,67,54],[67,55,67,60],[70,38,70,41],[70,42,70,45],[70,46,70,55],[70,56,70,60],[71,17,71,23],[71,24,71,32],[71,33,71,37],[71,38,71,41],[71,42,71,45],[71,46,71,55],[69,46,69,55],[69,56,69,60],[70,0,71,6],[70,7,71,7],[70,8,71,12],[70,13,71,14],[70,15,71,16],[70,17,70,23],[70,24,70,32],[70,33,70,37],[69,0,69,6],[69,8,69,12],[69,13,69,14],[69,15,69,16],[69,17,69,23],[69,24,69,32],[69,33,69,37],[69,38,69,41],[69,42,69,45],[72,75,73,78],[72,79,73,80],[72,81,73,83],[72,84,73,86],[72,87,73,89],[73,0,73,6],[73,17,73,23],[73,24,73,32],[73,33,73,37],[73,38,73,41],[72,46,72,55],[72,56,72,60],[72,63,73,65],[72,66,73,68],[72,69,73,71],[72,72,73,74],[71,56,71,60],[72,0,72,6],[72,8,73,12],[72,13,73,14],[72,15,73,16],[72,17,72,23],[72,24,72,32],[72,33,72,37],[72,38,72,41],[72,42,72,45],[68,87,71,89],[68,69,71,71],[68,72,71,74],[68,75,71,78],[68,79,71,80],[68,81,71,83],[75,17,75,23],[75,24,75,32],[75,38,75,41],[75,42,75,45],[75,46,75,55],[87,0,87,2],[87,3,87,5],[87,6,87,7],[87,8,87,9],[87,10,87,11],[73,42,73,45],[73,46,73,55],[73,56,73,60],[74,17,74,23],[74,24,74,32],[74,38,74,41],[74,42,74,45],[74,46,74,55],[87,80,87,84],[87,85,88,85]],"merged_total":1135,"flags":["merged_cut"]}
[null,null,null,null,null,null,null,null,null,null,null,null,null,null,null,null,null,null,null,null,null,null,null,null,null,null,null,"DIRECCION - PROGRAMA  APS \nSUBSECRETARIA DE MEDICINA SOCIAL\nRONDA N°: 188   AÑO: 2025",null,null,null,null,null,null,null,null,null,null,null,null,null,null,null,null,null,null,null,null,null,null,null,null,null,null,"1r","2r","3r",null,"4r",null,"T",null,null,null,null,null,null,null,null,null,null,null,null,null,null,null,null,null,null,null,"Informe y orden de Ronda: ",6,null,null,null,null,2]
[null,null,null,null,null,null,null,"Area Operativa N°: ",4,null,null,null,null,null,"Nombre: ","MORILLO",null,null,null,null,null,null,null,null,null,null,null,null,null,null,null,null,null,null,null,null,null,null,null,null,null,null,null,null,null,null,"Mort. Mater. Acum. Año",null,null,null,null,null,null,null,0,{"$f":"CE41","v":0},0,null,{"$f":"CE41","v":0},null,{"$f":"SUM(BC2:BG2)","v":0},null,null,null,null,"Sector:",null,"Buena Vista",null,null,null,null,null,null,null,null,null,null,null,null,null,null,null,null,null,"N°",10]
[null,null,null,null,null,null,null,null,null,null,null,null,null,null,null,null,null,null,null,null,null,null,null,null,null,null,null,null,null,null,null,null,null,null,null,null,null,null,null,null,null,null,null,null,null,null,"Mort. 0-1 año Acum Año",null,null,null,null,null,null,null,0,{"$f":"BR41+BU41+BY41","v":0},0,null,{"$f":"BR41+BU41+BY41","v":0},null,{"$f":"SUM(BC3:BG3)","v":0},null,null,null,null,null,"Etnia: ","Criollo y wichi",null,null,null,null,null,null,null,null,null,null,null,null,null,null,null,null,null,"Sector Riesgo:","no"]
[null,null,null,null,null,null,null,"Establec. Base: ","HOSPITAL MORILLO",null,null,null,null,null,null,null,null,null,null,null,null,null,null,null,null,null,null,null,null,null,null,null,null,null,null,null,null,null,null,null,null,null,null,null,null,null,"Mort. 1-4 años Acum Año",null,null,null,null,null,null,null,0,{"$f":"CC41","v":0},0,null,{"$f":"CC41","v":0},null,{"$f":"SUM(BC4:BG4)","v":0},null,null,null,null,null,null,null,null,null,null,null,null,"Desde: ","07/03/2025",null,null,null,null,null,null,null,null,"Hasta: ","05/06/2026"]
[null,null,null,null,null,null,null,null,null,null,null,null,null,null,null,null,null,null,null,null,null,null,null,null,null,null,null,null,null,null,null,null,null,null,null,null,null,null,null,null,null,null,null,null,null,null,null,null,null,null,null,null,null,null,null,null,null,null,null,null,null,null,null,null,null,null,null,null,null,null,null,null,null,null,null,null,null,null,null,"Cobertura: ","DESCUBIERTO"]
[null,null,null,null,null,null,null,"Sup. Intermedio: "," poner el nombre según dni sup intermedio",null,null,null,null,null,null,null,null,null,null,null,null,null,null,null,null,null,null,null,null,null,null,null,"Responsable A.P.S.: ","Lic Freyre",null,null,null,null,null,null,null,null,null,null,null,null,null,null,null,null,null,null,null,null,null,null,"Agente Sanitario: ","poner el nombre as según dni",null,null,null,null,null,null,null,null,null,null,null,null,null,null,null,null,"Sit. Revista: ",null,null,null,null,null,null,"Reg. Horario: "]
[]
["A) FAMILIAS VISITADAS EN LA RONDA",null,null,null,null,null,null,null,null,null,null,null,null,null,null,null,null,null,null,null,null,null,null,null,null,null,null,null,null,null,null,null,null,null,null,null,null,null,null,null,null,null,null,null,null,null,null,"B) FACTORES DE PRIORIZACION DE VISITAS"]
["ASIGNADAS",null,null,"VISITADAS",null,null,"TOTAL\nVISITAS",null,"NO VISITADAS",null,null,null,null,null,null,null,null,"FLIAS ORIG.",null,"FLIAS. URB.",null,"FLIAS. PERIURB",null,null,"FLIAS. RURALES",null,"GOLON\nMIGRANTES",null,null,null,null,"FLIAS. CON PL. SOCIALES",null,null,null,null,null,"PRODUCCION\nFAMILIAR",null,null,null,null,null,null,null,null,null,1,null,2,null,3,null,null,4,null,5,null,6,null,7,null,null,8,null,null,9,null,null,10,null,null,null,11,null,null,12,null,null,null,13,null,null,14,null,null,15]
[null,null,null,null,null,null,null,null,"RECHAZO TOTAL",null,"AUSEN\n-TE",null,"NO VISITADAS",null,"TOT NO VISIT.",null,null,null,null,null,null,null,null,null,null,null,"HACIA\nEL AO",null,"DESDE\nEL AO",null,null,null,null,null,null,null,null,"HUERTA",null,null,null,"GRANJA",null,null,null,null,null,0,null,0,null,0,null,null,0,null,0,null,0,null,0,null,null,0,null,null,0,null,null,"Total",null,null,null,"Tot",null,"Trat","Tot.",null,null,"Trat.","Tot.","Trat.",null,"Tot.",null,"Trat","Total"]
[null,null,null,null,null,null,null,null,null,null,0,null,null,null,null,null,null,null,null,null,null,null,null,null,null,null,null,null,null,null,null,null,null,null,null,null,null,null,null,null,null,null,null,null,null,null,null,null,null,null,null,null,null,null,null,null,null,null,null,null,null,null,null,null,null,null,null,null,null,0,null,null,null,0,null,0,0,null,null,0,0,0,null,0,null,0,0]
[0,null,null,0,null,null,0,null,0,null,0,null,0,null,{"$f":"M12+K12+I12","v":0},null,null,0,null,0,null,0,null,null,0,null,0,null,0,null,null,0,null,null,null,null,null,0,null,null,null,0,null,null,null,null,null,"C) VISITAS A FLIAS. PRIORIZADAS",null,null,null,null,null,null,null,null,null,null,null,null,null,null,null,null,null,null,null,null,null,"D) SUPERV. A FLIAS. "]
[null,null,null,null,null,null,null,null,null,null,null,null,null,null,null,null,null,null,null,null,null,null,null,null,null,null,null,null,null,null,null,null,null,null,null,null,null,null,null,null,null,null,null,null,null,null,null,"PRIORIDAD",null,null,null,null,null,1,null,null,2,null,null,null,3,null,null,"Total",null,null,null,null,null,"PRIORIDAD",null,null,null,null,null,3,null,null,null,2,null,1,null,null,null,"TOTAL"]
[null,null,null,null,null,null,null,null,null,null,null,null,null,null,null,null,null,null,null,null,null,null,null,null,null,null,null,null,null,null,null,null,null,null,null,null,null,null,null,null,null,null,null,null,null,null,null,"N° FAMILIAS",null,null,null,null,null,0,null,null,0,null,null,null,0,null,null,{"$f":"SUM(BB14:BI14)","v":0},null,null,null,null,null,"INTERMEDIA",null,null,null,null,null,0,null,null,null,0,null,0,null,null,null,{"$f":"SUM(BX14:CD14)","v":0}]
[null,null,null,null,null,null,null,null,null,null,null,null,null,null,null,null,null,null,null,null,null,null,null,null,null,null,null,null,null,null,null,null,null,null,null,null,null,null,null,null,null,null,null,null,null,null,null,"VISITAS",null,null,null,null,null,0,null,null,0,null,null,null,0,null,null,{"$f":"SUM(BB15:BI15)","v":0},null,null,null,null,null,"PROFESIONAL",null,null,null,null,null,0,null,null,null,0,null,0,null,null,null,{"$f":"SUM(BX15:CB15)","v":0}]
[null,null,null,null,null,"F) EMBARAZADAS",null,null,null,null,null,null,"G) PARTOS",null,null,null,null,null,null,null,"H) R.N. EN LA RONDA",null,null,null,null,null,null,null,null,"I) EVALUACION ANTROPOMETRICA",null,null,null,null,null,null,null,null,null,null,null,null,null,null,null,null,null,null,null,null,null,null,null,null,null,null,null,null,null,null,null,null,null,null,null,null,"NIÑ MBP/BP/RBP CTRL. INT.",null,null,null,null,null,null,null,null,null,"LACT. MATERNA"]
["PAP",null,null,0,null,"CAPT. 1er TRIMESTRE","ESP EN EL AÑO","ACUMULADAS","NUEVAS\nRONDA","TOTAL","DE RIESGO","<19 Años","TOTAL",null,"HOSPITALARIOS",null,"DOMIC.",null,"N° PUERPERAS",null,"NACIDOS VIVOS",null,"P AL NACER",null,null,null,null,null,null,"NIÑOS CONTROLADOS",null,null,null,null,null,null,null,null,null,null,null,null,null,null,null,null,null,null,null,null,null,null,null,null,null,null,null,null,null,null,null,null,null,null,null,null,"MELAN",null,"MED",null,"ENF.",null,"LAB",null,"NUTR",null,"< 6 M EN LA RONDA",null,null,null,{"$f":"CC20+CC22+CC23","v":0}]
[null,null,null,null,null,null,null,null,null,null,null,null,null,null,null,null,"DOM","ASIS",null,null,null,null,"ALTO PESO","ADEC",null,"BAJO PESO",null,"MB\nPESO",null,"EDAD",null,null,"A CONTROLAR",null,null,"ADECUADO",null,"BP\nBAJO PESO",null,"MBP\nMUY B. PESO",null,"ALTO PESO",null,"RIESGO",null,null,null,"RECUPERADOS",null,null,null,"TALLA / EDAD",null,null,null,null,"NUEVOS\nEPISODIOS",null,"PERDIDOS",null,null,null,null,"FALLECIDOS\nC/ANTEC. ANTROPOM."]
[]
["Antic.",null,null,0,null,0,{"$f":"IF(ISERROR(((CC92*1.8)/100)),0,(((CC92*1.8)/100)))","v":0},0,0,{"$f":"SUM(F23:L23)","v":0},0,0,{"$f":"O20+Q20+R20","v":0},null,0,null,0,0,0,null,{"$f":"W20+X20+Z20+AB20","v":0},null,0,0,null,0,null,0,null,null,null,null,null,null,null,null,null,null,null,null,null,null,null,"BP",null,"AP",null,"BP",null,null,"AP","BT",null,"MBT",null,"RGO\nBT",null,null,"BP\nMBP",null,null,"A.P.",null,null,null,null,0,null,0,null,0,null,0,null,0,null,"EXCLUSIVO",null,null,null,0]
[null,null,null,null,null,"CONTROLES",null,null,null,null,null,null," ",null,null,null,null,null,null,null,"PREMATUROS",null,null,null,"PESQUISA"]
["Aborto",null,null,0,null,"MELON",null,"MEL","MED","ENF","LAB","S/C","PUERP",null,null,null,"R.N.",null,null,null,null,null,null,null,null,null,null,null,null,"< 2 años",null,null,{"$f":"A27+C27+D27+F27+G27+H27","v":0},null,null,0,null,0,null,0,null,0,null,0,null,0,null,0,null,null,0,0,null,0,null,0,0,null,0,null,null,0,null,0,null,null,"CONTROLES EN DOMIC. NIÑO BP o MBP",null,null,null,null,null,null,null,0,null,"MIXTA",null,null,null,0]
[null,null,null,null,null,0,null,0,0,0,0,0,0,null,null,null,0,null,null,null,0,null,null,null,0,null,null,null,null,"2 a 6 años",null,null,{"$f":"I27+J27+K27+L27+M27+O27+P27+R27","v":0},null,null,0,null,0,null,0,null,0,null,0,null,0,null,0,null,null,0,0,null,0,null,0,0,null,0,null,null,0,null,0,null,null,null,null,null,null,null,null,null,null,null,null,"ARTIF",null,null,null,0]
["J) DATOS DE POBLACION"]
["0 a 5m",null,null,"6 a 11m",null,null,"1 AÑO",null,"2 AÑOS",null,"3 AÑOS",null,"4 AÑOS",null,null,"5 AÑOS",null,null,"6 AÑOS",null,null,"7 A 9 AÑOS",null,null,null,"10 AÑOS",null,"11 AÑOS",null,null,"12 A 14",null,null,null,null,null,"15 A 19",null,null,"20 A 24",null,null,null,"25 A 29",null,null,null,"30 A 34",null,null,null,"35 A 39",null,null,null,"40 A 44",null,null,null,null,"45 A 49",null,null,null,"50 A 54",null,null,null,"55 A 59",null,null,null,"60 A 64",null,null,null,"65 y +",null,null,null,"TOTAL",null,null,null,null,"MUJERES\n10 A 49","O. SOCIAL",null,"INDOCUM"]
["M",null,"F","M",null,"F","M","F","M","F","M","F","M",null,"F","M",null,"F","M",null,"F","M",null,"F",null,"M","F","M",null,"F","M",null,null,"F",null,null,"M","F",null,"M",null,"F",null,"M",null,null,"F","M",null,null,"F","M",null,"F",null,"M",null,null,"F",null,"M",null,"F",null,"M",null,"F",null,"M",null,"F",null,"M",null,"F",null,"M",null,null,"F","M",null,"F"]
[0,null,0,0,null,0,0,0,0,0,0,0,0,null,0,0,null,0,0,null,0,0,null,0,null,0,0,0,null,0,0,null,null,0,null,null,0,0,null,0,null,0,null,0,null,null,0,0,null,null,0,0,null,0,null,0,null,null,0,null,0,null,0,null,0,null,0,null,0,null,0,null,0,null,0,null,0,null,null,0,{"$f":"BY27+BU27+BQ27+BM27+BI27+BD27+AZ27+AV27+AR27+AN27+AK27+AE27+AB27+Z27+V27+S27+P27+M27+K27+I27+G27+D27+A27","v":0},null,{"$f":"CB27+BW27+BS27+BO27+BK27+BG27+BB27+AY27+AU27+AP27+AL27+AH27+AD27+AA27+X27+U27+R27+O27+L27+J27+H27+F27+C27","v":0},null,null,{"$f":"BK27+BG27+BB27+AY27+AU27+AP27+AL27+AH27+AD27+AA27","v":0},0,null,0]
[{"$f":"A27+C27","v":0},null,null,{"$f":"D27+F27","v":0},null,null,{"$f":"G27+H27","v":0},null,{"$f":"I27+J27","v":0},null,{"$f":"K27+L27","v":0},null,{"$f":"M27+O27","v":0},null,null,{"$f":"P27+R27","v":0},null,null,{"$f":"S27+U27","v":0},null,null,{"$f":"V27+X27","v":0},null,null,null,{"$f":"Z27+AA27","v":0},null,{"$f":"AB27+AD27","v":0},null,null,{"$f":"AE27+AH27","v":0},null,null,null,null,null,{"$f":"AL27+AK27","v":0},null,null,{"$f":"AN27+AP27","v":0},null,null,null,{"$f":"AR27+AU27","v":0},null,null,null,{"$f":"AV27+AY27","v":0},null,null,null,{"$f":"AZ27+BB27","v":0},null,null,null,{"$f":"BD27+BG27","v":0},null,null,null,null,{"$f":"BI27+BK27","v":0},null,null,null,{"$f":"BM27+BO27","v":0},null,null,null,{"$f":"BQ27+BS27","v":0},null,null,null,{"$f":"BU27+BW27","v":0},null,null,null,{"$f":"BY27+CB27","v":0},null,null,null,{"$f":"CC27+CE27","v":0}]
["K) TUBERCULOSIS ",null,null,null,null,null,null,null,null,null,null,null,null,null,null," CHAGAS ",null,null,null,null,null,"L) PERSONAS CON ENF. CRONICAS",null,null,null,null,null,null,null,null,null,null,null,"M) OBSERVACIONES"]
["Coef. Sint.Resp.: ",null,null,"MUESTRAS",null,null,null,null,"TRATAM. TBC",null,null,null,null,null,null,"TRATAMIENTOS CHAGAS",null,null,null,null,null,"PERSONAS CON",null,null,null,null,null,"TOTAL",null,null,"EN TRAT.",null,null," "]
[{"$f":"Control!H9","v":8},null,null,"DIAGNOSTICOS",null,null,"CONTROL",null,"Total",null,"TAES",null," ABANDONO",null,null,"INICIO ",null,null,0,null,null,"DIABETES",null,null,null,null,null,0,null,null,0]
["SINT. ESP..",null,null,"Tot",null,"(+)","Tot","(+)",0,null,0,null,0,null,null,"FINALIZACION ",null,null,0,null,null,"HIPERTENSION \nARTERIAL",null,null,null,null,null,0,null,null,0]
[{"$f":"IF(ISERROR(((AK91+AL91+AN91+AP91+AR91+AU91+AV91+AY91+AZ91+BB91+BD91+BG91+BI91+BK91+BM91+BO91+BQ91+BS91+BU91+BW91+BY91+CB91)*0.2)*A31/100),0,(((AK91+AL91+AN91+AP91+AR91+AU91+AV91+AY91+AZ91+BB91+BD91+BG91+BI91+BK91+BM91+BO91+BQ91+BS91+BU91+BW91+BY91+CB91)*0.2)*A31/100))","v":0},null,null,0,null,0,0,0,"QUIMIO Total",null,0,null,null,null,null,null,null,null,null,null,null,"PERSONAS CON OTRAS ENF. CRONICAS AL CUIDADO DE NIÑOS",null,null,null,null,null,0,null,null,0]
["SINT. DETEC.",null,null,"CONTACTO",null,null,null,null,"CTRL. MEDICO",null,null,null,"FINALIZAD0",null,null,"ABANDONO ",null,null,0]
[0,null,null,"< 14a",null,null,"> 15a",null,"Pcte/Rda",null,"A Cont",null,0,null,null,null,null,null,null,null,null,"ADULTOS MAYORES EN SITUACION DE RIESGO",null,null,null,null,null,0]
[null,null,null,0,null,null,0,null,0,null,0]
["N) DERIVACIONES",null,null,null,null,null,null,null,null,null,null,null,null,null,null,null,null,null,null,null,null,null,null,null,null,null,null,null,null,null,null,null,null,null,null,null,null,null,null,null,null,"Ñ) VIVIENDA Y SANEAMIENTO",null,null,null,null,null,null,null,null,null,null,null,null,null,null,null,null,null,null,null,null,null,null,null,null,null,null,null,"O) DEFUNCIONES EN LA RONDA"]
[null,null,null,null,null,null,null,null,null,null,null,null,null,null,null,null,null,null,null,null,null,null,null,null,null,null,null,null,null,null,null,null,null,null,null,null,null,null,null,null,null,"TRAT. AGUA",null,null,null,null,null,"DISP SANITARIA EXCRETAS",null,null,null,null,null,null,null,null,null,null,null,"TRATAM. SANIT BASURA",null,null,null,null,null,null,null,null,null,"MENORES 1 AÑO",null,null,null,null,null,null,null,null,null,null,"1 a 4 AÑOS",null,"MATERNA",null,null,null,"OTRAS"]
["EMB",null,null,null,"RN",null,null,null,"PUERP",null,null,null,"Menores de 6 años",null,null,null,null,null,null,null,"E.\nCRONICAS",null,"PAP",null,"CHAGAS",null,null,null,"TBC",null,null,null,"PSICOSOC",null,null,null,"TOTAL\nDERIVACIONES",null,null,null,null,"RED",null,"EN\nVIV",null,null,"S/T","ARRASTRE",null,null,null,null,null,"LETRINA",null,null,null,"S/T",null,"REC. DOMIC.",null,null,"POZO BASURA",null,null,null,"S/T",null,null,"<7d",null,null,"7 a 28d",null,null,null,"29d a 11 m"]
[null,null,null,null,null,null,null,null,null,null,null,null,"BP- MBP",null,"RGO BP",null,"Resp",null,"Diarr",null,null,null,null,null,null,null,null,null,null,null,null,null,null,null,null,null,null,null,null,null,null,null,null,null,null,null,null,"CLOACAS",null,"PC-CT",null,"PC-ST",null,"CT",null,"ST"]
["Env",null,"Rec",null,"Env",null,"Rec",null,"Env",null,"Rec",null,"Env","Rec","Env","Rec","Env","Rec","Env","Rec","Env","Rec","Env","Rec","Env",null,"Rec",null,"Env",null,"Rec",null,"Env",null,"Rec",null,"ENV",null,null,"Rec",null,0,null,0,null,null,0,0,null,0,null,0,null,0,null,0,null,0,null,0,null,null,0,null,null,null,0,null,null,0,null,null,0,null,null,null,0,null,null,null,0,null,0,null,null,null,0]
[null,null,null,null,null,null,null,null,null,null,null,null,null,null,null,null,null,null,null,null,null,null,null,null,null,null,null,null,null,null,null,null,null,null,null,null,null,null,null,null,null,"CASAS ",null,null,null,null,null,null,null,null,null,null,null,"CHAGAS",null,null,null,null,null,null,null,null,null,null,null,"DENGUE CHIKUNGUNYA",null,null,null,null,null,null,null,null,null,null,null,"P) PROM. SALUD"]
[0,null,0,null,0,null,0,null,0,null,0,null,0,0,0,0,0,0,0,0,0,0,0,0,0,null,0,null,0,null,0,null,0,null,0,null,{"$f":"AG43+AC43+Y43+W43+U43+S43+Q43+O43+M43+I43+E43+A43","v":0},null,null,{"$f":"AI43+AE43+AA43+X43+V43+T43+R43+P43+N43+K43+G43+C43","v":0},null,"ASIGNADAS",null,null,null,null,"VISITADAS",null,null,"VACIAS",null,"DESTRUIDAS",null,"EVALUADAS",null,null,"POSITIVAS",null,null,null,null,"TRATADAS",null,null,null,"EVALUADAS",null,null,null,"POSITIVAS",null,null,null,"TRATADAS",null,null,null,"PLANIFICADAS \nEN COMUNIDAD",null,null,null,null,null,null,null,0]
[]
[null,null,null,null,null,null,null,null,null,null,null,null,null,null,null,null,null,null,null,null,null,null,null,null,null,null,null,null,null,null,null,null,null,null,null,null,null,null,null,null,null,0,null,null,null,null,0,null,null,0,null,0,null,0,null,null,0,null,null,null,null,0,null,null,null,0,null,null,null,0,null,null,null,0,null,null,null,"REALIZADAS ",null,null,null,null,null,null,null,0]
["Q) INDICADORES"]
["DE ESTRUCTURA",null,null,null,null,null,"SI","NO","DE PRODUCCION",null,null,null,null,null,"%","META",null," DE INMUNIZACIONES",null,null,null,null,null,null,null,null,null,null,null,null,null,null,null,null," DE INMUNIZACIONES",null,null,null,null,null,null,null,null,null,null,null,null,null,null,null,null,null,null,null,null,null,null,null,null,null,null," DE RESULTADO",null,null,null,null,null,null,null,null,"%",null,"META",null,null," DE RESULTADO",null,null,null,null,null,null,null,null,null,"%",null,"META RDA"]
["Formularios",null,null,null,null,null,0,0,"Cobertura a Familias",null,null,null,null,null,{"$f":"IF(ISERROR(D12/A12),0,(D12/A12)*100)","v":0},100,null,"VACUNA",null,null,null,null,"P. REF",null,"1r","2r","3r","4r",null,"T","%",null,"META",null,"VACUNA",null,null,null,null,null,null,null,null,null,"P. REF",null,null,"1r",null,null,"2r","3r",null,null,"4r","T",null,"%",null,"META",null,"Ed Fértil c/Anticoncepción",null,null,null,null,null,null,null,null,{"$f":"IF(ISERROR(D20/CH27),0,(D20/CH27)*100)","v":0},null,null,null,null,"Niños 2 a 5 Recup BP",null,null,null,null,null,null,null,null,null,{"$f":"IF(ISERROR(AV23/K80),0,(AV23/K80)*100)","v":0},null,100]
["Equipo",null,null,null,null,null,0,0,"Niños < 2 años Controlados",null,null,null,null,null,{"$f":"IF(ISERROR(((AJ22+AL22+AN22+AP22)/(A28+D28+G28))),0,(((AJ22+AL22+AN22+AP22)/(A28+D28+G28)))*100)","v":0},100,null,"BCG RN",null,null,null,null,{"$f":"U20","v":0},null,0,0,0,0,null,{"$f":"SUM(Y49:AB49)","v":0},{"$f":"IF(ISERROR(Z49/W49),0,(Z49/W49)*100)","v":0},null,100,null,"2 Ref. Varicela Ingreso Esc",null,null,null,null,null,null,null,null,null,0,null,null,0,null,null,0,0,null,null,0,{"$f":"SUM(AV49:BC49)","v":0},null,{"$f":"IF(ISERROR(AY49/AS49),0,(AY49/AS49)*100)","v":0},null,25,null,"PAP",null,null,null,null,null,null,null,null,{"$f":"IF(ISERROR(D17/CH27),0,(D17/CH27)*100)","v":0},null,null,null,null,"Niños 2 a 5 Recup AP",null,null,null,null,null,null,null,null,null,{"$f":"IF(ISERROR(AY23/K82),0,(AY23/K82)*100)","v":0},null,100]
["Combustible",null,null,null,null,null,0,0,"Niños  (2 a 5 años) Controlados",null,null,null,null,null,{"$f":"IF(ISERROR(((AJ23+AL23+AN23+AP23)/(I28+K28+M28+P28))),0,(((AJ23+AL23+AN23+AP23)/(I28+K28+M28+P28)))*100)","v":0},100,null,"Hepatitis B RN","Hepatitis B RN",null,"Hepatitis B RN","Hepatitis B RN",null,null,0,0,0,0,null,{"$f":"SUM(Y50:AB50)","v":0},{"$f":"IF(ISERROR(Z50/W49),0,(Z50/W49)*100)","v":0},null,null,null,"2° Ref. Antipolio Ingreso Escolar",null,null,null,null,null,null,null,null,null,null,null,null,0,null,null,0,0,null,null,0,{"$f":"SUM(AV50:BC50)","v":0},null,{"$f":"IF(ISERROR(AY50/AS49),0,(AY50/AS49)*100)","v":0},null,null,null,"Embarazadas Con MELON",null,null,null,null,null,null,null,null,{"$f":"IF(ISERROR(F23/J20),0,(F23/J20)*100)","v":0},null,80,null,null,"Niños 6 meses con LME",null,null,null,null,null,null,null,null,null,{"$f":"IF(ISERROR(CC20/CC17),0,(CC20/CC17)*100)","v":0},null,80]
[" DE DIAGNOSTICO",null,null,null,null,null,null,"%","Conc. Vis. Flias Prio",null,null,null,null,null,{"$f":"IF(ISERROR((BB15+BE15)/(BB14+BE14)),0,((BB15+BE15)/(BB14+BE14)))","v":0},25,null,"2° Neumococo < 1a","3ª SOT/Salk < 1a",null,"3ª SOT/Salk < 1a","3ª SOT/Salk < 1a",{"$f":"A91+C91+D91+F91","v":0},null,0,0,0,0,null,{"$f":"SUM(Y51:AB51)","v":0},{"$f":"IF(ISERROR(Z51/W51),0,(Z51/W51)*100)","v":0},null,100,null,"2° Ref. DPT Ingreso Escolar",null,null,null,null,null,null,null,null,null,null,null,null,0,null,null,0,0,null,null,0,{"$f":"SUM(AV51:BC51)","v":0},null,{"$f":"IF(ISERROR(AY51/AS49),0,(AY51/AS49)*100)","v":0},null,null,null,"Partos Hospitalarios",null,null,null,null,null,null,null,null,{"$f":"IF(ISERROR(O20/M20),0,(O20/M20)*100)","v":0},null,100]
["Flias Priorizadas 3 + 2:",null,null,null,null,null,null,{"$f":"IF(ISERROR((BB14+BE14)/D12),0,(BB14+BE14)/D12*100)","v":0},"Conc.C.Dom Niños Bp/MBP",null,null,null,null,null,{"$f":"IF(ISERROR(BW22/(AL22+AN22+AL23+AN23)),0,(BW22/(AL22+AN22+AL23+AN23)))","v":0},3,null,"2° Rotavirus <1 a","3º Pentavalente <1 a",null,"3º Pentavalente <1 a","3º Pentavalente <1 a",null,null,0,0,0,0,null,{"$f":"SUM(Y52:AB52)","v":0},{"$f":"IF(ISERROR(Z52/W51),0,(Z52/W51)*100)","v":0},null,null,null,"2° TV Ingreso Escolar",null,null,null,null,null,null,null,null,null,null,null,null,0,null,null,0,0,null,null,0,{"$f":"SUM(AV52:BC52)","v":0},null,{"$f":"IF(ISERROR(AY52/AS49),0,(AY52/AS49)*100)","v":0},null,100,null,"Conc Control Médico a RN",null,null,null,null,null,null,null,null,{"$f":"IF(ISERROR(Q23/M20),0,(Q23/M20))","v":0},null,4,null,null,"% Niños BP MBP y RBP con MELaN",null,null,null,null,null,null,null,null,null,{"$f":"IF(ISERROR(BO20/(AL22+AN22+AR22+AL23+AN23+AR23)),0,(BO20/(AL22+AN22+AR22+AL23+AN23+AR23))*100)","v":0},null,100]
["Flias Urbanas",null,null,null,null,null,null,{"$f":"IF(ISERROR(T12/D12),0,(T12/D12)*100)","v":0},"Rel. Muestra/Sint Resp.",null,null,null,null,null,{"$f":"IF(ISERROR(D33/A35),0,(D33/A35))","v":0},2,null,"2° Meningococo < 1a",null,null,null,null,null,null,0,0,0,0,null,{"$f":"SUM(Y53:AB53)","v":0},{"$f":"IF(ISERROR(Z53/W51),0,(Z53/W51)*100)","v":0},null,null,null,"dTpa 11 años",null,null,null,null,null,null,null,null,null,0,null,null,0,null,null,0,0,null,null,0,{"$f":"SUM(AV53:BC53)","v":0},null,{"$f":"IF(ISERROR(AY53/AS53),0,(AY53/AS53)*100)","v":0},null,null,null,"Conc Control Méd. a puérpera",null,null,null,null,null,null,null,null,{"$f":"IF(ISERROR(M23/S20),0,(M23/S20))","v":0},null,4,null,null,"Sint Resp Detect. Seg zona",null,null,null,null,null,null,null,null,null,{"$f":"IF(ISERROR((A35*100)/(((20*(AK28+AN28+AR28+AV28+AZ28+BD28+BI28+BM28+BQ28+BU28+BY28))/100)*A31)),0,(A35*100)/((((20*(AK28+AN28+AR28+AV28+AZ28+BD28+BI28+BM28+BQ28+BU28+BY28))/100)*A31)/100))","v":0},null,"S/Z"]
["Flias Periurbanas",null,null,null,null,null,null,{"$f":"IF(ISERROR(V12/D12),0,(V12/D12)*100)","v":0},"Casas Evaluadas Chagas",null,null,null,null,null,{"$f":"IF(ISERROR(BB45/AU45),0,(BB45/AU45)*100)","v":0},100,null,"3° Antipolio < 1 año","2ª Rotavirus < 1 año",null,"2ª Rotavirus < 1 año","2ª Rotavirus < 1 año",null,null,0,0,0,0,null,{"$f":"SUM(Y54:AB54)","v":0},{"$f":"IF(ISERROR(Z54/W51),0,(Z54/W51)*100)","v":0},null,null,null,"U.D. Meningococo",null,null,null,null,null,null,null,null,null,null,null,null,0,null,null,0,0,null,null,0,{"$f":"SUM(AV54:BC54)","v":0},null,{"$f":"IF(ISERROR(AY54/AS53),0,(AY54/AS53)*100)","v":0},null,"95% AL 1° SEM",null,"RN con Pesquisa",null,null,null,null,null,null,null,null,{"$f":"IF(ISERROR(Y23/U20),0,(Y23/U20)*100)","v":0},null,100,null,null,"Pacientes TBC con Control Médico",null,null,null,null,null,null,null,null,null,{"$f":"IF(ISERROR(I36/I32),0,(I36/I32)*100)","v":0},null,100]
["Flias Rurales",null,null,null,null,null,null,{"$f":"IF(ISERROR(Y12/D12),0,(Y12/D12)*100)","v":0},"Casas Tratadas Chagas",null,null,null,null,null,{"$f":"IF(ISERROR(BJ45/BE45),0,(BJ45/BE45)*100)","v":0},100,null,"3° Pentavalente <1 año","TV 1 año",null,"TV 1 año","TV 1 año",null,null,0,0,0,0,null,{"$f":"SUM(Y55:AB55)","v":0},{"$f":"IF(ISERROR(Z55/W51),0,(Z55/W51)*100)","v":0},null,null,null,"1° HPV Niñas cumplen 11 a en año en curso",null,null,null,null,null,null,null,null,null,0,null,null,0,null,null,0,0,null,null,0,{"$f":"SUM(AV55:BC55)","v":0},null,{"$f":"IF(ISERROR(AY55/AS55),0,(AY55/AS55)*100)","v":0},null,null,null,"Derivaciones Enviadas/Recibidas",null,null,null,null,null,null,null,null,{"$f":"IF(ISERROR(AN43/AK43),0,(AN43/AK43)*100)","v":0},null,100,null,null,"Contactos TBC Controlados",null,null,null,null,null,null,null,null,null,{"$f":"IF(ISERROR(K36/(D36+G36)),0,(K36/(D36+G36)))*100","v":0},null,100]
["Flias Originarias",null,null,null,null,null,null,{"$f":"IF(ISERROR(R12/D12),0,(R12/D12)*100)","v":0},"Casas Evaluadas Dengue",null,null,null,null,null,{"$f":"IF(ISERROR(BN45/AU45),0,(BN45/AU45)*100)","v":0},100,null,"1° TV","A HA 1 año",null,"A HA 1 año","A HA 1 año",{"$f":"G91+H91","v":0},null,0,0,0,0,null,{"$f":"SUM(Y56:AB56)","v":0},{"$f":"IF(ISERROR(Z56/W56),0,(Z56/W56)*100)","v":0},null,100,null,"1° HPV Niños cumplen 11 a en año en curso",25,25,null,null,null,null,null,null,null,0,null,null,0,null,null,0,0,null,null,0,{"$f":"SUM(AV56:BC56)","v":0},null,{"$f":"IF(ISERROR(AY56/AS56),0,(AY56/AS56)*100)","v":0},null,"95% AL 1° SEM",null,"Niños < 2 a Riesgo BP",null,null,null,null,null,null,null,null,{"$f":"IF(ISERROR(AR22/AJ22),0,(AR22/AJ22)*100)","v":0},null,null,null,null,"TAES de TBC",null,null,null,null,null,null,null,null,null,{"$f":"IF(ISERROR(K32/I32),0,(K32/I32)*100)","v":0},null,100]
["Flias Migr. desde AO",null,null,null,null,null,null,{"$f":"IF(ISERROR(AC12/A12),0,(AC12/A12)*100)","v":0},"Casas Tratadas Dengue",null,null,null,null,null,{"$f":"IF(ISERROR(BV45/BR45),0,(BV45/BR45)*100)","v":0},100,null,"2° TV","A HA 1 año",null,"A HA 1 año","A HA 1 año",null,null,0,0,0,0,null,{"$f":"SUM(Y57:AB57)","v":0},{"$f":"IF(ISERROR(Z57/W56),0,(Z57/W56)*100)","v":0},null,null,null,"Emb. con dTpa",null,null,null,null,null,null,null,null,null,{"$f":"A91+C91+D91+F91","v":0},null,null,0,null,null,0,0,null,null,0,{"$f":"SUM(AV57:BC57)","v":0},null,{"$f":"IF(ISERROR(AY57/AS57),0,(AY57/AS57)*100)","v":0},null,null,null,"Niños < 2 a Riesgo AP",null,null,null,null,null,null,null,null,{"$f":"IF(ISERROR(AT22/AJ22),0,(AT22/AJ22)*100)","v":0},null,null,null,null,"Ptes. con tratamiento por Chagas",null,null,null,null,null,null,null,null,null,{"$f":"S31","v":0}]
["Flias Migr. hacia el AO",null,null,null,null,null,null,{"$f":"IF(ISERROR(AA12/A12),0,(AA12/A12)*100)","v":0},"Superv Int. a la Familia",null,null,null,null,null,{"$f":"IF(ISERROR((CH14*100)/BL14),0,((CH14*100)/BL14))","v":0},20,null,"Unica Dosis A HA",null,null,null,null,null,null,0,0,0,0,null,{"$f":"SUM(Y58:AB58)","v":0},{"$f":"IF(ISERROR(Z58/W56),0,(Z58/W56)*100)","v":0},null,null,null,"Emb. con Vac Sinsicial",null,null,null,null,null,null,null,null,null,null,null,null,0,null,null,0,0,null,null,0,{"$f":"SUM(AV58:BC58)","v":0},null,{"$f":"IF(ISERROR(AY58/AS57),0,(AY58/AS57)*100)","v":0},null,100,null,"Niños < 2 Recup BP",null,null,null,null,null,null,null,null,{"$f":"IF(ISERROR(AV22/K79),0,(AV22/K79)*100)","v":0},null,100,null,null,"Casas positivas Chagas",null,null,null,null,null,null,null,null,null,{"$f":"IF(ISERROR(BE45/BB45),0,(BE45/BB45)*100)","v":0},null,0]
["Flias con planes sociales",null,null,null,null,null,null,{"$f":"IF(ISERROR(AF12/D12),0,(AF12/D12)*100)","v":0},"Superv Prof. Flias Prio (3v)",null,null,null,null,null,{"$f":"IF(ISERROR(CH15/(BB14+BE14)),0,(CH15/(BB14+BE14))*100)","v":0},70,null,"Ref Neumococo 1 año","Ref Neumoc 1 año",null,"Ref Neumoc 1 año","Ref Neumoc 1 año",null,null,0,0,0,0,null,{"$f":"SUM(Y59:AB59)","v":0},{"$f":"IF(ISERROR(Z59/W56),0,(Z59/W56)*100)","v":0},null,null,null,"dT  Vigente > 65 a",null,null,null,null,null,null,null,null,null,{"$f":"BY91+CB91","v":0},null,null,0,null,null,0,0,null,null,0,{"$f":"SUM(AV59:BC59)","v":0},null,{"$f":"IF(ISERROR(AY59/AS59),0,(AY59/AS59)*100)","v":0},null,100,null,"Niños < 2 Recup AP",null,null,null,null,null,null,null,null,{"$f":"IF(ISERROR(AY22/K81),0,(AY22/K81)*100)","v":0},null,100,null,null,"Casas Positivas Aedes",null,null,null,null,null,null,null,null,null,{"$f":"IF(ISERROR(BR45/BN45),0,(BR45/BN45)*100)","v":0},null," "]
[null,null,null,null,null,null,null,null,"% Activ Prom.Salud Comunitarias",null,null,null,null,null,{"$f":"IF(ISERROR(CH45/CH43),0,(CH45/CH43)*100)","v":0},100,null,"Ref. Meningococo 1 año","Ref Cuádruple 1 año",null,"Ref Cuádruple 1 año","Ref Cuádruple 1 año",null,null,0,0,0,0,null,{"$f":"SUM(Y60:AB60)","v":0},{"$f":"IF(ISERROR(Z60/W56),0,(Z60/W56)*100)","v":0},null,null,null,"Neumo 20 > 65 años",null,null,null,null,null,null,null,null,null,null,null,null,0,null,null,0,0,null,null,0,{"$f":"SUM(AV60:BC60)","v":0},null,{"$f":"IF(ISERROR(AY60/AS59),0,(AY60/AS59)*100)","v":0},null,null,null,"Niños 2 a 5 Riesgo BP",null,null,null,null,null,null,null,null,{"$f":"IF(ISERROR(AR23/AJ23),0,(AR23/AJ23)*100)","v":0},null,null,null,null,"UROCS 1/SEC",null,null,null,null,null,null,null,null,null,0,null,"1/SEC"]
["Flias. c/Antec Mort Mat Inf",null,null,null,null,null,null,{"$f":"IF(ISERROR(AV10/D12),0,(AV10/D12)*100)","v":0},null,null,null,null,null,null,null,null,null,"Unica Dosis Varicela","Ref SOT 1 año",null,"Ref SOT 1 año","Ref SOT 1 año",null,null,0,0,0,0,null,{"$f":"SUM(Y61:AB61)","v":0},{"$f":"IF(ISERROR(Z61/W56),0,(Z61/W56)*100)","v":0},null,null,null,"Aplic. Cargadas a Nomivac",null,null,null,null,null,null,null,null,null,0,null,null,null,null,null,null,null,null,null,null,null,null,null,null,null,null,null,null,null,null,null,null,null,null,null,null,null,null,null,null,"Flias con Huerta",null,null,null,null,null,null,null,null,null,{"$f":"IF(ISERROR(AL12/D12),0,(AL12/D12)*100)","v":0}]
["F con 3 o más <6 años",null,null,null,null,null,null,{"$f":"IF(ISERROR(BI10/D12),0,(BI10/D12)*100)","v":0}," DE IMPACTO",null,null,null,null,"%",null,"META",null,"4° Dosis o 1° Ref. Pentavalente",null,null,null,null,null,null,0,0,0,0,null,{"$f":"SUM(Y62:AB62)","v":0},{"$f":"IF(ISERROR(Z62/W56),0,(Z62/W56)*100)","v":0},null,null,null,"Total Aplic /AS",null,null,null,null,null,null,null,null,null,0,null,null,null,null,null,null,null,null,null,null,null,null,null,null,null,null,"Niños 2 a 5 Riesgo AP",null,null,null,null,null,null,null,null,{"$f":"IF(ISERROR(AT23/AJ23),0,(AT23/AJ23)*100)","v":0},null,null,null,null,"Flias con Granja",null,null,null,null,null,null,null,null,null,{"$f":"IF(ISERROR(AP12/D12),0,(AP12/D12)*100)","v":0}]
["Flias con Hacinamiento",null,null,null,null,null,null,{"$f":"IF(ISERROR(BL10/D12),0,(BL10/D12)*100)","v":0},"Agua Seg (Trat Red + Viv)",null,null,null,null,{"$f":"IF(ISERROR((AP41+AR41)/D12),0,((AP41+AR41)/D12)*100)","v":0},null,100,null,"2° AG 6m a 24m",null,null,null,null,{"$f":"D91+F91+G91+H91","v":0},null,0,0,0,0,null,{"$f":"SUM(Y63:AB63)","v":0},{"$f":"IF(ISERROR(Z63/W63),0,(Z63/W63)*100)","v":0},null," ",null,"VAC COVID APLIC EN LA RONDA",null,null,null,null,null,null,null,null,null,0,null,null,null,null,null,null,null,null,null,null,null,null,null,null,null,null,"U) A llenar en 1° Ronda del Año"]
["Flias con Analfabet",null,null,null,null,null,null,{"$f":"IF(ISERROR(BO10/D12),0,(BO10/D12)*100)","v":0},"DSE (Arrastre y letrinas)",null,null,null,null,{"$f":"IF(ISERROR((AV41+AX41+AZ41+BB41+BD41)/D12),0,((AV41+AX41+AZ41+BB41+BD41)/D12)*100)","v":0},null,100,null,"R) PRODUCCION Y RENDIMIENTO",null,null,null,null,null,null,null,null,null,null,null,null,null,null,null,null,null,null,null,null,null,null,null,null,null,null,null,null,null,null,null,null,null,null,null,null,null,null,null,null,null,null,null,"Piso",null,null,null,null,"Techo",null,null,null,null,"Paredes",null,null,null,null,null,null,null,null,null,"Cocina",null,null,null,null,"Tenencia"]
["Flias con Suicidio",null,null,null,null,null,null,{"$f":"IF(ISERROR(BT11/D12),0,(BT11/D12)*100)","v":0},"TSB (Recolección + Pozo)",null,null,null,null,{"$f":"IF(ISERROR((BH41+BK41)/D12),0,((BH41+BK41)/D12)*100)","v":0},null,100,null,"DIAS A TRAB. /RONDA",null,null,"DIAS INCLEM CLIMAT.",null,null,"DIAS Y NROS DE ARTICULOS TOMADOS",null,null,null,"CAPACITACIONES Y OTRAS ACTIVIDADES",null,null,null,null,null,null,null,null,null,null,null,null,null,null,null,null,null,null,null,null,null,null,"DIAS TRABAJADOS\nEN TERRENO",null,null,null,null,"PROM. DIARIO DE FLIAS VISIT.",null,null,null,null,null,"Mosaico/B.",null,null,null,0,"Losa",null,null,0,null,"Ladrillo",null,null,0,null,"Madera",null,null,null,0,"Gas",null,null,0,null,"Segura",null,null,0]
["Flias c /tentativa suicidio",null,null,null,null,null,null,{"$f":"IF(ISERROR(BV11/D12),0,(BV11/D12)*100)","v":0},"Emb Adolescente",null,null,null,null,{"$f":"IF(ISERROR(L20/J20),0,(L20/J20)*100)","v":0},null,null,null,null,null,null,null,null,null,0,null,null,null,0,null,null,null,null,null,null,null,null,null,null,0,null,null,null,null,null,null,null,null,null,null,null,null,null,null,null,null,null,null,null,null,null,null,"Cemento",null,null,null,0,"Chapa\nZinc",null,null,0,null,"Bloque",null,null,0,null,"Quincho",null,null,null,0,"Leña/\nCarb",null,null,0,null,"Inseg.",null,null,0]
["Flias con Alcoholismo",null,null,null,null,null,null,{"$f":"IF(ISERROR(BY11/D12),0,(BY11/D12)*100)","v":0},"Niños <2 Bajo Peso/MBP",null,null,null,null,{"$f":"IF(ISERROR((AL22+AN22)/(AJ22+AP22+AL22+AN22)),0,((AL22+AN22)/(AJ22+AP22+AL22+AN22))*100)","v":0},null,null,null,null,null,null,null,null,null,0,null,null,null,0,null,null,null,null,null,null,null,null,null,null,0,null,null,null,null,null,null,null,null,null,null,null,null,null,null,null,null,null,null,null,null,null,null,"Tierra",null,null,null,0,"Paja/\nBarro",null,null,0,null,"Adobe",null,null,0,null,"Carton/Pl",null,null,null,0,"Otros",null,null,0,null,"Hac",null,null,0,null,null,null,5]
["Flias c/ otras Adicciones",null,null,null,null,null,null,{"$f":"IF(ISERROR(CC11/D12),0,(CC11/D12)*100)","v":0},"Niños <2 a AP",null,null,null,null,{"$f":"IF(ISERROR(AP22/(AJ22+AP22+AL22+AN22)),0,(AP22/(AJ22+AP22+AL22+AN22))*100)","v":0},null,null,null,0,null,null,0,null,null,0,null,null,null,0,null,null,null,null,null,null,null,null,null,null,0,null,null,null,null,null,null,null,null,null,null,null,0,null,null,null,null,{"$f":"IF(ISERROR(G12/AY68),0,(G12/AY68))","v":0},null,null,null,null,null,"Otros",null,null,null,0,"Otros",null,null,0,null,"Piedra",null,null,0,null,"Otro",null,null,null,0,"Helad.",null,null,0]
["Flias con VIF",null,null,null,null,null,null,{"$f":"IF(ISERROR(CF11/D12),0,(CF11/D12)*100)","v":0},"Niños < 2 baja y MBT",null,null,null,null,{"$f":"IF(ISERROR((AZ22+BB22)/(AJ22+AP22+AL22+AN22)),0,((AZ22+BB22)/(AJ22+AP22+AL22+AN22))*100)","v":0},null,null,null,"S) DETALLE DE LAS DEFUNCIONES (Todas las del Sector)",null,null,null,null,null,null,null,null,null,null,null,null,null,null,null,null,null,null,null,null,null,null,null,null,null,null,null,null,null,null,null,null,null,null,null,null,null,null,null,null,null,null,null,"Agua",null,"Corriente a Domic",null,null,"Grifo Terr",null,null,"Grifo Público",null,null,"Bomba",null,null,"Pozo",null,null,null,"Camión Aguatero / Cisterna",null,"Vertiente/Rio/Aceq",null,null,"Laguna",null,null,"Lluvia/Aljibe"]
["Flias con Diabetes",null,null,null,null,null,null,{"$f":"IF(ISERROR(AB31/D12),0,(AB31/D12)*100)","v":0},"Niños 2 a 5 Bajo Peso/MBP",null,null,null,null,{"$f":"IF(ISERROR((AL23+AN23)/(AJ23+AP23+AL23+AN23)),0,((AL23+AN23)/(AJ23+AP23+AL23+AN23))*100)","v":0},null,null,null,"APELLIDO Y NOMBRE",null,null,null,null,null,null,"DOMICILIO",null,null,null,null,null,null,null,null,"NACIMIENTO",null,null,null,null,"DEFUNCION",null,null,null,"PESO\nAL NACER",null,null,null,"CAUSA",null,null,null,null,null,null,null,null,null,"CLASIFICAC."]
["Flias con Hipertensión",null,null,null,null,null,null,{"$f":"IF(ISERROR(AB32/D12),0,(AB32/D12)*100)","v":0},"Niños 2 a 5 AP",null,null,null,null,{"$f":"IF(ISERROR(AP23/(AJ23+AP23+AL23+AN23)),0,(AP23/(AJ23+AP23+AL23+AN23))*100)","v":0}]
[]
["Personas con otras enfermedades crónicas al cuidado de niños",null,null,null,null,null,null,{"$f":"IF(ISERROR(AB33/D12),0,(AB33/D12)*100)","v":0},"Niños 2 a 5 baja y MBT",null,null,null,null,{"$f":"IF(ISERROR((AZ23+BB23)/(AJ23+AP23+AL23+AN23)),0,((AZ23+BB23)/(AJ23+AP23+AL23+AN23))*100)","v":0},null,null,null,null,null,null,null,null,null,null,null,null,null,null,null,null,null,null,null,null,null,null,null,null,null,null,null,null,null,null,null,null,null,null,null,null,null,null,null,null,null,null,null,null,null,null,null,null,null,0,null,null,0,null,null,0,null,null,0,null,null,0,null,null,null,0,null,0,null,null,0,null,null,0]
["Pers c/O Social/Pob total",null,null,null,null,null,null,{"$f":"IF(ISERROR(CI27/CC28),0,(CI27/CC28)*100)","v":0}]
[]
[]
[]
[]
["BP+MBP Ronda Anterior Men2a: ",null,null,null,null,null,null,null,null,null,0]
["BP+MBP Ronda Anterior 2 a 6a: ",null,null,null,null,null,null,null,null,null,0]
["AP Ronda Anterior Men2a: ",null,null,null,null,null,null,null,null,null,0]
["AP Ronda Anterior 2 a 6a: ",null,null,null,null,null,null,null,null,null,0]
[]
[]
[]
[]
[]
["0 a 5m",null,null,"6 a 11m",null,null,"1 AÑO",null,"2 AÑOS",null,"3 AÑOS",null,"4 AÑOS",null,null,"5 AÑOS",null,null,"6 AÑOS",null,null,"7 A 9 AÑOS",null,null,null,"10 AÑOS",null,"11 AÑOS",null,null,"12 A 14",null,null,null,null,null,"15 A 19",null,null,"20 A 24",null,null,null,"25 A 29",null,null,null,"30 A 34",null,null,null,"35 A 39",null,null,null,"40 A 44",null,null,null,null,"45 A 49",null,null,null,"50 A 54",null,null,null,"55 A 59",null,null,null,"60 A 64",null,null,null,"65 y +",null,null,null,"TOTAL",null,null,null,null,"MUJERES\n10 A 49"]
["M",null,"F","M",null,"F","M","F","M","F","M","F","M",null,"F","M",null,"F","M",null,"F","M",null,"F",null,"M","F","M",null,"F","M",null,null,"F",null,null,"M","F",null,"M",null,"F",null,"M",null,null,"F","M",null,null,"F","M",null,"F",null,"M",null,null,"F",null,"M",null,"F",null,"M",null,"F",null,"M",null,"F",null,"M",null,"F",null,"M",null,null,"F","M",null,"F"]
[0,null,0,0,null,0,0,0,0,0,0,0,0,null,0,0,null,0,0,null,0,0,null,0,null,0,0,0,null,0,0,null,null,0,null,null,0,0,null,0,null,0,null,0,null,null,0,0,null,null,0,0,null,0,null,0,null,null,0,null,0,null,0,null,0,null,0,null,0,null,0,null,0,null,0,null,0,null,null,0,{"$f":"SUM(A90,D90,G90,I90,K90,M90,P90,S90,V90,Z90,AB90,AE90,AK90,AN90,AR90,AV90,AZ90,BD90,BI90,BM90,BQ90,BU90,BY90)","v":0},null,{"$f":"SUM(C90,F90,H90,J90,L90,O90,R90,U90,X90,AA90,AD90,AH90,AL90,AP90,AU90,AY90,BB90,BG90,BK90,BO90,BS90,BW90,CB90)","v":0},null,null,{"$f":"SUM(AA90,AD90,AH90,AL90,AP90,AU90,AY90,BB90,BG90,BK90)","v":0}]
[{"$f":"SUM(A90:C90)","v":0},null,null,{"$f":"SUM(D90,F90)","v":0},null,null,{"$f":"SUM(G90,H90)","v":0},null,{"$f":"SUM(I90,J90)","v":0},null,{"$f":"SUM(K90,L90)","v":0},null,{"$f":"SUM(M90,O90)","v":0},null,null,{"$f":"SUM(P90,R90)","v":0},null,null,{"$f":"SUM(S90,U90)","v":0},null,null,{"$f":"SUM(V90,X90)","v":0},null,null,null,{"$f":"SUM(Z90,AA90)","v":0},null,{"$f":"SUM(AB90,AD90)","v":0},null,null,{"$f":"SUM(AE90,AH90)","v":0},null,null,null,null,null,{"$f":"SUM(AK90,AL90)","v":0},null,null,{"$f":"SUM(AN90,AP90)","v":0},null,null,null,{"$f":"SUM(AR90,AU90)","v":0},null,null,null,{"$f":"SUM(AV90,AY90)","v":0},null,null,null,{"$f":"SUM(AZ90,BB90)","v":0},null,null,null,{"$f":"SUM(BD90,BG90)","v":0},null,null,null,null,{"$f":"SUM(BI90,BK90)","v":0},null,null,null,{"$f":"SUM(BM90,BO90)","v":0},null,null,null,{"$f":"SUM(BQ90,BS90)","v":0},null,null,null,{"$f":"SUM(BU90,BW90)","v":0},null,null,null,{"$f":"SUM(BY90,CB90)","v":0},null,null,null,{"$f":"A91+D91+G91+I91+K91+M91+P91+S91+V91+Z91+AB91+AE91+AK91+AN91+AR91+AV91+AZ91+BD91+BI91+BM91+BQ91+BU91+BY91","v":0}]
["Mejor Población: 1° - 2019",null,null,null,null,null,null,null,null,null,null,null,null,null,null,null,null,null,null,null,null,null,null,null,null,null,null,null,null,null,null,null,null,null,null,null,null,null,null,null,null,null,null,null,null,null,null,null,null,null,null,null,null,null,null,null,null,null,null,null,null,null,null,null,null,null,null,null,null,null,null,null,null,null,null,null,null,null,null,null,{"$f":"SUM(CC91,CE91)","v":0}]
["Cobertura: 1%"]

{"sheet":"LA MORA","index":19,"n_rows":93,"n_cols":94,"rows_kept":93,"cut":false,"hidden":false,"merged":[[61,30,61,31],[62,30,62,31],[89,85,90,85],[90,0,90,2],[90,3,90,5],[90,6,90,7],[90,8,90,9],[90,10,90,11],[90,12,90,14],[90,15,90,17],[90,18,90,20],[90,21,90,24],[89,70,89,71],[89,72,89,73],[89,74,89,75],[89,76,89,78],[89,80,89,81],[89,82,89,84],[89,58,89,59],[89,51,89,52],[89,53,89,54],[89,55,89,57],[89,23,89,24],[89,27,89,28],[89,30,89,32],[89,33,89,35],[89,37,89,38],[89,39,89,40],[90,72,90,75],[90,76,90,79],[90,80,90,84],[90,47,90,50],[90,51,90,54],[90,55,90,59],[90,60,90,63],[90,64,90,67],[90,68,90,71],[90,25,90,26],[90,27,90,29],[90,30,90,35],[90,36,90,38],[90,39,90,42],[90,43,90,46],[89,0,89,1],[89,3,89,4],[89,12,89,13],[89,15,89,16],[89,18,89,19],[89,21,89,22],[88,62,88,63],[88,64,88,65],[88,66,88,67],[88,68,88,69],[88,70,88,71],[88,72,88,73],[88,47,88,49],[88,51,88,52],[88,53,88,54],[88,55,88,57],[88,58,88,59],[88,60,88,61],[88,30,88,32],[88,33,88,35],[88,37,88,38],[88,39,88,40],[88,41,88,42],[88,43,88,45],[89,60,89,61],[89,62,89,63],[89,64,89,65],[89,66,89,67],[89,68,89,69],[89,41,89,42],[89,43,89,45],[89,47,89,49],[87,80,87,84],[87,85,88,85],[88,0,88,1],[88,3,88,4],[88,12,88,13],[88,15,88,16],[88,18,88,19],[88,21,88,22],[88,23,88,24],[88,27,88,28],[87,55,87,59],[87,60,87,63],[87,64,87,67],[87,68,87,71],[87,72,87,75],[87,76,87,79],[87,30,87,35],[87,36,87,38],[87,39,87,42],[87,43,87,46],[87,47,87,50],[87,51,87,54],[87,12,87,14],[87,15,87,17],[87,18,87,20],[87,21,87,24],[87,25,87,26],[87,27,87,29],[88,74,88,75],[88,76,88,78],[88,80,88,81],[88,82,88,84],[75,17,75,23],[75,24,75,32],[75,38,75,41],[75,42,75,45],[75,46,75,55],[87,0,87,2],[87,3,87,5],[87,6,87,7],[87,8,87,9],[87,10,87,11],[73,42,73,45],[73,46,73,55],[73,56,73,60],[74,17,74,23],[74,24,74,32],[74,38,74,41],[74,42,74,45],[74,46,74,55],[72,75,73,78],[72,79,73,80],[72,81,73,83],[72,84,73,86],[72,87,73,89],[73,0,73,6],[73,17,73,23],[73,24,73,32],[73,33,73,37],[73,38,73,41],[72,46,72,55],[72,56,72,60],[72,63,73,65],[72,66,73,68],[72,69,73,71],[72,72,73,74],[71,56,71,60],[72,0,72,6],[72,8,73,12],[72,13,73,14],[72,15,73,16],[72,17,72,23],[72,24,72,32],[72,33,72,37],[72,38,72,41],[72,42,72,45],[68,87,71,89],[68,69,71,71],[68,72,71,74],[68,75,71,78],[68,79,71,80],[68,81,71,83],[71,46,71,55],[69,46,69,55],[69,56,69,60],[70,0,71,6],[70,7,71,7],[70,8,71,12],[70,13,71,14],[70,15,71,16],[70,17,70,23],[70,24,70,32],[70,33,70,37],[69,0,69,6],[69,8,69,12],[69,13,69,14],[69,15,69,16],[69,17,69,23],[69,24,69,32],[69,33,69,37],[69,38,69,41],[69,42,69,45],[68,84,71,86],[67,81,67,83],[67,84,67,85],[68,0,68,6],[68,8,68,12],[68,13,68,14],[68,15,68,16],[68,17,68,60],[68,61,73,62],[68,63,71,65],[68,66,71,68],[67,61,67,64],[67,66,67,68],[67,69,67,70],[67,71,67,73],[67,74,67,75],[67,76,67,79],[67,20,67,22],[67,23,67,26],[67,27,67,37],[67,38,67,49],[67,50,67,54],[67,55,67,60],[70,38,70,41],[70,42,70,45],[70,46,70,55],[70,56,70,60],[71,17,71,23],[71,24,71,32],[71,33,71,37],[71,38,71,41],[71,42,71,45],[63,0,63,6],[63,8,63,12],[63,13,63,14],[63,15,63,16],[63,17,63,60],[63,61,63,65],[63,66,63,70],[63,71,63,80],[63,81,63,85],[66,69,66,70],[66,71,66,73],[66,74,66,75],[65,76,65,79],[65,81,65,83],[65,84,65,85],[65,86,65,88],[66,0,66,6],[66,8,66,12],[66,13,66,14],[66,15,66,16],[66,23,66,26],[66,27,66,37],[65,15,65,16],[65,23,65,26],[65,27,65,37],[65,38,65,49],[64,55,66,60],[64,61,64,64],[64,66,64,68],[64,69,64,70],[64,74,64,75],[64,86,64,88],[64,20,66,22],[64,23,64,26],[64,27,64,49],[64,50,66,54],[65,0,65,6],[65,8,65,12],[65,13,65,14],[66,86,67,88],[66,89,67,89],[67,0,67,6],[67,8,67,12],[67,13,67,14],[67,15,67,16],[67,17,67,19],[66,38,66,49],[66,61,66,64],[66,66,66,68],[64,76,64,79],[65,61,65,64],[65,66,65,68],[65,69,65,70],[65,74,65,75],[66,76,66,79],[66,81,66,83],[66,84,66,85],[62,0,62,6],[62,8,62,12],[62,13,62,14],[62,15,62,16],[62,32,62,33],[62,34,62,43],[64,81,64,83],[64,84,64,85],[61,87,61,89],[61,32,61,33],[61,34,61,43],[61,44,61,60],[62,44,62,60],[60,87,60,89],[61,0,61,6],[61,8,61,12],[61,13,61,14],[61,15,61,16],[60,0,60,6],[60,17,60,21],[60,27,60,28],[60,30,60,31],[60,34,60,43],[60,44,60,60],[63,86,63,89],[64,0,64,6],[64,8,64,12],[64,13,64,14],[64,15,64,16],[64,17,66,19],[60,75,60,84],[60,85,60,86],[62,61,62,89],[58,75,58,84],[58,85,58,86],[59,61,60,69],[59,70,60,71],[59,72,60,74],[59,75,59,84],[58,34,58,43],[58,44,59,46],[58,47,58,49],[58,51,58,53],[58,55,58,56],[58,57,58,58],[59,55,59,56],[59,57,59,58],[61,61,61,69],[61,70,61,71],[61,72,61,74],[61,75,61,84],[61,85,61,86],[57,87,57,89],[58,0,59,6],[58,7,59,7],[58,8,58,13],[58,15,58,16],[58,17,58,21],[58,27,58,28],[58,30,58,31],[57,55,57,56],[57,57,57,58],[57,59,57,60],[57,61,57,69],[57,70,57,71],[57,72,57,74],[59,85,59,86],[59,87,59,89],[57,47,57,49],[57,51,57,53],[58,87,58,89],[59,8,60,13],[59,14,60,14],[59,15,60,16],[59,17,59,21],[59,27,59,28],[59,30,59,31],[59,34,59,43],[59,47,59,49],[59,51,59,53],[58,59,59,60],[58,61,58,69],[58,70,58,71],[58,72,58,74],[56,27,56,28],[56,30,56,31],[56,34,56,43],[56,44,57,46],[56,47,56,49],[55,59,56,60],[55,61,55,69],[55,70,55,71],[55,72,55,74],[55,75,55,84],[55,85,55,86],[56,75,56,84],[56,85,56,86],[55,34,55,43],[55,44,55,46],[55,47,55,49],[55,51,55,53],[55,55,55,56],[55,57,55,58],[57,75,57,84],[57,85,57,86],[55,0,55,6],[55,8,55,13],[55,15,55,16],[55,17,55,21],[55,27,55,28],[55,30,55,31],[55,32,60,33],[54,47,54,49],[54,51,54,53],[54,55,54,56],[54,57,54,58],[54,61,54,69],[54,70,54,71],[56,87,56,89],[57,0,57,6],[57,8,57,13],[57,15,57,16],[57,17,57,21],[57,27,57,28],[57,30,57,31],[57,34,57,43],[56,51,56,53],[56,55,56,56],[56,57,56,58],[56,61,56,69],[56,70,56,71],[56,72,56,74],[55,87,55,89],[56,0,56,6],[56,8,56,13],[56,15,56,16],[56,17,56,21],[53,87,53,89],[54,0,54,6],[54,8,54,13],[54,15,54,16],[54,17,54,21],[54,27,54,28],[54,30,54,31],[54,34,54,43],[54,44,54,46],[53,57,53,58],[53,59,54,60],[53,61,53,69],[53,70,53,71],[53,72,53,74],[53,75,53,84],[54,72,54,74],[54,75,54,84],[54,85,54,86],[54,87,54,89],[51,75,51,84],[51,85,51,86],[51,87,51,89],[52,0,52,6],[52,8,52,13],[52,15,52,16],[52,17,52,21],[52,27,52,28],[52,30,52,31],[51,51,51,53],[51,55,51,56],[51,57,51,58],[51,59,52,60],[51,61,51,69],[51,70,51,71],[52,61,52,69],[52,70,52,71],[52,72,52,74],[52,75,52,84],[52,85,52,86],[52,87,52,89],[52,34,52,43],[52,44,53,46],[52,47,52,49],[52,51,52,53],[52,55,52,56],[52,57,52,58],[53,34,53,43],[53,47,53,49],[53,51,53,53],[53,55,53,56],[53,85,53,86],[51,0,51,6],[51,8,51,13],[51,15,51,16],[51,17,51,21],[51,27,51,28],[51,30,51,31],[51,34,51,43],[51,47,51,49],[50,34,50,43],[50,47,50,49],[50,51,50,53],[50,55,50,56],[50,57,50,58],[50,61,50,69],[49,72,49,74],[48,44,51,46],[48,47,48,49],[48,51,48,53],[49,47,49,49],[49,51,49,53],[50,30,50,31],[50,32,54,33],[51,72,51,74],[53,0,53,6],[53,8,53,13],[53,15,53,16],[53,17,53,21],[53,27,53,28],[53,30,53,31],[48,85,48,86],[48,87,48,89],[49,0,49,5],[49,8,49,13],[49,15,49,16],[49,17,49,21],[49,27,49,28],[49,30,49,31],[49,34,49,43],[48,55,48,56],[48,57,48,58],[48,59,50,60],[48,61,48,69],[48,70,48,71],[48,72,48,74],[49,55,49,56],[49,57,49,58],[49,61,49,69],[49,70,49,71],[48,30,48,31],[48,32,49,33],[48,34,48,43],[50,70,50,71],[50,72,50,74],[47,72,47,74],[47,75,47,84],[47,85,47,86],[47,87,47,89],[48,0,48,5],[48,8,48,13],[48,15,48,16],[48,17,48,21],[48,22,49,23],[48,27,48,28],[47,51,47,53],[47,55,47,56],[47,57,47,58],[47,59,47,60],[47,61,47,69],[47,70,47,71],[47,27,47,28],[47,30,47,31],[47,32,47,33],[47,34,47,43],[47,44,47,46],[47,47,47,49],[49,75,50,84],[49,85,50,86],[49,87,50,89],[50,0,50,6],[50,8,50,13],[50,15,50,16],[50,17,50,21],[50,22,54,23],[50,27,50,28],[48,75,48,84],[46,70,46,71],[46,72,46,74],[46,75,46,84],[46,85,46,86],[46,87,46,89],[47,0,47,5],[47,8,47,13],[47,15,47,16],[47,17,47,21],[47,22,47,23],[46,0,46,5],[46,8,46,13],[46,15,46,16],[46,17,46,33],[46,34,46,60],[46,61,46,69],[44,65,44,68],[44,69,44,72],[44,73,44,76],[44,77,44,84],[44,85,44,89],[45,0,45,89],[42,23,44,23],[42,24,44,25],[42,26,44,27],[42,28,44,29],[42,30,44,31],[42,32,44,33],[42,17,44,17],[42,18,44,18],[42,19,44,19],[42,20,44,20],[42,73,43,76],[42,77,43,84],[42,85,43,89],[44,41,44,45],[44,46,44,48],[44,49,44,50],[44,51,44,52],[44,53,44,55],[44,56,44,60],[44,61,44,64],[42,51,43,52],[42,53,43,55],[42,56,43,60],[42,61,43,64],[42,65,43,68],[42,69,43,72],[42,34,44,35],[42,36,44,38],[42,39,44,40],[42,41,43,45],[42,46,43,48],[42,49,43,50],[42,21,44,21],[42,22,44,22],[42,10,44,11],[42,12,44,12],[42,13,44,13],[42,14,44,14],[42,15,44,15],[42,16,44,16],[40,86,40,89],[41,41,41,52],[41,53,41,64],[41,65,41,76],[41,77,41,89],[42,0,44,1],[42,2,44,3],[42,4,44,5],[42,6,44,7],[42,8,44,9],[40,66,40,68],[40,69,40,71],[40,72,40,75],[40,76,40,79],[40,80,40,81],[40,82,40,85],[40,51,40,52],[40,53,40,54],[40,55,40,56],[40,57,40,58],[40,59,40,61],[40,62,40,65],[40,36,41,38],[40,39,41,40],[40,41,40,42],[40,43,40,45],[40,47,40,48],[40,49,40,50],[40,24,41,25],[40,26,41,27],[40,28,41,29],[40,30,41,31],[40,32,41,33],[40,34,41,35],[40,18,41,18],[40,19,41,19],[40,20,41,20],[40,21,41,21],[40,22,41,22],[40,23,41,23],[40,12,41,12],[40,13,41,13],[40,14,41,14],[40,15,41,15],[40,16,41,16],[40,17,41,17],[40,0,41,1],[40,2,41,3],[40,4,41,5],[40,6,41,7],[40,8,41,9],[40,10,41,11],[38,66,39,68],[38,69,39,71],[38,72,39,75],[38,76,39,79],[39,12,39,13],[39,14,39,15],[39,16,39,17],[39,18,39,19],[39,47,39,48],[39,49,39,50],[38,46,39,46],[38,47,38,52],[38,53,38,56],[38,57,39,58],[38,59,39,61],[38,62,39,65],[39,51,39,52],[39,53,39,54],[39,55,39,56],[38,24,39,27],[38,28,39,31],[38,32,39,35],[38,36,39,40],[38,41,39,42],[38,43,39,45],[38,0,39,3],[36,41,36,68],[36,69,36,89],[37,41,37,46],[37,47,37,58],[37,59,37,68],[37,69,37,79],[37,80,39,81],[37,82,39,85],[37,86,39,89],[34,10,34,11],[34,12,35,14],[34,21,35,26],[34,27,35,32],[35,3,35,5],[35,6,35,7],[35,8,35,9],[35,10,35,11],[34,0,35,2],[34,3,34,5],[34,6,34,7],[34,8,34,9],[31,21,31,26],[31,27,31,29],[31,30,31,32],[32,0,32,2],[32,3,32,4],[32,8,32,9],[32,10,32,11],[32,21,33,26],[32,27,33,29],[32,30,33,32],[38,4,39,7],[38,8,39,11],[38,12,38,19],[38,20,39,21],[38,22,39,23],[36,0,37,40],[30,21,30,26],[30,27,30,29],[30,30,30,32],[31,0,31,2],[31,3,31,4],[31,8,31,9],[31,10,31,11],[31,12,32,14],[31,15,32,17],[31,18,32,20],[29,30,29,32],[29,33,35,89],[30,0,30,2],[30,3,30,5],[30,6,30,7],[30,8,30,9],[30,10,30,11],[30,12,30,14],[30,15,30,17],[30,18,30,20],[29,0,29,2],[29,3,29,7],[29,8,29,14],[29,15,29,20],[29,21,29,26],[29,27,29,29],[33,0,33,2],[33,3,33,7],[33,8,33,11],[33,12,33,14],[33,15,35,17],[33,18,35,20],[27,64,27,67],[27,68,27,71],[27,72,27,75],[27,76,27,79],[27,80,27,84],[28,0,28,14],[28,15,28,20],[28,21,28,32],[27,39,27,42],[27,43,27,46],[27,47,27,50],[27,51,27,54],[27,55,27,59],[27,60,27,63],[27,18,27,20],[27,21,27,24],[27,25,27,26],[27,27,27,29],[27,30,27,35],[27,36,27,38],[22,12,22,15],[22,16,22,19],[22,20,22,23],[22,24,22,28],[26,85,27,85],[26,86,27,87],[26,88,27,89],[27,0,27,2],[27,3,27,5],[27,6,27,7],[27,8,27,9],[27,10,27,11],[27,12,27,14],[27,15,27,17],[26,70,26,71],[26,72,26,73],[26,74,26,75],[26,76,26,78],[26,80,26,81],[26,82,26,84],[26,58,26,59],[26,60,26,61],[26,62,26,63],[26,64,26,65],[26,66,26,67],[26,68,26,69],[26,41,26,42],[26,43,26,45],[26,47,26,49],[26,51,26,52],[26,53,26,54],[26,55,26,57],[26,37,26,38],[26,39,26,40],[26,0,26,1],[26,3,26,4],[26,12,26,13],[26,15,26,16],[26,18,26,19],[26,21,26,22],[25,64,25,65],[25,66,25,67],[25,68,25,69],[25,70,25,71],[25,72,25,73],[25,74,25,75],[25,51,25,52],[25,53,25,54],[25,55,25,57],[25,58,25,59],[25,60,25,61],[25,62,25,63],[25,33,25,35],[25,37,25,38],[25,39,25,40],[25,41,25,42],[25,43,25,45],[25,47,25,49],[25,30,25,32],[26,23,26,24],[26,27,26,28],[26,30,26,32],[26,33,26,35],[24,88,25,89],[25,0,25,1],[25,3,25,4],[25,12,25,13],[25,15,25,16],[25,18,25,19],[25,21,25,22],[25,23,25,24],[25,27,25,28],[24,68,24,71],[24,72,24,75],[24,76,24,79],[24,80,24,84],[24,85,25,85],[24,86,25,87],[25,76,25,78],[25,80,25,81],[25,82,25,84],[24,43,24,46],[24,47,24,50],[24,51,24,54],[24,55,24,59],[24,60,24,63],[24,64,24,67],[24,21,24,24],[24,25,24,26],[24,27,24,29],[24,30,24,35],[24,36,24,38],[24,39,24,42],[21,76,21,79],[22,76,22,79],[21,43,21,44],[21,45,21,46],[21,47,21,49],[21,51,21,52],[21,53,21,54],[21,56,21,57],[21,12,21,15],[21,16,21,19],[21,29,21,31],[21,32,21,34],[21,41,21,42],[23,0,23,89],[24,0,24,2],[24,3,24,5],[24,6,24,7],[24,8,24,9],[24,10,24,11],[24,12,24,14],[24,15,24,17],[24,18,24,20],[22,51,22,52],[22,53,22,54],[22,56,22,57],[22,58,22,60],[22,61,22,62],[22,63,22,65],[22,37,22,38],[22,39,22,40],[22,41,22,42],[21,0,22,2],[22,29,22,31],[22,32,22,34],[22,35,22,36],[21,58,21,60],[21,61,21,62],[21,63,21,65],[21,66,22,73],[22,43,22,44],[22,45,22,46],[22,47,22,49],[19,68,20,69],[19,70,20,71],[19,72,20,73],[17,29,20,31],[17,32,20,34],[17,35,20,36],[19,74,20,75],[17,37,20,38],[17,39,20,40],[17,41,20,42],[21,74,22,75],[19,76,20,79],[19,51,20,52],[19,53,20,54],[19,55,20,55],[19,58,20,60],[19,61,20,62],[19,66,20,67],[17,63,20,65],[16,66,18,67],[16,68,18,69],[16,70,18,71],[16,72,18,73],[16,74,18,75],[16,76,18,79],[19,45,20,46],[19,47,20,49],[19,50,20,50],[17,43,18,46],[17,47,18,50],[17,51,18,55],[17,56,20,57],[17,58,18,62],[19,43,20,44],[11,0,14,2],[16,0,18,2],[16,6,18,6],[16,7,18,7],[16,8,18,8],[16,9,18,9],[16,10,18,10],[16,11,18,11],[16,12,18,13],[16,14,18,15],[16,16,16,17],[16,18,18,19],[19,18,19,19],[19,20,19,21],[19,23,19,24],[19,25,19,26],[19,27,19,28],[17,16,18,16],[17,17,18,17],[17,22,18,22],[17,23,18,24],[17,25,18,26],[17,27,18,28],[14,85,14,89],[15,12,15,19],[15,20,15,28],[15,29,15,65],[15,66,15,75],[11,28,14,30],[11,31,14,36],[11,37,14,40],[11,41,14,46],[11,47,11,68],[11,69,11,89],[11,14,14,16],[11,17,14,18],[11,3,14,5],[11,6,14,7],[11,8,14,9],[11,10,14,11],[11,12,14,13],[13,75,13,78],[13,79,13,80],[12,85,12,89],[13,47,13,52],[13,63,13,68],[13,69,13,74],[12,47,12,52],[12,63,12,68],[12,53,12,55],[12,56,12,59],[12,60,12,62],[13,53,13,55],[14,53,14,55],[14,56,14,59],[14,60,14,62],[11,19,14,20],[11,21,14,23],[11,24,14,25],[11,26,14,27],[9,69,9,72],[9,73,9,74],[9,76,9,78]],"merged_total":1135,"flags":["merged_cut"]}
[null,null,null,null,null,null,null,null,null,null,null,null,null,null,null,null,null,null,null,null,null,null,null,null,null,null,null,"DIRECCION - PROGRAMA  APS \nSUBSECRETARIA DE MEDICINA SOCIAL\nRONDA N°:_____   AÑO:_2025__",null,null,null,null,null,null,null,null,null,null,null,null,null,null,null,null,null,null,null,null,null,null,null,null,null,null,"1r","2r","3r",null,"4r",null,"T",null,null,null,null,null,null,null,null,null,null,null,null,null,null,null,null,null,null,null,"Informe y orden de Ronda: ",6,null,null,null,null,2]
[null,null,null,null,null,null,null,"Area Operativa N°: ",4,null,null,null,null,null,"Nombre: ","MORILLO",null,null,null,null,null,null,null,null,null,null,null,null,null,null,null,null,null,null,null,null,null,null,null,null,null,null,null,null,null,null,"Mort. Mater. Acum. Año",null,null,null,null,null,null,null,0,{"$f":"CE41","v":0},0,null,{"$f":"CE41","v":0},null,{"$f":"SUM(BC2:BG2)","v":0},null,null,null,null,"Sector:",null,"LA MORA",null,null,null,null,null,null,null,null,null,null,null,null,null,null,null,null,null,"N°",11]
[null,null,null,null,null,null,null,null,null,null,null,null,null,null,null,null,null,null,null,null,null,null,null,null,null,null,null,null,null,null,null,null,null,null,null,null,null,null,null,null,null,null,null,null,null,null,"Mort. 0-1 año Acum Año",null,null,null,null,null,null,null,0,{"$f":"BR41+BU41+BY41","v":0},0,null,{"$f":"BR41+BU41+BY41","v":0},null,{"$f":"SUM(BC3:BG3)","v":0},null,null,null,null,null,"Etnia: ","CRIOLLO-WICHI",null,null,null,null,null,null,null,null,null,null,null,null,null,null,null,null,null,"Sector Riesgo:","NO"]
[null,null,null,null,null,null,null,"Establec. Base: ","HOSPITAL MORILLO",null,null,null,null,null,null,null,null,null,null,null,null,null,null,null,null,null,null,null,null,null,null,null,null,null,null,null,null,null,null,null,null,null,null,null,null,null,"Mort. 1-4 años Acum Año",null,null,null,null,null,null,null,0,{"$f":"CC41","v":0},0,null,{"$f":"CC41","v":0},null,{"$f":"SUM(BC4:BG4)","v":0},null,null,null,null,null,null,null,null,null,null,null,null,"Desde: ","07/03/2025",null,null,null,null,null,null,null,null,"Hasta: ","05/06/2026"]
[null,null,null,null,null,null,null,null,null,null,null,null,null,null,null,null,null,null,null,null,null,null,null,null,null,null,null,null,null,null,null,null,null,null,null,null,null,null,null,null,null,null,null,null,null,null,null,null,null,null,null,null,null,null,null,null,null,null,null,null,null,null,null,null,null,null,null,null,null,null,null,null,null,null,null,null,null,null,null,"Cobertura: ","DESCUBIERTO"]
[null,null,null,null,null,null,null,"Sup. Intermedio: "," poner el nombre según dni sup intermedio",null,null,null,null,null,null,null,null,null,null,null,null,null,null,null,null,null,null,null,null,null,null,null,"Responsable A.P.S.: ","Lic Freyre",null,null,null,null,null,null,null,null,null,null,null,null,null,null,null,null,null,null,null,null,null,null,"Agente Sanitario: ","Sin Agente",null,null,null,null,null,null,null,null,null,null,null,null,null,null,null,null,"Sit. Revista: ",null,null,null,null,null,null,"Reg. Horario: "]
[]
["A) FAMILIAS VISITADAS EN LA RONDA",null,null,null,null,null,null,null,null,null,null,null,null,null,null,null,null,null,null,null,null,null,null,null,null,null,null,null,null,null,null,null,null,null,null,null,null,null,null,null,null,null,null,null,null,null,null,"B) FACTORES DE PRIORIZACION DE VISITAS"]
["ASIGNADAS",null,null,"VISITADAS",null,null,"TOTAL\nVISITAS",null,"NO VISITADAS",null,null,null,null,null,null,null,null,"FLIAS ORIG.",null,"FLIAS. URB.",null,"FLIAS. PERIURB",null,null,"FLIAS. RURALES",null,"GOLON\nMIGRANTES",null,null,null,null,"FLIAS. CON PL. SOCIALES",null,null,null,null,null,"PRODUCCION\nFAMILIAR",null,null,null,null,null,null,null,null,null,1,null,2,null,3,null,null,4,null,5,null,6,null,7,null,null,8,null,null,9,null,null,10,null,null,null,11,null,null,12,null,null,null,13,null,null,14,null,null,15]
[null,null,null,null,null,null,null,null,"RECHAZO TOTAL",null,"AUSEN\n-TE",null,"NO VISITADAS",null,"TOT NO VISIT.",null,null,null,null,null,null,null,null,null,null,null,"HACIA\nEL AO",null,"DESDE\nEL AO",null,null,null,null,null,null,null,null,"HUERTA",null,null,null,"GRANJA",null,null,null,null,null,0,null,0,null,0,null,null,0,null,0,null,0,null,0,null,null,0,null,null,0,null,null,"Total",null,null,null,"Tot",null,"Trat","Tot.",null,null,"Trat.","Tot.","Trat.",null,"Tot.",null,"Trat","Total"]
[null,null,null,null,null,null,null,null,null,null,0,null,null,null,null,null,null,null,null,null,null,null,null,null,null,null,null,null,null,null,null,null,null,null,null,null,null,null,null,null,null,null,null,null,null,null,null,null,null,null,null,null,null,null,null,null,null,null,null,null,null,null,null,null,null,null,null,null,null,0,null,null,null,0,null,0,0,null,null,0,0,0,null,0,null,0,0]
[0,null,null,0,null,null,0,null,0,null,0,null,0,null,{"$f":"M12+K12+I12","v":0},null,null,0,null,0,null,0,null,null,0,null,0,null,0,null,null,0,null,null,null,null,null,0,null,null,null,0,null,null,null,null,null,"C) VISITAS A FLIAS. PRIORIZADAS",null,null,null,null,null,null,null,null,null,null,null,null,null,null,null,null,null,null,null,null,null,"D) SUPERV. A FLIAS. "]
[null,null,null,null,null,null,null,null,null,null,null,null,null,null,null,null,null,null,null,null,null,null,null,null,null,null,null,null,null,null,null,null,null,null,null,null,null,null,null,null,null,null,null,null,null,null,null,"PRIORIDAD",null,null,null,null,null,1,null,null,2,null,null,null,3,null,null,"Total",null,null,null,null,null,"PRIORIDAD",null,null,null,null,null,3,null,null,null,2,null,1,null,null,null,"TOTAL"]
[null,null,null,null,null,null,null,null,null,null,null,null,null,null,null,null,null,null,null,null,null,null,null,null,null,null,null,null,null,null,null,null,null,null,null,null,null,null,null,null,null,null,null,null,null,null,null,"N° FAMILIAS",null,null,null,null,null,0,null,null,0,null,null,null,0,null,null,{"$f":"SUM(BB14:BI14)","v":0},null,null,null,null,null,"INTERMEDIA",null,null,null,null,null,0,null,null,null,0,null,0,null,null,null,{"$f":"SUM(BX14:CD14)","v":0}]
[null,null,null,null,null,null,null,null,null,null,null,null,null,null,null,null,null,null,null,null,null,null,null,null,null,null,null,null,null,null,null,null,null,null,null,null,null,null,null,null,null,null,null,null,null,null,null,"VISITAS",null,null,null,null,null,0,null,null,0,null,null,null,0,null,null,{"$f":"SUM(BB15:BI15)","v":0},null,null,null,null,null,"PROFESIONAL",null,null,null,null,null,0,null,null,null,0,null,0,null,null,null,{"$f":"SUM(BX15:CB15)","v":0}]
[null,null,null,null,null,"F) EMBARAZADAS",null,null,null,null,null,null,"G) PARTOS",null,null,null,null,null,null,null,"H) R.N. EN LA RONDA",null,null,null,null,null,null,null,null,"I) EVALUACION ANTROPOMETRICA",null,null,null,null,null,null,null,null,null,null,null,null,null,null,null,null,null,null,null,null,null,null,null,null,null,null,null,null,null,null,null,null,null,null,null,null,"NIÑ MBP/BP/RBP CTRL. INT.",null,null,null,null,null,null,null,null,null,"LACT. MATERNA"]
["PAP",null,null,0,null,"CAPT. 1er TRIMESTRE","ESP EN EL AÑO","ACUMULADAS","NUEVAS\nRONDA","TOTAL","DE RIESGO","<19 Años","TOTAL",null,"HOSPITALARIOS",null,"DOMIC.",null,"N° PUERPERAS",null,"NACIDOS VIVOS",null,"P AL NACER",null,null,null,null,null,null,"NIÑOS CONTROLADOS",null,null,null,null,null,null,null,null,null,null,null,null,null,null,null,null,null,null,null,null,null,null,null,null,null,null,null,null,null,null,null,null,null,null,null,null,"MELAN",null,"MED",null,"ENF.",null,"LAB",null,"NUTR",null,"< 6 M EN LA RONDA",null,null,null,{"$f":"CC20+CC22+CC23","v":0}]
[null,null,null,null,null,null,null,null,null,null,null,null,null,null,null,null,"DOM","ASIS",null,null,null,null,"ALTO PESO","ADEC",null,"BAJO PESO",null,"MB\nPESO",null,"EDAD",null,null,"A CONTROLAR",null,null,"ADECUADO",null,"BP\nBAJO PESO",null,"MBP\nMUY B. PESO",null,"ALTO PESO",null,"RIESGO",null,null,null,"RECUPERADOS",null,null,null,"TALLA / EDAD",null,null,null,null,"NUEVOS\nEPISODIOS",null,"PERDIDOS",null,null,null,null,"FALLECIDOS\nC/ANTEC. ANTROPOM."]
[]
["Antic.",null,null,0,null,0,{"$f":"IF(ISERROR(((CC92*1.8)/100)),0,(((CC92*1.8)/100)))","v":0},0,0,{"$f":"SUM(F23:L23)","v":0},0,0,{"$f":"O20+Q20+R20","v":0},null,0,null,0,0,0,null,{"$f":"W20+X20+Z20+AB20","v":0},null,0,0,null,0,null,0,null,null,null,null,null,null,null,null,null,null,null,null,null,null,null,"BP",null,"AP",null,"BP",null,null,"AP","BT",null,"MBT",null,"RGO\nBT",null,null,"BP\nMBP",null,null,"A.P.",null,null,null,null,0,null,0,null,0,null,0,null,0,null,"EXCLUSIVO",null,null,null,0]
[null,null,null,null,null,"CONTROLES",null,null,null,null,null,null," ",null,null,null,null,null,null,null,"PREMATUROS",null,null,null,"PESQUISA"]
["Aborto",null,null,0,null,"MELON",null,"MEL","MED","ENF","LAB","S/C","PUERP",null,null,null,"R.N.",null,null,null,null,null,null,null,null,null,null,null,null,"< 2 años",null,null,{"$f":"A27+C27+D27+F27+G27+H27","v":0},null,null,0,null,0,null,0,null,0,null,0,null,0,null,0,null,null,0,0,null,0,null,0,0,null,0,null,null,0,null,0,null,null,"CONTROLES EN DOMIC. NIÑO BP o MBP",null,null,null,null,null,null,null,0,null,"MIXTA",null,null,null,0]
[null,null,null,null,null,0,null,0,0,0,0,0,0,null,null,null,0,null,null,null,0,null,null,null,0,null,null,null,null,"2 a 6 años",null,null,{"$f":"I27+J27+K27+L27+M27+O27+P27+R27","v":0},null,null,0,null,0,null,0,null,0,null,0,null,0,null,0,null,null,0,0,null,0,null,0,0,null,0,null,null,0,null,0,null,null,null,null,null,null,null,null,null,null,null,null,"ARTIF",null,null,null,0]
["J) DATOS DE POBLACION"]
["0 a 5m",null,null,"6 a 11m",null,null,"1 AÑO",null,"2 AÑOS",null,"3 AÑOS",null,"4 AÑOS",null,null,"5 AÑOS",null,null,"6 AÑOS",null,null,"7 A 9 AÑOS",null,null,null,"10 AÑOS",null,"11 AÑOS",null,null,"12 A 14",null,null,null,null,null,"15 A 19",null,null,"20 A 24",null,null,null,"25 A 29",null,null,null,"30 A 34",null,null,null,"35 A 39",null,null,null,"40 A 44",null,null,null,null,"45 A 49",null,null,null,"50 A 54",null,null,null,"55 A 59",null,null,null,"60 A 64",null,null,null,"65 y +",null,null,null,"TOTAL",null,null,null,null,"MUJERES\n10 A 49","O. SOCIAL",null,"INDOCUM"]
["M",null,"F","M",null,"F","M","F","M","F","M","F","M",null,"F","M",null,"F","M",null,"F","M",null,"F",null,"M","F","M",null,"F","M",null,null,"F",null,null,"M","F",null,"M",null,"F",null,"M",null,null,"F","M",null,null,"F","M",null,"F",null,"M",null,null,"F",null,"M",null,"F",null,"M",null,"F",null,"M",null,"F",null,"M",null,"F",null,"M",null,null,"F","M",null,"F"]
[0,null,0,0,null,0,0,0,0,0,0,0,0,null,0,0,null,0,0,null,0,0,null,0,null,0,0,0,null,0,0,null,null,0,null,null,0,0,null,0,null,0,null,0,null,null,0,0,null,null,0,0,null,0,null,0,null,null,0,null,0,null,0,null,0,null,0,null,0,null,0,null,0,null,0,null,0,null,null,0,{"$f":"BY27+BU27+BQ27+BM27+BI27+BD27+AZ27+AV27+AR27+AN27+AK27+AE27+AB27+Z27+V27+S27+P27+M27+K27+I27+G27+D27+A27","v":0},null,{"$f":"CB27+BW27+BS27+BO27+BK27+BG27+BB27+AY27+AU27+AP27+AL27+AH27+AD27+AA27+X27+U27+R27+O27+L27+J27+H27+F27+C27","v":0},null,null,{"$f":"BK27+BG27+BB27+AY27+AU27+AP27+AL27+AH27+AD27+AA27","v":0},0,null,0]
[{"$f":"A27+C27","v":0},null,null,{"$f":"D27+F27","v":0},null,null,{"$f":"G27+H27","v":0},null,{"$f":"I27+J27","v":0},null,{"$f":"K27+L27","v":0},null,{"$f":"M27+O27","v":0},null,null,{"$f":"P27+R27","v":0},null,null,{"$f":"S27+U27","v":0},null,null,{"$f":"V27+X27","v":0},null,null,null,{"$f":"Z27+AA27","v":0},null,{"$f":"AB27+AD27","v":0},null,null,{"$f":"AE27+AH27","v":0},null,null,null,null,null,{"$f":"AL27+AK27","v":0},null,null,{"$f":"AN27+AP27","v":0},null,null,null,{"$f":"AR27+AU27","v":0},null,null,null,{"$f":"AV27+AY27","v":0},null,null,null,{"$f":"AZ27+BB27","v":0},null,null,null,{"$f":"BD27+BG27","v":0},null,null,null,null,{"$f":"BI27+BK27","v":0},null,null,null,{"$f":"BM27+BO27","v":0},null,null,null,{"$f":"BQ27+BS27","v":0},null,null,null,{"$f":"BU27+BW27","v":0},null,null,null,{"$f":"BY27+CB27","v":0},null,null,null,{"$f":"CC27+CE27","v":0}]
["K) TUBERCULOSIS ",null,null,null,null,null,null,null,null,null,null,null,null,null,null," CHAGAS ",null,null,null,null,null,"L) PERSONAS CON ENF. CRONICAS",null,null,null,null,null,null,null,null,null,null,null,"M) OBSERVACIONES"]
["Coef. Sint.Resp.: ",null,null,"MUESTRAS",null,null,null,null,"TRATAM. TBC",null,null,null,null,null,null,"TRATAMIENTOS CHAGAS",null,null,null,null,null,"PERSONAS CON",null,null,null,null,null,"TOTAL",null,null,"EN TRAT.",null,null," "]
[{"$f":"Control!H9","v":8},null,null,"DIAGNOSTICOS",null,null,"CONTROL",null,"Total",null,"TAES",null," ABANDONO",null,null,"INICIO ",null,null,0,null,null,"DIABETES",null,null,null,null,null,0,null,null,0]
["SINT. ESP..",null,null,"Tot",null,"(+)","Tot","(+)",0,null,0,null,0,null,null,"FINALIZACION ",null,null,0,null,null,"HIPERTENSION \nARTERIAL",null,null,null,null,null,0,null,null,0]
[{"$f":"IF(ISERROR(((AK91+AL91+AN91+AP91+AR91+AU91+AV91+AY91+AZ91+BB91+BD91+BG91+BI91+BK91+BM91+BO91+BQ91+BS91+BU91+BW91+BY91+CB91)*0.2)*A31/100),0,(((AK91+AL91+AN91+AP91+AR91+AU91+AV91+AY91+AZ91+BB91+BD91+BG91+BI91+BK91+BM91+BO91+BQ91+BS91+BU91+BW91+BY91+CB91)*0.2)*A31/100))","v":0},null,null,0,null,0,0,0,"QUIMIO Total",null,0,null,null,null,null,null,null,null,null,null,null,"PERSONAS CON OTRAS ENF. CRONICAS AL CUIDADO DE NIÑOS",null,null,null,null,null,0,null,null,0]
["SINT. DETEC.",null,null,"CONTACTO",null,null,null,null,"CTRL. MEDICO",null,null,null,"FINALIZAD0",null,null,"ABANDONO ",null,null,0]
[0,null,null,"< 14a",null,null,"> 15a",null,"Pcte/Rda",null,"A Cont",null,0,null,null,null,null,null,null,null,null,"ADULTOS MAYORES EN SITUACION DE RIESGO",null,null,null,null,null,0]
[null,null,null,0,null,null,0,null,0,null,0]
["N) DERIVACIONES",null,null,null,null,null,null,null,null,null,null,null,null,null,null,null,null,null,null,null,null,null,null,null,null,null,null,null,null,null,null,null,null,null,null,null,null,null,null,null,null,"Ñ) VIVIENDA Y SANEAMIENTO",null,null,null,null,null,null,null,null,null,null,null,null,null,null,null,null,null,null,null,null,null,null,null,null,null,null,null,"O) DEFUNCIONES EN LA RONDA"]
[null,null,null,null,null,null,null,null,null,null,null,null,null,null,null,null,null,null,null,null,null,null,null,null,null,null,null,null,null,null,null,null,null,null,null,null,null,null,null,null,null,"TRAT. AGUA",null,null,null,null,null,"DISP SANITARIA EXCRETAS",null,null,null,null,null,null,null,null,null,null,null,"TRATAM. SANIT BASURA",null,null,null,null,null,null,null,null,null,"MENORES 1 AÑO",null,null,null,null,null,null,null,null,null,null,"1 a 4 AÑOS",null,"MATERNA",null,null,null,"OTRAS"]
["EMB",null,null,null,"RN",null,null,null,"PUERP",null,null,null,"Menores de 6 años",null,null,null,null,null,null,null,"E.\nCRONICAS",null,"PAP",null,"CHAGAS",null,null,null,"TBC",null,null,null,"PSICOSOC",null,null,null,"TOTAL\nDERIVACIONES",null,null,null,null,"RED",null,"EN\nVIV",null,null,"S/T","ARRASTRE",null,null,null,null,null,"LETRINA",null,null,null,"S/T",null,"REC. DOMIC.",null,null,"POZO BASURA",null,null,null,"S/T",null,null,"<7d",null,null,"7 a 28d",null,null,null,"29d a 11 m"]
[null,null,null,null,null,null,null,null,null,null,null,null,"BP- MBP",null,"RGO BP",null,"Resp",null,"Diarr",null,null,null,null,null,null,null,null,null,null,null,null,null,null,null,null,null,null,null,null,null,null,null,null,null,null,null,null,"CLOACAS",null,"PC-CT",null,"PC-ST",null,"CT",null,"ST"]
["Env",null,"Rec",null,"Env",null,"Rec",null,"Env",null,"Rec",null,"Env","Rec","Env","Rec","Env","Rec","Env","Rec","Env","Rec","Env","Rec","Env",null,"Rec",null,"Env",null,"Rec",null,"Env",null,"Rec",null,"ENV",null,null,"Rec",null,0,null,0,null,null,0,0,null,0,null,0,null,0,null,0,null,0,null,0,null,null,0,null,null,null,0,null,null,0,null,null,0,null,null,null,0,null,null,null,0,null,0,null,null,null,0]
[null,null,null,null,null,null,null,null,null,null,null,null,null,null,null,null,null,null,null,null,null,null,null,null,null,null,null,null,null,null,null,null,null,null,null,null,null,null,null,null,null,"CASAS ",null,null,null,null,null,null,null,null,null,null,null,"CHAGAS",null,null,null,null,null,null,null,null,null,null,null,"DENGUE CHIKUNGUNYA",null,null,null,null,null,null,null,null,null,null,null,"P) PROM. SALUD"]
[0,null,0,null,0,null,0,null,0,null,0,null,0,0,0,0,0,0,0,0,0,0,0,0,0,null,0,null,0,null,0,null,0,null,0,null,{"$f":"AG43+AC43+Y43+W43+U43+S43+Q43+O43+M43+I43+E43+A43","v":0},null,null,{"$f":"AI43+AE43+AA43+X43+V43+T43+R43+P43+N43+K43+G43+C43","v":0},null,"ASIGNADAS",null,null,null,null,"VISITADAS",null,null,"VACIAS",null,"DESTRUIDAS",null,"EVALUADAS",null,null,"POSITIVAS",null,null,null,null,"TRATADAS",null,null,null,"EVALUADAS",null,null,null,"POSITIVAS",null,null,null,"TRATADAS",null,null,null,"PLANIFICADAS \nEN COMUNIDAD",null,null,null,null,null,null,null,0]
[]
[null,null,null,null,null,null,null,null,null,null,null,null,null,null,null,null,null,null,null,null,null,null,null,null,null,null,null,null,null,null,null,null,null,null,null,null,null,null,null,null,null,0,null,null,null,null,0,null,null,0,null,0,null,0,null,null,0,null,null,null,null,0,null,null,null,0,null,null,null,0,null,null,null,0,null,null,null,"REALIZADAS ",null,null,null,null,null,null,null,0]
["Q) INDICADORES"]
["DE ESTRUCTURA",null,null,null,null,null,"SI","NO","DE PRODUCCION",null,null,null,null,null,"%","META",null," DE INMUNIZACIONES",null,null,null,null,null,null,null,null,null,null,null,null,null,null,null,null," DE INMUNIZACIONES",null,null,null,null,null,null,null,null,null,null,null,null,null,null,null,null,null,null,null,null,null,null,null,null,null,null," DE RESULTADO",null,null,null,null,null,null,null,null,"%",null,"META",null,null," DE RESULTADO",null,null,null,null,null,null,null,null,null,"%",null,"META RDA"]
["Formularios",null,null,null,null,null,0,0,"Cobertura a Familias",null,null,null,null,null,{"$f":"IF(ISERROR(D12/A12),0,(D12/A12)*100)","v":0},100,null,"VACUNA",null,null,null,null,"P. REF",null,"1r","2r","3r","4r",null,"T","%",null,"META",null,"VACUNA",null,null,null,null,null,null,null,null,null,"P. REF",null,null,"1r",null,null,"2r","3r",null,null,"4r","T",null,"%",null,"META",null,"Ed Fértil c/Anticoncepción",null,null,null,null,null,null,null,null,{"$f":"IF(ISERROR(D20/CH27),0,(D20/CH27)*100)","v":0},null,null,null,null,"Niños 2 a 5 Recup BP",null,null,null,null,null,null,null,null,null,{"$f":"IF(ISERROR(AV23/K80),0,(AV23/K80)*100)","v":0},null,100]
["Equipo",null,null,null,null,null,0,0,"Niños < 2 años Controlados",null,null,null,null,null,{"$f":"IF(ISERROR(((AJ22+AL22+AN22+AP22)/(A28+D28+G28))),0,(((AJ22+AL22+AN22+AP22)/(A28+D28+G28)))*100)","v":0},100,null,"BCG RN",null,null,null,null,{"$f":"U20","v":0},null,0,0,0,0,null,{"$f":"SUM(Y49:AB49)","v":0},{"$f":"IF(ISERROR(Z49/W49),0,(Z49/W49)*100)","v":0},null,100,null,"2 Ref. Varicela Ingreso Esc",null,null,null,null,null,null,null,null,null,0,null,null,0,null,null,0,0,null,null,0,{"$f":"SUM(AV49:BC49)","v":0},null,{"$f":"IF(ISERROR(AY49/AS49),0,(AY49/AS49)*100)","v":0},null,25,null,"PAP",null,null,null,null,null,null,null,null,{"$f":"IF(ISERROR(D17/CH27),0,(D17/CH27)*100)","v":0},null,null,null,null,"Niños 2 a 5 Recup AP",null,null,null,null,null,null,null,null,null,{"$f":"IF(ISERROR(AY23/K82),0,(AY23/K82)*100)","v":0},null,100]
["Combustible",null,null,null,null,null,0,0,"Niños  (2 a 5 años) Controlados",null,null,null,null,null,{"$f":"IF(ISERROR(((AJ23+AL23+AN23+AP23)/(I28+K28+M28+P28))),0,(((AJ23+AL23+AN23+AP23)/(I28+K28+M28+P28)))*100)","v":0},100,null,"Hepatitis B RN","Hepatitis B RN",null,"Hepatitis B RN","Hepatitis B RN",null,null,0,0,0,0,null,{"$f":"SUM(Y50:AB50)","v":0},{"$f":"IF(ISERROR(Z50/W49),0,(Z50/W49)*100)","v":0},null,null,null,"2° Ref. Antipolio Ingreso Escolar",null,null,null,null,null,null,null,null,null,null,null,null,0,null,null,0,0,null,null,0,{"$f":"SUM(AV50:BC50)","v":0},null,{"$f":"IF(ISERROR(AY50/AS49),0,(AY50/AS49)*100)","v":0},null,null,null,"Embarazadas Con MELON",null,null,null,null,null,null,null,null,{"$f":"IF(ISERROR(F23/J20),0,(F23/J20)*100)","v":0},null,80,null,null,"Niños 6 meses con LME",null,null,null,null,null,null,null,null,null,{"$f":"IF(ISERROR(CC20/CC17),0,(CC20/CC17)*100)","v":0},null,80]
[" DE DIAGNOSTICO",null,null,null,null,null,null,"%","Conc. Vis. Flias Prio",null,null,null,null,null,{"$f":"IF(ISERROR((BB15+BE15)/(BB14+BE14)),0,((BB15+BE15)/(BB14+BE14)))","v":0},25,null,"2° Neumococo < 1a","3ª SOT/Salk < 1a",null,"3ª SOT/Salk < 1a","3ª SOT/Salk < 1a",{"$f":"A91+C91+D91+F91","v":0},null,0,0,0,0,null,{"$f":"SUM(Y51:AB51)","v":0},{"$f":"IF(ISERROR(Z51/W51),0,(Z51/W51)*100)","v":0},null,100,null,"2° Ref. DPT Ingreso Escolar",null,null,null,null,null,null,null,null,null,null,null,null,0,null,null,0,0,null,null,0,{"$f":"SUM(AV51:BC51)","v":0},null,{"$f":"IF(ISERROR(AY51/AS49),0,(AY51/AS49)*100)","v":0},null,null,null,"Partos Hospitalarios",null,null,null,null,null,null,null,null,{"$f":"IF(ISERROR(O20/M20),0,(O20/M20)*100)","v":0},null,100]
["Flias Priorizadas 3 + 2:",null,null,null,null,null,null,{"$f":"IF(ISERROR((BB14+BE14)/D12),0,(BB14+BE14)/D12*100)","v":0},"Conc.C.Dom Niños Bp/MBP",null,null,null,null,null,{"$f":"IF(ISERROR(BW22/(AL22+AN22+AL23+AN23)),0,(BW22/(AL22+AN22+AL23+AN23)))","v":0},3,null,"2° Rotavirus <1 a","3º Pentavalente <1 a",null,"3º Pentavalente <1 a","3º Pentavalente <1 a",null,null,0,0,0,0,null,{"$f":"SUM(Y52:AB52)","v":0},{"$f":"IF(ISERROR(Z52/W51),0,(Z52/W51)*100)","v":0},null,null,null,"2° TV Ingreso Escolar",null,null,null,null,null,null,null,null,null,null,null,null,0,null,null,0,0,null,null,0,{"$f":"SUM(AV52:BC52)","v":0},null,{"$f":"IF(ISERROR(AY52/AS49),0,(AY52/AS49)*100)","v":0},null,100,null,"Conc Control Médico a RN",null,null,null,null,null,null,null,null,{"$f":"IF(ISERROR(Q23/M20),0,(Q23/M20))","v":0},null,4,null,null,"% Niños BP MBP y RBP con MELaN",null,null,null,null,null,null,null,null,null,{"$f":"IF(ISERROR(BO20/(AL22+AN22+AR22+AL23+AN23+AR23)),0,(BO20/(AL22+AN22+AR22+AL23+AN23+AR23))*100)","v":0},null,100]
["Flias Urbanas",null,null,null,null,null,null,{"$f":"IF(ISERROR(T12/D12),0,(T12/D12)*100)","v":0},"Rel. Muestra/Sint Resp.",null,null,null,null,null,{"$f":"IF(ISERROR(D33/A35),0,(D33/A35))","v":0},2,null,"2° Meningococo < 1a",null,null,null,null,null,null,0,0,0,0,null,{"$f":"SUM(Y53:AB53)","v":0},{"$f":"IF(ISERROR(Z53/W51),0,(Z53/W51)*100)","v":0},null,null,null,"dTpa 11 años",null,null,null,null,null,null,null,null,null,0,null,null,0,null,null,0,0,null,null,0,{"$f":"SUM(AV53:BC53)","v":0},null,{"$f":"IF(ISERROR(AY53/AS53),0,(AY53/AS53)*100)","v":0},null,null,null,"Conc Control Méd. a puérpera",null,null,null,null,null,null,null,null,{"$f":"IF(ISERROR(M23/S20),0,(M23/S20))","v":0},null,4,null,null,"Sint Resp Detect. Seg zona",null,null,null,null,null,null,null,null,null,{"$f":"IF(ISERROR((A35*100)/(((20*(AK28+AN28+AR28+AV28+AZ28+BD28+BI28+BM28+BQ28+BU28+BY28))/100)*A31)),0,(A35*100)/((((20*(AK28+AN28+AR28+AV28+AZ28+BD28+BI28+BM28+BQ28+BU28+BY28))/100)*A31)/100))","v":0},null,"S/Z"]
["Flias Periurbanas",null,null,null,null,null,null,{"$f":"IF(ISERROR(V12/D12),0,(V12/D12)*100)","v":0},"Casas Evaluadas Chagas",null,null,null,null,null,{"$f":"IF(ISERROR(BB45/AU45),0,(BB45/AU45)*100)","v":0},100,null,"3° Antipolio < 1 año","2ª Rotavirus < 1 año",null,"2ª Rotavirus < 1 año","2ª Rotavirus < 1 año",null,null,0,0,0,0,null,{"$f":"SUM(Y54:AB54)","v":0},{"$f":"IF(ISERROR(Z54/W51),0,(Z54/W51)*100)","v":0},null,null,null,"U.D. Meningococo",null,null,null,null,null,null,null,null,null,null,null,null,0,null,null,0,0,null,null,0,{"$f":"SUM(AV54:BC54)","v":0},null,{"$f":"IF(ISERROR(AY54/AS53),0,(AY54/AS53)*100)","v":0},null,"95% AL 1° SEM",null,"RN con Pesquisa",null,null,null,null,null,null,null,null,{"$f":"IF(ISERROR(Y23/U20),0,(Y23/U20)*100)","v":0},null,100,null,null,"Pacientes TBC con Control Médico",null,null,null,null,null,null,null,null,null,{"$f":"IF(ISERROR(I36/I32),0,(I36/I32)*100)","v":0},null,100]
["Flias Rurales",null,null,null,null,null,null,{"$f":"IF(ISERROR(Y12/D12),0,(Y12/D12)*100)","v":0},"Casas Tratadas Chagas",null,null,null,null,null,{"$f":"IF(ISERROR(BJ45/BE45),0,(BJ45/BE45)*100)","v":0},100,null,"3° Pentavalente <1 año","TV 1 año",null,"TV 1 año","TV 1 año",null,null,0,0,0,0,null,{"$f":"SUM(Y55:AB55)","v":0},{"$f":"IF(ISERROR(Z55/W51),0,(Z55/W51)*100)","v":0},null,null,null,"1° HPV Niñas cumplen 11 a en año en curso",null,null,null,null,null,null,null,null,null,0,null,null,0,null,null,0,0,null,null,0,{"$f":"SUM(AV55:BC55)","v":0},null,{"$f":"IF(ISERROR(AY55/AS55),0,(AY55/AS55)*100)","v":0},null,null,null,"Derivaciones Enviadas/Recibidas",null,null,null,null,null,null,null,null,{"$f":"IF(ISERROR(AN43/AK43),0,(AN43/AK43)*100)","v":0},null,100,null,null,"Contactos TBC Controlados",null,null,null,null,null,null,null,null,null,{"$f":"IF(ISERROR(K36/(D36+G36)),0,(K36/(D36+G36)))*100","v":0},null,100]
["Flias Originarias",null,null,null,null,null,null,{"$f":"IF(ISERROR(R12/D12),0,(R12/D12)*100)","v":0},"Casas Evaluadas Dengue",null,null,null,null,null,{"$f":"IF(ISERROR(BN45/AU45),0,(BN45/AU45)*100)","v":0},100,null,"1° TV","A HA 1 año",null,"A HA 1 año","A HA 1 año",{"$f":"G91+H91","v":0},null,0,0,0,0,null,{"$f":"SUM(Y56:AB56)","v":0},{"$f":"IF(ISERROR(Z56/W56),0,(Z56/W56)*100)","v":0},null,100,null,"1° HPV Niños cumplen 11 a en año en curso",25,25,null,null,null,null,null,null,null,0,null,null,0,null,null,0,0,null,null,0,{"$f":"SUM(AV56:BC56)","v":0},null,{"$f":"IF(ISERROR(AY56/AS56),0,(AY56/AS56)*100)","v":0},null,"95% AL 1° SEM",null,"Niños < 2 a Riesgo BP",null,null,null,null,null,null,null,null,{"$f":"IF(ISERROR(AR22/AJ22),0,(AR22/AJ22)*100)","v":0},null,null,null,null,"TAES de TBC",null,null,null,null,null,null,null,null,null,{"$f":"IF(ISERROR(K32/I32),0,(K32/I32)*100)","v":0},null,100]
["Flias Migr. desde AO",null,null,null,null,null,null,{"$f":"IF(ISERROR(AC12/A12),0,(AC12/A12)*100)","v":0},"Casas Tratadas Dengue",null,null,null,null,null,{"$f":"IF(ISERROR(BV45/BR45),0,(BV45/BR45)*100)","v":0},100,null,"2° TV","A HA 1 año",null,"A HA 1 año","A HA 1 año",null,null,0,0,0,0,null,{"$f":"SUM(Y57:AB57)","v":0},{"$f":"IF(ISERROR(Z57/W56),0,(Z57/W56)*100)","v":0},null,null,null,"Emb. con dTpa",null,null,null,null,null,null,null,null,null,{"$f":"A91+C91+D91+F91","v":0},null,null,0,null,null,0,0,null,null,0,{"$f":"SUM(AV57:BC57)","v":0},null,{"$f":"IF(ISERROR(AY57/AS57),0,(AY57/AS57)*100)","v":0},null,null,null,"Niños < 2 a Riesgo AP",null,null,null,null,null,null,null,null,{"$f":"IF(ISERROR(AT22/AJ22),0,(AT22/AJ22)*100)","v":0},null,null,null,null,"Ptes. con tratamiento por Chagas",null,null,null,null,null,null,null,null,null,{"$f":"S31","v":0}]
["Flias Migr. hacia el AO",null,null,null,null,null,null,{"$f":"IF(ISERROR(AA12/A12),0,(AA12/A12)*100)","v":0},"Superv Int. a la Familia",null,null,null,null,null,{"$f":"IF(ISERROR((CH14*100)/BL14),0,((CH14*100)/BL14))","v":0},20,null,"Unica Dosis A HA",null,null,null,null,null,null,0,0,0,0,null,{"$f":"SUM(Y58:AB58)","v":0},{"$f":"IF(ISERROR(Z58/W56),0,(Z58/W56)*100)","v":0},null,null,null,"Emb. con Vac Sinsicial",null,null,null,null,null,null,null,null,null,null,null,null,0,null,null,0,0,null,null,0,{"$f":"SUM(AV58:BC58)","v":0},null,{"$f":"IF(ISERROR(AY58/AS57),0,(AY58/AS57)*100)","v":0},null,100,null,"Niños < 2 Recup BP",null,null,null,null,null,null,null,null,{"$f":"IF(ISERROR(AV22/K79),0,(AV22/K79)*100)","v":0},null,100,null,null,"Casas positivas Chagas",null,null,null,null,null,null,null,null,null,{"$f":"IF(ISERROR(BE45/BB45),0,(BE45/BB45)*100)","v":0},null,0]
["Flias con planes sociales",null,null,null,null,null,null,{"$f":"IF(ISERROR(AF12/D12),0,(AF12/D12)*100)","v":0},"Superv Prof. Flias Prio (3v)",null,null,null,null,null,{"$f":"IF(ISERROR(CH15/(BB14+BE14)),0,(CH15/(BB14+BE14))*100)","v":0},70,null,"Ref Neumococo 1 año","Ref Neumoc 1 año",null,"Ref Neumoc 1 año","Ref Neumoc 1 año",null,null,0,0,0,0,null,{"$f":"SUM(Y59:AB59)","v":0},{"$f":"IF(ISERROR(Z59/W56),0,(Z59/W56)*100)","v":0},null,null,null,"dT  Vigente > 65 a",null,null,null,null,null,null,null,null,null,{"$f":"BY91+CB91","v":0},null,null,0,null,null,0,0,null,null,0,{"$f":"SUM(AV59:BC59)","v":0},null,{"$f":"IF(ISERROR(AY59/AS59),0,(AY59/AS59)*100)","v":0},null,100,null,"Niños < 2 Recup AP",null,null,null,null,null,null,null,null,{"$f":"IF(ISERROR(AY22/K81),0,(AY22/K81)*100)","v":0},null,100,null,null,"Casas Positivas Aedes",null,null,null,null,null,null,null,null,null,{"$f":"IF(ISERROR(BR45/BN45),0,(BR45/BN45)*100)","v":0},null," "]
[null,null,null,null,null,null,null,null,"% Activ Prom.Salud Comunitarias",null,null,null,null,null,{"$f":"IF(ISERROR(CH45/CH43),0,(CH45/CH43)*100)","v":0},100,null,"Ref. Meningococo 1 año","Ref Cuádruple 1 año",null,"Ref Cuádruple 1 año","Ref Cuádruple 1 año",null,null,0,0,0,0,null,{"$f":"SUM(Y60:AB60)","v":0},{"$f":"IF(ISERROR(Z60/W56),0,(Z60/W56)*100)","v":0},null,null,null,"Neumo 20 > 65 años",null,null,null,null,null,null,null,null,null,null,null,null,0,null,null,0,0,null,null,0,{"$f":"SUM(AV60:BC60)","v":0},null,{"$f":"IF(ISERROR(AY60/AS59),0,(AY60/AS59)*100)","v":0},null,null,null,"Niños 2 a 5 Riesgo BP",null,null,null,null,null,null,null,null,{"$f":"IF(ISERROR(AR23/AJ23),0,(AR23/AJ23)*100)","v":0},null,null,null,null,"UROCS 1/SEC",null,null,null,null,null,null,null,null,null,0,null,"1/SEC"]
["Flias. c/Antec Mort Mat Inf",null,null,null,null,null,null,{"$f":"IF(ISERROR(AV10/D12),0,(AV10/D12)*100)","v":0},null,null,null,null,null,null,null,null,null,"Unica Dosis Varicela","Ref SOT 1 año",null,"Ref SOT 1 año","Ref SOT 1 año",null,null,0,0,0,0,null,{"$f":"SUM(Y61:AB61)","v":0},{"$f":"IF(ISERROR(Z61/W56),0,(Z61/W56)*100)","v":0},null,null,null,"Aplic. Cargadas a Nomivac",null,null,null,null,null,null,null,null,null,0,null,null,null,null,null,null,null,null,null,null,null,null,null,null,null,null,null,null,null,null,null,null,null,null,null,null,null,null,null,null,"Flias con Huerta",null,null,null,null,null,null,null,null,null,{"$f":"IF(ISERROR(AL12/D12),0,(AL12/D12)*100)","v":0}]
["F con 3 o más <6 años",null,null,null,null,null,null,{"$f":"IF(ISERROR(BI10/D12),0,(BI10/D12)*100)","v":0}," DE IMPACTO",null,null,null,null,"%",null,"META",null,"4° Dosis o 1° Ref. Pentavalente",null,null,null,null,null,null,0,0,0,0,null,{"$f":"SUM(Y62:AB62)","v":0},{"$f":"IF(ISERROR(Z62/W56),0,(Z62/W56)*100)","v":0},null,null,null,"Total Aplic /AS",null,null,null,null,null,null,null,null,null,0,null,null,null,null,null,null,null,null,null,null,null,null,null,null,null,null,"Niños 2 a 5 Riesgo AP",null,null,null,null,null,null,null,null,{"$f":"IF(ISERROR(AT23/AJ23),0,(AT23/AJ23)*100)","v":0},null,null,null,null,"Flias con Granja",null,null,null,null,null,null,null,null,null,{"$f":"IF(ISERROR(AP12/D12),0,(AP12/D12)*100)","v":0}]
["Flias con Hacinamiento",null,null,null,null,null,null,{"$f":"IF(ISERROR(BL10/D12),0,(BL10/D12)*100)","v":0},"Agua Seg (Trat Red + Viv)",null,null,null,null,{"$f":"IF(ISERROR((AP41+AR41)/D12),0,((AP41+AR41)/D12)*100)","v":0},null,100,null,"2° AG 6m a 24m",null,null,null,null,{"$f":"D91+F91+G91+H91","v":0},null,0,0,0,0,null,{"$f":"SUM(Y63:AB63)","v":0},{"$f":"IF(ISERROR(Z63/W63),0,(Z63/W63)*100)","v":0},null," ",null,"VAC COVID APLIC EN LA RONDA",null,null,null,null,null,null,null,null,null,0,null,null,null,null,null,null,null,null,null,null,null,null,null,null,null,null,"U) A llenar en 1° Ronda del Año"]
["Flias con Analfabet",null,null,null,null,null,null,{"$f":"IF(ISERROR(BO10/D12),0,(BO10/D12)*100)","v":0},"DSE (Arrastre y letrinas)",null,null,null,null,{"$f":"IF(ISERROR((AV41+AX41+AZ41+BB41+BD41)/D12),0,((AV41+AX41+AZ41+BB41+BD41)/D12)*100)","v":0},null,100,null,"R) PRODUCCION Y RENDIMIENTO",null,null,null,null,null,null,null,null,null,null,null,null,null,null,null,null,null,null,null,null,null,null,null,null,null,null,null,null,null,null,null,null,null,null,null,null,null,null,null,null,null,null,null,"Piso",null,null,null,null,"Techo",null,null,null,null,"Paredes",null,null,null,null,null,null,null,null,null,"Cocina",null,null,null,null,"Tenencia"]
["Flias con Suicidio",null,null,null,null,null,null,{"$f":"IF(ISERROR(BT11/D12),0,(BT11/D12)*100)","v":0},"TSB (Recolección + Pozo)",null,null,null,null,{"$f":"IF(ISERROR((BH41+BK41)/D12),0,((BH41+BK41)/D12)*100)","v":0},null,100,null,"DIAS A TRAB. /RONDA",null,null,"DIAS INCLEM CLIMAT.",null,null,"DIAS Y NROS DE ARTICULOS TOMADOS",null,null,null,"CAPACITACIONES Y OTRAS ACTIVIDADES",null,null,null,null,null,null,null,null,null,null,null,null,null,null,null,null,null,null,null,null,null,null,"DIAS TRABAJADOS\nEN TERRENO",null,null,null,null,"PROM. DIARIO DE FLIAS VISIT.",null,null,null,null,null,"Mosaico/B.",null,null,null,0,"Losa",null,null,0,null,"Ladrillo",null,null,0,null,"Madera",null,null,null,0,"Gas",null,null,0,null,"Segura",null,null,0]
["Flias c /tentativa suicidio",null,null,null,null,null,null,{"$f":"IF(ISERROR(BV11/D12),0,(BV11/D12)*100)","v":0},"Emb Adolescente",null,null,null,null,{"$f":"IF(ISERROR(L20/J20),0,(L20/J20)*100)","v":0},null,null,null,null,null,null,null,null,null,0,null,null,null,0,null,null,null,null,null,null,null,null,null,null,0,null,null,null,null,null,null,null,null,null,null,null,null,null,null,null,null,null,null,null,null,null,null,"Cemento",null,null,null,0,"Chapa\nZinc",null,null,0,null,"Bloque",null,null,0,null,"Quincho",null,null,null,0,"Leña/\nCarb",null,null,0,null,"Inseg.",null,null,0]
["Flias con Alcoholismo",null,null,null,null,null,null,{"$f":"IF(ISERROR(BY11/D12),0,(BY11/D12)*100)","v":0},"Niños <2 Bajo Peso/MBP",null,null,null,null,{"$f":"IF(ISERROR((AL22+AN22)/(AJ22+AP22+AL22+AN22)),0,((AL22+AN22)/(AJ22+AP22+AL22+AN22))*100)","v":0},null,null,null,null,null,null,null,null,null,0,null,null,null,0,null,null,null,null,null,null,null,null,null,null,0,null,null,null,null,null,null,null,null,null,null,null,null,null,null,null,null,null,null,null,null,null,null,"Tierra",null,null,null,0,"Paja/\nBarro",null,null,0,null,"Adobe",null,null,0,null,"Carton/Pl",null,null,null,0,"Otros",null,null,0,null,"Hac",null,null,0,null,null,null,5]
["Flias c/ otras Adicciones",null,null,null,null,null,null,{"$f":"IF(ISERROR(CC11/D12),0,(CC11/D12)*100)","v":0},"Niños <2 a AP",null,null,null,null,{"$f":"IF(ISERROR(AP22/(AJ22+AP22+AL22+AN22)),0,(AP22/(AJ22+AP22+AL22+AN22))*100)","v":0},null,null,null,0,null,null,0,null,null,0,null,null,null,0,null,null,null,null,null,null,null,null,null,null,0,null,null,null,null,null,null,null,null,null,null,null,0,null,null,null,null,{"$f":"IF(ISERROR(G12/AY68),0,(G12/AY68))","v":0},null,null,null,null,null,"Otros",null,null,null,0,"Otros",null,null,0,null,"Piedra",null,null,0,null,"Otro",null,null,null,0,"Helad.",null,null,0]
["Flias con VIF",null,null,null,null,null,null,{"$f":"IF(ISERROR(CF11/D12),0,(CF11/D12)*100)","v":0},"Niños < 2 baja y MBT",null,null,null,null,{"$f":"IF(ISERROR((AZ22+BB22)/(AJ22+AP22+AL22+AN22)),0,((AZ22+BB22)/(AJ22+AP22+AL22+AN22))*100)","v":0},null,null,null,"S) DETALLE DE LAS DEFUNCIONES (Todas las del Sector)",null,null,null,null,null,null,null,null,null,null,null,null,null,null,null,null,null,null,null,null,null,null,null,null,null,null,null,null,null,null,null,null,null,null,null,null,null,null,null,null,null,null,null,"Agua",null,"Corriente a Domic",null,null,"Grifo Terr",null,null,"Grifo Público",null,null,"Bomba",null,null,"Pozo",null,null,null,"Camión Aguatero / Cisterna",null,"Vertiente/Rio/Aceq",null,null,"Laguna",null,null,"Lluvia/Aljibe"]
["Flias con Diabetes",null,null,null,null,null,null,{"$f":"IF(ISERROR(AB31/D12),0,(AB31/D12)*100)","v":0},"Niños 2 a 5 Bajo Peso/MBP",null,null,null,null,{"$f":"IF(ISERROR((AL23+AN23)/(AJ23+AP23+AL23+AN23)),0,((AL23+AN23)/(AJ23+AP23+AL23+AN23))*100)","v":0},null,null,null,"APELLIDO Y NOMBRE",null,null,null,null,null,null,"DOMICILIO",null,null,null,null,null,null,null,null,"NACIMIENTO",null,null,null,null,"DEFUNCION",null,null,null,"PESO\nAL NACER",null,null,null,"CAUSA",null,null,null,null,null,null,null,null,null,"CLASIFICAC."]
["Flias con Hipertensión",null,null,null,null,null,null,{"$f":"IF(ISERROR(AB32/D12),0,(AB32/D12)*100)","v":0},"Niños 2 a 5 AP",null,null,null,null,{"$f":"IF(ISERROR(AP23/(AJ23+AP23+AL23+AN23)),0,(AP23/(AJ23+AP23+AL23+AN23))*100)","v":0}]
[]
["Personas con otras enfermedades crónicas al cuidado de niños",null,null,null,null,null,null,{"$f":"IF(ISERROR(AB33/D12),0,(AB33/D12)*100)","v":0},"Niños 2 a 5 baja y MBT",null,null,null,null,{"$f":"IF(ISERROR((AZ23+BB23)/(AJ23+AP23+AL23+AN23)),0,((AZ23+BB23)/(AJ23+AP23+AL23+AN23))*100)","v":0},null,null,null,null,null,null,null,null,null,null,null,null,null,null,null,null,null,null,null,null,null,null,null,null,null,null,null,null,null,null,null,null,null,null,null,null,null,null,null,null,null,null,null,null,null,null,null,null,null,0,null,null,0,null,null,0,null,null,0,null,null,0,null,null,null,0,null,0,null,null,0,null,null,0]
["Pers c/O Social/Pob total",null,null,null,null,null,null,{"$f":"IF(ISERROR(CI27/CC28),0,(CI27/CC28)*100)","v":0}]
[]
[]
[]
[]
["BP+MBP Ronda Anterior Men2a: ",null,null,null,null,null,null,null,null,null,0]
["BP+MBP Ronda Anterior 2 a 6a: ",null,null,null,null,null,null,null,null,null,0]
["AP Ronda Anterior Men2a: ",null,null,null,null,null,null,null,null,null,0]
["AP Ronda Anterior 2 a 6a: ",null,null,null,null,null,null,null,null,null,0]
[]
[]
[]
[]
[]
["0 a 5m",null,null,"6 a 11m",null,null,"1 AÑO",null,"2 AÑOS",null,"3 AÑOS",null,"4 AÑOS",null,null,"5 AÑOS",null,null,"6 AÑOS",null,null,"7 A 9 AÑOS",null,null,null,"10 AÑOS",null,"11 AÑOS",null,null,"12 A 14",null,null,null,null,null,"15 A 19",null,null,"20 A 24",null,null,null,"25 A 29",null,null,null,"30 A 34",null,null,null,"35 A 39",null,null,null,"40 A 44",null,null,null,null,"45 A 49",null,null,null,"50 A 54",null,null,null,"55 A 59",null,null,null,"60 A 64",null,null,null,"65 y +",null,null,null,"TOTAL",null,null,null,null,"MUJERES\n10 A 49"]
["M",null,"F","M",null,"F","M","F","M","F","M","F","M",null,"F","M",null,"F","M",null,"F","M",null,"F",null,"M","F","M",null,"F","M",null,null,"F",null,null,"M","F",null,"M",null,"F",null,"M",null,null,"F","M",null,null,"F","M",null,"F",null,"M",null,null,"F",null,"M",null,"F",null,"M",null,"F",null,"M",null,"F",null,"M",null,"F",null,"M",null,null,"F","M",null,"F"]
[0,null,0,0,null,0,0,0,0,0,0,0,0,null,0,0,null,0,0,null,0,0,null,0,null,0,0,0,null,0,0,null,null,0,null,null,0,0,null,0,null,0,null,0,null,null,0,0,null,null,0,0,null,0,null,0,null,null,0,null,0,null,0,null,0,null,0,null,0,null,0,null,0,null,0,null,0,null,null,0,{"$f":"SUM(A90,D90,G90,I90,K90,M90,P90,S90,V90,Z90,AB90,AE90,AK90,AN90,AR90,AV90,AZ90,BD90,BI90,BM90,BQ90,BU90,BY90)","v":0},null,{"$f":"SUM(C90,F90,H90,J90,L90,O90,R90,U90,X90,AA90,AD90,AH90,AL90,AP90,AU90,AY90,BB90,BG90,BK90,BO90,BS90,BW90,CB90)","v":0},null,null,{"$f":"SUM(AA90,AD90,AH90,AL90,AP90,AU90,AY90,BB90,BG90,BK90)","v":0}]
[{"$f":"SUM(A90:C90)","v":0},null,null,{"$f":"SUM(D90,F90)","v":0},null,null,{"$f":"SUM(G90,H90)","v":0},null,{"$f":"SUM(I90,J90)","v":0},null,{"$f":"SUM(K90,L90)","v":0},null,{"$f":"SUM(M90,O90)","v":0},null,null,{"$f":"SUM(P90,R90)","v":0},null,null,{"$f":"SUM(S90,U90)","v":0},null,null,{"$f":"SUM(V90,X90)","v":0},null,null,null,{"$f":"SUM(Z90,AA90)","v":0},null,{"$f":"SUM(AB90,AD90)","v":0},null,null,{"$f":"SUM(AE90,AH90)","v":0},null,null,null,null,null,{"$f":"SUM(AK90,AL90)","v":0},null,null,{"$f":"SUM(AN90,AP90)","v":0},null,null,null,{"$f":"SUM(AR90,AU90)","v":0},null,null,null,{"$f":"SUM(AV90,AY90)","v":0},null,null,null,{"$f":"SUM(AZ90,BB90)","v":0},null,null,null,{"$f":"SUM(BD90,BG90)","v":0},null,null,null,null,{"$f":"SUM(BI90,BK90)","v":0},null,null,null,{"$f":"SUM(BM90,BO90)","v":0},null,null,null,{"$f":"SUM(BQ90,BS90)","v":0},null,null,null,{"$f":"SUM(BU90,BW90)","v":0},null,null,null,{"$f":"SUM(BY90,CB90)","v":0},null,null,null,{"$f":"A91+D91+G91+I91+K91+M91+P91+S91+V91+Z91+AB91+AE91+AK91+AN91+AR91+AV91+AZ91+BD91+BI91+BM91+BQ91+BU91+BY91","v":0}]
["Mejor Población: 1° - 2019",null,null,null,null,null,null,null,null,null,null,null,null,null,null,null,null,null,null,null,null,null,null,null,null,null,null,null,null,null,null,null,null,null,null,null,null,null,null,null,null,null,null,null,null,null,null,null,null,null,null,null,null,null,null,null,null,null,null,null,null,null,null,null,null,null,null,null,null,null,null,null,null,null,null,null,null,null,null,null,{"$f":"SUM(CC91,CE91)","v":0}]
["Cobertura: 1%"]

{"sheet":"CAPITAN PAGE","index":20,"n_rows":93,"n_cols":94,"rows_kept":93,"cut":false,"hidden":false,"merged":[[61,30,61,31],[62,30,62,31],[89,85,90,85],[90,0,90,2],[90,3,90,5],[90,6,90,7],[90,8,90,9],[90,10,90,11],[90,12,90,14],[90,15,90,17],[90,18,90,20],[90,21,90,24],[89,70,89,71],[89,72,89,73],[89,74,89,75],[89,76,89,78],[89,80,89,81],[89,82,89,84],[89,58,89,59],[89,51,89,52],[89,53,89,54],[89,55,89,57],[89,23,89,24],[89,27,89,28],[89,30,89,32],[89,33,89,35],[89,37,89,38],[89,39,89,40],[90,72,90,75],[90,76,90,79],[90,80,90,84],[90,47,90,50],[90,51,90,54],[90,55,90,59],[90,60,90,63],[90,64,90,67],[90,68,90,71],[90,25,90,26],[90,27,90,29],[90,30,90,35],[90,36,90,38],[90,39,90,42],[90,43,90,46],[89,0,89,1],[89,3,89,4],[89,12,89,13],[89,15,89,16],[89,18,89,19],[89,21,89,22],[88,62,88,63],[88,64,88,65],[88,66,88,67],[88,68,88,69],[88,70,88,71],[88,72,88,73],[88,47,88,49],[88,51,88,52],[88,53,88,54],[88,55,88,57],[88,58,88,59],[88,60,88,61],[88,30,88,32],[88,33,88,35],[88,37,88,38],[88,39,88,40],[88,41,88,42],[88,43,88,45],[89,60,89,61],[89,62,89,63],[89,64,89,65],[89,66,89,67],[89,68,89,69],[89,41,89,42],[89,43,89,45],[89,47,89,49],[87,80,87,84],[87,85,88,85],[88,0,88,1],[88,3,88,4],[88,12,88,13],[88,15,88,16],[88,18,88,19],[88,21,88,22],[88,23,88,24],[88,27,88,28],[87,55,87,59],[87,60,87,63],[87,64,87,67],[87,68,87,71],[87,72,87,75],[87,76,87,79],[87,30,87,35],[87,36,87,38],[87,39,87,42],[87,43,87,46],[87,47,87,50],[87,51,87,54],[87,12,87,14],[87,15,87,17],[87,18,87,20],[87,21,87,24],[87,25,87,26],[87,27,87,29],[88,74,88,75],[88,76,88,78],[88,80,88,81],[88,82,88,84],[75,17,75,23],[75,24,75,32],[75,38,75,41],[75,42,75,45],[75,46,75,55],[87,0,87,2],[87,3,87,5],[87,6,87,7],[87,8,87,9],[87,10,87,11],[73,42,73,45],[73,46,73,55],[73,56,73,60],[74,17,74,23],[74,24,74,32],[74,38,74,41],[74,42,74,45],[74,46,74,55],[72,75,73,78],[72,79,73,80],[72,81,73,83],[72,84,73,86],[72,87,73,89],[73,0,73,6],[73,17,73,23],[73,24,73,32],[73,33,73,37],[73,38,73,41],[72,46,72,55],[72,56,72,60],[72,63,73,65],[72,66,73,68],[72,69,73,71],[72,72,73,74],[71,56,71,60],[72,0,72,6],[72,8,73,12],[72,13,73,14],[72,15,73,16],[72,17,72,23],[72,24,72,32],[72,33,72,37],[72,38,72,41],[72,42,72,45],[68,87,71,89],[68,69,71,71],[68,72,71,74],[68,75,71,78],[68,79,71,80],[68,81,71,83],[71,46,71,55],[69,46,69,55],[69,56,69,60],[70,0,71,6],[70,7,71,7],[70,8,71,12],[70,13,71,14],[70,15,71,16],[70,17,70,23],[70,24,70,32],[70,33,70,37],[69,0,69,6],[69,8,69,12],[69,13,69,14],[69,15,69,16],[69,17,69,23],[69,24,69,32],[69,33,69,37],[69,38,69,41],[69,42,69,45],[68,84,71,86],[67,81,67,83],[67,84,67,85],[68,0,68,6],[68,8,68,12],[68,13,68,14],[68,15,68,16],[68,17,68,60],[68,61,73,62],[68,63,71,65],[68,66,71,68],[67,61,67,64],[67,66,67,68],[67,69,67,70],[67,71,67,73],[67,74,67,75],[67,76,67,79],[67,20,67,22],[67,23,67,26],[67,27,67,37],[67,38,67,49],[67,50,67,54],[67,55,67,60],[70,38,70,41],[70,42,70,45],[70,46,70,55],[70,56,70,60],[71,17,71,23],[71,24,71,32],[71,33,71,37],[71,38,71,41],[71,42,71,45],[63,0,63,6],[63,8,63,12],[63,13,63,14],[63,15,63,16],[63,17,63,60],[63,61,63,65],[63,66,63,70],[63,71,63,80],[63,81,63,85],[66,69,66,70],[66,71,66,73],[66,74,66,75],[65,76,65,79],[65,81,65,83],[65,84,65,85],[65,86,65,88],[66,0,66,6],[66,8,66,12],[66,13,66,14],[66,15,66,16],[66,23,66,26],[66,27,66,37],[65,15,65,16],[65,23,65,26],[65,27,65,37],[65,38,65,49],[64,55,66,60],[64,61,64,64],[64,66,64,68],[64,69,64,70],[64,74,64,75],[64,86,64,88],[64,20,66,22],[64,23,64,26],[64,27,64,49],[64,50,66,54],[65,0,65,6],[65,8,65,12],[65,13,65,14],[66,86,67,88],[66,89,67,89],[67,0,67,6],[67,8,67,12],[67,13,67,14],[67,15,67,16],[67,17,67,19],[66,38,66,49],[66,61,66,64],[66,66,66,68],[64,76,64,79],[65,61,65,64],[65,66,65,68],[65,69,65,70],[65,74,65,75],[66,76,66,79],[66,81,66,83],[66,84,66,85],[62,0,62,6],[62,8,62,12],[62,13,62,14],[62,15,62,16],[62,32,62,33],[62,34,62,43],[64,81,64,83],[64,84,64,85],[61,87,61,89],[61,32,61,33],[61,34,61,43],[61,44,61,60],[62,44,62,60],[60,87,60,89],[61,0,61,6],[61,8,61,12],[61,13,61,14],[61,15,61,16],[60,0,60,6],[60,17,60,21],[60,27,60,28],[60,30,60,31],[60,34,60,43],[60,44,60,60],[63,86,63,89],[64,0,64,6],[64,8,64,12],[64,13,64,14],[64,15,64,16],[64,17,66,19],[60,75,60,84],[60,85,60,86],[62,61,62,89],[58,75,58,84],[58,85,58,86],[59,61,60,69],[59,70,60,71],[59,72,60,74],[59,75,59,84],[58,34,58,43],[58,44,59,46],[58,47,58,49],[58,51,58,53],[58,55,58,56],[58,57,58,58],[59,55,59,56],[59,57,59,58],[61,61,61,69],[61,70,61,71],[61,72,61,74],[61,75,61,84],[61,85,61,86],[57,87,57,89],[58,0,59,6],[58,7,59,7],[58,8,58,13],[58,15,58,16],[58,17,58,21],[58,27,58,28],[58,30,58,31],[57,55,57,56],[57,57,57,58],[57,59,57,60],[57,61,57,69],[57,70,57,71],[57,72,57,74],[59,85,59,86],[59,87,59,89],[57,47,57,49],[57,51,57,53],[58,87,58,89],[59,8,60,13],[59,14,60,14],[59,15,60,16],[59,17,59,21],[59,27,59,28],[59,30,59,31],[59,34,59,43],[59,47,59,49],[59,51,59,53],[58,59,59,60],[58,61,58,69],[58,70,58,71],[58,72,58,74],[56,27,56,28],[56,30,56,31],[56,34,56,43],[56,44,57,46],[56,47,56,49],[55,59,56,60],[55,61,55,69],[55,70,55,71],[55,72,55,74],[55,75,55,84],[55,85,55,86],[56,75,56,84],[56,85,56,86],[55,34,55,43],[55,44,55,46],[55,47,55,49],[55,51,55,53],[55,55,55,56],[55,57,55,58],[57,75,57,84],[57,85,57,86],[55,0,55,6],[55,8,55,13],[55,15,55,16],[55,17,55,21],[55,27,55,28],[55,30,55,31],[55,32,60,33],[54,47,54,49],[54,51,54,53],[54,55,54,56],[54,57,54,58],[54,61,54,69],[54,70,54,71],[56,87,56,89],[57,0,57,6],[57,8,57,13],[57,15,57,16],[57,17,57,21],[57,27,57,28],[57,30,57,31],[57,34,57,43],[56,51,56,53],[56,55,56,56],[56,57,56,58],[56,61,56,69],[56,70,56,71],[56,72,56,74],[55,87,55,89],[56,0,56,6],[56,8,56,13],[56,15,56,16],[56,17,56,21],[53,87,53,89],[54,0,54,6],[54,8,54,13],[54,15,54,16],[54,17,54,21],[54,27,54,28],[54,30,54,31],[54,34,54,43],[54,44,54,46],[53,57,53,58],[53,59,54,60],[53,61,53,69],[53,70,53,71],[53,72,53,74],[53,75,53,84],[54,72,54,74],[54,75,54,84],[54,85,54,86],[54,87,54,89],[51,75,51,84],[51,85,51,86],[51,87,51,89],[52,0,52,6],[52,8,52,13],[52,15,52,16],[52,17,52,21],[52,27,52,28],[52,30,52,31],[51,51,51,53],[51,55,51,56],[51,57,51,58],[51,59,52,60],[51,61,51,69],[51,70,51,71],[52,61,52,69],[52,70,52,71],[52,72,52,74],[52,75,52,84],[52,85,52,86],[52,87,52,89],[52,34,52,43],[52,44,53,46],[52,47,52,49],[52,51,52,53],[52,55,52,56],[52,57,52,58],[53,34,53,43],[53,47,53,49],[53,51,53,53],[53,55,53,56],[53,85,53,86],[51,0,51,6],[51,8,51,13],[51,15,51,16],[51,17,51,21],[51,27,51,28],[51,30,51,31],[51,34,51,43],[51,47,51,49],[50,34,50,43],[50,47,50,49],[50,51,50,53],[50,55,50,56],[50,57,50,58],[50,61,50,69],[49,72,49,74],[48,44,51,46],[48,47,48,49],[48,51,48,53],[49,47,49,49],[49,51,49,53],[50,30,50,31],[50,32,54,33],[51,72,51,74],[53,0,53,6],[53,8,53,13],[53,15,53,16],[53,17,53,21],[53,27,53,28],[53,30,53,31],[48,85,48,86],[48,87,48,89],[49,0,49,5],[49,8,49,13],[49,15,49,16],[49,17,49,21],[49,27,49,28],[49,30,49,31],[49,34,49,43],[48,55,48,56],[48,57,48,58],[48,59,50,60],[48,61,48,69],[48,70,48,71],[48,72,48,74],[49,55,49,56],[49,57,49,58],[49,61,49,69],[49,70,49,71],[48,30,48,31],[48,32,49,33],[48,34,48,43],[50,70,50,71],[50,72,50,74],[47,72,47,74],[47,75,47,84],[47,85,47,86],[47,87,47,89],[48,0,48,5],[48,8,48,13],[48,15,48,16],[48,17,48,21],[48,22,49,23],[48,27,48,28],[47,51,47,53],[47,55,47,56],[47,57,47,58],[47,59,47,60],[47,61,47,69],[47,70,47,71],[47,27,47,28],[47,30,47,31],[47,32,47,33],[47,34,47,43],[47,44,47,46],[47,47,47,49],[49,75,50,84],[49,85,50,86],[49,87,50,89],[50,0,50,6],[50,8,50,13],[50,15,50,16],[50,17,50,21],[50,22,54,23],[50,27,50,28],[48,75,48,84],[46,70,46,71],[46,72,46,74],[46,75,46,84],[46,85,46,86],[46,87,46,89],[47,0,47,5],[47,8,47,13],[47,15,47,16],[47,17,47,21],[47,22,47,23],[46,0,46,5],[46,8,46,13],[46,15,46,16],[46,17,46,33],[46,34,46,60],[46,61,46,69],[44,65,44,68],[44,69,44,72],[44,73,44,76],[44,77,44,84],[44,85,44,89],[45,0,45,89],[42,23,44,23],[42,24,44,25],[42,26,44,27],[42,28,44,29],[42,30,44,31],[42,32,44,33],[42,17,44,17],[42,18,44,18],[42,19,44,19],[42,20,44,20],[42,73,43,76],[42,77,43,84],[42,85,43,89],[44,41,44,45],[44,46,44,48],[44,49,44,50],[44,51,44,52],[44,53,44,55],[44,56,44,60],[44,61,44,64],[42,51,43,52],[42,53,43,55],[42,56,43,60],[42,61,43,64],[42,65,43,68],[42,69,43,72],[42,34,44,35],[42,36,44,38],[42,39,44,40],[42,41,43,45],[42,46,43,48],[42,49,43,50],[42,21,44,21],[42,22,44,22],[42,10,44,11],[42,12,44,12],[42,13,44,13],[42,14,44,14],[42,15,44,15],[42,16,44,16],[40,86,40,89],[41,41,41,52],[41,53,41,64],[41,65,41,76],[41,77,41,89],[42,0,44,1],[42,2,44,3],[42,4,44,5],[42,6,44,7],[42,8,44,9],[40,66,40,68],[40,69,40,71],[40,72,40,75],[40,76,40,79],[40,80,40,81],[40,82,40,85],[40,51,40,52],[40,53,40,54],[40,55,40,56],[40,57,40,58],[40,59,40,61],[40,62,40,65],[40,36,41,38],[40,39,41,40],[40,41,40,42],[40,43,40,45],[40,47,40,48],[40,49,40,50],[40,24,41,25],[40,26,41,27],[40,28,41,29],[40,30,41,31],[40,32,41,33],[40,34,41,35],[40,18,41,18],[40,19,41,19],[40,20,41,20],[40,21,41,21],[40,22,41,22],[40,23,41,23],[40,12,41,12],[40,13,41,13],[40,14,41,14],[40,15,41,15],[40,16,41,16],[40,17,41,17],[40,0,41,1],[40,2,41,3],[40,4,41,5],[40,6,41,7],[40,8,41,9],[40,10,41,11],[38,66,39,68],[38,69,39,71],[38,72,39,75],[38,76,39,79],[39,12,39,13],[39,14,39,15],[39,16,39,17],[39,18,39,19],[39,47,39,48],[39,49,39,50],[38,46,39,46],[38,47,38,52],[38,53,38,56],[38,57,39,58],[38,59,39,61],[38,62,39,65],[39,51,39,52],[39,53,39,54],[39,55,39,56],[38,24,39,27],[38,28,39,31],[38,32,39,35],[38,36,39,40],[38,41,39,42],[38,43,39,45],[38,0,39,3],[36,41,36,68],[36,69,36,89],[37,41,37,46],[37,47,37,58],[37,59,37,68],[37,69,37,79],[37,80,39,81],[37,82,39,85],[37,86,39,89],[34,10,34,11],[34,12,35,14],[34,21,35,26],[34,27,35,32],[35,3,35,5],[35,6,35,7],[35,8,35,9],[35,10,35,11],[34,0,35,2],[34,3,34,5],[34,6,34,7],[34,8,34,9],[31,21,31,26],[31,27,31,29],[31,30,31,32],[32,0,32,2],[32,3,32,4],[32,8,32,9],[32,10,32,11],[32,21,33,26],[32,27,33,29],[32,30,33,32],[38,4,39,7],[38,8,39,11],[38,12,38,19],[38,20,39,21],[38,22,39,23],[36,0,37,40],[30,21,30,26],[30,27,30,29],[30,30,30,32],[31,0,31,2],[31,3,31,4],[31,8,31,9],[31,10,31,11],[31,12,32,14],[31,15,32,17],[31,18,32,20],[29,30,29,32],[29,33,35,89],[30,0,30,2],[30,3,30,5],[30,6,30,7],[30,8,30,9],[30,10,30,11],[30,12,30,14],[30,15,30,17],[30,18,30,20],[29,0,29,2],[29,3,29,7],[29,8,29,14],[29,15,29,20],[29,21,29,26],[29,27,29,29],[33,0,33,2],[33,3,33,7],[33,8,33,11],[33,12,33,14],[33,15,35,17],[33,18,35,20],[27,64,27,67],[27,68,27,71],[27,72,27,75],[27,76,27,79],[27,80,27,84],[28,0,28,14],[28,15,28,20],[28,21,28,32],[27,39,27,42],[27,43,27,46],[27,47,27,50],[27,51,27,54],[27,55,27,59],[27,60,27,63],[27,18,27,20],[27,21,27,24],[27,25,27,26],[27,27,27,29],[27,30,27,35],[27,36,27,38],[22,12,22,15],[22,16,22,19],[22,20,22,23],[22,24,22,28],[26,85,27,85],[26,86,27,87],[26,88,27,89],[27,0,27,2],[27,3,27,5],[27,6,27,7],[27,8,27,9],[27,10,27,11],[27,12,27,14],[27,15,27,17],[26,70,26,71],[26,72,26,73],[26,74,26,75],[26,76,26,78],[26,80,26,81],[26,82,26,84],[26,58,26,59],[26,60,26,61],[26,62,26,63],[26,64,26,65],[26,66,26,67],[26,68,26,69],[26,41,26,42],[26,43,26,45],[26,47,26,49],[26,51,26,52],[26,53,26,54],[26,55,26,57],[26,37,26,38],[26,39,26,40],[26,0,26,1],[26,3,26,4],[26,12,26,13],[26,15,26,16],[26,18,26,19],[26,21,26,22],[25,64,25,65],[25,66,25,67],[25,68,25,69],[25,70,25,71],[25,72,25,73],[25,74,25,75],[25,51,25,52],[25,53,25,54],[25,55,25,57],[25,58,25,59],[25,60,25,61],[25,62,25,63],[25,33,25,35],[25,37,25,38],[25,39,25,40],[25,41,25,42],[25,43,25,45],[25,47,25,49],[25,30,25,32],[26,23,26,24],[26,27,26,28],[26,30,26,32],[26,33,26,35],[24,88,25,89],[25,0,25,1],[25,3,25,4],[25,12,25,13],[25,15,25,16],[25,18,25,19],[25,21,25,22],[25,23,25,24],[25,27,25,28],[24,68,24,71],[24,72,24,75],[24,76,24,79],[24,80,24,84],[24,85,25,85],[24,86,25,87],[25,76,25,78],[25,80,25,81],[25,82,25,84],[24,43,24,46],[24,47,24,50],[24,51,24,54],[24,55,24,59],[24,60,24,63],[24,64,24,67],[24,21,24,24],[24,25,24,26],[24,27,24,29],[24,30,24,35],[24,36,24,38],[24,39,24,42],[21,76,21,79],[22,76,22,79],[21,43,21,44],[21,45,21,46],[21,47,21,49],[21,51,21,52],[21,53,21,54],[21,56,21,57],[21,12,21,15],[21,16,21,19],[21,29,21,31],[21,32,21,34],[21,41,21,42],[23,0,23,89],[24,0,24,2],[24,3,24,5],[24,6,24,7],[24,8,24,9],[24,10,24,11],[24,12,24,14],[24,15,24,17],[24,18,24,20],[22,51,22,52],[22,53,22,54],[22,56,22,57],[22,58,22,60],[22,61,22,62],[22,63,22,65],[22,37,22,38],[22,39,22,40],[22,41,22,42],[21,0,22,2],[22,29,22,31],[22,32,22,34],[22,35,22,36],[21,58,21,60],[21,61,21,62],[21,63,21,65],[21,66,22,73],[22,43,22,44],[22,45,22,46],[22,47,22,49],[19,68,20,69],[19,70,20,71],[19,72,20,73],[17,29,20,31],[17,32,20,34],[17,35,20,36],[19,74,20,75],[17,37,20,38],[17,39,20,40],[17,41,20,42],[21,74,22,75],[19,76,20,79],[19,51,20,52],[19,53,20,54],[19,55,20,55],[19,58,20,60],[19,61,20,62],[19,66,20,67],[17,63,20,65],[16,66,18,67],[16,68,18,69],[16,70,18,71],[16,72,18,73],[16,74,18,75],[16,76,18,79],[19,45,20,46],[19,47,20,49],[19,50,20,50],[17,43,18,46],[17,47,18,50],[17,51,18,55],[17,56,20,57],[17,58,18,62],[19,43,20,44],[11,0,14,2],[16,0,18,2],[16,6,18,6],[16,7,18,7],[16,8,18,8],[16,9,18,9],[16,10,18,10],[16,11,18,11],[16,12,18,13],[16,14,18,15],[16,16,16,17],[16,18,18,19],[19,18,19,19],[19,20,19,21],[19,23,19,24],[19,25,19,26],[19,27,19,28],[17,16,18,16],[17,17,18,17],[17,22,18,22],[17,23,18,24],[17,25,18,26],[17,27,18,28],[14,85,14,89],[15,12,15,19],[15,20,15,28],[15,29,15,65],[15,66,15,75],[11,28,14,30],[11,31,14,36],[11,37,14,40],[11,41,14,46],[11,47,11,68],[11,69,11,89],[11,14,14,16],[11,17,14,18],[11,3,14,5],[11,6,14,7],[11,8,14,9],[11,10,14,11],[11,12,14,13],[13,75,13,78],[13,79,13,80],[12,85,12,89],[13,47,13,52],[13,63,13,68],[13,69,13,74],[12,47,12,52],[12,63,12,68],[12,53,12,55],[12,56,12,59],[12,60,12,62],[13,53,13,55],[14,53,14,55],[14,56,14,59],[14,60,14,62],[11,19,14,20],[11,21,14,23],[11,24,14,25],[11,26,14,27],[9,69,9,72],[9,73,9,74],[9,76,9,78]],"merged_total":1135,"flags":["merged_cut"]}
[null,null,null,null,null,null,null,null,null,null,null,null,null,null,null,null,null,null,null,null,null,null,null,null,null,null,null,"DIRECCION - PROGRAMA  APS \nSUBSECRETARIA DE MEDICINA SOCIAL\nRONDA N°: 191  AÑO:_2025__",null,null,null,null,null,null,null,null,null,null,null,null,null,null,null,null,null,null,null,null,null,null,null,null,null,null,"1r","2r","3r",null,"4r",null,"T",null,null,null,null,null,null,null,null,null,null,null,null,null,null,null,null,null,null,null,"Informe y orden de Ronda: ",6,null,null,null,null,2]
[null,null,null,null,null,null,null,"Area Operativa N°: ",4,null,null,null,null,null,"Nombre: ","MORILLO",null,null,null,null,null,null,null,null,null,null,null,null,null,null,null,null,null,null,null,null,null,null,null,null,null,null,null,null,null,null,"Mort. Mater. Acum. Año",null,null,null,null,null,null,null,0,{"$f":"CE41","v":0},0,null,{"$f":"CE41","v":0},null,{"$f":"SUM(BC2:BG2)","v":0},null,null,null,null,"Sector:",null,"CAPITAN PAGE",null,null,null,null,null,null,null,null,null,null,null,null,null,null,null,null,null,"N°",12]
[null,null,null,null,null,null,null,null,null,null,null,null,null,null,null,null,null,null,null,null,null,null,null,null,null,null,null,null,null,null,null,null,null,null,null,null,null,null,null,null,null,null,null,null,null,null,"Mort. 0-1 año Acum Año",null,null,null,null,null,null,null,0,{"$f":"BR41+BU41+BY41","v":0},0,null,{"$f":"BR41+BU41+BY41","v":0},null,{"$f":"SUM(BC3:BG3)","v":0},null,null,null,null,null,"Etnia: ","CRIOLLA-WICHI",null,null,null,null,null,null,null,null,null,null,null,null,null,null,null,null,null,"Sector Riesgo:","SI"]
[null,null,null,null,null,null,null,"Establec. Base: ","HOSPITAL MORILLO",null,null,null,null,null,null,null,null,null,null,null,null,null,null,null,null,null,null,null,null,null,null,null,null,null,null,null,null,null,null,null,null,null,null,null,null,null,"Mort. 1-4 años Acum Año",null,null,null,null,null,null,null,0,{"$f":"CC41","v":0},0,null,{"$f":"CC41","v":0},null,{"$f":"SUM(BC4:BG4)","v":0},null,null,null,null,null,null,null,null,null,null,null,null,"Desde: ","07/03/2025",null,null,null,null,null,null,null,null,"Hasta: ","05/06/2026"]
[null,null,null,null,null,null,null,null,null,null,null,null,null,null,null,null,null,null,null,null,null,null,null,null,null,null,null,null,null,null,null,null,null,null,null,null,null,null,null,null,null,null,null,null,null,null,null,null,null,null,null,null,null,null,null,null,null,null,null,null,null,null,null,null,null,null,null,null,null,null,null,null,null,null,null,null,null,null,null,"Cobertura: ","CUBIERTO"]
[null,null,null,null,null,null,null,"Sup. Intermedio: ","Miguel Correa",null,null,null,null,null,null,null,null,null,null,null,null,null,null,null,null,null,null,null,null,null,null,null,"Responsable A.P.S.: ","Dr. Abel Ibarra",null,null,null,null,null,null,null,null,null,null,null,null,null,null,null,null,null,null,null,null,null,null,"Agente Sanitario: ","MARIA ELENA IBAÑEZ",null,null,null,null,null,null,null,null,null,null,null,null,null,null,null,null,"Sit. Revista: ","PLANTA PERMANENTE",null,null,null,null,null,"Reg. Horario: ","30 HS."]
[]
["A) FAMILIAS VISITADAS EN LA RONDA",null,null,null,null,null,null,null,null,null,null,null,null,null,null,null,null,null,null,null,null,null,null,null,null,null,null,null,null,null,null,null,null,null,null,null,null,null,null,null,null,null,null,null,null,null,null,"B) FACTORES DE PRIORIZACION DE VISITAS"]
["ASIGNADAS",null,null,"VISITADAS",null,null,"TOTAL\nVISITAS",null,"NO VISITADAS",null,null,null,null,null,null,null,null,"FLIAS ORIG.",null,"FLIAS. URB.",null,"FLIAS. PERIURB",null,null,"FLIAS. RURALES",null,"GOLON\nMIGRANTES",null,null,null,null,"FLIAS. CON PL. SOCIALES",null,null,null,null,null,"PRODUCCION\nFAMILIAR",null,null,null,null,null,null,null,null,null,1,null,2,null,3,null,null,4,null,5,null,6,null,7,null,null,8,null,null,9,null,null,10,null,null,null,11,null,null,12,null,null,null,13,null,null,14,null,null,15]
[null,null,null,null,null,null,null,null,"RECHAZO TOTAL",null,"AUSEN\n-TE",null,"NO VISITADAS",null,"TOT NO VISIT.",null,null,null,null,null,null,null,null,null,null,null,"HACIA\nEL AO",null,"DESDE\nEL AO",null,null,null,null,null,null,null,null,"HUERTA",null,null,null,"GRANJA",null,null,null,null,null,0,null,0,null,0,null,null,0,null,0,null,0,null,0,null,null,0,null,null,0,null,null,"Total",null,null,null,"Tot",null,"Trat","Tot.",null,null,"Trat.","Tot.","Trat.",null,"Tot.",null,"Trat","Total"]
[null,null,null,null,null,null,null,null,null,null,0,null,null,null,null,null,null,null,null,null,null,null,null,null,null,null,null,null,null,null,null,null,null,null,null,null,null,null,null,null,null,null,null,null,null,null,null,null,null,null,null,null,null,null,null,null,null,null,null,null,null,null,null,null,null,null,null,null,null,0,null,null,null,0,null,0,0,null,null,0,0,0,null,0,null,0,0]
[0,null,null,0,null,null,0,null,0,null,0,null,0,null,{"$f":"M12+K12+I12","v":0},null,null,0,null,0,null,0,null,null,0,null,0,null,0,null,null,0,null,null,null,null,null,0,null,null,null,0,null,null,null,null,null,"C) VISITAS A FLIAS. PRIORIZADAS",null,null,null,null,null,null,null,null,null,null,null,null,null,null,null,null,null,null,null,null,null,"D) SUPERV. A FLIAS. "]
[null,null,null,null,null,null,null,null,null,null,null,null,null,null,null,null,null,null,null,null,null,null,null,null,null,null,null,null,null,null,null,null,null,null,null,null,null,null,null,null,null,null,null,null,null,null,null,"PRIORIDAD",null,null,null,null,null,1,null,null,2,null,null,null,3,null,null,"Total",null,null,null,null,null,"PRIORIDAD",null,null,null,null,null,1,null,null,null,2,null,3,null,null,null,"TOTAL"]
[null,null,null,null,null,null,null,null,null,null,null,null,null,null,null,null,null,null,null,null,null,null,null,null,null,null,null,null,null,null,null,null,null,null,null,null,null,null,null,null,null,null,null,null,null,null,null,"N° FAMILIAS",null,null,null,null,null,0,null,null,0,null,null,null,0,null,null,{"$f":"SUM(BB14:BI14)","v":0},null,null,null,null,null,"INTERMEDIA",null,null,null,null,null,0,null,null,null,0,null,0,null,null,null,{"$f":"SUM(BX14:CD14)","v":0}]
[null,null,null,null,null,null,null,null,null,null,null,null,null,null,null,null,null,null,null,null,null,null,null,null,null,null,null,null,null,null,null,null,null,null,null,null,null,null,null,null,null,null,null,null,null,null,null,"VISITAS",null,null,null,null,null,0,null,null,0,null,null,null,0,null,null,{"$f":"SUM(BB15:BI15)","v":0},null,null,null,null,null,"PROFESIONAL",null,null,null,null,null,0,null,null,null,0,null,0,null,null,null,{"$f":"SUM(BX15:CB15)","v":0}]
["E) EDAD FERTIL",null,null,null,null,"F) EMBARAZADAS",null,null,null,null,null,null,"G) PARTOS",null,null,null,null,null,null,null,"H) R.N. EN LA RONDA",null,null,null,null,null,null,null,null,"I) EVALUACION ANTROPOMETRICA",null,null,null,null,null,null,null,null,null,null,null,null,null,null,null,null,null,null,null,null,null,null,null,null,null,null,null,null,null,null,null,null,null,null,null,null,"NIÑ MBP/BP/RBP CTRL. INT.",null,null,null,null,null,null,null,null,null,"LACT. MATERNA"]
["PAP",null,null,0,null,"CAPT. 1er TRIMESTRE","ESP EN EL AÑO","ACUMULADAS","NUEVAS\nRONDA","TOTAL","DE RIESGO","<19 Años","TOTAL",null,"HOSPITALARIOS",null,"DOMIC.",null,"N° PUERPERAS",null,"NACIDOS VIVOS",null,"P AL NACER",null,null,null,null,null,null,"NIÑOS CONTROLADOS",null,null,null,null,null,null,null,null,null,null,null,null,null,null,null,null,null,null,null,null,null,null,null,null,null,null,null,null,null,null,null,null,null,null,null,null,"MELAN",null,"MED",null,"ENF.",null,"LAB",null,"NUTR",null,"< 6 M EN LA RONDA",null,null,null,{"$f":"CC20+CC22+CC23","v":0}]
[null,null,null,null,null,null,null,null,null,null,null,null,null,null,null,null,"DOM","ASIS",null,null,null,null,"ALTO PESO","ADEC",null,"BAJO PESO",null,"MB\nPESO",null,"EDAD",null,null,"A CONTROLAR",null,null,"ADECUADO",null,"BP\nBAJO PESO",null,"MBP\nMUY B. PESO",null,"ALTO PESO",null,"RIESGO",null,null,null,"RECUPERADOS",null,null,null,"TALLA / EDAD",null,null,null,null,"NUEVOS\nEPISODIOS",null,"PERDIDOS",null,null,null,null,"FALLECIDOS\nC/ANTEC. ANTROPOM."]
[]
["Antic.",null,null,0,null,0,{"$f":"IF(ISERROR(((CC92*1.8)/100)),0,(((CC92*1.8)/100)))","v":0},0,0,{"$f":"SUM(F23:L23)","v":0},0,0,{"$f":"O20+Q20+R20","v":0},null,0,null,0,0,0,null,{"$f":"W20+X20+Z20+AB20","v":0},null,0,0,null,0,null,0,null,null,null,null,null,null,null,null,null,null,null,null,null,null,null,"BP",null,"AP",null,"BP",null,null,"AP","BT",null,"MBT",null,"RGO\nBT",null,null,"BP\nMBP",null,null,"A.P.",null,null,null,null,0,null,0,null,0,null,0,null,0,null,"EXCLUSIVO",null,null,null,0]
[null,null,null,null,null,"CONTROLES",null,null,null,null,null,null," ",null,null,null,null,null,null,null,"PREMATUROS",null,null,null,"PESQUISA"]
["Aborto",null,null,0,null,"MELON",null,"MEL","MED","ENF","LAB","S/C","PUERP",null,null,null,"R.N.",null,null,null,null,null,null,null,null,null,null,null,null,"< 2 años",null,null,{"$f":"A27+C27+D27+F27+G27+H27","v":0},null,null,0,null,0,null,0,null,0,null,0,null,0,null,0,null,null,0,0,null,0,null,0,0,null,0,null,null,0,null,0,null,null,"CONTROLES EN DOMIC. NIÑO BP o MBP",null,null,null,null,null,null,null,0,null,"MIXTA",null,null,null,0]
[null,null,null,null,null,0,null,0,0,0,0,0,0,null,null,null,0,null,null,null,0,null,null,null,0,null,null,null,null,"2 a 6 años",null,null,{"$f":"I27+J27+K27+L27+M27+O27+P27+R27","v":0},null,null,0,null,0,null,0,null,0,null,0,null,0,null,0,null,null,0,0,null,0,null,0,0,null,0,null,null,0,null,0,null,null,null,null,null,null,null,null,null,null,null,null,"ARTIF",null,null,null,0]
["J) DATOS DE POBLACION"]
["0 a 5m",null,null,"6 a 11m",null,null,"1 AÑO",null,"2 AÑOS",null,"3 AÑOS",null,"4 AÑOS",null,null,"5 AÑOS",null,null,"6 AÑOS",null,null,"7 A 9 AÑOS",null,null,null,"10 AÑOS",null,"11 AÑOS",null,null,"12 A 14",null,null,null,null,null,"15 A 19",null,null,"20 A 24",null,null,null,"25 A 29",null,null,null,"30 A 34",null,null,null,"35 A 39",null,null,null,"40 A 44",null,null,null,null,"45 A 49",null,null,null,"50 A 54",null,null,null,"55 A 59",null,null,null,"60 A 64",null,null,null,"65 y +",null,null,null,"TOTAL",null,null,null,null,"MUJERES\n10 A 49","O. SOCIAL",null,"INDOCUM"]
["M",null,"F","M",null,"F","M","F","M","F","M","F","M",null,"F","M",null,"F","M",null,"F","M",null,"F",null,"M","F","M",null,"F","M",null,null,"F",null,null,"M","F",null,"M",null,"F",null,"M",null,null,"F","M",null,null,"F","M",null,"F",null,"M",null,null,"F",null,"M",null,"F",null,"M",null,"F",null,"M",null,"F",null,"M",null,"F",null,"M",null,null,"F","M",null,"F"]
[0,null,0,0,null,0,0,0,0,0,0,0,0,null,0,0,null,0,0,null,0,0,null,0,null,0,0,0,null,0,0,null,null,0,null,null,0,0,null,0,null,0,null,0,null,null,0,0,null,null,0,0,null,0,null,0,null,null,0,null,0,null,0,null,0,null,0,null,0,null,0,null,0,null,0,null,0,null,null,0,{"$f":"BY27+BU27+BQ27+BM27+BI27+BD27+AZ27+AV27+AR27+AN27+AK27+AE27+AB27+Z27+V27+S27+P27+M27+K27+I27+G27+D27+A27","v":0},null,{"$f":"CB27+BW27+BS27+BO27+BK27+BG27+BB27+AY27+AU27+AP27+AL27+AH27+AD27+AA27+X27+U27+R27+O27+L27+J27+H27+F27+C27","v":0},null,null,{"$f":"BK27+BG27+BB27+AY27+AU27+AP27+AL27+AH27+AD27+AA27","v":0},0,null,0]
[{"$f":"A27+C27","v":0},null,null,{"$f":"D27+F27","v":0},null,null,{"$f":"G27+H27","v":0},null,{"$f":"I27+J27","v":0},null,{"$f":"K27+L27","v":0},null,{"$f":"M27+O27","v":0},null,null,{"$f":"P27+R27","v":0},null,null,{"$f":"S27+U27","v":0},null,null,{"$f":"V27+X27","v":0},null,null,null,{"$f":"Z27+AA27","v":0},null,{"$f":"AB27+AD27","v":0},null,null,{"$f":"AE27+AH27","v":0},null,null,null,null,null,{"$f":"AL27+AK27","v":0},null,null,{"$f":"AN27+AP27","v":0},null,null,null,{"$f":"AR27+AU27","v":0},null,null,null,{"$f":"AV27+AY27","v":0},null,null,null,{"$f":"AZ27+BB27","v":0},null,null,null,{"$f":"BD27+BG27","v":0},null,null,null,null,{"$f":"BI27+BK27","v":0},null,null,null,{"$f":"BM27+BO27","v":0},null,null,null,{"$f":"BQ27+BS27","v":0},null,null,null,{"$f":"BU27+BW27","v":0},null,null,null,{"$f":"BY27+CB27","v":0},null,null,null,{"$f":"CC27+CE27","v":0}]
["K) TUBERCULOSIS ",null,null,null,null,null,null,null,null,null,null,null,null,null,null," CHAGAS ",null,null,null,null,null,"L) PERSONAS CON ENF. CRONICAS",null,null,null,null,null,null,null,null,null,null,null,"M) OBSERVACIONES"]
["Coef. Sint.Resp.: ",null,null,"MUESTRAS",null,null,null,null,"TRATAM. TBC",null,null,null,null,null,null,"TRATAMIENTOS CHAGAS",null,null,null,null,null,"PERSONAS CON",null,null,null,null,null,"TOTAL",null,null,"EN TRAT.",null,null," "]
[{"$f":"Control!H9","v":8},null,null,"DIAGNOSTICOS",null,null,"CONTROL",null,"Total",null,"TAES",null," ABANDONO",null,null,"INICIO ",null,null,0,null,null,"DIABETES",null,null,null,null,null,0,null,null,0]
["SINT. ESP..",null,null,"Tot",null,"(+)","Tot","(+)",0,null,0,null,0,null,null,"FINALIZACION ",null,null,0,null,null,"HIPERTENSION \nARTERIAL",null,null,null,null,null,0,null,null,0]
[{"$f":"IF(ISERROR(((AK91+AL91+AN91+AP91+AR91+AU91+AV91+AY91+AZ91+BB91+BD91+BG91+BI91+BK91+BM91+BO91+BQ91+BS91+BU91+BW91+BY91+CB91)*0.2)*A31/100),0,(((AK91+AL91+AN91+AP91+AR91+AU91+AV91+AY91+AZ91+BB91+BD91+BG91+BI91+BK91+BM91+BO91+BQ91+BS91+BU91+BW91+BY91+CB91)*0.2)*A31/100))","v":0},null,null,0,null,0,0,0,"QUIMIO Total",null,0,null,null,null,null,null,null,null,null,null,null,"PERSONAS CON OTRAS ENF. CRONICAS AL CUIDADO DE NIÑOS",null,null,null,null,null,0,null,null,0]
["SINT. DETEC.",null,null,"CONTACTO",null,null,null,null,"CTRL. MEDICO",null,null,null,"FINALIZAD0",null,null,"ABANDONO ",null,null,0]
[0,null,null,"< 14a",null,null,"> 15a",null,"Pcte/Rda",null,"A Cont",null,0,null,null,null,null,null,null,null,null,"ADULTOS MAYORES EN SITUACION DE RIESGO",null,null,null,null,null,0]
[null,null,null,0,null,null,0,null,0,null,0]
["N) DERIVACIONES",null,null,null,null,null,null,null,null,null,null,null,null,null,null,null,null,null,null,null,null,null,null,null,null,null,null,null,null,null,null,null,null,null,null,null,null,null,null,null,null,"Ñ) VIVIENDA Y SANEAMIENTO",null,null,null,null,null,null,null,null,null,null,null,null,null,null,null,null,null,null,null,null,null,null,null,null,null,null,null,"O) DEFUNCIONES EN LA RONDA"]
[null,null,null,null,null,null,null,null,null,null,null,null,null,null,null,null,null,null,null,null,null,null,null,null,null,null,null,null,null,null,null,null,null,null,null,null,null,null,null,null,null,"TRAT. AGUA",null,null,null,null,null,"DISP SANITARIA EXCRETAS",null,null,null,null,null,null,null,null,null,null,null,"TRATAM. SANIT BASURA",null,null,null,null,null,null,null,null,null,"MENORES 1 AÑO",null,null,null,null,null,null,null,null,null,null,"1 a 4 AÑOS",null,"MATERNA",null,null,null,"OTRAS"]
["EMB",null,null,null,"RN",null,null,null,"PUERP",null,null,null,"Menores de 6 años",null,null,null,null,null,null,null,"E.\nCRONICAS",null,"PAP",null,"CHAGAS",null,null,null,"TBC",null,null,null,"PSICOSOC",null,null,null,"TOTAL\nDERIVACIONES",null,null,null,null,"RED",null,"EN\nVIV",null,null,"S/T","ARRASTRE",null,null,null,null,null,"LETRINA",null,null,null,"S/T",null,"REC. DOMIC.",null,null,"POZO BASURA",null,null,null,"S/T",null,null,"<7d",null,null,"7 a 28d",null,null,null,"29d a 11 m"]
[null,null,null,null,null,null,null,null,null,null,null,null,"BP- MBP",null,"RGO BP",null,"Resp",null,"Diarr",null,null,null,null,null,null,null,null,null,null,null,null,null,null,null,null,null,null,null,null,null,null,null,null,null,null,null,null,"CLOACAS",null,"PC-CT",null,"PC-ST",null,"CT",null,"ST"]
["Env",null,"Rec",null,"Env",null,"Rec",null,"Env",null,"Rec",null,"Env","Rec","Env","Rec","Env","Rec","Env","Rec","Env","Rec","Env","Rec","Env",null,"Rec",null,"Env",null,"Rec",null,"Env",null,"Rec",null,"ENV",null,null,"Rec",null,0,null,0,null,null,0,0,null,0,null,0,null,0,null,0,null,0,null,0,null,null,0,null,null,null,0,null,null,0,null,null,0,null,null,null,0,null,null,null,0,null,0,null,null,null,0]
[null,null,null,null,null,null,null,null,null,null,null,null,null,null,null,null,null,null,null,null,null,null,null,null,null,null,null,null,null,null,null,null,null,null,null,null,null,null,null,null,null,"CASAS ",null,null,null,null,null,null,null,null,null,null,null,"CHAGAS",null,null,null,null,null,null,null,null,null,null,null,"DENGUE CHIKUNGUNYA",null,null,null,null,null,null,null,null,null,null,null,"P) PROM. SALUD"]
[0,null,0,null,0,null,0,null,0,null,0,null,0,0,0,0,0,0,0,0,0,0,0,0,0,null,0,null,0,null,0,null,0,null,0,null,{"$f":"AG43+AC43+Y43+W43+U43+S43+Q43+O43+M43+I43+E43+A43","v":0},null,null,{"$f":"AI43+AE43+AA43+X43+V43+T43+R43+P43+N43+K43+G43+C43","v":0},null,"ASIGNADAS",null,null,null,null,"VISITADAS",null,null,"VACIAS",null,"DESTRUIDAS",null,"EVALUADAS",null,null,"POSITIVAS",null,null,null,null,"TRATADAS",null,null,null,"EVALUADAS",null,null,null,"POSITIVAS",null,null,null,"TRATADAS",null,null,null,"PLANIFICADAS \nEN COMUNIDAD",null,null,null,null,null,null,null,0]
[]
[null,null,null,null,null,null,null,null,null,null,null,null,null,null,null,null,null,null,null,null,null,null,null,null,null,null,null,null,null,null,null,null,null,null,null,null,null,null,null,null,null,0,null,null,null,null,0,null,null,0,null,0,null,0,null,null,0,null,null,null,null,0,null,null,null,0,null,null,null,0,null,null,null,0,null,null,null,"REALIZADAS ",null,null,null,null,null,null,null,0]
["Q) INDICADORES"]
["DE ESTRUCTURA",null,null,null,null,null,"SI","NO","DE PRODUCCION",null,null,null,null,null,"%","META",null," DE INMUNIZACIONES",null,null,null,null,null,null,null,null,null,null,null,null,null,null,null,null," DE INMUNIZACIONES",null,null,null,null,null,null,null,null,null,null,null,null,null,null,null,null,null,null,null,null,null,null,null,null,null,null," DE RESULTADO",null,null,null,null,null,null,null,null,"%",null,"META",null,null," DE RESULTADO",null,null,null,null,null,null,null,null,null,"%",null,"META RDA"]
["Formularios",null,null,null,null,null,0,0,"Cobertura a Familias",null,null,null,null,null,{"$f":"IF(ISERROR(D12/A12),0,(D12/A12)*100)","v":0},100,null,"VACUNA",null,null,null,null,"P. REF",null,"1r","2r","3r","4r",null,"T","%",null,"META",null,"VACUNA",null,null,null,null,null,null,null,null,null,"P. REF",null,null,"1r",null,null,"2r","3r",null,null,"4r","T",null,"%",null,"META",null,"Ed Fértil c/Anticoncepción",null,null,null,null,null,null,null,null,{"$f":"IF(ISERROR(D20/CH27),0,(D20/CH27)*100)","v":0},null,null,null,null,"Niños 2 a 5 Recup BP",null,null,null,null,null,null,null,null,null,{"$f":"IF(ISERROR(AV23/K80),0,(AV23/K80)*100)","v":0},null,100]
["Equipo",null,null,null,null,null,0,0,"Niños < 2 años Controlados",null,null,null,null,null,{"$f":"IF(ISERROR(((AJ22+AL22+AN22+AP22)/(A28+D28+G28))),0,(((AJ22+AL22+AN22+AP22)/(A28+D28+G28)))*100)","v":0},100,null,"BCG RN",null,null,null,null,{"$f":"U20","v":0},null,4,0,0,0,null,{"$f":"SUM(Y49:AB49)","v":4},{"$f":"IF(ISERROR(Z49/W49),0,(Z49/W49)*100)","v":0},null,100,null,"2 Ref. Varicela Ingreso Esc",null,null,null,null,null,null,null,null,null,15,null,null,15,null,null,0,0,null,null,0,{"$f":"SUM(AV49:BC49)","v":15},null,{"$f":"IF(ISERROR(AY49/AS49),0,(AY49/AS49)*100)","v":0},null,25,null,"PAP",null,null,null,null,null,null,null,null,{"$f":"IF(ISERROR(D17/CH27),0,(D17/CH27)*100)","v":0},null,null,null,null,"Niños 2 a 5 Recup AP",null,null,null,null,null,null,null,null,null,{"$f":"IF(ISERROR(AY23/K82),0,(AY23/K82)*100)","v":0},null,100]
["Combustible",null,null,null,null,null,0,0,"Niños  (2 a 5 años) Controlados",null,null,null,null,null,{"$f":"IF(ISERROR(((AJ23+AL23+AN23+AP23)/(I28+K28+M28+P28))),0,(((AJ23+AL23+AN23+AP23)/(I28+K28+M28+P28)))*100)","v":0},100,null,"Hepatitis B RN","Hepatitis B RN",null,"Hepatitis B RN","Hepatitis B RN",null,null,5,0,0,0,null,{"$f":"SUM(Y50:AB50)","v":5},{"$f":"IF(ISERROR(Z50/W49),0,(Z50/W49)*100)","v":0},null,null,null,"2° Ref. Antipolio Ingreso Escolar",null,null,null,null,null,null,null,null,null,null,null,null,15,null,null,0,0,null,null,0,{"$f":"SUM(AV50:BC50)","v":15},null,{"$f":"IF(ISERROR(AY50/AS49),0,(AY50/AS49)*100)","v":0},null,null,null,"Embarazadas Con MELON",null,null,null,null,null,null,null,null,{"$f":"IF(ISERROR(F23/J20),0,(F23/J20)*100)","v":0},null,80,null,null,"Niños 6 meses con LME",null,null,null,null,null,null,null,null,null,{"$f":"IF(ISERROR(CC20/CC17),0,(CC20/CC17)*100)","v":0},null,80]
[" DE DIAGNOSTICO",null,null,null,null,null,null,"%","Conc. Vis. Flias Prio",null,null,null,null,null,{"$f":"IF(ISERROR((BB15+BE15)/(BB14+BE14)),0,((BB15+BE15)/(BB14+BE14)))","v":0},25,null,"2° Neumococo < 1a","3ª SOT/Salk < 1a",null,"3ª SOT/Salk < 1a","3ª SOT/Salk < 1a",{"$f":"A91+C91+D91+F91","v":0},null,6,0,0,0,null,{"$f":"SUM(Y51:AB51)","v":6},{"$f":"IF(ISERROR(Z51/W51),0,(Z51/W51)*100)","v":0},null,100,null,"2° Ref. DPT Ingreso Escolar",null,null,null,null,null,null,null,null,null,null,null,null,15,null,null,0,0,null,null,0,{"$f":"SUM(AV51:BC51)","v":15},null,{"$f":"IF(ISERROR(AY51/AS49),0,(AY51/AS49)*100)","v":0},null,null,null,"Partos Hospitalarios",null,null,null,null,null,null,null,null,{"$f":"IF(ISERROR(O20/M20),0,(O20/M20)*100)","v":0},null,100]
["Flias Priorizadas 3 + 2:",null,null,null,null,null,null,{"$f":"IF(ISERROR((BB14+BE14)/D12),0,(BB14+BE14)/D12*100)","v":0},"Conc.C.Dom Niños Bp/MBP",null,null,null,null,null,{"$f":"IF(ISERROR(BW22/(AL22+AN22+AL23+AN23)),0,(BW22/(AL22+AN22+AL23+AN23)))","v":0},3,null,"2° Rotavirus <1 a","3º Pentavalente <1 a",null,"3º Pentavalente <1 a","3º Pentavalente <1 a",null,null,5,0,0,0,null,{"$f":"SUM(Y52:AB52)","v":5},{"$f":"IF(ISERROR(Z52/W51),0,(Z52/W51)*100)","v":0},null,null,null,"2° TV Ingreso Escolar",null,null,null,null,null,null,null,null,null,null,null,null,15,null,null,0,0,null,null,0,{"$f":"SUM(AV52:BC52)","v":15},null,{"$f":"IF(ISERROR(AY52/AS49),0,(AY52/AS49)*100)","v":0},null,100,null,"Conc Control Médico a RN",null,null,null,null,null,null,null,null,{"$f":"IF(ISERROR(Q23/M20),0,(Q23/M20))","v":0},null,4,null,null,"% Niños BP MBP y RBP con MELaN",null,null,null,null,null,null,null,null,null,{"$f":"IF(ISERROR(BO20/(AL22+AN22+AR22+AL23+AN23+AR23)),0,(BO20/(AL22+AN22+AR22+AL23+AN23+AR23))*100)","v":0},null,100]
["Flias Urbanas",null,null,null,null,null,null,{"$f":"IF(ISERROR(T12/D12),0,(T12/D12)*100)","v":0},"Rel. Muestra/Sint Resp.",null,null,null,null,null,{"$f":"IF(ISERROR(D33/A35),0,(D33/A35))","v":0},2,null,"2° Meningococo < 1a",null,null,null,null,null,null,2,0,0,0,null,{"$f":"SUM(Y53:AB53)","v":2},{"$f":"IF(ISERROR(Z53/W51),0,(Z53/W51)*100)","v":0},null,null,null,"dTpa 11 años",null,null,null,null,null,null,null,null,null,8,null,null,7,null,null,0,0,null,null,0,{"$f":"SUM(AV53:BC53)","v":7},null,{"$f":"IF(ISERROR(AY53/AS53),0,(AY53/AS53)*100)","v":0},null,null,null,"Conc Control Méd. a puérpera",null,null,null,null,null,null,null,null,{"$f":"IF(ISERROR(M23/S20),0,(M23/S20))","v":0},null,4,null,null,"Sint Resp Detect. Seg zona",null,null,null,null,null,null,null,null,null,{"$f":"IF(ISERROR((A35*100)/(((20*(AK28+AN28+AR28+AV28+AZ28+BD28+BI28+BM28+BQ28+BU28+BY28))/100)*A31)),0,(A35*100)/((((20*(AK28+AN28+AR28+AV28+AZ28+BD28+BI28+BM28+BQ28+BU28+BY28))/100)*A31)/100))","v":0},null,"S/Z"]
["Flias Periurbanas",null,null,null,null,null,null,{"$f":"IF(ISERROR(V12/D12),0,(V12/D12)*100)","v":0},"Casas Evaluadas Chagas",null,null,null,null,null,{"$f":"IF(ISERROR(BB45/AU45),0,(BB45/AU45)*100)","v":0},100,null,"3° Antipolio < 1 año","2ª Rotavirus < 1 año",null,"2ª Rotavirus < 1 año","2ª Rotavirus < 1 año",null,null,4,0,0,0,null,{"$f":"SUM(Y54:AB54)","v":4},{"$f":"IF(ISERROR(Z54/W51),0,(Z54/W51)*100)","v":0},null,null,null,"U.D. Meningococo",null,null,null,null,null,null,null,null,null,null,null,null,7,null,null,0,0,null,null,0,{"$f":"SUM(AV54:BC54)","v":7},null,{"$f":"IF(ISERROR(AY54/AS53),0,(AY54/AS53)*100)","v":0},null,"95% AL 1° SEM",null,"RN con Pesquisa",null,null,null,null,null,null,null,null,{"$f":"IF(ISERROR(Y23/U20),0,(Y23/U20)*100)","v":0},null,100,null,null,"Pacientes TBC con Control Médico",null,null,null,null,null,null,null,null,null,{"$f":"IF(ISERROR(I36/I32),0,(I36/I32)*100)","v":0},null,100]
["Flias Rurales",null,null,null,null,null,null,{"$f":"IF(ISERROR(Y12/D12),0,(Y12/D12)*100)","v":0},"Casas Tratadas Chagas",null,null,null,null,null,{"$f":"IF(ISERROR(BJ45/BE45),0,(BJ45/BE45)*100)","v":0},100,null,"3° Pentavalente <1 año","TV 1 año",null,"TV 1 año","TV 1 año",null,null,4,0,0,0,null,{"$f":"SUM(Y55:AB55)","v":4},{"$f":"IF(ISERROR(Z55/W51),0,(Z55/W51)*100)","v":0},null,null,null,"1° HPV Niñas cumplen 11 a en año en curso",null,null,null,null,null,null,null,null,null,2,null,null,2,null,null,0,0,null,null,0,{"$f":"SUM(AV55:BC55)","v":2},null,{"$f":"IF(ISERROR(AY55/AS55),0,(AY55/AS55)*100)","v":0},null,null,null,"Derivaciones Enviadas/Recibidas",null,null,null,null,null,null,null,null,{"$f":"IF(ISERROR(AN43/AK43),0,(AN43/AK43)*100)","v":0},null,100,null,null,"Contactos TBC Controlados",null,null,null,null,null,null,null,null,null,{"$f":"IF(ISERROR(K36/(D36+G36)),0,(K36/(D36+G36)))*100","v":0},null,100]
["Flias Originarias",null,null,null,null,null,null,{"$f":"IF(ISERROR(R12/D12),0,(R12/D12)*100)","v":0},"Casas Evaluadas Dengue",null,null,null,null,null,{"$f":"IF(ISERROR(BN45/AU45),0,(BN45/AU45)*100)","v":0},100,null,"1° TV","A HA 1 año",null,"A HA 1 año","A HA 1 año",{"$f":"G91+H91","v":0},null,1,0,0,0,null,{"$f":"SUM(Y56:AB56)","v":1},{"$f":"IF(ISERROR(Z56/W56),0,(Z56/W56)*100)","v":0},null,100,null,"1° HPV Niños cumplen 11 a en año en curso",25,25,null,null,null,null,null,null,null,6,null,null,5,null,null,0,0,null,null,0,{"$f":"SUM(AV56:BC56)","v":5},null,{"$f":"IF(ISERROR(AY56/AS56),0,(AY56/AS56)*100)","v":0},null,"95% AL 1° SEM",null,"Niños < 2 a Riesgo BP",null,null,null,null,null,null,null,null,{"$f":"IF(ISERROR(AR22/AJ22),0,(AR22/AJ22)*100)","v":0},null,null,null,null,"TAES de TBC",null,null,null,null,null,null,null,null,null,{"$f":"IF(ISERROR(K32/I32),0,(K32/I32)*100)","v":0},null,100]
["Flias Migr. desde AO",null,null,null,null,null,null,{"$f":"IF(ISERROR(AC12/A12),0,(AC12/A12)*100)","v":0},"Casas Tratadas Dengue",null,null,null,null,null,{"$f":"IF(ISERROR(BV45/BR45),0,(BV45/BR45)*100)","v":0},100,null,"2° TV","A HA 1 año",null,"A HA 1 año","A HA 1 año",null,null,0,0,0,0,null,{"$f":"SUM(Y57:AB57)","v":0},{"$f":"IF(ISERROR(Z57/W56),0,(Z57/W56)*100)","v":0},null,null,null,"Emb. con dTpa",null,null,null,null,null,null,null,null,null,2,null,null,0,null,null,0,0,null,null,0,{"$f":"SUM(AV57:BC57)","v":0},null,{"$f":"IF(ISERROR(AY57/AS57),0,(AY57/AS57)*100)","v":0},null,null,null,"Niños < 2 a Riesgo AP",null,null,null,null,null,null,null,null,{"$f":"IF(ISERROR(AT22/AJ22),0,(AT22/AJ22)*100)","v":0},null,null,null,null,"Ptes. con tratamiento por Chagas",null,null,null,null,null,null,null,null,null,{"$f":"S31","v":0}]
["Flias Migr. hacia el AO",null,null,null,null,null,null,{"$f":"IF(ISERROR(AA12/A12),0,(AA12/A12)*100)","v":0},"Superv Int. a la Familia",null,null,null,null,null,{"$f":"IF(ISERROR((CH14*100)/BL14),0,((CH14*100)/BL14))","v":0},20,null,"Unica Dosis A HA",null,null,null,null,null,null,1,0,0,0,null,{"$f":"SUM(Y58:AB58)","v":1},{"$f":"IF(ISERROR(Z58/W56),0,(Z58/W56)*100)","v":0},null,null,null,"Emb. con Vac Sinsicial",null,null,null,null,null,null,null,null,null,null,null,null,0,null,null,0,0,null,null,0,{"$f":"SUM(AV58:BC58)","v":0},null,{"$f":"IF(ISERROR(AY58/AS57),0,(AY58/AS57)*100)","v":0},null,100,null,"Niños < 2 Recup BP",null,null,null,null,null,null,null,null,{"$f":"IF(ISERROR(AV22/K79),0,(AV22/K79)*100)","v":0},null,100,null,null,"Casas positivas Chagas",null,null,null,null,null,null,null,null,null,{"$f":"IF(ISERROR(BE45/BB45),0,(BE45/BB45)*100)","v":0},null,0]
["Flias con planes sociales",null,null,null,null,null,null,{"$f":"IF(ISERROR(AF12/D12),0,(AF12/D12)*100)","v":0},"Superv Prof. Flias Prio (3v)",null,null,null,null,null,{"$f":"IF(ISERROR(CH15/(BB14+BE14)),0,(CH15/(BB14+BE14))*100)","v":0},70,null,"Ref Neumococo 1 año","Ref Neumoc 1 año",null,"Ref Neumoc 1 año","Ref Neumoc 1 año",null,null,1,0,0,0,null,{"$f":"SUM(Y59:AB59)","v":1},{"$f":"IF(ISERROR(Z59/W56),0,(Z59/W56)*100)","v":0},null,null,null,"dT  Vigente > 65 a",null,null,null,null,null,null,null,null,null,21,null,null,0,null,null,0,0,null,null,0,{"$f":"SUM(AV59:BC59)","v":0},null,{"$f":"IF(ISERROR(AY59/AS59),0,(AY59/AS59)*100)","v":0},null,100,null,"Niños < 2 Recup AP",null,null,null,null,null,null,null,null,{"$f":"IF(ISERROR(AY22/K81),0,(AY22/K81)*100)","v":0},null,100,null,null,"Casas Positivas Aedes",null,null,null,null,null,null,null,null,null,{"$f":"IF(ISERROR(BR45/BN45),0,(BR45/BN45)*100)","v":0},null," "]
[null,null,null,null,null,null,null,null,"% Activ Prom.Salud Comunitarias",null,null,null,null,null,{"$f":"IF(ISERROR(CH45/CH43),0,(CH45/CH43)*100)","v":0},100,null,"Ref. Meningococo 1 año","Ref Cuádruple 1 año",null,"Ref Cuádruple 1 año","Ref Cuádruple 1 año",null,null,0,0,0,0,null,{"$f":"SUM(Y60:AB60)","v":0},{"$f":"IF(ISERROR(Z60/W56),0,(Z60/W56)*100)","v":0},null,null,null,"Neumo 20 > 65 años",null,null,null,null,null,null,null,null,null,null,null,null,0,null,null,0,0,null,null,0,{"$f":"SUM(AV60:BC60)","v":0},null,{"$f":"IF(ISERROR(AY60/AS59),0,(AY60/AS59)*100)","v":0},null,null,null,"Niños 2 a 5 Riesgo BP",null,null,null,null,null,null,null,null,{"$f":"IF(ISERROR(AR23/AJ23),0,(AR23/AJ23)*100)","v":0},null,null,null,null,"UROCS 1/SEC",null,null,null,null,null,null,null,null,null,0,null,"1/SEC"]
["Flias. c/Antec Mort Mat Inf",null,null,null,null,null,null,{"$f":"IF(ISERROR(AV10/D12),0,(AV10/D12)*100)","v":0},null,null,null,null,null,null,null,null,null,"Unica Dosis Varicela","Ref SOT 1 año",null,"Ref SOT 1 año","Ref SOT 1 año",null,null,0,0,0,0,null,{"$f":"SUM(Y61:AB61)","v":0},{"$f":"IF(ISERROR(Z61/W56),0,(Z61/W56)*100)","v":0},null,null,null,"Aplic. Cargadas a Nomivac",null,null,null,null,null,null,null,null,null,0,null,null,null,null,null,null,null,null,null,null,null,null,null,null,null,null,null,null,null,null,null,null,null,null,null,null,null,null,null,null,"Flias con Huerta",null,null,null,null,null,null,null,null,null,{"$f":"IF(ISERROR(AL12/D12),0,(AL12/D12)*100)","v":0}]
["F con 3 o más <6 años",null,null,null,null,null,null,{"$f":"IF(ISERROR(BI10/D12),0,(BI10/D12)*100)","v":0}," DE IMPACTO",null,null,null,null,"%",null,"META",null,"4° Dosis o 1° Ref. Pentavalente",null,null,null,null,null,null,0,0,0,0,null,{"$f":"SUM(Y62:AB62)","v":0},{"$f":"IF(ISERROR(Z62/W56),0,(Z62/W56)*100)","v":0},null,null,null,"Total Aplic /AS",null,null,null,null,null,null,null,null,null,0,null,null,null,null,null,null,null,null,null,null,null,null,null,null,null,null,"Niños 2 a 5 Riesgo AP",null,null,null,null,null,null,null,null,{"$f":"IF(ISERROR(AT23/AJ23),0,(AT23/AJ23)*100)","v":0},null,null,null,null,"Flias con Granja",null,null,null,null,null,null,null,null,null,{"$f":"IF(ISERROR(AP12/D12),0,(AP12/D12)*100)","v":0}]
["Flias con Hacinamiento",null,null,null,null,null,null,{"$f":"IF(ISERROR(BL10/D12),0,(BL10/D12)*100)","v":0},"Agua Seg (Trat Red + Viv)",null,null,null,null,{"$f":"IF(ISERROR((AP41+AR41)/D12),0,((AP41+AR41)/D12)*100)","v":0},null,100,null,"2° AG 6m a 24m",null,null,null,null,{"$f":"D91+F91+G91+H91","v":0},null,0,0,0,0,null,{"$f":"SUM(Y63:AB63)","v":0},{"$f":"IF(ISERROR(Z63/W63),0,(Z63/W63)*100)","v":0},null," ",null,"VAC COVID APLIC EN LA RONDA",null,null,null,null,null,null,null,null,null,0,null,null,null,null,null,null,null,null,null,null,null,null,null,null,null,null,"U) A llenar en 1° Ronda del Año"]
["Flias con Analfabet",null,null,null,null,null,null,{"$f":"IF(ISERROR(BO10/D12),0,(BO10/D12)*100)","v":0},"DSE (Arrastre y letrinas)",null,null,null,null,{"$f":"IF(ISERROR((AV41+AX41+AZ41+BB41+BD41)/D12),0,((AV41+AX41+AZ41+BB41+BD41)/D12)*100)","v":0},null,100,null,"R) PRODUCCION Y RENDIMIENTO",null,null,null,null,null,null,null,null,null,null,null,null,null,null,null,null,null,null,null,null,null,null,null,null,null,null,null,null,null,null,null,null,null,null,null,null,null,null,null,null,null,null,null,"Piso",null,null,null,null,"Techo",null,null,null,null,"Paredes",null,null,null,null,null,null,null,null,null,"Cocina",null,null,null,null,"Tenencia"]
["Flias con Suicidio",null,null,null,null,null,null,{"$f":"IF(ISERROR(BT11/D12),0,(BT11/D12)*100)","v":0},"TSB (Recolección + Pozo)",null,null,null,null,{"$f":"IF(ISERROR((BH41+BK41)/D12),0,((BH41+BK41)/D12)*100)","v":0},null,100,null,"DIAS A TRAB. /RONDA",null,null,"DIAS INCLEM CLIMAT.",null,null,"DIAS Y NROS DE ARTICULOS TOMADOS",null,null,null,"CAPACITACIONES Y OTRAS ACTIVIDADES",null,null,null,null,null,null,null,null,null,null,null,null,null,null,null,null,null,null,null,null,null,null,"DIAS TRABAJADOS\nEN TERRENO",null,null,null,null,"PROM. DIARIO DE FLIAS VISIT.",null,null,null,null,null,"Mosaico/B.",null,null,null,0,"Losa",null,null,0,null,"Ladrillo",null,null,0,null,"Madera",null,null,null,0,"Gas",null,null,0,null,"Segura",null,null,0]
["Flias c /tentativa suicidio",null,null,null,null,null,null,{"$f":"IF(ISERROR(BV11/D12),0,(BV11/D12)*100)","v":0},"Emb Adolescente",null,null,null,null,{"$f":"IF(ISERROR(L20/J20),0,(L20/J20)*100)","v":0},null,null,null,null,null,null,null,null,null,0,null,null,null,0,null,null,null,null,null,null,null,null,null,null,0,null,null,null,null,null,null,null,null,null,null,null,null,null,null,null,null,null,null,null,null,null,null,"Cemento",null,null,null,0,"Chapa\nZinc",null,null,0,null,"Bloque",null,null,0,null,"Quincho",null,null,null,0,"Leña/\nCarb",null,null,0,null,"Inseg.",null,null,0]
["Flias con Alcoholismo",null,null,null,null,null,null,{"$f":"IF(ISERROR(BY11/D12),0,(BY11/D12)*100)","v":0},"Niños <2 Bajo Peso/MBP",null,null,null,null,{"$f":"IF(ISERROR((AL22+AN22)/(AJ22+AP22+AL22+AN22)),0,((AL22+AN22)/(AJ22+AP22+AL22+AN22))*100)","v":0},null,null,null,null,null,null,null,null,null,0,null,null,null,0,null,null,null,null,null,null,null,null,null,null,0,null,null,null,null,null,null,null,null,null,null,null,null,null,null,null,null,null,null,null,null,null,null,"Tierra",null,null,null,0,"Paja/\nBarro",null,null,0,null,"Adobe",null,null,0,null,"Carton/Pl",null,null,null,0,"Otros",null,null,0,null,"Hac",null,null,0,null,null,null,5]
["Flias c/ otras Adicciones",null,null,null,null,null,null,{"$f":"IF(ISERROR(CC11/D12),0,(CC11/D12)*100)","v":0},"Niños <2 a AP",null,null,null,null,{"$f":"IF(ISERROR(AP22/(AJ22+AP22+AL22+AN22)),0,(AP22/(AJ22+AP22+AL22+AN22))*100)","v":0},null,null,null,0,null,null,0,null,null,0,null,null,null,0,null,null,null,null,null,null,null,null,null,null,0,null,null,null,null,null,null,null,null,null,null,null,0,null,null,null,null,{"$f":"IF(ISERROR(G12/AY68),0,(G12/AY68))","v":0},null,null,null,null,null,"Otros",null,null,null,0,"Otros",null,null,0,null,"Piedra",null,null,0,null,"Otro",null,null,null,0,"Helad.",null,null,0]
["Flias con VIF",null,null,null,null,null,null,{"$f":"IF(ISERROR(CF11/D12),0,(CF11/D12)*100)","v":0},"Niños < 2 baja y MBT",null,null,null,null,{"$f":"IF(ISERROR((AZ22+BB22)/(AJ22+AP22+AL22+AN22)),0,((AZ22+BB22)/(AJ22+AP22+AL22+AN22))*100)","v":0},null,null,null,"S) DETALLE DE LAS DEFUNCIONES (Todas las del Sector)",null,null,null,null,null,null,null,null,null,null,null,null,null,null,null,null,null,null,null,null,null,null,null,null,null,null,null,null,null,null,null,null,null,null,null,null,null,null,null,null,null,null,null,"Agua",null,"Corriente a Domic",null,null,"Grifo Terr",null,null,"Grifo Público",null,null,"Bomba",null,null,"Pozo",null,null,null,"Camión Aguatero / Cisterna",null,"Vertiente/Rio/Aceq",null,null,"Laguna",null,null,"Lluvia/Aljibe"]
["Flias con Diabetes",null,null,null,null,null,null,{"$f":"IF(ISERROR(AB31/D12),0,(AB31/D12)*100)","v":0},"Niños 2 a 5 Bajo Peso/MBP",null,null,null,null,{"$f":"IF(ISERROR((AL23+AN23)/(AJ23+AP23+AL23+AN23)),0,((AL23+AN23)/(AJ23+AP23+AL23+AN23))*100)","v":0},null,null,null,"APELLIDO Y NOMBRE",null,null,null,null,null,null,"DOMICILIO",null,null,null,null,null,null,null,null,"NACIMIENTO",null,null,null,null,"DEFUNCION",null,null,null,"PESO\nAL NACER",null,null,null,"CAUSA",null,null,null,null,null,null,null,null,null,"CLASIFICAC."]
["Flias con Hipertensión",null,null,null,null,null,null,{"$f":"IF(ISERROR(AB32/D12),0,(AB32/D12)*100)","v":0},"Niños 2 a 5 AP",null,null,null,null,{"$f":"IF(ISERROR(AP23/(AJ23+AP23+AL23+AN23)),0,(AP23/(AJ23+AP23+AL23+AN23))*100)","v":0}]
[]
["Personas con otras enfermedades crónicas al cuidado de niños",null,null,null,null,null,null,{"$f":"IF(ISERROR(AB33/D12),0,(AB33/D12)*100)","v":0},"Niños 2 a 5 baja y MBT",null,null,null,null,{"$f":"IF(ISERROR((AZ23+BB23)/(AJ23+AP23+AL23+AN23)),0,((AZ23+BB23)/(AJ23+AP23+AL23+AN23))*100)","v":0},null,null,null,null,null,null,null,null,null,null,null,null,null,null,null,null,null,null,null,null,null,null,null,null,null,null,null,null,null,null,null,null,null,null,null,null,null,null,null,null,null,null,null,null,null,null,null,null,null,0,null,null,0,null,null,0,null,null,0,null,null,0,null,null,null,0,null,0,null,null,0,null,null,0]
["Pers c/O Social/Pob total",null,null,null,null,null,null,{"$f":"IF(ISERROR(CI27/CC28),0,(CI27/CC28)*100)","v":0}]
[]
[]
[]
[]
["BP+MBP Ronda Anterior Men2a: ",null,null,null,null,null,null,null,null,null,0]
["BP+MBP Ronda Anterior 2 a 6a: ",null,null,null,null,null,null,null,null,null,0]
["AP Ronda Anterior Men2a: ",null,null,null,null,null,null,null,null,null,2]
["AP Ronda Anterior 2 a 6a: ",null,null,null,null,null,null,null,null,null,3]
[]
[]
[]
[]
[]
["0 a 5m",null,null,"6 a 11m",null,null,"1 AÑO",null,"2 AÑOS",null,"3 AÑOS",null,"4 AÑOS",null,null,"5 AÑOS",null,null,"6 AÑOS",null,null,"7 A 9 AÑOS",null,null,null,"10 AÑOS",null,"11 AÑOS",null,null,"12 A 14",null,null,null,null,null,"15 A 19",null,null,"20 A 24",null,null,null,"25 A 29",null,null,null,"30 A 34",null,null,null,"35 A 39",null,null,null,"40 A 44",null,null,null,null,"45 A 49",null,null,null,"50 A 54",null,null,null,"55 A 59",null,null,null,"60 A 64",null,null,null,"65 y +",null,null,null,"TOTAL",null,null,null,null,"MUJERES\n10 A 49"]
["M",null,"F","M",null,"F","M","F","M","F","M","F","M",null,"F","M",null,"F","M",null,"F","M",null,"F",null,"M","F","M",null,"F","M",null,null,"F",null,null,"M","F",null,"M",null,"F",null,"M",null,null,"F","M",null,null,"F","M",null,"F",null,"M",null,null,"F",null,"M",null,"F",null,"M",null,"F",null,"M",null,"F",null,"M",null,"F",null,"M",null,null,"F","M",null,"F"]
[0,null,0,0,null,0,0,0,0,0,0,0,0,null,0,0,null,0,0,null,0,0,null,0,null,0,0,0,null,0,0,null,null,0,null,null,0,0,null,0,null,0,null,0,null,null,0,0,null,null,0,0,null,0,null,0,null,null,0,null,0,null,0,null,0,null,0,null,0,null,0,null,0,null,0,null,0,null,null,0,{"$f":"SUM(A90,D90,G90,I90,K90,M90,P90,S90,V90,Z90,AB90,AE90,AK90,AN90,AR90,AV90,AZ90,BD90,BI90,BM90,BQ90,BU90,BY90)","v":0},null,{"$f":"SUM(C90,F90,H90,J90,L90,O90,R90,U90,X90,AA90,AD90,AH90,AL90,AP90,AU90,AY90,BB90,BG90,BK90,BO90,BS90,BW90,CB90)","v":0},null,null,{"$f":"SUM(AA90,AD90,AH90,AL90,AP90,AU90,AY90,BB90,BG90,BK90)","v":0}]
[{"$f":"SUM(A90:C90)","v":0},null,null,{"$f":"SUM(D90,F90)","v":0},null,null,{"$f":"SUM(G90,H90)","v":0},null,{"$f":"SUM(I90,J90)","v":0},null,{"$f":"SUM(K90,L90)","v":0},null,{"$f":"SUM(M90,O90)","v":0},null,null,{"$f":"SUM(P90,R90)","v":0},null,null,{"$f":"SUM(S90,U90)","v":0},null,null,{"$f":"SUM(V90,X90)","v":0},null,null,null,{"$f":"SUM(Z90,AA90)","v":0},null,{"$f":"SUM(AB90,AD90)","v":0},null,null,{"$f":"SUM(AE90,AH90)","v":0},null,null,null,null,null,{"$f":"SUM(AK90,AL90)","v":0},null,null,{"$f":"SUM(AN90,AP90)","v":0},null,null,null,{"$f":"SUM(AR90,AU90)","v":0},null,null,null,{"$f":"SUM(AV90,AY90)","v":0},null,null,null,{"$f":"SUM(AZ90,BB90)","v":0},null,null,null,{"$f":"SUM(BD90,BG90)","v":0},null,null,null,null,{"$f":"SUM(BI90,BK90)","v":0},null,null,null,{"$f":"SUM(BM90,BO90)","v":0},null,null,null,{"$f":"SUM(BQ90,BS90)","v":0},null,null,null,{"$f":"SUM(BU90,BW90)","v":0},null,null,null,{"$f":"SUM(BY90,CB90)","v":0},null,null,null,{"$f":"A91+D91+G91+I91+K91+M91+P91+S91+V91+Z91+AB91+AE91+AK91+AN91+AR91+AV91+AZ91+BD91+BI91+BM91+BQ91+BU91+BY91","v":0}]
["Mejor Población: 1° - 2019",null,null,null,null,null,null,null,null,null,null,null,null,null,null,null,null,null,null,null,null,null,null,null,null,null,null,null,null,null,null,null,null,null,null,null,null,null,null,null,null,null,null,null,null,null,null,null,null,null,null,null,null,null,null,null,null,null,null,null,null,null,null,null,null,null,null,null,null,null,null,null,null,null,null,null,null,null,null,null,{"$f":"SUM(CC91,CE91)","v":0}]
["Cobertura: 1%"]

{"sheet":"SAN NICOLAS","index":21,"n_rows":93,"n_cols":94,"rows_kept":93,"cut":false,"hidden":false,"merged":[[61,30,61,31],[62,30,62,31],[0,86,0,87],[1,8,1,9],[1,15,1,25],[1,46,1,53],[1,56,1,57],[1,58,1,59],[1,60,1,61],[1,67,1,84],[1,86,1,87],[0,27,3,45],[0,46,0,52],[0,56,0,57],[0,58,0,59],[0,60,0,61],[0,81,0,84],[2,46,2,53],[2,56,2,57],[2,58,2,59],[2,60,2,61],[6,0,6,89],[7,0,7,46],[7,47,7,89],[8,0,10,2],[8,3,10,5],[8,6,10,7],[8,8,8,16],[8,17,10,18],[8,19,10,20],[8,21,10,23],[4,80,4,87],[5,8,5,24],[5,33,5,46],[5,57,5,67],[5,75,5,77],[5,82,5,87],[2,67,2,79],[2,86,2,87],[3,8,3,23],[3,46,3,53],[3,56,3,57],[3,58,3,59],[3,60,3,61],[3,74,3,79],[3,84,3,87],[8,86,8,89],[9,8,10,9],[9,10,10,11],[9,12,10,13],[9,14,10,16],[9,26,10,27],[9,28,10,30],[8,66,8,68],[8,69,8,72],[8,73,8,75],[8,76,8,79],[8,80,8,82],[8,83,8,85],[8,51,8,53],[8,54,8,55],[8,56,8,57],[8,58,8,59],[8,60,8,62],[8,63,8,65],[8,24,10,25],[8,26,8,30],[8,31,10,36],[8,37,8,46],[8,47,8,48],[8,49,8,50],[9,49,10,50],[11,0,14,2],[11,3,14,5],[11,6,14,7],[11,8,14,9],[11,10,14,11],[11,12,14,13],[9,86,9,89],[10,69,10,72],[10,73,10,74],[10,76,10,78],[10,81,10,82],[10,83,10,84],[10,86,10,89],[9,66,10,68],[9,69,9,72],[9,73,9,74],[9,76,9,78],[9,81,9,82],[9,83,9,84],[9,51,10,53],[9,54,10,55],[9,56,10,57],[9,58,10,59],[9,60,10,62],[9,63,10,65],[13,75,13,78],[13,79,13,80],[13,81,13,84],[9,37,10,40],[9,41,10,46],[9,47,10,48],[12,85,12,89],[13,47,13,52],[13,63,13,68],[13,69,13,74],[12,47,12,52],[12,63,12,68],[12,53,12,55],[12,56,12,59],[12,60,12,62],[13,53,13,55],[13,56,13,59],[13,60,13,62],[14,53,14,55],[14,56,14,59],[14,60,14,62],[11,19,14,20],[11,21,14,23],[11,24,14,25],[11,26,14,27],[16,0,18,2],[16,6,18,6],[16,7,18,7],[16,8,18,8],[16,9,18,9],[16,10,18,10],[16,11,18,11],[16,12,18,13],[14,79,14,80],[14,81,14,84],[14,85,14,89],[15,12,15,19],[15,20,15,28],[15,29,15,65],[15,66,15,75],[11,28,14,30],[11,31,14,36],[11,37,14,40],[11,41,14,46],[11,47,11,68],[11,69,11,89],[11,14,14,16],[11,17,14,18],[13,85,13,89],[14,47,14,52],[14,63,14,68],[14,69,14,74],[14,75,14,78],[12,69,12,74],[12,75,12,78],[12,79,12,80],[12,81,12,84],[19,0,20,2],[19,12,19,13],[19,14,19,15],[19,18,19,19],[19,20,19,21],[19,23,19,24],[19,25,19,26],[19,27,19,28],[17,41,20,42],[17,43,18,46],[17,47,18,50],[17,51,18,55],[17,56,20,57],[17,58,18,62],[19,43,20,44],[19,45,20,46],[19,47,20,49],[19,50,20,50],[17,16,18,16],[17,17,18,17],[17,22,18,22],[17,23,18,24],[17,25,18,26],[17,27,18,28],[17,29,20,31],[16,14,18,15],[16,16,16,17],[16,18,18,19],[16,20,18,21],[16,22,16,28],[16,29,16,65],[17,32,20,34],[21,12,21,15],[21,16,21,19],[21,29,21,31],[21,32,21,34],[20,12,20,19],[20,20,21,23],[20,24,21,28],[21,35,21,36],[21,37,21,38],[21,39,21,40],[21,41,21,42],[19,68,20,69],[19,70,20,71],[19,72,20,73],[19,74,20,75],[19,76,20,79],[19,51,20,52],[19,53,20,54],[19,55,20,55],[19,58,20,60],[19,61,20,62],[19,66,20,67],[17,63,20,65],[16,66,18,67],[16,68,18,69],[16,70,18,71],[16,72,18,73],[16,74,18,75],[16,76,18,79],[17,35,20,36],[17,37,20,38],[17,39,20,40],[22,16,22,19],[22,20,22,23],[22,24,22,28],[22,29,22,31],[22,32,22,34],[22,35,22,36],[21,58,21,60],[21,61,21,62],[21,63,21,65],[21,66,22,73],[21,74,22,75],[21,76,21,79],[22,76,22,79],[21,43,21,44],[21,45,21,46],[21,47,21,49],[21,51,21,52],[21,53,21,54],[21,56,21,57],[23,0,23,89],[24,0,24,2],[24,3,24,5],[24,6,24,7],[24,8,24,9],[24,10,24,11],[24,12,24,14],[24,15,24,17],[24,18,24,20],[22,51,22,52],[22,53,22,54],[22,56,22,57],[22,58,22,60],[22,61,22,62],[22,63,22,65],[22,37,22,38],[22,39,22,40],[22,41,22,42],[22,43,22,44],[22,45,22,46],[22,47,22,49],[21,0,22,2],[24,88,25,89],[25,0,25,1],[25,3,25,4],[25,12,25,13],[25,15,25,16],[25,18,25,19],[25,21,25,22],[25,23,25,24],[25,27,25,28],[22,12,22,15],[24,68,24,71],[24,72,24,75],[24,76,24,79],[24,80,24,84],[24,85,25,85],[24,86,25,87],[25,76,25,78],[25,80,25,81],[25,82,25,84],[24,43,24,46],[24,47,24,50],[24,51,24,54],[24,55,24,59],[24,60,24,63],[24,64,24,67],[24,21,24,24],[24,25,24,26],[24,27,24,29],[24,30,24,35],[24,36,24,38],[24,39,24,42],[26,37,26,38],[26,39,26,40],[26,0,26,1],[26,3,26,4],[26,12,26,13],[26,15,26,16],[26,18,26,19],[26,21,26,22],[25,64,25,65],[25,66,25,67],[25,68,25,69],[25,70,25,71],[25,72,25,73],[25,74,25,75],[25,51,25,52],[25,53,25,54],[25,55,25,57],[25,58,25,59],[25,60,25,61],[25,62,25,63],[25,33,25,35],[25,37,25,38],[25,39,25,40],[25,41,25,42],[25,43,25,45],[25,47,25,49],[25,30,25,32],[26,85,27,85],[26,86,27,87],[26,88,27,89],[27,0,27,2],[27,3,27,5],[27,6,27,7],[27,8,27,9],[27,10,27,11],[27,12,27,14],[27,15,27,17],[26,70,26,71],[26,72,26,73],[26,74,26,75],[26,76,26,78],[26,80,26,81],[26,82,26,84],[26,58,26,59],[26,60,26,61],[26,62,26,63],[26,64,26,65],[26,66,26,67],[26,68,26,69],[26,41,26,42],[26,43,26,45],[26,47,26,49],[26,51,26,52],[26,53,26,54],[26,55,26,57],[26,23,26,24],[26,27,26,28],[26,30,26,32],[26,33,26,35],[27,64,27,67],[27,68,27,71],[27,72,27,75],[27,76,27,79],[27,80,27,84],[28,0,28,14],[28,15,28,20],[28,21,28,32],[27,39,27,42],[27,43,27,46],[27,47,27,50],[27,51,27,54],[27,55,27,59],[27,60,27,63],[27,18,27,20],[27,21,27,24],[27,25,27,26],[27,27,27,29],[27,30,27,35],[27,36,27,38],[30,21,30,26],[30,27,30,29],[30,30,30,32],[31,0,31,2],[31,3,31,4],[31,8,31,9],[31,10,31,11],[31,12,32,14],[31,15,32,17],[31,18,32,20],[29,30,29,32],[29,33,35,89],[30,0,30,2],[30,3,30,5],[30,6,30,7],[30,8,30,9],[30,10,30,11],[30,12,30,14],[30,15,30,17],[30,18,30,20],[29,0,29,2],[29,3,29,7],[29,8,29,14],[29,15,29,20],[29,21,29,26],[29,27,29,29],[33,0,33,2],[33,3,33,7],[33,8,33,11],[33,12,33,14],[33,15,35,17],[33,18,35,20],[34,0,35,2],[34,3,34,5],[34,6,34,7],[34,8,34,9],[31,21,31,26],[31,27,31,29],[31,30,31,32],[32,0,32,2],[32,3,32,4],[32,8,32,9],[32,10,32,11],[32,21,33,26],[32,27,33,29],[32,30,33,32],[38,4,39,7],[38,8,39,11],[38,12,38,19],[38,20,39,21],[38,22,39,23],[36,0,37,40],[36,41,36,68],[36,69,36,89],[37,41,37,46],[37,47,37,58],[37,59,37,68],[37,69,37,79],[37,80,39,81],[37,82,39,85],[37,86,39,89],[34,10,34,11],[34,12,35,14],[34,21,35,26],[34,27,35,32],[35,3,35,5],[35,6,35,7],[35,8,35,9],[35,10,35,11],[40,0,41,1],[40,2,41,3],[40,4,41,5],[40,6,41,7],[40,8,41,9],[40,10,41,11],[38,66,39,68],[38,69,39,71],[38,72,39,75],[38,76,39,79],[39,12,39,13],[39,14,39,15],[39,16,39,17],[39,18,39,19],[39,47,39,48],[39,49,39,50],[38,46,39,46],[38,47,38,52],[38,53,38,56],[38,57,39,58],[38,59,39,61],[38,62,39,65],[39,51,39,52],[39,53,39,54],[39,55,39,56],[38,24,39,27],[38,28,39,31],[38,32,39,35],[38,36,39,40],[38,41,39,42],[38,43,39,45],[38,0,39,3],[40,41,40,42],[40,43,40,45],[40,47,40,48],[40,49,40,50],[40,24,41,25],[40,26,41,27],[40,28,41,29],[40,30,41,31],[40,32,41,33],[40,34,41,35],[40,18,41,18],[40,19,41,19],[40,20,41,20],[40,21,41,21],[40,22,41,22],[40,23,41,23],[40,12,41,12],[40,13,41,13],[40,14,41,14],[40,15,41,15],[40,16,41,16],[40,17,41,17],[42,21,44,21],[42,22,44,22],[42,10,44,11],[42,12,44,12],[42,13,44,13],[42,14,44,14],[42,15,44,15],[42,16,44,16],[40,86,40,89],[41,41,41,52],[41,53,41,64],[41,65,41,76],[41,77,41,89],[42,0,44,1],[42,2,44,3],[42,4,44,5],[42,6,44,7],[42,8,44,9],[40,66,40,68],[40,69,40,71],[40,72,40,75],[40,76,40,79],[40,80,40,81],[40,82,40,85],[40,51,40,52],[40,53,40,54],[40,55,40,56],[40,57,40,58],[40,59,40,61],[40,62,40,65],[40,36,41,38],[40,39,41,40],[42,73,43,76],[42,77,43,84],[42,85,43,89],[44,41,44,45],[44,46,44,48],[44,49,44,50],[44,51,44,52],[44,53,44,55],[44,56,44,60],[44,61,44,64],[42,51,43,52],[42,53,43,55],[42,56,43,60],[42,61,43,64],[42,65,43,68],[42,69,43,72],[42,34,44,35],[42,36,44,38],[42,39,44,40],[42,41,43,45],[42,46,43,48],[42,49,43,50],[46,70,46,71],[46,72,46,74],[46,75,46,84],[46,85,46,86],[46,87,46,89],[47,0,47,5],[47,8,47,13],[47,15,47,16],[47,17,47,21],[47,22,47,23],[46,0,46,5],[46,8,46,13],[46,15,46,16],[46,17,46,33],[46,34,46,60],[46,61,46,69],[44,65,44,68],[44,69,44,72],[44,73,44,76],[44,77,44,84],[44,85,44,89],[45,0,45,89],[42,23,44,23],[42,24,44,25],[42,26,44,27],[42,28,44,29],[42,30,44,31],[42,32,44,33],[42,17,44,17],[42,18,44,18],[42,19,44,19],[42,20,44,20],[47,72,47,74],[47,75,47,84],[47,85,47,86],[47,87,47,89],[48,0,48,5],[48,8,48,13],[48,15,48,16],[48,17,48,21],[48,22,49,23],[48,27,48,28],[47,51,47,53],[47,55,47,56],[47,57,47,58],[47,59,47,60],[47,61,47,69],[47,70,47,71],[47,27,47,28],[47,30,47,31],[47,32,47,33],[47,34,47,43],[47,44,47,46],[47,47,47,49],[49,75,50,84],[49,85,50,86],[49,87,50,89],[50,0,50,6],[50,8,50,13],[50,15,50,16],[50,17,50,21],[50,22,54,23],[50,27,50,28],[48,75,48,84],[48,85,48,86],[48,87,48,89],[49,0,49,5],[49,8,49,13],[49,15,49,16],[49,17,49,21],[49,27,49,28],[49,30,49,31],[49,34,49,43],[48,55,48,56],[48,57,48,58],[48,59,50,60],[48,61,48,69],[48,70,48,71],[48,72,48,74],[49,55,49,56],[49,57,49,58],[49,61,49,69],[49,70,49,71],[48,30,48,31],[48,32,49,33],[48,34,48,43],[50,70,50,71],[50,72,50,74],[51,0,51,6],[51,8,51,13],[51,15,51,16],[51,17,51,21],[51,27,51,28],[51,30,51,31],[51,34,51,43],[51,47,51,49],[50,34,50,43],[50,47,50,49],[50,51,50,53],[50,55,50,56],[50,57,50,58],[50,61,50,69],[49,72,49,74],[48,44,51,46],[48,47,48,49],[48,51,48,53],[49,47,49,49],[49,51,49,53],[50,30,50,31],[50,32,54,33],[51,72,51,74],[53,0,53,6],[53,8,53,13],[53,15,53,16],[53,17,53,21],[53,27,53,28],[53,30,53,31],[51,75,51,84],[51,85,51,86],[51,87,51,89],[52,0,52,6],[52,8,52,13],[52,15,52,16],[52,17,52,21],[52,27,52,28],[52,30,52,31],[51,51,51,53],[51,55,51,56],[51,57,51,58],[51,59,52,60],[51,61,51,69],[51,70,51,71],[52,61,52,69],[52,70,52,71],[52,72,52,74],[52,75,52,84],[52,85,52,86],[52,87,52,89],[52,34,52,43],[52,44,53,46],[52,47,52,49],[52,51,52,53],[52,55,52,56],[52,57,52,58],[53,34,53,43],[53,47,53,49],[53,51,53,53],[53,55,53,56],[53,85,53,86],[53,87,53,89],[54,0,54,6],[54,8,54,13],[54,15,54,16],[54,17,54,21],[54,27,54,28],[54,30,54,31],[54,34,54,43],[54,44,54,46],[53,57,53,58],[53,59,54,60],[53,61,53,69],[53,70,53,71],[53,72,53,74],[53,75,53,84],[54,72,54,74],[54,75,54,84],[54,85,54,86],[54,87,54,89],[55,0,55,6],[55,8,55,13],[55,15,55,16],[55,17,55,21],[55,27,55,28],[55,30,55,31],[55,32,60,33],[54,47,54,49],[54,51,54,53],[54,55,54,56],[54,57,54,58],[54,61,54,69],[54,70,54,71],[56,87,56,89],[57,0,57,6],[57,8,57,13],[57,15,57,16],[57,17,57,21],[57,27,57,28],[57,30,57,31],[57,34,57,43],[56,51,56,53],[56,55,56,56],[56,57,56,58],[56,61,56,69],[56,70,56,71],[56,72,56,74],[55,87,55,89],[56,0,56,6],[56,8,56,13],[56,15,56,16],[58,61,58,69],[58,70,58,71],[58,72,58,74],[56,17,56,21],[56,27,56,28],[56,30,56,31],[56,34,56,43],[56,44,57,46],[56,47,56,49],[55,59,56,60],[55,61,55,69],[55,70,55,71],[55,72,55,74],[55,75,55,84],[55,85,55,86],[56,75,56,84],[56,85,56,86],[55,34,55,43],[55,44,55,46],[55,47,55,49],[55,51,55,53],[55,55,55,56],[55,57,55,58],[57,75,57,84],[57,85,57,86],[61,72,61,74],[61,75,61,84],[61,85,61,86],[57,87,57,89],[58,0,59,6],[58,7,59,7],[58,8,58,13],[58,15,58,16],[58,17,58,21],[58,27,58,28],[58,30,58,31],[57,55,57,56],[57,57,57,58],[57,59,57,60],[57,61,57,69],[57,70,57,71],[57,72,57,74],[59,85,59,86],[59,87,59,89],[57,47,57,49],[57,51,57,53],[58,87,58,89],[59,8,60,13],[59,14,60,14],[59,15,60,16],[59,17,59,21],[59,27,59,28],[59,30,59,31],[59,34,59,43],[59,47,59,49],[59,51,59,53],[58,59,59,60],[64,84,64,85],[61,87,61,89],[61,32,61,33],[61,34,61,43],[61,44,61,60],[62,44,62,60],[60,87,60,89],[61,0,61,6],[61,8,61,12],[61,13,61,14],[61,15,61,16],[60,0,60,6],[60,17,60,21],[60,27,60,28],[60,30,60,31],[60,34,60,43],[60,44,60,60],[60,75,60,84],[60,85,60,86],[62,61,62,89],[59,61,60,69],[59,70,60,71],[59,72,60,74],[59,75,59,84],[58,44,59,46],[58,47,58,49],[58,51,58,53],[58,55,58,56],[58,57,58,58],[59,55,59,56],[63,86,63,89],[64,0,64,6],[64,8,64,12],[64,13,64,14],[64,15,64,16],[64,17,66,19],[64,20,66,22],[64,23,64,26],[64,27,64,49],[64,50,66,54],[65,0,65,6],[65,8,65,12],[65,13,65,14],[66,86,67,88],[66,89,67,89],[67,0,67,6],[67,8,67,12],[67,13,67,14],[67,15,67,16],[67,17,67,19],[66,38,66,49],[66,61,66,64],[66,66,66,68],[63,0,63,6],[63,8,63,12],[63,13,63,14],[63,15,63,16],[63,17,63,60],[63,61,63,65],[63,66,63,70],[63,71,63,80],[63,81,63,85],[66,69,66,70],[66,71,66,73],[66,74,66,75],[65,76,65,79],[65,81,65,83],[65,84,65,85],[65,86,65,88],[66,0,66,6],[66,8,66,12],[66,13,66,14],[66,15,66,16],[66,23,66,26],[66,27,66,37],[65,15,65,16],[65,23,65,26],[65,27,65,37],[65,38,65,49],[64,55,66,60],[64,61,64,64],[64,66,64,68],[64,69,64,70],[64,74,64,75],[64,86,64,88],[64,76,64,79],[65,61,65,64],[65,66,65,68],[65,69,65,70],[65,74,65,75],[66,76,66,79],[66,81,66,83],[66,84,66,85],[64,81,64,83],[68,84,71,86],[67,81,67,83],[67,84,67,85],[68,0,68,6],[68,8,68,12],[68,13,68,14],[68,15,68,16],[68,17,68,60],[68,61,73,62],[68,63,71,65],[68,66,71,68],[67,61,67,64],[67,66,67,68],[67,69,67,70],[67,71,67,73],[67,74,67,75],[67,76,67,79],[67,20,67,22],[67,23,67,26],[67,27,67,37],[67,38,67,49],[67,50,67,54],[67,55,67,60],[70,38,70,41],[70,42,70,45],[70,46,70,55],[70,56,70,60],[71,17,71,23],[71,24,71,32],[71,33,71,37],[71,38,71,41],[71,42,71,45],[71,46,71,55],[69,46,69,55],[69,56,69,60],[70,0,71,6],[70,7,71,7],[70,8,71,12],[70,13,71,14],[70,15,71,16],[70,17,70,23],[70,24,70,32],[70,33,70,37],[69,0,69,6],[69,8,69,12],[69,13,69,14],[69,15,69,16],[69,17,69,23],[69,24,69,32],[69,33,69,37],[69,38,69,41],[69,42,69,45],[72,75,73,78],[72,79,73,80],[72,81,73,83],[72,84,73,86],[72,87,73,89],[73,0,73,6],[73,17,73,23],[73,24,73,32],[73,33,73,37],[73,38,73,41],[72,46,72,55],[72,56,72,60],[72,63,73,65],[72,66,73,68],[72,69,73,71],[72,72,73,74],[71,56,71,60],[72,0,72,6],[72,8,73,12],[72,13,73,14],[72,15,73,16],[72,17,72,23],[72,24,72,32],[72,33,72,37],[72,38,72,41],[72,42,72,45],[68,87,71,89],[68,69,71,71],[68,72,71,74],[68,75,71,78],[68,79,71,80],[68,81,71,83],[75,17,75,23],[75,24,75,32],[75,38,75,41],[75,42,75,45],[75,46,75,55],[87,0,87,2],[87,3,87,5],[87,6,87,7],[87,8,87,9],[87,10,87,11],[73,42,73,45],[73,46,73,55],[73,56,73,60],[74,17,74,23],[74,24,74,32],[74,38,74,41],[74,42,74,45],[74,46,74,55],[87,80,87,84],[87,85,88,85]],"merged_total":1135,"flags":["merged_cut"]}
[null,null,null,null,null,null,null,null,null,null,null,null,null,null,null,null,null,null,null,null,null,null,null,null,null,null,null,"DIRECCION - PROGRAMA  APS \nSUBSECRETARIA DE MEDICINA SOCIAL\nRONDA N°: 192  AÑO: 2025",null,null,null,null,null,null,null,null,null,null,null,null,null,null,null,null,null,null,null,null,null,null,null,null,null,null,"1r","2r","3r",null,"4r",null,"T",null,null,null,null,null,null,null,null,null,null,null,null,null,null,null,null,null,null,null,"Informe y orden de Ronda: ",6,null,null,null,null,2]
[null,null,null,null,null,null,null,"Area Operativa N°: ",4,null,null,null,null,null,"Nombre: ","MORILLO",null,null,null,null,null,null,null,null,null,null,null,null,null,null,null,null,null,null,null,null,null,null,null,null,null,null,null,null,null,null,"Mort. Mater. Acum. Año",null,null,null,null,null,null,null,0,{"$f":"CE41","v":0},0,null,{"$f":"CE41","v":0},null,{"$f":"SUM(BC2:BG2)","v":0},null,null,null,null,"Sector:",null,"SAN NICOLAS",null,null,null,null,null,null,null,null,null,null,null,null,null,null,null,null,null,"N°",13]
[null,null,null,null,null,null,null,null,null,null,null,null,null,null,null,null,null,null,null,null,null,null,null,null,null,null,null,null,null,null,null,null,null,null,null,null,null,null,null,null,null,null,null,null,null,null,"Mort. 0-1 año Acum Año",null,null,null,null,null,null,null,0,{"$f":"BR41+BU41+BY41","v":0},1,null,{"$f":"BR41+BU41+BY41","v":0},null,{"$f":"SUM(BC3:BG3)","v":1},null,null,null,null,null,"Etnia: ","criollo-wichi",null,null,null,null,null,null,null,null,null,null,null,null,null,null,null,null,null,"Sector Riesgo:"]
[null,null,null,null,null,null,null,"Establec. Base: ","HOSPITAL MORILLO",null,null,null,null,null,null,null,null,null,null,null,null,null,null,null,null,null,null,null,null,null,null,null,null,null,null,null,null,null,null,null,null,null,null,null,null,null,"Mort. 1-4 años Acum Año",null,null,null,null,null,null,null,0,{"$f":"CC41","v":0},0,null,{"$f":"CC41","v":0},null,{"$f":"SUM(BC4:BG4)","v":0},null,null,null,null,null,null,null,null,null,null,null,null,"Desde: ","07/03/2025",null,null,null,null,null,null,null,null,"Hasta: ","05/06/2026"]
[null,null,null,null,null,null,null,null,null,null,null,null,null,null,null,null,null,null,null,null,null,null,null,null,null,null,null,null,null,null,null,null,null,null,null,null,null,null,null,null,null,null,null,null,null,null,null,null,null,null,null,null,null,null,null,null,null,null,null,null,null,null,null,null,null,null,null,null,null,null,null,null,null,null,null,null,null,null,null,"Cobertura: ","CUBIERTO"]
[null,null,null,null,null,null,null,"Sup. Intermedio: ","Miguel Correa",null,null,null,null,null,null,null,null,null,null,null,null,null,null,null,null,null,null,null,null,null,null,null,"Responsable A.P.S.: ","Dr. Abel Ibarra",null,null,null,null,null,null,null,null,null,null,null,null,null,null,null,null,null,null,null,null,null,null,"Agente Sanitario: ","RODOLFO CARDOZO",null,null,null,null,null,null,null,null,null,null,null,null,null,null,null,null,"Sit. Revista: ","PLANTA PERMANENTE",null,null,null,null,null,"Reg. Horario: ","30 HS."]
[]
["A) FAMILIAS VISITADAS EN LA RONDA",null,null,null,null,null,null,null,null,null,null,null,null,null,null,null,null,null,null,null,null,null,null,null,null,null,null,null,null,null,null,null,null,null,null,null,null,null,null,null,null,null,null,null,null,null,null,"B) FACTORES DE PRIORIZACION DE VISITAS"]
["ASIGNADAS",null,null,"VISITADAS",null,null,"TOTAL\nVISITAS",null,"NO VISITADAS",null,null,null,null,null,null,null,null,"FLIAS ORIG.",null,"FLIAS. URB.",null,"FLIAS. PERIURB",null,null,"FLIAS. RURALES",null,"GOLON\nMIGRANTES",null,null,null,null,"FLIAS. CON PL. SOCIALES",null,null,null,null,null,"PRODUCCION\nFAMILIAR",null,null,null,null,null,null,null,null,null,1,null,2,null,3,null,null,4,null,5,null,6,null,7,null,null,8,null,null,9,null,null,10,null,null,null,11,null,null,12,null,null,null,13,null,null,14,null,null,15]
[null,null,null,null,null,null,null,null,"RECHAZO TOTAL",null,"AUSEN\n-TE",null,"NO VISITADAS",null,"TOT NO VISIT.",null,null,null,null,null,null,null,null,null,null,null,"HACIA\nEL AO",null,"DESDE\nEL AO",null,null,null,null,null,null,null,null,"HUERTA",null,null,null,"GRANJA",null,null,null,null,null,0,null,0,null,0,null,null,0,null,0,null,0,null,0,null,null,0,null,null,0,null,null,"Total",null,null,null,"Tot",null,"Trat","Tot.",null,null,"Trat.","Tot.","Trat.",null,"Tot.",null,"Trat","Total"]
[null,null,null,null,null,null,null,null,null,null,0,null,null,null,null,null,null,null,null,null,null,null,null,null,null,null,null,null,null,null,null,null,null,null,null,null,null,null,null,null,null,null,null,null,null,null,null,null,null,null,null,null,null,null,null,null,null,null,null,null,null,null,null,null,null,null,null,null,null,0,null,null,null,0,null,0,0,null,null,0,0,0,null,0,null,0,0]
[0,null,null,0,null,null,0,null,0,null,0,null,0,null,{"$f":"M12+K12+I12","v":0},null,null,0,null,0,null,0,null,null,0,null,0,null,0,null,null,0,null,null,null,null,null,0,null,null,null,0,null,null,null,null,null,"C) VISITAS A FLIAS. PRIORIZADAS",null,null,null,null,null,null,null,null,null,null,null,null,null,null,null,null,null,null,null,null,null,"D) SUPERV. A FLIAS. "]
[null,null,null,null,null,null,null,null,null,null,null,null,null,null,null,null,null,null,null,null,null,null,null,null,null,null,null,null,null,null,null,null,null,null,null,null,null,null,null,null,null,null,null,null,null,null,null,"PRIORIDAD",null,null,null,null,null,1,null,null,2,null,null,null,3,null,null,"Total",null,null,null,null,null,"PRIORIDAD",null,null,null,null,null,1,null,null,null,2,null,3,null,null,null,"TOTAL"]
[null,null,null,null,null,null,null,null,null,null,null,null,null,null,null,null,null,null,null,null,null,null,null,null,null,null,null,null,null,null,null,null,null,null,null,null,null,null,null,null,null,null,null,null,null,null,null,"N° FAMILIAS",null,null,null,null,null,0,null,null,0,null,null,null,0,null,null,{"$f":"SUM(BB14:BI14)","v":0},null,null,null,null,null,"INTERMEDIA",null,null,null,null,null,0,null,null,null,0,null,0,null,null,null,{"$f":"SUM(BX14:CD14)","v":0}]
[null,null,null,null,null,null,null,null,null,null,null,null,null,null,null,null,null,null,null,null,null,null,null,null,null,null,null,null,null,null,null,null,null,null,null,null,null,null,null,null,null,null,null,null,null,null,null,"VISITAS",null,null,null,null,null,0,null,null,0,null,null,null,0,null,null,{"$f":"SUM(BB15:BI15)","v":0},null,null,null,null,null,"PROFESIONAL",null,null,null,null,null,0,null,null,null,0,null,0,null,null,null,{"$f":"SUM(BX15:CB15)","v":0}]
["E) EDAD FERTIL",null,null,null,null,"F) EMBARAZADAS",null,null,null,null,null,null,"G) PARTOS",null,null,null,null,null,null,null,"H) R.N. EN LA RONDA",null,null,null,null,null,null,null,null,"I) EVALUACION ANTROPOMETRICA",null,null,null,null,null,null,null,null,null,null,null,null,null,null,null,null,null,null,null,null,null,null,null,null,null,null,null,null,null,null,null,null,null,null,null,null,"NIÑ MBP/BP/RBP CTRL. INT.",null,null,null,null,null,null,null,null,null,"LACT. MATERNA"]
["PAP",null,null,0,null,"CAPT. 1er TRIMESTRE","ESP EN EL AÑO","ACUMULADAS","NUEVAS\nRONDA","TOTAL","DE RIESGO","<19 Años","TOTAL",null,"HOSPITALARIOS",null,"DOMIC.",null,"N° PUERPERAS",null,"NACIDOS VIVOS",null,"P AL NACER",null,null,null,null,null,null,"NIÑOS CONTROLADOS",null,null,null,null,null,null,null,null,null,null,null,null,null,null,null,null,null,null,null,null,null,null,null,null,null,null,null,null,null,null,null,null,null,null,null,null,"MELAN",null,"MED",null,"ENF.",null,"LAB",null,"NUTR",null,"< 6 M EN LA RONDA",null,null,null,{"$f":"CC20+CC22+CC23","v":0}]
[null,null,null,null,null,null,null,null,null,null,null,null,null,null,null,null,"DOM","ASIS",null,null,null,null,"ALTO PESO","ADEC",null,"BAJO PESO",null,"MB\nPESO",null,"EDAD",null,null,"A CONTROLAR",null,null,"ADECUADO",null,"BP\nBAJO PESO",null,"MBP\nMUY B. PESO",null,"ALTO PESO",null,"RIESGO",null,null,null,"RECUPERADOS",null,null,null,"TALLA / EDAD",null,null,null,null,"NUEVOS\nEPISODIOS",null,"PERDIDOS",null,null,null,null,"FALLECIDOS\nC/ANTEC. ANTROPOM."]
[]
["Antic.",null,null,0,null,0,{"$f":"IF(ISERROR(((CC92*1.8)/100)),0,(((CC92*1.8)/100)))","v":0},0,0,{"$f":"SUM(F23:L23)","v":0},0,0,{"$f":"O20+Q20+R20","v":0},null,0,null,0,0,0,null,{"$f":"W20+X20+Z20+AB20","v":0},null,0,0,null,0,null,0,null,null,null,null,null,null,null,null,null,null,null,null,null,null,null,"BP",null,"AP",null,"BP",null,null,"AP","BT",null,"MBT",null,"RGO\nBT",null,null,"BP\nMBP",null,null,"A.P.",null,null,null,null,0,null,0,null,0,null,0,null,0,null,"EXCLUSIVO",null,null,null,0]
[null,null,null,null,null,"CONTROLES",null,null,null,null,null,null," ",null,null,null,null,null,null,null,"PREMATUROS",null,null,null,"PESQUISA"]
["Aborto",null,null,0,null,"MELON",null,"MEL","MED","ENF","LAB","S/C","PUERP",null,null,null,"R.N.",null,null,null,null,null,null,null,null,null,null,null,null,"< 2 años",null,null,{"$f":"A27+C27+D27+F27+G27+H27","v":0},null,null,0,null,0,null,0,null,0,null,0,null,0,null,0,null,null,0,0,null,0,null,0,0,null,0,null,null,0,null,0,null,null,"CONTROLES EN DOMIC. NIÑO BP o MBP",null,null,null,null,null,null,null,0,null,"MIXTA",null,null,null,0]
[null,null,null,null,null,0,null,0,0,0,0,0,0,null,null,null,0,null,null,null,0,null,null,null,0,null,null,null,null,"2 a 6 años",null,null,{"$f":"I27+J27+K27+L27+M27+O27+P27+R27","v":0},null,null,0,null,0,null,0,null,0,null,0,null,0,null,0,null,null,0,0,null,0,null,0,0,null,0,null,null,0,null,0,null,null,null,null,null,null,null,null,null,null,null,null,"ARTIF",null,null,null,0]
["J) DATOS DE POBLACION"]
["0 a 5m",null,null,"6 a 11m",null,null,"1 AÑO",null,"2 AÑOS",null,"3 AÑOS",null,"4 AÑOS",null,null,"5 AÑOS",null,null,"6 AÑOS",null,null,"7 A 9 AÑOS",null,null,null,"10 AÑOS",null,"11 AÑOS",null,null,"12 A 14",null,null,null,null,null,"15 A 19",null,null,"20 A 24",null,null,null,"25 A 29",null,null,null,"30 A 34",null,null,null,"35 A 39",null,null,null,"40 A 44",null,null,null,null,"45 A 49",null,null,null,"50 A 54",null,null,null,"55 A 59",null,null,null,"60 A 64",null,null,null,"65 y +",null,null,null,"TOTAL",null,null,null,null,"MUJERES\n10 A 49","O. SOCIAL",null,"INDOCUM"]
["M",null,"F","M",null,"F","M","F","M","F","M","F","M",null,"F","M",null,"F","M",null,"F","M",null,"F",null,"M","F","M",null,"F","M",null,null,"F",null,null,"M","F",null,"M",null,"F",null,"M",null,null,"F","M",null,null,"F","M",null,"F",null,"M",null,null,"F",null,"M",null,"F",null,"M",null,"F",null,"M",null,"F",null,"M",null,"F",null,"M",null,null,"F","M",null,"F"]
[0,null,0,0,null,0,0,0,0,0,0,0,0,null,0,0,null,0,0,null,0,0,null,0,null,0,0,0,null,0,0,null,null,0,null,null,0,0,null,0,null,0,null,0,null,null,0,0,null,null,0,0,null,0,null,0,null,null,0,null,0,null,0,null,0,null,0,null,0,null,0,null,0,null,0,null,0,null,null,0,{"$f":"BY27+BU27+BQ27+BM27+BI27+BD27+AZ27+AV27+AR27+AN27+AK27+AE27+AB27+Z27+V27+S27+P27+M27+K27+I27+G27+D27+A27","v":0},null,{"$f":"CB27+BW27+BS27+BO27+BK27+BG27+BB27+AY27+AU27+AP27+AL27+AH27+AD27+AA27+X27+U27+R27+O27+L27+J27+H27+F27+C27","v":0},null,null,{"$f":"BK27+BG27+BB27+AY27+AU27+AP27+AL27+AH27+AD27+AA27","v":0},0,null,0]
[{"$f":"A27+C27","v":0},null,null,{"$f":"D27+F27","v":0},null,null,{"$f":"G27+H27","v":0},null,{"$f":"I27+J27","v":0},null,{"$f":"K27+L27","v":0},null,{"$f":"M27+O27","v":0},null,null,{"$f":"P27+R27","v":0},null,null,{"$f":"S27+U27","v":0},null,null,{"$f":"V27+X27","v":0},null,null,null,{"$f":"Z27+AA27","v":0},null,{"$f":"AB27+AD27","v":0},null,null,{"$f":"AE27+AH27","v":0},null,null,null,null,null,{"$f":"AL27+AK27","v":0},null,null,{"$f":"AN27+AP27","v":0},null,null,null,{"$f":"AR27+AU27","v":0},null,null,null,{"$f":"AV27+AY27","v":0},null,null,null,{"$f":"AZ27+BB27","v":0},null,null,null,{"$f":"BD27+BG27","v":0},null,null,null,null,{"$f":"BI27+BK27","v":0},null,null,null,{"$f":"BM27+BO27","v":0},null,null,null,{"$f":"BQ27+BS27","v":0},null,null,null,{"$f":"BU27+BW27","v":0},null,null,null,{"$f":"BY27+CB27","v":0},null,null,null,{"$f":"CC27+CE27","v":0}]
["K) TUBERCULOSIS ",null,null,null,null,null,null,null,null,null,null,null,null,null,null," CHAGAS ",null,null,null,null,null,"L) PERSONAS CON ENF. CRONICAS",null,null,null,null,null,null,null,null,null,null,null,"M) OBSERVACIONES"]
["Coef. Sint.Resp.: ",null,null,"MUESTRAS",null,null,null,null,"TRATAM. TBC",null,null,null,null,null,null,"TRATAMIENTOS CHAGAS",null,null,null,null,null,"PERSONAS CON",null,null,null,null,null,"TOTAL",null,null,"EN TRAT.",null,null," "]
[{"$f":"Control!H9","v":8},null,null,"DIAGNOSTICOS",null,null,"CONTROL",null,"Total",null,"TAES",null," ABANDONO",null,null,"INICIO ",null,null,0,null,null,"DIABETES",null,null,null,null,null,0,null,null,0]
["SINT. ESP..",null,null,"Tot",null,"(+)","Tot","(+)",0,null,0,null,0,null,null,"FINALIZACION ",null,null,0,null,null,"HIPERTENSION \nARTERIAL",null,null,null,null,null,0,null,null,0]
[{"$f":"IF(ISERROR(((AK91+AL91+AN91+AP91+AR91+AU91+AV91+AY91+AZ91+BB91+BD91+BG91+BI91+BK91+BM91+BO91+BQ91+BS91+BU91+BW91+BY91+CB91)*0.2)*A31/100),0,(((AK91+AL91+AN91+AP91+AR91+AU91+AV91+AY91+AZ91+BB91+BD91+BG91+BI91+BK91+BM91+BO91+BQ91+BS91+BU91+BW91+BY91+CB91)*0.2)*A31/100))","v":0},null,null,0,null,0,0,0,"QUIMIO Total",null,0,null,null,null,null,null,null,null,null,null,null,"PERSONAS CON OTRAS ENF. CRONICAS AL CUIDADO DE NIÑOS",null,null,null,null,null,0,null,null,0]
["SINT. DETEC.",null,null,"CONTACTO",null,null,null,null,"CTRL. MEDICO",null,null,null,"FINALIZAD0",null,null,"ABANDONO ",null,null,0]
[0,null,null,"< 14a",null,null,"> 15a",null,"Pcte/Rda",null,"A Cont",null,0,null,null,null,null,null,null,null,null,"ADULTOS MAYORES EN SITUACION DE RIESGO",null,null,null,null,null,0]
[null,null,null,0,null,null,0,null,0,null,0]
["N) DERIVACIONES",null,null,null,null,null,null,null,null,null,null,null,null,null,null,null,null,null,null,null,null,null,null,null,null,null,null,null,null,null,null,null,null,null,null,null,null,null,null,null,null,"Ñ) VIVIENDA Y SANEAMIENTO",null,null,null,null,null,null,null,null,null,null,null,null,null,null,null,null,null,null,null,null,null,null,null,null,null,null,null,"O) DEFUNCIONES EN LA RONDA"]
[null,null,null,null,null,null,null,null,null,null,null,null,null,null,null,null,null,null,null,null,null,null,null,null,null,null,null,null,null,null,null,null,null,null,null,null,null,null,null,null,null,"TRAT. AGUA",null,null,null,null,null,"DISP SANITARIA EXCRETAS",null,null,null,null,null,null,null,null,null,null,null,"TRATAM. SANIT BASURA",null,null,null,null,null,null,null,null,null,"MENORES 1 AÑO",null,null,null,null,null,null,null,null,null,null,"1 a 4 AÑOS",null,"MATERNA",null,null,null,"OTRAS"]
["EMB",null,null,null,"RN",null,null,null,"PUERP",null,null,null,"Menores de 6 años",null,null,null,null,null,null,null,"E.\nCRONICAS",null,"PAP",null,"CHAGAS",null,null,null,"TBC",null,null,null,"PSICOSOC",null,null,null,"TOTAL\nDERIVACIONES",null,null,null,null,"RED",null,"EN\nVIV",null,null,"S/T","ARRASTRE",null,null,null,null,null,"LETRINA",null,null,null,"S/T",null,"REC. DOMIC.",null,null,"POZO BASURA",null,null,null,"S/T",null,null,"<7d",null,null,"7 a 28d",null,null,null,"29d a 11 m"]
[null,null,null,null,null,null,null,null,null,null,null,null,"BP- MBP",null,"RGO BP",null,"Resp",null,"Diarr",null,null,null,null,null,null,null,null,null,null,null,null,null,null,null,null,null,null,null,null,null,null,null,null,null,null,null,null,"CLOACAS",null,"PC-CT",null,"PC-ST",null,"CT",null,"ST"]
["Env",null,"Rec",null,"Env",null,"Rec",null,"Env",null,"Rec",null,"Env","Rec","Env","Rec","Env","Rec","Env","Rec","Env","Rec","Env","Rec","Env",null,"Rec",null,"Env",null,"Rec",null,"Env",null,"Rec",null,"ENV",null,null,"Rec",null,0,null,0,null,null,0,0,null,0,null,0,null,0,null,0,null,0,null,0,null,null,0,null,null,null,0,null,null,0,null,null,0,null,null,null,0,null,null,null,0,null,0,null,null,null,0]
[null,null,null,null,null,null,null,null,null,null,null,null,null,null,null,null,null,null,null,null,null,null,null,null,null,null,null,null,null,null,null,null,null,null,null,null,null,null,null,null,null,"CASAS ",null,null,null,null,null,null,null,null,null,null,null,"CHAGAS",null,null,null,null,null,null,null,null,null,null,null,"DENGUE CHIKUNGUNYA",null,null,null,null,null,null,null,null,null,null,null,"P) PROM. SALUD"]
[0,null,0,null,0,null,0,null,0,null,0,null,0,0,0,0,0,0,0,0,0,0,0,0,0,null,0,null,0,null,0,null,0,null,0,null,{"$f":"AG43+AC43+Y43+W43+U43+S43+Q43+O43+M43+I43+E43+A43","v":0},null,null,{"$f":"AI43+AE43+AA43+X43+V43+T43+R43+P43+N43+K43+G43+C43","v":0},null,"ASIGNADAS",null,null,null,null,"VISITADAS",null,null,"VACIAS",null,"DESTRUIDAS",null,"EVALUADAS",null,null,"POSITIVAS",null,null,null,null,"TRATADAS",null,null,null,"EVALUADAS",null,null,null,"POSITIVAS",null,null,null,"TRATADAS",null,null,null,"PLANIFICADAS \nEN COMUNIDAD",null,null,null,null,null,null,null,0]
[]
[null,null,null,null,null,null,null,null,null,null,null,null,null,null,null,null,null,null,null,null,null,null,null,null,null,null,null,null,null,null,null,null,null,null,null,null,null,null,null,null,null,0,null,null,null,null,0,null,null,0,null,0,null,0,null,null,0,null,null,null,null,0,null,null,null,0,null,null,null,0,null,null,null,0,null,null,null,"REALIZADAS ",null,null,null,null,null,null,null,0]
["Q) INDICADORES"]
["DE ESTRUCTURA",null,null,null,null,null,"SI","NO","DE PRODUCCION",null,null,null,null,null,"%","META",null," DE INMUNIZACIONES",null,null,null,null,null,null,null,null,null,null,null,null,null,null,null,null," DE INMUNIZACIONES",null,null,null,null,null,null,null,null,null,null,null,null,null,null,null,null,null,null,null,null,null,null,null,null,null,null," DE RESULTADO",null,null,null,null,null,null,null,null,"%",null,"META",null,null," DE RESULTADO",null,null,null,null,null,null,null,null,null,"%",null,"META RDA"]
["Formularios",null,null,null,null,null,0,0,"Cobertura a Familias",null,null,null,null,null,{"$f":"IF(ISERROR(D12/A12),0,(D12/A12)*100)","v":0},100,null,"VACUNA",null,null,null,null,"P. REF",null,"1r","2r","3r","4r",null,"T","%",null,"META",null,"VACUNA",null,null,null,null,null,null,null,null,null,"P. REF",null,null,"1r",null,null,"2r","3r",null,null,"4r","T",null,"%",null,"META",null,"Ed Fértil c/Anticoncepción",null,null,null,null,null,null,null,null,{"$f":"IF(ISERROR(D20/CH27),0,(D20/CH27)*100)","v":0},null,null,null,null,"Niños 2 a 5 Recup BP",null,null,null,null,null,null,null,null,null,{"$f":"IF(ISERROR(AV23/K80),0,(AV23/K80)*100)","v":0},null,100]
["Equipo",null,null,null,null,null,0,0,"Niños < 2 años Controlados",null,null,null,null,null,{"$f":"IF(ISERROR(((AJ22+AL22+AN22+AP22)/(A28+D28+G28))),0,(((AJ22+AL22+AN22+AP22)/(A28+D28+G28)))*100)","v":0},100,null,"BCG RN",null,null,null,null,{"$f":"U20","v":0},null,6,0,0,0,null,{"$f":"SUM(Y49:AB49)","v":6},{"$f":"IF(ISERROR(Z49/W49),0,(Z49/W49)*100)","v":0},null,100,null,"2 Ref. Varicela Ingreso Esc",null,null,null,null,null,null,null,null,null,17,null,null,16,null,null,0,0,null,null,0,{"$f":"SUM(AV49:BC49)","v":16},null,{"$f":"IF(ISERROR(AY49/AS49),0,(AY49/AS49)*100)","v":0},null,25,null,"PAP",null,null,null,null,null,null,null,null,{"$f":"IF(ISERROR(D17/CH27),0,(D17/CH27)*100)","v":0},null,null,null,null,"Niños 2 a 5 Recup AP",null,null,null,null,null,null,null,null,null,{"$f":"IF(ISERROR(AY23/K82),0,(AY23/K82)*100)","v":0},null,100]
["Combustible",null,null,null,null,null,0,0,"Niños  (2 a 5 años) Controlados",null,null,null,null,null,{"$f":"IF(ISERROR(((AJ23+AL23+AN23+AP23)/(I28+K28+M28+P28))),0,(((AJ23+AL23+AN23+AP23)/(I28+K28+M28+P28)))*100)","v":0},100,null,"Hepatitis B RN","Hepatitis B RN",null,"Hepatitis B RN","Hepatitis B RN",null,null,6,0,0,0,null,{"$f":"SUM(Y50:AB50)","v":6},{"$f":"IF(ISERROR(Z50/W49),0,(Z50/W49)*100)","v":0},null,null,null,"2° Ref. Antipolio Ingreso Escolar",null,null,null,null,null,null,null,null,null,null,null,null,16,null,null,0,0,null,null,0,{"$f":"SUM(AV50:BC50)","v":16},null,{"$f":"IF(ISERROR(AY50/AS49),0,(AY50/AS49)*100)","v":0},null,null,null,"Embarazadas Con MELON",null,null,null,null,null,null,null,null,{"$f":"IF(ISERROR(F23/J20),0,(F23/J20)*100)","v":0},null,80,null,null,"Niños 6 meses con LME",null,null,null,null,null,null,null,null,null,{"$f":"IF(ISERROR(CC20/CC17),0,(CC20/CC17)*100)","v":0},null,80]
[" DE DIAGNOSTICO",null,null,null,null,null,null,"%","Conc. Vis. Flias Prio",null,null,null,null,null,{"$f":"IF(ISERROR((BB15+BE15)/(BB14+BE14)),0,((BB15+BE15)/(BB14+BE14)))","v":0},25,null,"2° Neumococo < 1a","3ª SOT/Salk < 1a",null,"3ª SOT/Salk < 1a","3ª SOT/Salk < 1a",{"$f":"A91+C91+D91+F91","v":0},null,1,0,0,0,null,{"$f":"SUM(Y51:AB51)","v":1},{"$f":"IF(ISERROR(Z51/W51),0,(Z51/W51)*100)","v":0},null,100,null,"2° Ref. DPT Ingreso Escolar",null,null,null,null,null,null,null,null,null,null,null,null,16,null,null,0,0,null,null,0,{"$f":"SUM(AV51:BC51)","v":16},null,{"$f":"IF(ISERROR(AY51/AS49),0,(AY51/AS49)*100)","v":0},null,null,null,"Partos Hospitalarios",null,null,null,null,null,null,null,null,{"$f":"IF(ISERROR(O20/M20),0,(O20/M20)*100)","v":0},null,100]
["Flias Priorizadas 3 + 2:",null,null,null,null,null,null,{"$f":"IF(ISERROR((BB14+BE14)/D12),0,(BB14+BE14)/D12*100)","v":0},"Conc.C.Dom Niños Bp/MBP",null,null,null,null,null,{"$f":"IF(ISERROR(BW22/(AL22+AN22+AL23+AN23)),0,(BW22/(AL22+AN22+AL23+AN23)))","v":0},3,null,"2° Rotavirus <1 a","3º Pentavalente <1 a",null,"3º Pentavalente <1 a","3º Pentavalente <1 a",null,null,1,0,0,0,null,{"$f":"SUM(Y52:AB52)","v":1},{"$f":"IF(ISERROR(Z52/W51),0,(Z52/W51)*100)","v":0},null,null,null,"2° TV Ingreso Escolar",null,null,null,null,null,null,null,null,null,null,null,null,16,null,null,0,0,null,null,0,{"$f":"SUM(AV52:BC52)","v":16},null,{"$f":"IF(ISERROR(AY52/AS49),0,(AY52/AS49)*100)","v":0},null,100,null,"Conc Control Médico a RN",null,null,null,null,null,null,null,null,{"$f":"IF(ISERROR(Q23/M20),0,(Q23/M20))","v":0},null,4,null,null,"% Niños BP MBP y RBP con MELaN",null,null,null,null,null,null,null,null,null,{"$f":"IF(ISERROR(BO20/(AL22+AN22+AR22+AL23+AN23+AR23)),0,(BO20/(AL22+AN22+AR22+AL23+AN23+AR23))*100)","v":0},null,100]
["Flias Urbanas",null,null,null,null,null,null,{"$f":"IF(ISERROR(T12/D12),0,(T12/D12)*100)","v":0},"Rel. Muestra/Sint Resp.",null,null,null,null,null,{"$f":"IF(ISERROR(D33/A35),0,(D33/A35))","v":0},2,null,"2° Meningococo < 1a",null,null,null,null,null,null,1,0,0,0,null,{"$f":"SUM(Y53:AB53)","v":1},{"$f":"IF(ISERROR(Z53/W51),0,(Z53/W51)*100)","v":0},null,null,null,"dTpa 11 años",null,null,null,null,null,null,null,null,null,10,null,null,10,null,null,0,0,null,null,0,{"$f":"SUM(AV53:BC53)","v":10},null,{"$f":"IF(ISERROR(AY53/AS53),0,(AY53/AS53)*100)","v":0},null,null,null,"Conc Control Méd. a puérpera",null,null,null,null,null,null,null,null,{"$f":"IF(ISERROR(M23/S20),0,(M23/S20))","v":0},null,4,null,null,"Sint Resp Detect. Seg zona",null,null,null,null,null,null,null,null,null,{"$f":"IF(ISERROR((A35*100)/(((20*(AK28+AN28+AR28+AV28+AZ28+BD28+BI28+BM28+BQ28+BU28+BY28))/100)*A31)),0,(A35*100)/((((20*(AK28+AN28+AR28+AV28+AZ28+BD28+BI28+BM28+BQ28+BU28+BY28))/100)*A31)/100))","v":0},null,"S/Z"]
["Flias Periurbanas",null,null,null,null,null,null,{"$f":"IF(ISERROR(V12/D12),0,(V12/D12)*100)","v":0},"Casas Evaluadas Chagas",null,null,null,null,null,{"$f":"IF(ISERROR(BB45/AU45),0,(BB45/AU45)*100)","v":0},100,null,"3° Antipolio < 1 año","2ª Rotavirus < 1 año",null,"2ª Rotavirus < 1 año","2ª Rotavirus < 1 año",null,null,1,0,0,0,null,{"$f":"SUM(Y54:AB54)","v":1},{"$f":"IF(ISERROR(Z54/W51),0,(Z54/W51)*100)","v":0},null,null,null,"U.D. Meningococo",null,null,null,null,null,null,null,null,null,null,null,null,10,null,null,0,0,null,null,0,{"$f":"SUM(AV54:BC54)","v":10},null,{"$f":"IF(ISERROR(AY54/AS53),0,(AY54/AS53)*100)","v":0},null,"95% AL 1° SEM",null,"RN con Pesquisa",null,null,null,null,null,null,null,null,{"$f":"IF(ISERROR(Y23/U20),0,(Y23/U20)*100)","v":0},null,100,null,null,"Pacientes TBC con Control Médico",null,null,null,null,null,null,null,null,null,{"$f":"IF(ISERROR(I36/I32),0,(I36/I32)*100)","v":0},null,100]
["Flias Rurales",null,null,null,null,null,null,{"$f":"IF(ISERROR(Y12/D12),0,(Y12/D12)*100)","v":0},"Casas Tratadas Chagas",null,null,null,null,null,{"$f":"IF(ISERROR(BJ45/BE45),0,(BJ45/BE45)*100)","v":0},100,null,"3° Pentavalente <1 año","TV 1 año",null,"TV 1 año","TV 1 año",null,null,1,0,0,0,null,{"$f":"SUM(Y55:AB55)","v":1},{"$f":"IF(ISERROR(Z55/W51),0,(Z55/W51)*100)","v":0},null,null,null,"1° HPV Niñas cumplen 11 a en año en curso",null,null,null,null,null,null,null,null,null,5,null,null,5,null,null,0,0,null,null,0,{"$f":"SUM(AV55:BC55)","v":5},null,{"$f":"IF(ISERROR(AY55/AS55),0,(AY55/AS55)*100)","v":0},null,null,null,"Derivaciones Enviadas/Recibidas",null,null,null,null,null,null,null,null,{"$f":"IF(ISERROR(AN43/AK43),0,(AN43/AK43)*100)","v":0},null,100,null,null,"Contactos TBC Controlados",null,null,null,null,null,null,null,null,null,{"$f":"IF(ISERROR(K36/(D36+G36)),0,(K36/(D36+G36)))*100","v":0},null,100]
["Flias Originarias",null,null,null,null,null,null,{"$f":"IF(ISERROR(R12/D12),0,(R12/D12)*100)","v":0},"Casas Evaluadas Dengue",null,null,null,null,null,{"$f":"IF(ISERROR(BN45/AU45),0,(BN45/AU45)*100)","v":0},100,null,"1° TV","A HA 1 año",null,"A HA 1 año","A HA 1 año",{"$f":"G91+H91","v":0},null,1,0,0,0,null,{"$f":"SUM(Y56:AB56)","v":1},{"$f":"IF(ISERROR(Z56/W56),0,(Z56/W56)*100)","v":0},null,100,null,"1° HPV Niños cumplen 11 a en año en curso",25,25,null,null,null,null,null,null,null,5,null,null,5,null,null,0,0,null,null,0,{"$f":"SUM(AV56:BC56)","v":5},null,{"$f":"IF(ISERROR(AY56/AS56),0,(AY56/AS56)*100)","v":0},null,"95% AL 1° SEM",null,"Niños < 2 a Riesgo BP",null,null,null,null,null,null,null,null,{"$f":"IF(ISERROR(AR22/AJ22),0,(AR22/AJ22)*100)","v":0},null,null,null,null,"TAES de TBC",null,null,null,null,null,null,null,null,null,{"$f":"IF(ISERROR(K32/I32),0,(K32/I32)*100)","v":0},null,100]
["Flias Migr. desde AO",null,null,null,null,null,null,{"$f":"IF(ISERROR(AC12/A12),0,(AC12/A12)*100)","v":0},"Casas Tratadas Dengue",null,null,null,null,null,{"$f":"IF(ISERROR(BV45/BR45),0,(BV45/BR45)*100)","v":0},100,null,"2° TV","A HA 1 año",null,"A HA 1 año","A HA 1 año",null,null,1,0,0,0,null,{"$f":"SUM(Y57:AB57)","v":1},{"$f":"IF(ISERROR(Z57/W56),0,(Z57/W56)*100)","v":0},null,null,null,"Emb. con dTpa",null,null,null,null,null,null,null,null,null,8,null,null,2,null,null,0,0,null,null,0,{"$f":"SUM(AV57:BC57)","v":2},null,{"$f":"IF(ISERROR(AY57/AS57),0,(AY57/AS57)*100)","v":0},null,null,null,"Niños < 2 a Riesgo AP",null,null,null,null,null,null,null,null,{"$f":"IF(ISERROR(AT22/AJ22),0,(AT22/AJ22)*100)","v":0},null,null,null,null,"Ptes. con tratamiento por Chagas",null,null,null,null,null,null,null,null,null,{"$f":"S31","v":0}]
["Flias Migr. hacia el AO",null,null,null,null,null,null,{"$f":"IF(ISERROR(AA12/A12),0,(AA12/A12)*100)","v":0},"Superv Int. a la Familia",null,null,null,null,null,{"$f":"IF(ISERROR((CH14*100)/BL14),0,((CH14*100)/BL14))","v":0},20,null,"Unica Dosis A HA",null,null,null,null,null,null,1,0,0,0,null,{"$f":"SUM(Y58:AB58)","v":1},{"$f":"IF(ISERROR(Z58/W56),0,(Z58/W56)*100)","v":0},null,null,null,"Emb. con Vac Sinsicial",null,null,null,null,null,null,null,null,null,null,null,null,0,null,null,0,0,null,null,0,{"$f":"SUM(AV58:BC58)","v":0},null,{"$f":"IF(ISERROR(AY58/AS57),0,(AY58/AS57)*100)","v":0},null,100,null,"Niños < 2 Recup BP",null,null,null,null,null,null,null,null,{"$f":"IF(ISERROR(AV22/K79),0,(AV22/K79)*100)","v":0},null,100,null,null,"Casas positivas Chagas",null,null,null,null,null,null,null,null,null,{"$f":"IF(ISERROR(BE45/BB45),0,(BE45/BB45)*100)","v":0},null,0]
["Flias con planes sociales",null,null,null,null,null,null,{"$f":"IF(ISERROR(AF12/D12),0,(AF12/D12)*100)","v":0},"Superv Prof. Flias Prio (3v)",null,null,null,null,null,{"$f":"IF(ISERROR(CH15/(BB14+BE14)),0,(CH15/(BB14+BE14))*100)","v":0},70,null,"Ref Neumococo 1 año","Ref Neumoc 1 año",null,"Ref Neumoc 1 año","Ref Neumoc 1 año",null,null,1,0,0,0,null,{"$f":"SUM(Y59:AB59)","v":1},{"$f":"IF(ISERROR(Z59/W56),0,(Z59/W56)*100)","v":0},null,null,null,"dT  Vigente > 65 a",null,null,null,null,null,null,null,null,null,40,null,null,0,null,null,0,0,null,null,0,{"$f":"SUM(AV59:BC59)","v":0},null,{"$f":"IF(ISERROR(AY59/AS59),0,(AY59/AS59)*100)","v":0},null,100,null,"Niños < 2 Recup AP",null,null,null,null,null,null,null,null,{"$f":"IF(ISERROR(AY22/K81),0,(AY22/K81)*100)","v":0},null,100,null,null,"Casas Positivas Aedes",null,null,null,null,null,null,null,null,null,{"$f":"IF(ISERROR(BR45/BN45),0,(BR45/BN45)*100)","v":0},null," "]
[null,null,null,null,null,null,null,null,"% Activ Prom.Salud Comunitarias",null,null,null,null,null,{"$f":"IF(ISERROR(CH45/CH43),0,(CH45/CH43)*100)","v":0},100,null,"Ref. Meningococo 1 año","Ref Cuádruple 1 año",null,"Ref Cuádruple 1 año","Ref Cuádruple 1 año",null,null,1,0,0,0,null,{"$f":"SUM(Y60:AB60)","v":1},{"$f":"IF(ISERROR(Z60/W56),0,(Z60/W56)*100)","v":0},null,null,null,"Neumo 20 > 65 años",null,null,null,null,null,null,null,null,null,null,null,null,0,null,null,0,0,null,null,0,{"$f":"SUM(AV60:BC60)","v":0},null,{"$f":"IF(ISERROR(AY60/AS59),0,(AY60/AS59)*100)","v":0},null,null,null,"Niños 2 a 5 Riesgo BP",null,null,null,null,null,null,null,null,{"$f":"IF(ISERROR(AR23/AJ23),0,(AR23/AJ23)*100)","v":0},null,null,null,null,"UROCS 1/SEC",null,null,null,null,null,null,null,null,null,0,null,"1/SEC"]
["Flias. c/Antec Mort Mat Inf",null,null,null,null,null,null,{"$f":"IF(ISERROR(AV10/D12),0,(AV10/D12)*100)","v":0},null,null,null,null,null,null,null,null,null,"Unica Dosis Varicela","Ref SOT 1 año",null,"Ref SOT 1 año","Ref SOT 1 año",null,null,2,0,0,0,null,{"$f":"SUM(Y61:AB61)","v":2},{"$f":"IF(ISERROR(Z61/W56),0,(Z61/W56)*100)","v":0},null,null,null,"Aplic. Cargadas a Nomivac",null,null,null,null,null,null,null,null,null,0,null,null,null,null,null,null,null,null,null,null,null,null,null,null,null,null,null,null,null,null,null,null,null,null,null,null,null,null,null,null,"Flias con Huerta",null,null,null,null,null,null,null,null,null,{"$f":"IF(ISERROR(AL12/D12),0,(AL12/D12)*100)","v":0}]
["F con 3 o más <6 años",null,null,null,null,null,null,{"$f":"IF(ISERROR(BI10/D12),0,(BI10/D12)*100)","v":0}," DE IMPACTO",null,null,null,null,"%",null,"META",null,"4° Dosis o 1° Ref. Pentavalente",null,null,null,null,null,null,2,0,0,0,null,{"$f":"SUM(Y62:AB62)","v":2},{"$f":"IF(ISERROR(Z62/W56),0,(Z62/W56)*100)","v":0},null,null,null,"Total Aplic /AS",null,null,null,null,null,null,null,null,null,0,null,null,null,null,null,null,null,null,null,null,null,null,null,null,null,null,"Niños 2 a 5 Riesgo AP",null,null,null,null,null,null,null,null,{"$f":"IF(ISERROR(AT23/AJ23),0,(AT23/AJ23)*100)","v":0},null,null,null,null,"Flias con Granja",null,null,null,null,null,null,null,null,null,{"$f":"IF(ISERROR(AP12/D12),0,(AP12/D12)*100)","v":0}]
["Flias con Hacinamiento",null,null,null,null,null,null,{"$f":"IF(ISERROR(BL10/D12),0,(BL10/D12)*100)","v":0},"Agua Seg (Trat Red + Viv)",null,null,null,null,{"$f":"IF(ISERROR((AP41+AR41)/D12),0,((AP41+AR41)/D12)*100)","v":0},null,100,null,"2° AG 6m a 24m",null,null,null,null,15,null,0,0,0,0,null,{"$f":"SUM(Y63:AB63)","v":0},{"$f":"IF(ISERROR(Z63/W63),0,(Z63/W63)*100)","v":0},null," ",null,"VAC COVID APLIC EN LA RONDA",null,null,null,null,null,null,null,null,null,0,null,null,null,null,null,null,null,null,null,null,null,null,null,null,null,null,"U) A llenar en 1° Ronda del Año"]
["Flias con Analfabet",null,null,null,null,null,null,{"$f":"IF(ISERROR(BO10/D12),0,(BO10/D12)*100)","v":0},"DSE (Arrastre y letrinas)",null,null,null,null,{"$f":"IF(ISERROR((AV41+AX41+AZ41+BB41+BD41)/D12),0,((AV41+AX41+AZ41+BB41+BD41)/D12)*100)","v":0},null,100,null,"R) PRODUCCION Y RENDIMIENTO",null,null,null,null,null,null,null,null,null,null,null,null,null,null,null,null,null,null,null,null,null,null,null,null,null,null,null,null,null,null,null,null,null,null,null,null,null,null,null,null,null,null,null,"Piso",null,null,null,null,"Techo",null,null,null,null,"Paredes",null,null,null,null,null,null,null,null,null,"Cocina",null,null,null,null,"Tenencia"]
["Flias con Suicidio",null,null,null,null,null,null,{"$f":"IF(ISERROR(BT11/D12),0,(BT11/D12)*100)","v":0},"TSB (Recolección + Pozo)",null,null,null,null,{"$f":"IF(ISERROR((BH41+BK41)/D12),0,((BH41+BK41)/D12)*100)","v":0},null,100,null,"DIAS A TRAB. /RONDA",null,null,"DIAS INCLEM CLIMAT.",null,null,"DIAS Y NROS DE ARTICULOS TOMADOS",null,null,null,"CAPACITACIONES Y OTRAS ACTIVIDADES",null,null,null,null,null,null,null,null,null,null,null,null,null,null,null,null,null,null,null,null,null,null,"DIAS TRABAJADOS\nEN TERRENO",null,null,null,null,"PROM. DIARIO DE FLIAS VISIT.",null,null,null,null,null,"Mosaico/B.",null,null,null,0,"Losa",null,null,0,null,"Ladrillo",null,null,0,null,"Madera",null,null,null,0,"Gas",null,null,0,null,"Segura",null,null,0]
["Flias c /tentativa suicidio",null,null,null,null,null,null,{"$f":"IF(ISERROR(BV11/D12),0,(BV11/D12)*100)","v":0},"Emb Adolescente",null,null,null,null,{"$f":"IF(ISERROR(L20/J20),0,(L20/J20)*100)","v":0},null,null,null,null,null,null,null,null,null,0,null,null,null,0,null,null,null,null,null,null,null,null,null,null,0,null,null,null,null,null,null,null,null,null,null,null,null,null,null,null,null,null,null,null,null,null,null,"Cemento",null,null,null,0,"Chapa\nZinc",null,null,0,null,"Bloque",null,null,0,null,"Quincho",null,null,null,0,"Leña/\nCarb",null,null,0,null,"Inseg.",null,null,0]
["Flias con Alcoholismo",null,null,null,null,null,null,{"$f":"IF(ISERROR(BY11/D12),0,(BY11/D12)*100)","v":0},"Niños <2 Bajo Peso/MBP",null,null,null,null,{"$f":"IF(ISERROR((AL22+AN22)/(AJ22+AP22+AL22+AN22)),0,((AL22+AN22)/(AJ22+AP22+AL22+AN22))*100)","v":0},null,null,null,null,null,null,null,null,null,0,null,null,null,0,null,null,null,null,null,null,null,null,null,null,0,null,null,null,null,null,null,null,null,null,null,null,null,null,null,null,null,null,null,null,null,null,null,"Tierra",null,null,null,0,"Paja/\nBarro",null,null,0,null,"Adobe",null,null,0,null,"Carton/Pl",null,null,null,0,"Otros",null,null,0,null,"Hac",null,null,0,null,null,null,5]
["Flias c/ otras Adicciones",null,null,null,null,null,null,{"$f":"IF(ISERROR(CC11/D12),0,(CC11/D12)*100)","v":0},"Niños <2 a AP",null,null,null,null,{"$f":"IF(ISERROR(AP22/(AJ22+AP22+AL22+AN22)),0,(AP22/(AJ22+AP22+AL22+AN22))*100)","v":0},null,null,null,0,null,null,0,null,null,0,null,null,null,0,null,null,null,null,null,null,null,null,null,null,0,null,null,null,null,null,null,null,null,null,null,null,0,null,null,null,null,{"$f":"IF(ISERROR(G12/AY68),0,(G12/AY68))","v":0},null,null,null,null,null,"Otros",null,null,null,0,"Otros",null,null,0,null,"Piedra",null,null,0,null,"Otro",null,null,null,0,"Helad.",null,null,0]
["Flias con VIF",null,null,null,null,null,null,{"$f":"IF(ISERROR(CF11/D12),0,(CF11/D12)*100)","v":0},"Niños < 2 baja y MBT",null,null,null,null,{"$f":"IF(ISERROR((AZ22+BB22)/(AJ22+AP22+AL22+AN22)),0,((AZ22+BB22)/(AJ22+AP22+AL22+AN22))*100)","v":0},null,null,null,"S) DETALLE DE LAS DEFUNCIONES (Todas las del Sector)",null,null,null,null,null,null,null,null,null,null,null,null,null,null,null,null,null,null,null,null,null,null,null,null,null,null,null,null,null,null,null,null,null,null,null,null,null,null,null,null,null,null,null,"Agua",null,"Corriente a Domic",null,null,"Grifo Terr",null,null,"Grifo Público",null,null,"Bomba",null,null,"Pozo",null,null,null,"Camión Aguatero / Cisterna",null,"Vertiente/Rio/Aceq",null,null,"Laguna",null,null,"Lluvia/Aljibe"]
["Flias con Diabetes",null,null,null,null,null,null,{"$f":"IF(ISERROR(AB31/D12),0,(AB31/D12)*100)","v":0},"Niños 2 a 5 Bajo Peso/MBP",null,null,null,null,{"$f":"IF(ISERROR((AL23+AN23)/(AJ23+AP23+AL23+AN23)),0,((AL23+AN23)/(AJ23+AP23+AL23+AN23))*100)","v":0},null,null,null,"APELLIDO Y NOMBRE",null,null,null,null,null,null,"DOMICILIO",null,null,null,null,null,null,null,null,"NACIMIENTO",null,null,null,null,"DEFUNCION",null,null,null,"PESO\nAL NACER",null,null,null,"CAUSA",null,null,null,null,null,null,null,null,null,"CLASIFICAC."]
["Flias con Hipertensión",null,null,null,null,null,null,{"$f":"IF(ISERROR(AB32/D12),0,(AB32/D12)*100)","v":0},"Niños 2 a 5 AP",null,null,null,null,{"$f":"IF(ISERROR(AP23/(AJ23+AP23+AL23+AN23)),0,(AP23/(AJ23+AP23+AL23+AN23))*100)","v":0}]
[]
["Personas con otras enfermedades crónicas al cuidado de niños",null,null,null,null,null,null,{"$f":"IF(ISERROR(AB33/D12),0,(AB33/D12)*100)","v":0},"Niños 2 a 5 baja y MBT",null,null,null,null,{"$f":"IF(ISERROR((AZ23+BB23)/(AJ23+AP23+AL23+AN23)),0,((AZ23+BB23)/(AJ23+AP23+AL23+AN23))*100)","v":0},null,null,null,null,null,null,null,null,null,null,null,null,null,null,null,null,null,null,null,null,null,null,null,null,null,null,null,null,null,null,null,null,null,null,null,null,null,null,null,null,null,null,null,null,null,null,null,null,null,0,null,null,0,null,null,0,null,null,0,null,null,0,null,null,null,0,null,0,null,null,0,null,null,0]
["Pers c/O Social/Pob total",null,null,null,null,null,null,{"$f":"IF(ISERROR(CI27/CC28),0,(CI27/CC28)*100)","v":0}]
[]
[]
[]
[]
["BP+MBP Ronda Anterior Men2a: ",null,null,null,null,null,null,null,null,null,0]
["BP+MBP Ronda Anterior 2 a 6a: ",null,null,null,null,null,null,null,null,null,1]
["AP Ronda Anterior Men2a: ",null,null,null,null,null,null,null,null,null,3]
["AP Ronda Anterior 2 a 6a: ",null,null,null,null,null,null,null,null,null,2]
[]
[]
[]
[]
[]
["0 a 5m",null,null,"6 a 11m",null,null,"1 AÑO",null,"2 AÑOS",null,"3 AÑOS",null,"4 AÑOS",null,null,"5 AÑOS",null,null,"6 AÑOS",null,null,"7 A 9 AÑOS",null,null,null,"10 AÑOS",null,"11 AÑOS",null,null,"12 A 14",null,null,null,null,null,"15 A 19",null,null,"20 A 24",null,null,null,"25 A 29",null,null,null,"30 A 34",null,null,null,"35 A 39",null,null,null,"40 A 44",null,null,null,null,"45 A 49",null,null,null,"50 A 54",null,null,null,"55 A 59",null,null,null,"60 A 64",null,null,null,"65 y +",null,null,null,"TOTAL",null,null,null,null,"MUJERES\n10 A 49"]
["M",null,"F","M",null,"F","M","F","M","F","M","F","M",null,"F","M",null,"F","M",null,"F","M",null,"F",null,"M","F","M",null,"F","M",null,null,"F",null,null,"M","F",null,"M",null,"F",null,"M",null,null,"F","M",null,null,"F","M",null,"F",null,"M",null,null,"F",null,"M",null,"F",null,"M",null,"F",null,"M",null,"F",null,"M",null,"F",null,"M",null,null,"F","M",null,"F"]
[0,null,0,0,null,0,0,0,0,0,0,0,0,null,0,0,null,0,0,null,0,0,null,0,null,0,0,0,null,0,0,null,null,0,null,null,0,0,null,0,null,0,null,0,null,null,0,0,null,null,0,0,null,0,null,0,null,null,0,null,0,null,0,null,0,null,0,null,0,null,0,null,0,null,0,null,0,null,null,0,{"$f":"SUM(A90,D90,G90,I90,K90,M90,P90,S90,V90,Z90,AB90,AE90,AK90,AN90,AR90,AV90,AZ90,BD90,BI90,BM90,BQ90,BU90,BY90)","v":0},null,{"$f":"SUM(C90,F90,H90,J90,L90,O90,R90,U90,X90,AA90,AD90,AH90,AL90,AP90,AU90,AY90,BB90,BG90,BK90,BO90,BS90,BW90,CB90)","v":0},null,null,{"$f":"SUM(AA90,AD90,AH90,AL90,AP90,AU90,AY90,BB90,BG90,BK90)","v":0}]
[{"$f":"SUM(A90:C90)","v":0},null,null,{"$f":"SUM(D90,F90)","v":0},null,null,{"$f":"SUM(G90,H90)","v":0},null,{"$f":"SUM(I90,J90)","v":0},null,{"$f":"SUM(K90,L90)","v":0},null,{"$f":"SUM(M90,O90)","v":0},null,null,{"$f":"SUM(P90,R90)","v":0},null,null,{"$f":"SUM(S90,U90)","v":0},null,null,{"$f":"SUM(V90,X90)","v":0},null,null,null,{"$f":"SUM(Z90,AA90)","v":0},null,{"$f":"SUM(AB90,AD90)","v":0},null,null,{"$f":"SUM(AE90,AH90)","v":0},null,null,null,null,null,{"$f":"SUM(AK90,AL90)","v":0},null,null,{"$f":"SUM(AN90,AP90)","v":0},null,null,null,{"$f":"SUM(AR90,AU90)","v":0},null,null,null,{"$f":"SUM(AV90,AY90)","v":0},null,null,null,{"$f":"SUM(AZ90,BB90)","v":0},null,null,null,{"$f":"SUM(BD90,BG90)","v":0},null,null,null,null,{"$f":"SUM(BI90,BK90)","v":0},null,null,null,{"$f":"SUM(BM90,BO90)","v":0},null,null,null,{"$f":"SUM(BQ90,BS90)","v":0},null,null,null,{"$f":"SUM(BU90,BW90)","v":0},null,null,null,{"$f":"SUM(BY90,CB90)","v":0},null,null,null,{"$f":"A91+D91+G91+I91+K91+M91+P91+S91+V91+Z91+AB91+AE91+AK91+AN91+AR91+AV91+AZ91+BD91+BI91+BM91+BQ91+BU91+BY91","v":0}]
["Mejor Población: 1° - 2019",null,null,null,null,null,null,null,null,null,null,null,null,null,null,null,null,null,null,null,null,null,null,null,null,null,null,null,null,null,null,null,null,null,null,null,null,null,null,null,null,null,null,null,null,null,null,null,null,null,null,null,null,null,null,null,null,null,null,null,null,null,null,null,null,null,null,null,null,null,null,null,null,null,null,null,null,null,null,null,{"$f":"SUM(CC91,CE91)","v":0}]
["Cobertura: 1%"]

{"sheet":"MATADERO","index":22,"n_rows":93,"n_cols":94,"rows_kept":93,"cut":false,"hidden":false,"merged":[[61,30,61,31],[62,30,62,31],[0,86,0,87],[1,8,1,9],[1,15,1,25],[1,46,1,53],[1,56,1,57],[1,58,1,59],[1,60,1,61],[1,67,1,84],[1,86,1,87],[0,27,3,45],[0,46,0,52],[0,56,0,57],[0,58,0,59],[0,60,0,61],[0,81,0,84],[2,46,2,53],[2,56,2,57],[2,58,2,59],[2,60,2,61],[6,0,6,89],[7,0,7,46],[7,47,7,89],[8,0,10,2],[8,3,10,5],[8,6,10,7],[8,8,8,16],[8,17,10,18],[8,19,10,20],[8,21,10,23],[4,80,4,87],[5,8,5,24],[5,33,5,46],[5,57,5,67],[5,75,5,77],[5,82,5,87],[2,67,2,79],[2,86,2,87],[3,8,3,23],[3,46,3,53],[3,56,3,57],[3,58,3,59],[3,60,3,61],[3,74,3,79],[3,84,3,87],[8,86,8,89],[9,8,10,9],[9,10,10,11],[9,12,10,13],[9,14,10,16],[9,26,10,27],[9,28,10,30],[8,66,8,68],[8,69,8,72],[8,73,8,75],[8,76,8,79],[8,80,8,82],[8,83,8,85],[8,51,8,53],[8,54,8,55],[8,56,8,57],[8,58,8,59],[8,60,8,62],[8,63,8,65],[8,24,10,25],[8,26,8,30],[8,31,10,36],[8,37,8,46],[8,47,8,48],[8,49,8,50],[9,49,10,50],[11,0,14,2],[11,3,14,5],[11,6,14,7],[11,8,14,9],[11,10,14,11],[11,12,14,13],[9,86,9,89],[10,69,10,72],[10,73,10,74],[10,76,10,78],[10,81,10,82],[10,83,10,84],[10,86,10,89],[9,66,10,68],[9,69,9,72],[9,73,9,74],[9,76,9,78],[9,81,9,82],[9,83,9,84],[9,51,10,53],[9,54,10,55],[9,56,10,57],[9,58,10,59],[9,60,10,62],[9,63,10,65],[13,75,13,78],[13,79,13,80],[13,81,13,84],[9,37,10,40],[9,41,10,46],[9,47,10,48],[12,85,12,89],[13,47,13,52],[13,63,13,68],[13,69,13,74],[12,47,12,52],[12,63,12,68],[12,53,12,55],[12,56,12,59],[12,60,12,62],[13,53,13,55],[13,56,13,59],[13,60,13,62],[14,53,14,55],[14,56,14,59],[14,60,14,62],[11,19,14,20],[11,21,14,23],[11,24,14,25],[11,26,14,27],[16,0,18,2],[16,6,18,6],[16,7,18,7],[16,8,18,8],[16,9,18,9],[16,10,18,10],[16,11,18,11],[16,12,18,13],[14,79,14,80],[14,81,14,84],[14,85,14,89],[15,12,15,19],[15,20,15,28],[15,29,15,65],[15,66,15,75],[11,28,14,30],[11,31,14,36],[11,37,14,40],[11,41,14,46],[11,47,11,68],[11,69,11,89],[11,14,14,16],[11,17,14,18],[13,85,13,89],[14,47,14,52],[14,63,14,68],[14,69,14,74],[14,75,14,78],[12,69,12,74],[12,75,12,78],[12,79,12,80],[12,81,12,84],[19,0,20,2],[19,12,19,13],[19,14,19,15],[19,18,19,19],[19,20,19,21],[19,23,19,24],[19,25,19,26],[19,27,19,28],[17,41,20,42],[17,43,18,46],[17,47,18,50],[17,51,18,55],[17,56,20,57],[17,58,18,62],[19,43,20,44],[19,45,20,46],[19,47,20,49],[19,50,20,50],[17,16,18,16],[17,17,18,17],[17,22,18,22],[17,23,18,24],[17,25,18,26],[17,27,18,28],[17,29,20,31],[16,14,18,15],[16,16,16,17],[16,18,18,19],[16,20,18,21],[16,22,16,28],[16,29,16,65],[17,32,20,34],[21,12,21,15],[21,16,21,19],[21,29,21,31],[21,32,21,34],[20,12,20,19],[20,20,21,23],[20,24,21,28],[21,35,21,36],[21,37,21,38],[21,39,21,40],[21,41,21,42],[19,68,20,69],[19,70,20,71],[19,72,20,73],[19,74,20,75],[19,76,20,79],[19,51,20,52],[19,53,20,54],[19,55,20,55],[19,58,20,60],[19,61,20,62],[19,66,20,67],[17,63,20,65],[16,66,18,67],[16,68,18,69],[16,70,18,71],[16,72,18,73],[16,74,18,75],[16,76,18,79],[17,35,20,36],[17,37,20,38],[17,39,20,40],[22,16,22,19],[22,20,22,23],[22,24,22,28],[22,29,22,31],[22,32,22,34],[22,35,22,36],[21,58,21,60],[21,61,21,62],[21,63,21,65],[21,66,22,73],[21,74,22,75],[21,76,21,79],[22,76,22,79],[21,43,21,44],[21,45,21,46],[21,47,21,49],[21,51,21,52],[21,53,21,54],[21,56,21,57],[23,0,23,89],[24,0,24,2],[24,3,24,5],[24,6,24,7],[24,8,24,9],[24,10,24,11],[24,12,24,14],[24,15,24,17],[24,18,24,20],[22,51,22,52],[22,53,22,54],[22,56,22,57],[22,58,22,60],[22,61,22,62],[22,63,22,65],[22,37,22,38],[22,39,22,40],[22,41,22,42],[22,43,22,44],[22,45,22,46],[22,47,22,49],[21,0,22,2],[24,88,25,89],[25,0,25,1],[25,3,25,4],[25,12,25,13],[25,15,25,16],[25,18,25,19],[25,21,25,22],[25,23,25,24],[25,27,25,28],[22,12,22,15],[24,68,24,71],[24,72,24,75],[24,76,24,79],[24,80,24,84],[24,85,25,85],[24,86,25,87],[25,76,25,78],[25,80,25,81],[25,82,25,84],[24,43,24,46],[24,47,24,50],[24,51,24,54],[24,55,24,59],[24,60,24,63],[24,64,24,67],[24,21,24,24],[24,25,24,26],[24,27,24,29],[24,30,24,35],[24,36,24,38],[24,39,24,42],[26,37,26,38],[26,39,26,40],[26,0,26,1],[26,3,26,4],[26,12,26,13],[26,15,26,16],[26,18,26,19],[26,21,26,22],[25,64,25,65],[25,66,25,67],[25,68,25,69],[25,70,25,71],[25,72,25,73],[25,74,25,75],[25,51,25,52],[25,53,25,54],[25,55,25,57],[25,58,25,59],[25,60,25,61],[25,62,25,63],[25,33,25,35],[25,37,25,38],[25,39,25,40],[25,41,25,42],[25,43,25,45],[25,47,25,49],[25,30,25,32],[26,85,27,85],[26,86,27,87],[26,88,27,89],[27,0,27,2],[27,3,27,5],[27,6,27,7],[27,8,27,9],[27,10,27,11],[27,12,27,14],[27,15,27,17],[26,70,26,71],[26,72,26,73],[26,74,26,75],[26,76,26,78],[26,80,26,81],[26,82,26,84],[26,58,26,59],[26,60,26,61],[26,62,26,63],[26,64,26,65],[26,66,26,67],[26,68,26,69],[26,41,26,42],[26,43,26,45],[26,47,26,49],[26,51,26,52],[26,53,26,54],[26,55,26,57],[26,23,26,24],[26,27,26,28],[26,30,26,32],[26,33,26,35],[27,64,27,67],[27,68,27,71],[27,72,27,75],[27,76,27,79],[27,80,27,84],[28,0,28,14],[28,15,28,20],[28,21,28,32],[27,39,27,42],[27,43,27,46],[27,47,27,50],[27,51,27,54],[27,55,27,59],[27,60,27,63],[27,18,27,20],[27,21,27,24],[27,25,27,26],[27,27,27,29],[27,30,27,35],[27,36,27,38],[30,21,30,26],[30,27,30,29],[30,30,30,32],[31,0,31,2],[31,3,31,4],[31,8,31,9],[31,10,31,11],[31,12,32,14],[31,15,32,17],[31,18,32,20],[29,30,29,32],[29,33,35,89],[30,0,30,2],[30,3,30,5],[30,6,30,7],[30,8,30,9],[30,10,30,11],[30,12,30,14],[30,15,30,17],[30,18,30,20],[29,0,29,2],[29,3,29,7],[29,8,29,14],[29,15,29,20],[29,21,29,26],[29,27,29,29],[33,0,33,2],[33,3,33,7],[33,8,33,11],[33,12,33,14],[33,15,35,17],[33,18,35,20],[34,0,35,2],[34,3,34,5],[34,6,34,7],[34,8,34,9],[31,21,31,26],[31,27,31,29],[31,30,31,32],[32,0,32,2],[32,3,32,4],[32,8,32,9],[32,10,32,11],[32,21,33,26],[32,27,33,29],[32,30,33,32],[38,4,39,7],[38,8,39,11],[38,12,38,19],[38,20,39,21],[38,22,39,23],[36,0,37,40],[36,41,36,68],[36,69,36,89],[37,41,37,46],[37,47,37,58],[37,59,37,68],[37,69,37,79],[37,80,39,81],[37,82,39,85],[37,86,39,89],[34,10,34,11],[34,12,35,14],[34,21,35,26],[34,27,35,32],[35,3,35,5],[35,6,35,7],[35,8,35,9],[35,10,35,11],[40,0,41,1],[40,2,41,3],[40,4,41,5],[40,6,41,7],[40,8,41,9],[40,10,41,11],[38,66,39,68],[38,69,39,71],[38,72,39,75],[38,76,39,79],[39,12,39,13],[39,14,39,15],[39,16,39,17],[39,18,39,19],[39,47,39,48],[39,49,39,50],[38,46,39,46],[38,47,38,52],[38,53,38,56],[38,57,39,58],[38,59,39,61],[38,62,39,65],[39,51,39,52],[39,53,39,54],[39,55,39,56],[38,24,39,27],[38,28,39,31],[38,32,39,35],[38,36,39,40],[38,41,39,42],[38,43,39,45],[38,0,39,3],[40,41,40,42],[40,43,40,45],[40,47,40,48],[40,49,40,50],[40,24,41,25],[40,26,41,27],[40,28,41,29],[40,30,41,31],[40,32,41,33],[40,34,41,35],[40,18,41,18],[40,19,41,19],[40,20,41,20],[40,21,41,21],[40,22,41,22],[40,23,41,23],[40,12,41,12],[40,13,41,13],[40,14,41,14],[40,15,41,15],[40,16,41,16],[40,17,41,17],[42,21,44,21],[42,22,44,22],[42,10,44,11],[42,12,44,12],[42,13,44,13],[42,14,44,14],[42,15,44,15],[42,16,44,16],[40,86,40,89],[41,41,41,52],[41,53,41,64],[41,65,41,76],[41,77,41,89],[42,0,44,1],[42,2,44,3],[42,4,44,5],[42,6,44,7],[42,8,44,9],[40,66,40,68],[40,69,40,71],[40,72,40,75],[40,76,40,79],[40,80,40,81],[40,82,40,85],[40,51,40,52],[40,53,40,54],[40,55,40,56],[40,57,40,58],[40,59,40,61],[40,62,40,65],[40,36,41,38],[40,39,41,40],[42,73,43,76],[42,77,43,84],[42,85,43,89],[44,41,44,45],[44,46,44,48],[44,49,44,50],[44,51,44,52],[44,53,44,55],[44,56,44,60],[44,61,44,64],[42,51,43,52],[42,53,43,55],[42,56,43,60],[42,61,43,64],[42,65,43,68],[42,69,43,72],[42,34,44,35],[42,36,44,38],[42,39,44,40],[42,41,43,45],[42,46,43,48],[42,49,43,50],[46,70,46,71],[46,72,46,74],[46,75,46,84],[46,85,46,86],[46,87,46,89],[47,0,47,5],[47,8,47,13],[47,15,47,16],[47,17,47,21],[47,22,47,23],[46,0,46,5],[46,8,46,13],[46,15,46,16],[46,17,46,33],[46,34,46,60],[46,61,46,69],[44,65,44,68],[44,69,44,72],[44,73,44,76],[44,77,44,84],[44,85,44,89],[45,0,45,89],[42,23,44,23],[42,24,44,25],[42,26,44,27],[42,28,44,29],[42,30,44,31],[42,32,44,33],[42,17,44,17],[42,18,44,18],[42,19,44,19],[42,20,44,20],[47,72,47,74],[47,75,47,84],[47,85,47,86],[47,87,47,89],[48,0,48,5],[48,8,48,13],[48,15,48,16],[48,17,48,21],[48,22,49,23],[48,27,48,28],[47,51,47,53],[47,55,47,56],[47,57,47,58],[47,59,47,60],[47,61,47,69],[47,70,47,71],[47,27,47,28],[47,30,47,31],[47,32,47,33],[47,34,47,43],[47,44,47,46],[47,47,47,49],[49,75,50,84],[49,85,50,86],[49,87,50,89],[50,0,50,6],[50,8,50,13],[50,15,50,16],[50,17,50,21],[50,22,54,23],[50,27,50,28],[48,75,48,84],[48,85,48,86],[48,87,48,89],[49,0,49,5],[49,8,49,13],[49,15,49,16],[49,17,49,21],[49,27,49,28],[49,30,49,31],[49,34,49,43],[48,55,48,56],[48,57,48,58],[48,59,50,60],[48,61,48,69],[48,70,48,71],[48,72,48,74],[49,55,49,56],[49,57,49,58],[49,61,49,69],[49,70,49,71],[48,30,48,31],[48,32,49,33],[48,34,48,43],[50,70,50,71],[50,72,50,74],[51,0,51,6],[51,8,51,13],[51,15,51,16],[51,17,51,21],[51,27,51,28],[51,30,51,31],[51,34,51,43],[51,47,51,49],[50,34,50,43],[50,47,50,49],[50,51,50,53],[50,55,50,56],[50,57,50,58],[50,61,50,69],[49,72,49,74],[48,44,51,46],[48,47,48,49],[48,51,48,53],[49,47,49,49],[49,51,49,53],[50,30,50,31],[50,32,54,33],[51,72,51,74],[53,0,53,6],[53,8,53,13],[53,15,53,16],[53,17,53,21],[53,27,53,28],[53,30,53,31],[51,75,51,84],[51,85,51,86],[51,87,51,89],[52,0,52,6],[52,8,52,13],[52,15,52,16],[52,17,52,21],[52,27,52,28],[52,30,52,31],[51,51,51,53],[51,55,51,56],[51,57,51,58],[51,59,52,60],[51,61,51,69],[51,70,51,71],[52,61,52,69],[52,70,52,71],[52,72,52,74],[52,75,52,84],[52,85,52,86],[52,87,52,89],[52,34,52,43],[52,44,53,46],[52,47,52,49],[52,51,52,53],[52,55,52,56],[52,57,52,58],[53,34,53,43],[53,47,53,49],[53,51,53,53],[53,55,53,56],[53,85,53,86],[53,87,53,89],[54,0,54,6],[54,8,54,13],[54,15,54,16],[54,17,54,21],[54,27,54,28],[54,30,54,31],[54,34,54,43],[54,44,54,46],[53,57,53,58],[53,59,54,60],[53,61,53,69],[53,70,53,71],[53,72,53,74],[53,75,53,84],[54,72,54,74],[54,75,54,84],[54,85,54,86],[54,87,54,89],[55,0,55,6],[55,8,55,13],[55,15,55,16],[55,17,55,21],[55,27,55,28],[55,30,55,31],[55,32,60,33],[54,47,54,49],[54,51,54,53],[54,55,54,56],[54,57,54,58],[54,61,54,69],[54,70,54,71],[56,87,56,89],[57,0,57,6],[57,8,57,13],[57,15,57,16],[57,17,57,21],[57,27,57,28],[57,30,57,31],[57,34,57,43],[56,51,56,53],[56,55,56,56],[56,57,56,58],[56,61,56,69],[56,70,56,71],[56,72,56,74],[55,87,55,89],[56,0,56,6],[56,8,56,13],[56,15,56,16],[58,61,58,69],[58,70,58,71],[58,72,58,74],[56,17,56,21],[56,27,56,28],[56,30,56,31],[56,34,56,43],[56,44,57,46],[56,47,56,49],[55,59,56,60],[55,61,55,69],[55,70,55,71],[55,72,55,74],[55,75,55,84],[55,85,55,86],[56,75,56,84],[56,85,56,86],[55,34,55,43],[55,44,55,46],[55,47,55,49],[55,51,55,53],[55,55,55,56],[55,57,55,58],[57,75,57,84],[57,85,57,86],[61,72,61,74],[61,75,61,84],[61,85,61,86],[57,87,57,89],[58,0,59,6],[58,7,59,7],[58,8,58,13],[58,15,58,16],[58,17,58,21],[58,27,58,28],[58,30,58,31],[57,55,57,56],[57,57,57,58],[57,59,57,60],[57,61,57,69],[57,70,57,71],[57,72,57,74],[59,85,59,86],[59,87,59,89],[57,47,57,49],[57,51,57,53],[58,87,58,89],[59,8,60,13],[59,14,60,14],[59,15,60,16],[59,17,59,21],[59,27,59,28],[59,30,59,31],[59,34,59,43],[59,47,59,49],[59,51,59,53],[58,59,59,60],[64,84,64,85],[61,87,61,89],[61,32,61,33],[61,34,61,43],[61,44,61,60],[62,44,62,60],[60,87,60,89],[61,0,61,6],[61,8,61,12],[61,13,61,14],[61,15,61,16],[60,0,60,6],[60,17,60,21],[60,27,60,28],[60,30,60,31],[60,34,60,43],[60,44,60,60],[60,75,60,84],[60,85,60,86],[62,61,62,89],[59,61,60,69],[59,70,60,71],[59,72,60,74],[59,75,59,84],[58,44,59,46],[58,47,58,49],[58,51,58,53],[58,55,58,56],[58,57,58,58],[59,55,59,56],[63,86,63,89],[64,0,64,6],[64,8,64,12],[64,13,64,14],[64,15,64,16],[64,17,66,19],[64,20,66,22],[64,23,64,26],[64,27,64,49],[64,50,66,54],[65,0,65,6],[65,8,65,12],[65,13,65,14],[66,86,67,88],[66,89,67,89],[67,0,67,6],[67,8,67,12],[67,13,67,14],[67,15,67,16],[67,17,67,19],[66,38,66,49],[66,61,66,64],[66,66,66,68],[63,0,63,6],[63,8,63,12],[63,13,63,14],[63,15,63,16],[63,17,63,60],[63,61,63,65],[63,66,63,70],[63,71,63,80],[63,81,63,85],[66,69,66,70],[66,71,66,73],[66,74,66,75],[65,76,65,79],[65,81,65,83],[65,84,65,85],[65,86,65,88],[66,0,66,6],[66,8,66,12],[66,13,66,14],[66,15,66,16],[66,23,66,26],[66,27,66,37],[65,15,65,16],[65,23,65,26],[65,27,65,37],[65,38,65,49],[64,55,66,60],[64,61,64,64],[64,66,64,68],[64,69,64,70],[64,74,64,75],[64,86,64,88],[64,76,64,79],[65,61,65,64],[65,66,65,68],[65,69,65,70],[65,74,65,75],[66,76,66,79],[66,81,66,83],[66,84,66,85],[64,81,64,83],[68,84,71,86],[67,81,67,83],[67,84,67,85],[68,0,68,6],[68,8,68,12],[68,13,68,14],[68,15,68,16],[68,17,68,60],[68,61,73,62],[68,63,71,65],[68,66,71,68],[67,61,67,64],[67,66,67,68],[67,69,67,70],[67,71,67,73],[67,74,67,75],[67,76,67,79],[67,20,67,22],[67,23,67,26],[67,27,67,37],[67,38,67,49],[67,50,67,54],[67,55,67,60],[70,38,70,41],[70,42,70,45],[70,46,70,55],[70,56,70,60],[71,17,71,23],[71,24,71,32],[71,33,71,37],[71,38,71,41],[71,42,71,45],[71,46,71,55],[69,46,69,55],[69,56,69,60],[70,0,71,6],[70,7,71,7],[70,8,71,12],[70,13,71,14],[70,15,71,16],[70,17,70,23],[70,24,70,32],[70,33,70,37],[69,0,69,6],[69,8,69,12],[69,13,69,14],[69,15,69,16],[69,17,69,23],[69,24,69,32],[69,33,69,37],[69,38,69,41],[69,42,69,45],[72,75,73,78],[72,79,73,80],[72,81,73,83],[72,84,73,86],[72,87,73,89],[73,0,73,6],[73,17,73,23],[73,24,73,32],[73,33,73,37],[73,38,73,41],[72,46,72,55],[72,56,72,60],[72,63,73,65],[72,66,73,68],[72,69,73,71],[72,72,73,74],[71,56,71,60],[72,0,72,6],[72,8,73,12],[72,13,73,14],[72,15,73,16],[72,17,72,23],[72,24,72,32],[72,33,72,37],[72,38,72,41],[72,42,72,45],[68,87,71,89],[68,69,71,71],[68,72,71,74],[68,75,71,78],[68,79,71,80],[68,81,71,83],[75,17,75,23],[75,24,75,32],[75,38,75,41],[75,42,75,45],[75,46,75,55],[87,0,87,2],[87,3,87,5],[87,6,87,7],[87,8,87,9],[87,10,87,11],[73,42,73,45],[73,46,73,55],[73,56,73,60],[74,17,74,23],[74,24,74,32],[74,38,74,41],[74,42,74,45],[74,46,74,55],[87,80,87,84],[87,85,88,85]],"merged_total":1135,"flags":["merged_cut"]}
[null,null,null,null,null,null,null,null,null,null,null,null,null,null,null,null,null,null,null,null,null,null,null,null,null,null,null,"DIRECCION - PROGRAMA  APS \nSUBSECRETARIA DE MEDICINA SOCIAL\nRONDA N°:192    AÑO:2025",null,null,null,null,null,null,null,null,null,null,null,null,null,null,null,null,null,null,null,null,null,null,null,null,null,null,"1r","2r","3r",null,"4r",null,"T",null,null,null,null,null,null,null,null,null,null,null,null,null,null,null,null,null,null,null,"Informe y orden de Ronda: ",6,null,null,null,null,2]
[null,null,null,null,null,null,null,"Area Operativa N°: ",4,null,null,null,null,null,"Nombre: ","MORILLO",null,null,null,null,null,null,null,null,null,null,null,null,null,null,null,null,null,null,null,null,null,null,null,null,null,null,null,null,null,null,"Mort. Mater. Acum. Año",null,null,null,null,null,null,null,0,{"$f":"CE41","v":0},0,null,{"$f":"CE41","v":0},null,{"$f":"SUM(BC2:BG2)","v":0},null,null,null,null,"Sector:",null,"MATADERO",null,null,null,null,null,null,null,null,null,null,null,null,null,null,null,null,null,"N°",14]
[null,null,null,null,null,null,null,null,null,null,null,null,null,null,null,null,null,null,null,null,null,null,null,null,null,null,null,null,null,null,null,null,null,null,null,null,null,null,null,null,null,null,null,null,null,null,"Mort. 0-1 año Acum Año",null,null,null,null,null,null,null,0,{"$f":"BR41+BU41+BY41","v":0},0,null,{"$f":"BR41+BU41+BY41","v":0},null,{"$f":"SUM(BC3:BG3)","v":0},null,null,null,null,null,"Etnia: ","CRIOLLO-WICHI",null,null,null,null,null,null,null,null,null,null,null,null,null,null,null,null,null,"Sector Riesgo:","No"]
[null,null,null,null,null,null,null,"Establec. Base: ","HOSPITAL MORILLO",null,null,null,null,null,null,null,null,null,null,null,null,null,null,null,null,null,null,null,null,null,null,null,null,null,null,null,null,null,null,null,null,null,null,null,null,null,"Mort. 1-4 años Acum Año",null,null,null,null,null,null,null,0,{"$f":"CC41","v":0},0,null,{"$f":"CC41","v":0},null,{"$f":"SUM(BC4:BG4)","v":0},null,null,null,null,null,null,null,null,null,null,null,null,"Desde: ","07/03/2025",null,null,null,null,null,null,null,null,"Hasta: ","05/06/2026"]
[null,null,null,null,null,null,null,null,null,null,null,null,null,null,null,null,null,null,null,null,null,null,null,null,null,null,null,null,null,null,null,null,null,null,null,null,null,null,null,null,null,null,null,null,null,null,null,null,null,null,null,null,null,null,null,null,null,null,null,null,null,null,null,null,null,null,null,null,null,null,null,null,null,null,null,null,null,null,null,"Cobertura: ","CUBIERTO"]
[null,null,null,null,null,null,null,"Sup. Intermedio: ","MIGUEL CORREA",null,null,null,null,null,null,null,null,null,null,null,null,null,null,null,null,null,null,null,null,null,null,null,"Responsable A.P.S.: ","Dr. Abel Ibarra",null,null,null,null,null,null,null,null,null,null,null,null,null,null,null,null,null,null,null,null,null,null,"Agente Sanitario: ","MONICA CARDOZO",null,null,null,null,null,null,null,null,null,null,null,null,null,null,null,null,"Sit. Revista: ","PLANTA PERMANENTE",null,null,null,null,null,"Reg. Horario: ","30 HS."]
[]
["A) FAMILIAS VISITADAS EN LA RONDA",null,null,null,null,null,null,null,null,null,null,null,null,null,null,null,null,null,null,null,null,null,null,null,null,null,null,null,null,null,null,null,null,null,null,null,null,null,null,null,null,null,null,null,null,null,null,"B) FACTORES DE PRIORIZACION DE VISITAS"]
["ASIGNADAS",null,null,"VISITADAS",null,null,"TOTAL\nVISITAS",null,"NO VISITADAS",null,null,null,null,null,null,null,null,"FLIAS ORIG.",null,"FLIAS. URB.",null,"FLIAS. PERIURB",null,null,"FLIAS. RURALES",null,"GOLON\nMIGRANTES",null,null,null,null,"FLIAS. CON PL. SOCIALES",null,null,null,null,null,"PRODUCCION\nFAMILIAR",null,null,null,null,null,null,null,null,null,1,null,2,null,3,null,null,4,null,5,null,6,null,7,null,null,8,null,null,9,null,null,10,null,null,null,11,null,null,12,null,null,null,13,null,null,14,null,null,15]
[null,null,null,null,null,null,null,null,"RECHAZO TOTAL",null,"AUSEN\n-TE",null,"NO VISITADAS",null,"TOT NO VISIT.",null,null,null,null,null,null,null,null,null,null,null,"HACIA\nEL AO",null,"DESDE\nEL AO",null,null,null,null,null,null,null,null,"HUERTA",null,null,null,"GRANJA",null,null,null,null,null,0,null,0,null,0,null,null,0,null,0,null,0,null,0,null,null,0,null,null,0,null,null,"Total",null,null,null,"Tot",null,"Trat","Tot.",null,null,"Trat.","Tot.","Trat.",null,"Tot.",null,"Trat","Total"]
[null,null,null,null,null,null,null,null,null,null,0,null,null,null,null,null,null,null,null,null,null,null,null,null,null,null,null,null,null,null,null,null,null,null,null,null,null,null,null,null,null,null,null,null,null,null,null,null,null,null,null,null,null,null,null,null,null,null,null,null,null,null,null,null,null,null,null,null,null,0,null,null,null,0,null,0,0,null,null,0,0,0,null,0,null,0,0]
[0,null,null,0,null,null,0,null,0,null,0,null,0,null,{"$f":"M12+K12+I12","v":0},null,null,0,null,0,null,0,null,null,0,null,0,null,0,null,null,0,null,null,null,null,null,0,null,null,null,0,null,null,null,null,null,"C) VISITAS A FLIAS. PRIORIZADAS",null,null,null,null,null,null,null,null,null,null,null,null,null,null,null,null,null,null,null,null,null,"D) SUPERV. A FLIAS. "]
[null,null,null,null,null,null,null,null,null,null,null,null,null,null,null,null,null,null,null,null,null,null,null,null,null,null,null,null,null,null,null,null,null,null,null,null,null,null,null,null,null,null,null,null,null,null,null,"PRIORIDAD",null,null,null,null,null,1,null,null,2,null,null,null,3,null,null,"Total",null,null,null,null,null,"PRIORIDAD",null,null,null,null,null,1,null,null,null,2,null,3,null,null,null,"TOTAL"]
[null,null,null,null,null,null,null,null,null,null,null,null,null,null,null,null,null,null,null,null,null,null,null,null,null,null,null,null,null,null,null,null,null,null,null,null,null,null,null,null,null,null,null,null,null,null,null,"N° FAMILIAS",null,null,null,null,null,0,null,null,0,null,null,null,0,null,null,{"$f":"SUM(BB14:BI14)","v":0},null,null,null,null,null,"INTERMEDIA",null,null,null,null,null,0,null,null,null,0,null,0,null,null,null,{"$f":"SUM(BX14:CD14)","v":0}]
[null,null,null,null,null,null,null,null,null,null,null,null,null,null,null,null,null,null,null,null,null,null,null,null,null,null,null,null,null,null,null,null,null,null,null,null,null,null,null,null,null,null,null,null,null,null,null,"VISITAS",null,null,null,null,null,0,null,null,0,null,null,null,0,null,null,{"$f":"SUM(BB15:BI15)","v":0},null,null,null,null,null,"PROFESIONAL",null,null,null,null,null,0,null,null,null,0,null,0,null,null,null,{"$f":"SUM(BX15:CB15)","v":0}]
["E) EDAD FERTIL",null,null,null,null,"F) EMBARAZADAS",null,null,null,null,null,null,"G) PARTOS",null,null,null,null,null,null,null,"H) R.N. EN LA RONDA",null,null,null,null,null,null,null,null,"I) EVALUACION ANTROPOMETRICA",null,null,null,null,null,null,null,null,null,null,null,null,null,null,null,null,null,null,null,null,null,null,null,null,null,null,null,null,null,null,null,null,null,null,null,null,"NIÑ MBP/BP/RBP CTRL. INT.",null,null,null,null,null,null,null,null,null,"LACT. MATERNA"]
["PAP",null,null,0,null,"CAPT. 1er TRIMESTRE","ESP EN EL AÑO","ACUMULADAS","NUEVAS\nRONDA","TOTAL","DE RIESGO","<19 Años","TOTAL",null,"HOSPITALARIOS",null,"DOMIC.",null,"N° PUERPERAS",null,"NACIDOS VIVOS",null,"P AL NACER",null,null,null,null,null,null,"NIÑOS CONTROLADOS",null,null,null,null,null,null,null,null,null,null,null,null,null,null,null,null,null,null,null,null,null,null,null,null,null,null,null,null,null,null,null,null,null,null,null,null,"MELAN",null,"MED",null,"ENF.",null,"LAB",null,"NUTR",null,"< 6 M EN LA RONDA",null,null,null,{"$f":"CC20+CC22+CC23","v":0}]
[null,null,null,null,null,null,null,null,null,null,null,null,null,null,null,null,"DOM","ASIS",null,null,null,null,"ALTO PESO","ADEC",null,"BAJO PESO",null,"MB\nPESO",null,"EDAD",null,null,"A CONTROLAR",null,null,"ADECUADO",null,"BP\nBAJO PESO",null,"MBP\nMUY B. PESO",null,"ALTO PESO",null,"RIESGO",null,null,null,"RECUPERADOS",null,null,null,"TALLA / EDAD",null,null,null,null,"NUEVOS\nEPISODIOS",null,"PERDIDOS",null,null,null,null,"FALLECIDOS\nC/ANTEC. ANTROPOM."]
[]
["Antic.",null,null,0,null,0,{"$f":"IF(ISERROR(((CC92*1.8)/100)),0,(((CC92*1.8)/100)))","v":0},0,0,{"$f":"SUM(F23:L23)","v":0},0,0,{"$f":"O20+Q20+R20","v":0},null,0,null,0,0,0,null,{"$f":"W20+X20+Z20+AB20","v":0},null,0,0,null,0,null,0,null,null,null,null,null,null,null,null,null,null,null,null,null,null,null,"BP",null,"AP",null,"BP",null,null,"AP","BT",null,"MBT",null,"RGO\nBT",null,null,"BP\nMBP",null,null,"A.P.",null,null,null,null,0,null,0,null,0,null,0,null,0,null,"EXCLUSIVO",null,null,null,0]
[null,null,null,null,null,"CONTROLES",null,null,null,null,null,null," ",null,null,null,null,null,null,null,"PREMATUROS",null,null,null,"PESQUISA"]
["Aborto",null,null,0,null,"MELON",null,"MEL","MED","ENF","LAB","S/C","PUERP",null,null,null,"R.N.",null,null,null,null,null,null,null,null,null,null,null,null,"< 2 años",null,null,{"$f":"A27+C27+D27+F27+G27+H27","v":0},null,null,0,null,0,null,0,null,0,null,0,null,0,null,0,null,null,0,0,null,0,null,0,0,null,0,null,null,0,null,0,null,null,"CONTROLES EN DOMIC. NIÑO BP o MBP",null,null,null,null,null,null,null,0,null,"MIXTA",null,null,null,0]
[null,null,null,null,null,0,null,0,0,0,0,0,0,null,null,null,0,null,null,null,0,null,null,null,0,null,null,null,null,"2 a 6 años",null,null,{"$f":"I27+J27+K27+L27+M27+O27+P27+R27","v":0},null,null,0,null,0,null,0,null,0,null,0,null,0,null,0,null,null,0,0,null,0,null,0,0,null,0,null,null,0,null,0,null,null,null,null,null,null,null,null,null,null,null,null,"ARTIF",null,null,null,0]
["J) DATOS DE POBLACION"]
["0 a 5m",null,null,"6 a 11m",null,null,"1 AÑO",null,"2 AÑOS",null,"3 AÑOS",null,"4 AÑOS",null,null,"5 AÑOS",null,null,"6 AÑOS",null,null,"7 A 9 AÑOS",null,null,null,"10 AÑOS",null,"11 AÑOS",null,null,"12 A 14",null,null,null,null,null,"15 A 19",null,null,"20 A 24",null,null,null,"25 A 29",null,null,null,"30 A 34",null,null,null,"35 A 39",null,null,null,"40 A 44",null,null,null,null,"45 A 49",null,null,null,"50 A 54",null,null,null,"55 A 59",null,null,null,"60 A 64",null,null,null,"65 y +",null,null,null,"TOTAL",null,null,null,null,"MUJERES\n10 A 49","O. SOCIAL",null,"INDOCUM"]
["M",null,"F","M",null,"F","M","F","M","F","M","F","M",null,"F","M",null,"F","M",null,"F","M",null,"F",null,"M","F","M",null,"F","M",null,null,"F",null,null,"M","F",null,"M",null,"F",null,"M",null,null,"F","M",null,null,"F","M",null,"F",null,"M",null,null,"F",null,"M",null,"F",null,"M",null,"F",null,"M",null,"F",null,"M",null,"F",null,"M",null,null,"F","M",null,"F"]
[0,null,0,0,null,0,0,0,0,0,0,0,0,null,0,0,null,0,0,null,0,0,null,0,null,0,0,0,null,0,0,null,null,0,null,null,0,0,null,0,null,0,null,0,null,null,0,0,null,null,0,0,null,0,null,0,null,null,0,null,0,null,0,null,0,null,0,null,0,null,0,null,0,null,0,null,0,null,null,0,{"$f":"BY27+BU27+BQ27+BM27+BI27+BD27+AZ27+AV27+AR27+AN27+AK27+AE27+AB27+Z27+V27+S27+P27+M27+K27+I27+G27+D27+A27","v":0},null,{"$f":"CB27+BW27+BS27+BO27+BK27+BG27+BB27+AY27+AU27+AP27+AL27+AH27+AD27+AA27+X27+U27+R27+O27+L27+J27+H27+F27+C27","v":0},null,null,{"$f":"BK27+BG27+BB27+AY27+AU27+AP27+AL27+AH27+AD27+AA27","v":0},0,null,0]
[{"$f":"A27+C27","v":0},null,null,{"$f":"D27+F27","v":0},null,null,{"$f":"G27+H27","v":0},null,{"$f":"I27+J27","v":0},null,{"$f":"K27+L27","v":0},null,{"$f":"M27+O27","v":0},null,null,{"$f":"P27+R27","v":0},null,null,{"$f":"S27+U27","v":0},null,null,{"$f":"V27+X27","v":0},null,null,null,{"$f":"Z27+AA27","v":0},null,{"$f":"AB27+AD27","v":0},null,null,{"$f":"AE27+AH27","v":0},null,null,null,null,null,{"$f":"AL27+AK27","v":0},null,null,{"$f":"AN27+AP27","v":0},null,null,null,{"$f":"AR27+AU27","v":0},null,null,null,{"$f":"AV27+AY27","v":0},null,null,null,{"$f":"AZ27+BB27","v":0},null,null,null,{"$f":"BD27+BG27","v":0},null,null,null,null,{"$f":"BI27+BK27","v":0},null,null,null,{"$f":"BM27+BO27","v":0},null,null,null,{"$f":"BQ27+BS27","v":0},null,null,null,{"$f":"BU27+BW27","v":0},null,null,null,{"$f":"BY27+CB27","v":0},null,null,null,{"$f":"CC27+CE27","v":0}]
["K) TUBERCULOSIS ",null,null,null,null,null,null,null,null,null,null,null,null,null,null," CHAGAS ",null,null,null,null,null,"L) PERSONAS CON ENF. CRONICAS",null,null,null,null,null,null,null,null,null,null,null,"M) OBSERVACIONES"]
["Coef. Sint.Resp.: ",null,null,"MUESTRAS",null,null,null,null,"TRATAM. TBC",null,null,null,null,null,null,"TRATAMIENTOS CHAGAS",null,null,null,null,null,"PERSONAS CON",null,null,null,null,null,"TOTAL",null,null,"EN TRAT.",null,null," "]
[{"$f":"Control!H9","v":8},null,null,"DIAGNOSTICOS",null,null,"CONTROL",null,"Total",null,"TAES",null," ABANDONO",null,null,"INICIO ",null,null,0,null,null,"DIABETES",null,null,null,null,null,0,null,null,0]
["SINT. ESP..",null,null,"Tot",null,"(+)","Tot","(+)",0,null,0,null,0,null,null,"FINALIZACION ",null,null,0,null,null,"HIPERTENSION \nARTERIAL",null,null,null,null,null,0,null,null,0]
[{"$f":"IF(ISERROR(((AK91+AL91+AN91+AP91+AR91+AU91+AV91+AY91+AZ91+BB91+BD91+BG91+BI91+BK91+BM91+BO91+BQ91+BS91+BU91+BW91+BY91+CB91)*0.2)*A31/100),0,(((AK91+AL91+AN91+AP91+AR91+AU91+AV91+AY91+AZ91+BB91+BD91+BG91+BI91+BK91+BM91+BO91+BQ91+BS91+BU91+BW91+BY91+CB91)*0.2)*A31/100))","v":0},null,null,0,null,0,0,0,"QUIMIO Total",null,0,null,null,null,null,null,null,null,null,null,null,"PERSONAS CON OTRAS ENF. CRONICAS AL CUIDADO DE NIÑOS",null,null,null,null,null,0,null,null,0]
["SINT. DETEC.",null,null,"CONTACTO",null,null,null,null,"CTRL. MEDICO",null,null,null,"FINALIZAD0",null,null,"ABANDONO ",null,null,0]
[0,null,null,"< 14a",null,null,"> 15a",null,"Pcte/Rda",null,"A Cont",null,0,null,null,null,null,null,null,null,null,"ADULTOS MAYORES EN SITUACION DE RIESGO",null,null,null,null,null,0]
[null,null,null,0,null,null,0,null,0,null,0]
["N) DERIVACIONES",null,null,null,null,null,null,null,null,null,null,null,null,null,null,null,null,null,null,null,null,null,null,null,null,null,null,null,null,null,null,null,null,null,null,null,null,null,null,null,null,"Ñ) VIVIENDA Y SANEAMIENTO",null,null,null,null,null,null,null,null,null,null,null,null,null,null,null,null,null,null,null,null,null,null,null,null,null,null,null,"O) DEFUNCIONES EN LA RONDA"]
[null,null,null,null,null,null,null,null,null,null,null,null,null,null,null,null,null,null,null,null,null,null,null,null,null,null,null,null,null,null,null,null,null,null,null,null,null,null,null,null,null,"TRAT. AGUA",null,null,null,null,null,"DISP SANITARIA EXCRETAS",null,null,null,null,null,null,null,null,null,null,null,"TRATAM. SANIT BASURA",null,null,null,null,null,null,null,null,null,"MENORES 1 AÑO",null,null,null,null,null,null,null,null,null,null,"1 a 4 AÑOS",null,"MATERNA",null,null,null,"OTRAS"]
["EMB",null,null,null,"RN",null,null,null,"PUERP",null,null,null,"Menores de 6 años",null,null,null,null,null,null,null,"E.\nCRONICAS",null,"PAP",null,"CHAGAS",null,null,null,"TBC",null,null,null,"PSICOSOC",null,null,null,"TOTAL\nDERIVACIONES",null,null,null,null,"RED",null,"EN\nVIV",null,null,"S/T","ARRASTRE",null,null,null,null,null,"LETRINA",null,null,null,"S/T",null,"REC. DOMIC.",null,null,"POZO BASURA",null,null,null,"S/T",null,null,"<7d",null,null,"7 a 28d",null,null,null,"29d a 11 m"]
[null,null,null,null,null,null,null,null,null,null,null,null,"BP- MBP",null,"RGO BP",null,"Resp",null,"Diarr",null,null,null,null,null,null,null,null,null,null,null,null,null,null,null,null,null,null,null,null,null,null,null,null,null,null,null,null,"CLOACAS",null,"PC-CT",null,"PC-ST",null,"CT",null,"ST"]
["Env",null,"Rec",null,"Env",null,"Rec",null,"Env",null,"Rec",null,"Env","Rec","Env","Rec","Env","Rec","Env","Rec","Env","Rec","Env","Rec","Env",null,"Rec",null,"Env",null,"Rec",null,"Env",null,"Rec",null,"ENV",null,null,"Rec",null,0,null,0,null,null,0,0,null,0,null,0,null,0,null,0,null,0,null,0,null,null,0,null,null,null,0,null,null,0,null,null,0,null,null,null,0,null,null,null,0,null,0,null,null,null,0]
[null,null,null,null,null,null,null,null,null,null,null,null,null,null,null,null,null,null,null,null,null,null,null,null,null,null,null,null,null,null,null,null,null,null,null,null,null,null,null,null,null,"CASAS ",null,null,null,null,null,null,null,null,null,null,null,"CHAGAS",null,null,null,null,null,null,null,null,null,null,null,"DENGUE CHIKUNGUNYA",null,null,null,null,null,null,null,null,null,null,null,"P) PROM. SALUD"]
[0,null,0,null,0,null,0,null,0,null,0,null,0,0,0,0,0,0,0,0,0,0,0,0,0,null,0,null,0,null,0,null,0,null,0,null,{"$f":"AG43+AC43+Y43+W43+U43+S43+Q43+O43+M43+I43+E43+A43","v":0},null,null,{"$f":"AI43+AE43+AA43+X43+V43+T43+R43+P43+N43+K43+G43+C43","v":0},null,"ASIGNADAS",null,null,null,null,"VISITADAS",null,null,"VACIAS",null,"DESTRUIDAS",null,"EVALUADAS",null,null,"POSITIVAS",null,null,null,null,"TRATADAS",null,null,null,"EVALUADAS",null,null,null,"POSITIVAS",null,null,null,"TRATADAS",null,null,null,"PLANIFICADAS \nEN COMUNIDAD",null,null,null,null,null,null,null,0]
[]
[null,null,null,null,null,null,null,null,null,null,null,null,null,null,null,null,null,null,null,null,null,null,null,null,null,null,null,null,null,null,null,null,null,null,null,null,null,null,null,null,null,0,null,null,null,null,0,null,null,0,null,0,null,0,null,null,0,null,null,null,null,0,null,null,null,0,null,null,null,0,null,null,null,0,null,null,null,"REALIZADAS ",null,null,null,null,null,null,null,0]
["Q) INDICADORES"]
["DE ESTRUCTURA",null,null,null,null,null,"SI","NO","DE PRODUCCION",null,null,null,null,null,"%","META",null," DE INMUNIZACIONES",null,null,null,null,null,null,null,null,null,null,null,null,null,null,null,null," DE INMUNIZACIONES",null,null,null,null,null,null,null,null,null,null,null,null,null,null,null,null,null,null,null,null,null,null,null,null,null,null," DE RESULTADO",null,null,null,null,null,null,null,null,"%",null,"META",null,null," DE RESULTADO",null,null,null,null,null,null,null,null,null,"%",null,"META RDA"]
["Formularios",null,null,null,null,null,0,0,"Cobertura a Familias",null,null,null,null,null,{"$f":"IF(ISERROR(D12/A12),0,(D12/A12)*100)","v":0},100,null,"VACUNA",null,null,null,null,"P. REF",null,"1r","2r","3r","4r",null,"T","%",null,"META",null,"VACUNA",null,null,null,null,null,null,null,null,null,"P. REF",null,null,"1r",null,null,"2r","3r",null,null,"4r","T",null,"%",null,"META",null,"Ed Fértil c/Anticoncepción",null,null,null,null,null,null,null,null,{"$f":"IF(ISERROR(D20/CH27),0,(D20/CH27)*100)","v":0},null,null,null,null,"Niños 2 a 5 Recup BP",null,null,null,null,null,null,null,null,null,{"$f":"IF(ISERROR(AV23/K80),0,(AV23/K80)*100)","v":0},null,100]
["Equipo",null,null,null,null,null,0,0,"Niños < 2 años Controlados",null,null,null,null,null,{"$f":"IF(ISERROR(((AJ22+AL22+AN22+AP22)/(A28+D28+G28))),0,(((AJ22+AL22+AN22+AP22)/(A28+D28+G28)))*100)","v":0},100,null,"BCG RN",null,null,null,null,{"$f":"U20","v":0},null,4,0,0,0,null,{"$f":"SUM(Y49:AB49)","v":4},{"$f":"IF(ISERROR(Z49/W49),0,(Z49/W49)*100)","v":0},null,100,null,"2 Ref. Varicela Ingreso Esc",null,null,null,null,null,null,null,null,null,13,null,null,13,null,null,0,0,null,null,0,{"$f":"SUM(AV49:BC49)","v":13},null,{"$f":"IF(ISERROR(AY49/AS49),0,(AY49/AS49)*100)","v":0},null,25,null,"PAP",null,null,null,null,null,null,null,null,{"$f":"IF(ISERROR(D17/CH27),0,(D17/CH27)*100)","v":0},null,null,null,null,"Niños 2 a 5 Recup AP",null,null,null,null,null,null,null,null,null,{"$f":"IF(ISERROR(AY23/K82),0,(AY23/K82)*100)","v":0},null,100]
["Combustible",null,null,null,null,null,0,0,"Niños  (2 a 5 años) Controlados",null,null,null,null,null,{"$f":"IF(ISERROR(((AJ23+AL23+AN23+AP23)/(I28+K28+M28+P28))),0,(((AJ23+AL23+AN23+AP23)/(I28+K28+M28+P28)))*100)","v":0},100,null,"Hepatitis B RN","Hepatitis B RN",null,"Hepatitis B RN","Hepatitis B RN",null,null,4,0,0,0,null,{"$f":"SUM(Y50:AB50)","v":4},{"$f":"IF(ISERROR(Z50/W49),0,(Z50/W49)*100)","v":0},null,null,null,"2° Ref. Antipolio Ingreso Escolar",null,null,null,null,null,null,null,null,null,null,null,null,13,null,null,0,0,null,null,0,{"$f":"SUM(AV50:BC50)","v":13},null,{"$f":"IF(ISERROR(AY50/AS49),0,(AY50/AS49)*100)","v":0},null,null,null,"Embarazadas Con MELON",null,null,null,null,null,null,null,null,{"$f":"IF(ISERROR(F23/J20),0,(F23/J20)*100)","v":0},null,80,null,null,"Niños 6 meses con LME",null,null,null,null,null,null,null,null,null,{"$f":"IF(ISERROR(CC20/CC17),0,(CC20/CC17)*100)","v":0},null,80]
[" DE DIAGNOSTICO",null,null,null,null,null,null,"%","Conc. Vis. Flias Prio",null,null,null,null,null,{"$f":"IF(ISERROR((BB15+BE15)/(BB14+BE14)),0,((BB15+BE15)/(BB14+BE14)))","v":0},25,null,"2° Neumococo < 1a","3ª SOT/Salk < 1a",null,"3ª SOT/Salk < 1a","3ª SOT/Salk < 1a",{"$f":"A91+C91+D91+F91","v":0},null,7,0,0,0,null,{"$f":"SUM(Y51:AB51)","v":7},{"$f":"IF(ISERROR(Z51/W51),0,(Z51/W51)*100)","v":0},null,100,null,"2° Ref. DPT Ingreso Escolar",null,null,null,null,null,null,null,null,null,null,null,null,13,null,null,0,0,null,null,0,{"$f":"SUM(AV51:BC51)","v":13},null,{"$f":"IF(ISERROR(AY51/AS49),0,(AY51/AS49)*100)","v":0},null,null,null,"Partos Hospitalarios",null,null,null,null,null,null,null,null,{"$f":"IF(ISERROR(O20/M20),0,(O20/M20)*100)","v":0},null,100]
["Flias Priorizadas 3 + 2:",null,null,null,null,null,null,{"$f":"IF(ISERROR((BB14+BE14)/D12),0,(BB14+BE14)/D12*100)","v":0},"Conc.C.Dom Niños Bp/MBP",null,null,null,null,null,{"$f":"IF(ISERROR(BW22/(AL22+AN22+AL23+AN23)),0,(BW22/(AL22+AN22+AL23+AN23)))","v":0},3,null,"2° Rotavirus <1 a","3º Pentavalente <1 a",null,"3º Pentavalente <1 a","3º Pentavalente <1 a",null,null,3,0,0,0,null,{"$f":"SUM(Y52:AB52)","v":3},{"$f":"IF(ISERROR(Z52/W51),0,(Z52/W51)*100)","v":0},null,null,null,"2° TV Ingreso Escolar",null,null,null,null,null,null,null,null,null,null,null,null,13,null,null,0,0,null,null,0,{"$f":"SUM(AV52:BC52)","v":13},null,{"$f":"IF(ISERROR(AY52/AS49),0,(AY52/AS49)*100)","v":0},null,100,null,"Conc Control Médico a RN",null,null,null,null,null,null,null,null,{"$f":"IF(ISERROR(Q23/M20),0,(Q23/M20))","v":0},null,4,null,null,"% Niños BP MBP y RBP con MELaN",null,null,null,null,null,null,null,null,null,{"$f":"IF(ISERROR(BO20/(AL22+AN22+AR22+AL23+AN23+AR23)),0,(BO20/(AL22+AN22+AR22+AL23+AN23+AR23))*100)","v":0},null,100]
["Flias Urbanas",null,null,null,null,null,null,{"$f":"IF(ISERROR(T12/D12),0,(T12/D12)*100)","v":0},"Rel. Muestra/Sint Resp.",null,null,null,null,null,{"$f":"IF(ISERROR(D33/A35),0,(D33/A35))","v":0},2,null,"2° Meningococo < 1a",null,null,null,null,null,null,3,0,0,0,null,{"$f":"SUM(Y53:AB53)","v":3},{"$f":"IF(ISERROR(Z53/W51),0,(Z53/W51)*100)","v":0},null,null,null,"dTpa 11 años",null,null,null,null,null,null,null,null,null,8,null,null,0,null,null,0,0,null,null,0,{"$f":"SUM(AV53:BC53)","v":0},null,{"$f":"IF(ISERROR(AY53/AS53),0,(AY53/AS53)*100)","v":0},null,null,null,"Conc Control Méd. a puérpera",null,null,null,null,null,null,null,null,{"$f":"IF(ISERROR(M23/S20),0,(M23/S20))","v":0},null,4,null,null,"Sint Resp Detect. Seg zona",null,null,null,null,null,null,null,null,null,{"$f":"IF(ISERROR((A35*100)/(((20*(AK28+AN28+AR28+AV28+AZ28+BD28+BI28+BM28+BQ28+BU28+BY28))/100)*A31)),0,(A35*100)/((((20*(AK28+AN28+AR28+AV28+AZ28+BD28+BI28+BM28+BQ28+BU28+BY28))/100)*A31)/100))","v":0},null,"S/Z"]
["Flias Periurbanas",null,null,null,null,null,null,{"$f":"IF(ISERROR(V12/D12),0,(V12/D12)*100)","v":0},"Casas Evaluadas Chagas",null,null,null,null,null,{"$f":"IF(ISERROR(BB45/AU45),0,(BB45/AU45)*100)","v":0},100,null,"3° Antipolio < 1 año","2ª Rotavirus < 1 año",null,"2ª Rotavirus < 1 año","2ª Rotavirus < 1 año",null,null,2,0,0,0,null,{"$f":"SUM(Y54:AB54)","v":2},{"$f":"IF(ISERROR(Z54/W51),0,(Z54/W51)*100)","v":0},null,null,null,"U.D. Meningococo",null,null,null,null,null,null,null,null,null,null,null,null,0,null,null,0,0,null,null,0,{"$f":"SUM(AV54:BC54)","v":0},null,{"$f":"IF(ISERROR(AY54/AS53),0,(AY54/AS53)*100)","v":0},null,"95% AL 1° SEM",null,"RN con Pesquisa",null,null,null,null,null,null,null,null,{"$f":"IF(ISERROR(Y23/U20),0,(Y23/U20)*100)","v":0},null,100,null,null,"Pacientes TBC con Control Médico",null,null,null,null,null,null,null,null,null,{"$f":"IF(ISERROR(I36/I32),0,(I36/I32)*100)","v":0},null,100]
["Flias Rurales",null,null,null,null,null,null,{"$f":"IF(ISERROR(Y12/D12),0,(Y12/D12)*100)","v":0},"Casas Tratadas Chagas",null,null,null,null,null,{"$f":"IF(ISERROR(BJ45/BE45),0,(BJ45/BE45)*100)","v":0},100,null,"3° Pentavalente <1 año","TV 1 año",null,"TV 1 año","TV 1 año",null,null,4,0,0,0,null,{"$f":"SUM(Y55:AB55)","v":4},{"$f":"IF(ISERROR(Z55/W51),0,(Z55/W51)*100)","v":0},null,null,null,"1° HPV Niñas cumplen 11 a en año en curso",null,null,null,null,null,null,null,null,null,5,null,null,5,null,null,0,0,null,null,0,{"$f":"SUM(AV55:BC55)","v":5},null,{"$f":"IF(ISERROR(AY55/AS55),0,(AY55/AS55)*100)","v":0},null,null,null,"Derivaciones Enviadas/Recibidas",null,null,null,null,null,null,null,null,{"$f":"IF(ISERROR(AN43/AK43),0,(AN43/AK43)*100)","v":0},null,100,null,null,"Contactos TBC Controlados",null,null,null,null,null,null,null,null,null,{"$f":"IF(ISERROR(K36/(D36+G36)),0,(K36/(D36+G36)))*100","v":0},null,100]
["Flias Originarias",null,null,null,null,null,null,{"$f":"IF(ISERROR(R12/D12),0,(R12/D12)*100)","v":0},"Casas Evaluadas Dengue",null,null,null,null,null,{"$f":"IF(ISERROR(BN45/AU45),0,(BN45/AU45)*100)","v":0},100,null,"1° TV","A HA 1 año",null,"A HA 1 año","A HA 1 año",{"$f":"G91+H91","v":0},null,1,0,0,0,null,{"$f":"SUM(Y56:AB56)","v":1},{"$f":"IF(ISERROR(Z56/W56),0,(Z56/W56)*100)","v":0},null,100,null,"1° HPV Niños cumplen 11 a en año en curso",25,25,null,null,null,null,null,null,null,6,null,null,6,null,null,0,0,null,null,0,{"$f":"SUM(AV56:BC56)","v":6},null,{"$f":"IF(ISERROR(AY56/AS56),0,(AY56/AS56)*100)","v":0},null,"95% AL 1° SEM",null,"Niños < 2 a Riesgo BP",null,null,null,null,null,null,null,null,{"$f":"IF(ISERROR(AR22/AJ22),0,(AR22/AJ22)*100)","v":0},null,null,null,null,"TAES de TBC",null,null,null,null,null,null,null,null,null,{"$f":"IF(ISERROR(K32/I32),0,(K32/I32)*100)","v":0},null,100]
["Flias Migr. desde AO",null,null,null,null,null,null,{"$f":"IF(ISERROR(AC12/A12),0,(AC12/A12)*100)","v":0},"Casas Tratadas Dengue",null,null,null,null,null,{"$f":"IF(ISERROR(BV45/BR45),0,(BV45/BR45)*100)","v":0},100,null,"2° TV","A HA 1 año",null,"A HA 1 año","A HA 1 año",null,null,0,0,0,0,null,{"$f":"SUM(Y57:AB57)","v":0},{"$f":"IF(ISERROR(Z57/W56),0,(Z57/W56)*100)","v":0},null,null,null,"Emb. con dTpa",null,null,null,null,null,null,null,null,null,4,null,null,2,null,null,0,0,null,null,0,{"$f":"SUM(AV57:BC57)","v":2},null,{"$f":"IF(ISERROR(AY57/AS57),0,(AY57/AS57)*100)","v":0},null,null,null,"Niños < 2 a Riesgo AP",null,null,null,null,null,null,null,null,{"$f":"IF(ISERROR(AT22/AJ22),0,(AT22/AJ22)*100)","v":0},null,null,null,null,"Ptes. con tratamiento por Chagas",null,null,null,null,null,null,null,null,null,{"$f":"S31","v":0}]
["Flias Migr. hacia el AO",null,null,null,null,null,null,{"$f":"IF(ISERROR(AA12/A12),0,(AA12/A12)*100)","v":0},"Superv Int. a la Familia",null,null,null,null,null,{"$f":"IF(ISERROR((CH14*100)/BL14),0,((CH14*100)/BL14))","v":0},20,null,"Unica Dosis A HA",null,null,null,null,null,null,1,0,0,0,null,{"$f":"SUM(Y58:AB58)","v":1},{"$f":"IF(ISERROR(Z58/W56),0,(Z58/W56)*100)","v":0},null,null,null,"Emb. con Vac Sinsicial",null,null,null,null,null,null,null,null,null,null,null,null,1,null,null,0,0,null,null,0,{"$f":"SUM(AV58:BC58)","v":1},null,{"$f":"IF(ISERROR(AY58/AS57),0,(AY58/AS57)*100)","v":0},null,100,null,"Niños < 2 Recup BP",null,null,null,null,null,null,null,null,{"$f":"IF(ISERROR(AV22/K79),0,(AV22/K79)*100)","v":0},null,100,null,null,"Casas positivas Chagas",null,null,null,null,null,null,null,null,null,{"$f":"IF(ISERROR(BE45/BB45),0,(BE45/BB45)*100)","v":0},null,0]
["Flias con planes sociales",null,null,null,null,null,null,{"$f":"IF(ISERROR(AF12/D12),0,(AF12/D12)*100)","v":0},"Superv Prof. Flias Prio (3v)",null,null,null,null,null,{"$f":"IF(ISERROR(CH15/(BB14+BE14)),0,(CH15/(BB14+BE14))*100)","v":0},70,null,"Ref Neumococo 1 año","Ref Neumoc 1 año",null,"Ref Neumoc 1 año","Ref Neumoc 1 año",null,null,1,0,0,0,null,{"$f":"SUM(Y59:AB59)","v":1},{"$f":"IF(ISERROR(Z59/W56),0,(Z59/W56)*100)","v":0},null,null,null,"dT  Vigente > 65 a",null,null,null,null,null,null,null,null,null,38,null,null,0,null,null,0,0,null,null,0,{"$f":"SUM(AV59:BC59)","v":0},null,{"$f":"IF(ISERROR(AY59/AS59),0,(AY59/AS59)*100)","v":0},null,100,null,"Niños < 2 Recup AP",null,null,null,null,null,null,null,null,{"$f":"IF(ISERROR(AY22/K81),0,(AY22/K81)*100)","v":0},null,100,null,null,"Casas Positivas Aedes",null,null,null,null,null,null,null,null,null,{"$f":"IF(ISERROR(BR45/BN45),0,(BR45/BN45)*100)","v":0},null," "]
[null,null,null,null,null,null,null,null,"% Activ Prom.Salud Comunitarias",null,null,null,null,null,{"$f":"IF(ISERROR(CH45/CH43),0,(CH45/CH43)*100)","v":0},100,null,"Ref. Meningococo 1 año","Ref Cuádruple 1 año",null,"Ref Cuádruple 1 año","Ref Cuádruple 1 año",null,null,4,0,0,0,null,{"$f":"SUM(Y60:AB60)","v":4},{"$f":"IF(ISERROR(Z60/W56),0,(Z60/W56)*100)","v":0},null,null,null,"Neumo 20 > 65 años",null,null,null,null,null,null,null,null,null,null,null,null,0,null,null,0,0,null,null,0,{"$f":"SUM(AV60:BC60)","v":0},null,{"$f":"IF(ISERROR(AY60/AS59),0,(AY60/AS59)*100)","v":0},null,null,null,"Niños 2 a 5 Riesgo BP",null,null,null,null,null,null,null,null,{"$f":"IF(ISERROR(AR23/AJ23),0,(AR23/AJ23)*100)","v":0},null,null,null,null,"UROCS 1/SEC",null,null,null,null,null,null,null,null,null,0,null,"1/SEC"]
["Flias. c/Antec Mort Mat Inf",null,null,null,null,null,null,{"$f":"IF(ISERROR(AV10/D12),0,(AV10/D12)*100)","v":0},null,null,null,null,null,null,null,null,null,"Unica Dosis Varicela","Ref SOT 1 año",null,"Ref SOT 1 año","Ref SOT 1 año",null,null,4,0,0,0,null,{"$f":"SUM(Y61:AB61)","v":4},{"$f":"IF(ISERROR(Z61/W56),0,(Z61/W56)*100)","v":0},null,null,null,"Aplic. Cargadas a Nomivac",null,null,null,null,null,null,null,null,null,0,null,null,null,null,null,null,null,null,null,null,null,null,null,null,null,null,null,null,null,null,null,null,null,null,null,null,null,null,null,null,"Flias con Huerta",null,null,null,null,null,null,null,null,null,{"$f":"IF(ISERROR(AL12/D12),0,(AL12/D12)*100)","v":0}]
["F con 3 o más <6 años",null,null,null,null,null,null,{"$f":"IF(ISERROR(BI10/D12),0,(BI10/D12)*100)","v":0}," DE IMPACTO",null,null,null,null,"%",null,"META",null,"4° Dosis o 1° Ref. Pentavalente",null,null,null,null,null,null,2,0,0,0,null,{"$f":"SUM(Y62:AB62)","v":2},{"$f":"IF(ISERROR(Z62/W56),0,(Z62/W56)*100)","v":0},null,null,null,"Total Aplic /AS",null,null,null,null,null,null,null,null,null,0,null,null,null,null,null,null,null,null,null,null,null,null,null,null,null,null,"Niños 2 a 5 Riesgo AP",null,null,null,null,null,null,null,null,{"$f":"IF(ISERROR(AT23/AJ23),0,(AT23/AJ23)*100)","v":0},null,null,null,null,"Flias con Granja",null,null,null,null,null,null,null,null,null,{"$f":"IF(ISERROR(AP12/D12),0,(AP12/D12)*100)","v":0}]
["Flias con Hacinamiento",null,null,null,null,null,null,{"$f":"IF(ISERROR(BL10/D12),0,(BL10/D12)*100)","v":0},"Agua Seg (Trat Red + Viv)",null,null,null,null,{"$f":"IF(ISERROR((AP41+AR41)/D12),0,((AP41+AR41)/D12)*100)","v":0},null,100,null,"2° AG 6m a 24m",null,null,null,null,8,null,0,0,0,0,null,{"$f":"SUM(Y63:AB63)","v":0},{"$f":"IF(ISERROR(Z63/W63),0,(Z63/W63)*100)","v":0},null," ",null,"VAC COVID APLIC EN LA RONDA",null,null,null,null,null,null,null,null,null,0,null,null,null,null,null,null,null,null,null,null,null,null,null,null,null,null,"U) A llenar en 1° Ronda del Año"]
["Flias con Analfabet",null,null,null,null,null,null,{"$f":"IF(ISERROR(BO10/D12),0,(BO10/D12)*100)","v":0},"DSE (Arrastre y letrinas)",null,null,null,null,{"$f":"IF(ISERROR((AV41+AX41+AZ41+BB41+BD41)/D12),0,((AV41+AX41+AZ41+BB41+BD41)/D12)*100)","v":0},null,100,null,"R) PRODUCCION Y RENDIMIENTO",null,null,null,null,null,null,null,null,null,null,null,null,null,null,null,null,null,null,null,null,null,null,null,null,null,null,null,null,null,null,null,null,null,null,null,null,null,null,null,null,null,null,null,"Piso",null,null,null,null,"Techo",null,null,null,null,"Paredes",null,null,null,null,null,null,null,null,null,"Cocina",null,null,null,null,"Tenencia"]
["Flias con Suicidio",null,null,null,null,null,null,{"$f":"IF(ISERROR(BT11/D12),0,(BT11/D12)*100)","v":0},"TSB (Recolección + Pozo)",null,null,null,null,{"$f":"IF(ISERROR((BH41+BK41)/D12),0,((BH41+BK41)/D12)*100)","v":0},null,100,null,"DIAS A TRAB. /RONDA",null,null,"DIAS INCLEM CLIMAT.",null,null,"DIAS Y NROS DE ARTICULOS TOMADOS",null,null,null,"CAPACITACIONES Y OTRAS ACTIVIDADES",null,null,null,null,null,null,null,null,null,null,null,null,null,null,null,null,null,null,null,null,null,null,"DIAS TRABAJADOS\nEN TERRENO",null,null,null,null,"PROM. DIARIO DE FLIAS VISIT.",null,null,null,null,null,"Mosaico/B.",null,null,null,0,"Losa",null,null,0,null,"Ladrillo",null,null,0,null,"Madera",null,null,null,0,"Gas",null,null,0,null,"Segura",null,null,0]
["Flias c /tentativa suicidio",null,null,null,null,null,null,{"$f":"IF(ISERROR(BV11/D12),0,(BV11/D12)*100)","v":0},"Emb Adolescente",null,null,null,null,{"$f":"IF(ISERROR(L20/J20),0,(L20/J20)*100)","v":0},null,null,null,null,null,null,null,null,null,0,null,null,null,0,null,null,null,null,null,null,null,null,null,null,0,null,null,null,null,null,null,null,null,null,null,null,null,null,null,null,null,null,null,null,null,null,null,"Cemento",null,null,null,0,"Chapa\nZinc",null,null,0,null,"Bloque",null,null,0,null,"Quincho",null,null,null,0,"Leña/\nCarb",null,null,0,null,"Inseg.",null,null,0]
["Flias con Alcoholismo",null,null,null,null,null,null,{"$f":"IF(ISERROR(BY11/D12),0,(BY11/D12)*100)","v":0},"Niños <2 Bajo Peso/MBP",null,null,null,null,{"$f":"IF(ISERROR((AL22+AN22)/(AJ22+AP22+AL22+AN22)),0,((AL22+AN22)/(AJ22+AP22+AL22+AN22))*100)","v":0},null,null,null,null,null,null,null,null,null,0,null,null,null,0,null,null,null,null,null,null,null,null,null,null,0,null,null,null,null,null,null,null,null,null,null,null,null,null,null,null,null,null,null,null,null,null,null,"Tierra",null,null,null,0,"Paja/\nBarro",null,null,0,null,"Adobe",null,null,0,null,"Carton/Pl",null,null,null,0,"Otros",null,null,0,null,"Hac",null,null,0,null,null,null,5]
["Flias c/ otras Adicciones",null,null,null,null,null,null,{"$f":"IF(ISERROR(CC11/D12),0,(CC11/D12)*100)","v":0},"Niños <2 a AP",null,null,null,null,{"$f":"IF(ISERROR(AP22/(AJ22+AP22+AL22+AN22)),0,(AP22/(AJ22+AP22+AL22+AN22))*100)","v":0},null,null,null,0,null,null,0,null,null,0,null,null,null,0,null,null,null,null,null,null,null,null,null,null,0,null,null,null,null,null,null,null,null,null,null,null,0,null,null,null,null,{"$f":"IF(ISERROR(G12/AY68),0,(G12/AY68))","v":0},null,null,null,null,null,"Otros",null,null,null,0,"Otros",null,null,0,null,"Piedra",null,null,0,null,"Otro",null,null,null,0,"Helad.",null,null,0]
["Flias con VIF",null,null,null,null,null,null,{"$f":"IF(ISERROR(CF11/D12),0,(CF11/D12)*100)","v":0},"Niños < 2 baja y MBT",null,null,null,null,{"$f":"IF(ISERROR((AZ22+BB22)/(AJ22+AP22+AL22+AN22)),0,((AZ22+BB22)/(AJ22+AP22+AL22+AN22))*100)","v":0},null,null,null,"S) DETALLE DE LAS DEFUNCIONES (Todas las del Sector)",null,null,null,null,null,null,null,null,null,null,null,null,null,null,null,null,null,null,null,null,null,null,null,null,null,null,null,null,null,null,null,null,null,null,null,null,null,null,null,null,null,null,null,"Agua",null,"Corriente a Domic",null,null,"Grifo Terr",null,null,"Grifo Público",null,null,"Bomba",null,null,"Pozo",null,null,null,"Camión Aguatero / Cisterna",null,"Vertiente/Rio/Aceq",null,null,"Laguna",null,null,"Lluvia/Aljibe"]
["Flias con Diabetes",null,null,null,null,null,null,{"$f":"IF(ISERROR(AB31/D12),0,(AB31/D12)*100)","v":0},"Niños 2 a 5 Bajo Peso/MBP",null,null,null,null,{"$f":"IF(ISERROR((AL23+AN23)/(AJ23+AP23+AL23+AN23)),0,((AL23+AN23)/(AJ23+AP23+AL23+AN23))*100)","v":0},null,null,null,"APELLIDO Y NOMBRE",null,null,null,null,null,null,"DOMICILIO",null,null,null,null,null,null,null,null,"NACIMIENTO",null,null,null,null,"DEFUNCION",null,null,null,"PESO\nAL NACER",null,null,null,"CAUSA",null,null,null,null,null,null,null,null,null,"CLASIFICAC."]
["Flias con Hipertensión",null,null,null,null,null,null,{"$f":"IF(ISERROR(AB32/D12),0,(AB32/D12)*100)","v":0},"Niños 2 a 5 AP",null,null,null,null,{"$f":"IF(ISERROR(AP23/(AJ23+AP23+AL23+AN23)),0,(AP23/(AJ23+AP23+AL23+AN23))*100)","v":0}]
[]
["Personas con otras enfermedades crónicas al cuidado de niños",null,null,null,null,null,null,{"$f":"IF(ISERROR(AB33/D12),0,(AB33/D12)*100)","v":0},"Niños 2 a 5 baja y MBT",null,null,null,null,{"$f":"IF(ISERROR((AZ23+BB23)/(AJ23+AP23+AL23+AN23)),0,((AZ23+BB23)/(AJ23+AP23+AL23+AN23))*100)","v":0},null,null,null,null,null,null,null,null,null,null,null,null,null,null,null,null,null,null,null,null,null,null,null,null,null,null,null,null,null,null,null,null,null,null,null,null,null,null,null,null,null,null,null,null,null,null,null,null,null,0,null,null,0,null,null,0,null,null,0,null,null,0,null,null,null,0,null,0,null,null,0,null,null,0]
["Pers c/O Social/Pob total",null,null,null,null,null,null,{"$f":"IF(ISERROR(CI27/CC28),0,(CI27/CC28)*100)","v":0}]
[]
[]
[]
[]
["BP+MBP Ronda Anterior Men2a: ",null,null,null,null,null,null,null,null,null,0]
["BP+MBP Ronda Anterior 2 a 6a: ",null,null,null,null,null,null,null,null,null,1]
["AP Ronda Anterior Men2a: ",null,null,null,null,null,null,null,null,null,2]
["AP Ronda Anterior 2 a 6a: ",null,null,null,null,null,null,null,null,null,1]
[]
[]
[]
[]
[]
["0 a 5m",null,null,"6 a 11m",null,null,"1 AÑO",null,"2 AÑOS",null,"3 AÑOS",null,"4 AÑOS",null,null,"5 AÑOS",null,null,"6 AÑOS",null,null,"7 A 9 AÑOS",null,null,null,"10 AÑOS",null,"11 AÑOS",null,null,"12 A 14",null,null,null,null,null,"15 A 19",null,null,"20 A 24",null,null,null,"25 A 29",null,null,null,"30 A 34",null,null,null,"35 A 39",null,null,null,"40 A 44",null,null,null,null,"45 A 49",null,null,null,"50 A 54",null,null,null,"55 A 59",null,null,null,"60 A 64",null,null,null,"65 y +",null,null,null,"TOTAL",null,null,null,null,"MUJERES\n10 A 49"]
["M",null,"F","M",null,"F","M","F","M","F","M","F","M",null,"F","M",null,"F","M",null,"F","M",null,"F",null,"M","F","M",null,"F","M",null,null,"F",null,null,"M","F",null,"M",null,"F",null,"M",null,null,"F","M",null,null,"F","M",null,"F",null,"M",null,null,"F",null,"M",null,"F",null,"M",null,"F",null,"M",null,"F",null,"M",null,"F",null,"M",null,null,"F","M",null,"F"]
[0,null,0,0,null,0,0,0,0,0,0,0,0,null,0,0,null,0,0,null,0,0,null,0,null,0,0,0,null,0,0,null,null,0,null,null,0,0,null,0,null,0,null,0,null,null,0,0,null,null,0,0,null,0,null,0,null,null,0,null,0,null,0,null,0,null,0,null,0,null,0,null,0,null,0,null,0,null,null,0,{"$f":"SUM(A90,D90,G90,I90,K90,M90,P90,S90,V90,Z90,AB90,AE90,AK90,AN90,AR90,AV90,AZ90,BD90,BI90,BM90,BQ90,BU90,BY90)","v":0},null,{"$f":"SUM(C90,F90,H90,J90,L90,O90,R90,U90,X90,AA90,AD90,AH90,AL90,AP90,AU90,AY90,BB90,BG90,BK90,BO90,BS90,BW90,CB90)","v":0},null,null,{"$f":"SUM(AA90,AD90,AH90,AL90,AP90,AU90,AY90,BB90,BG90,BK90)","v":0}]
[{"$f":"SUM(A90:C90)","v":0},null,null,{"$f":"SUM(D90,F90)","v":0},null,null,{"$f":"SUM(G90,H90)","v":0},null,{"$f":"SUM(I90,J90)","v":0},null,{"$f":"SUM(K90,L90)","v":0},null,{"$f":"SUM(M90,O90)","v":0},null,null,{"$f":"SUM(P90,R90)","v":0},null,null,{"$f":"SUM(S90,U90)","v":0},null,null,{"$f":"SUM(V90,X90)","v":0},null,null,null,{"$f":"SUM(Z90,AA90)","v":0},null,{"$f":"SUM(AB90,AD90)","v":0},null,null,{"$f":"SUM(AE90,AH90)","v":0},null,null,null,null,null,{"$f":"SUM(AK90,AL90)","v":0},null,null,{"$f":"SUM(AN90,AP90)","v":0},null,null,null,{"$f":"SUM(AR90,AU90)","v":0},null,null,null,{"$f":"SUM(AV90,AY90)","v":0},null,null,null,{"$f":"SUM(AZ90,BB90)","v":0},null,null,null,{"$f":"SUM(BD90,BG90)","v":0},null,null,null,null,{"$f":"SUM(BI90,BK90)","v":0},null,null,null,{"$f":"SUM(BM90,BO90)","v":0},null,null,null,{"$f":"SUM(BQ90,BS90)","v":0},null,null,null,{"$f":"SUM(BU90,BW90)","v":0},null,null,null,{"$f":"SUM(BY90,CB90)","v":0},null,null,null,{"$f":"A91+D91+G91+I91+K91+M91+P91+S91+V91+Z91+AB91+AE91+AK91+AN91+AR91+AV91+AZ91+BD91+BI91+BM91+BQ91+BU91+BY91","v":0}]
["Mejor Población: 1° - 2019",null,null,null,null,null,null,null,null,null,null,null,null,null,null,null,null,null,null,null,null,null,null,null,null,null,null,null,null,null,null,null,null,null,null,null,null,null,null,null,null,null,null,null,null,null,null,null,null,null,null,null,null,null,null,null,null,null,null,null,null,null,null,null,null,null,null,null,null,null,null,null,null,null,null,null,null,null,null,null,{"$f":"SUM(CC91,CE91)","v":0}]
["Cobertura: 1%"]

{"sheet":"VILLA PRIMAVERA","index":23,"n_rows":93,"n_cols":94,"rows_kept":93,"cut":false,"hidden":false,"merged":[[61,30,61,31],[62,30,62,31],[0,86,0,87],[1,8,1,9],[1,15,1,25],[1,46,1,53],[1,56,1,57],[1,58,1,59],[1,60,1,61],[1,67,1,84],[1,86,1,87],[0,27,3,45],[0,46,0,52],[0,56,0,57],[0,58,0,59],[0,60,0,61],[0,81,0,84],[2,46,2,53],[2,56,2,57],[2,58,2,59],[2,60,2,61],[6,0,6,89],[7,0,7,46],[7,47,7,89],[8,0,10,2],[8,3,10,5],[8,6,10,7],[8,8,8,16],[8,17,10,18],[8,19,10,20],[8,21,10,23],[4,80,4,87],[5,8,5,24],[5,33,5,46],[5,57,5,67],[5,75,5,77],[5,82,5,87],[2,67,2,79],[2,86,2,87],[3,8,3,23],[3,46,3,53],[3,56,3,57],[3,58,3,59],[3,60,3,61],[3,74,3,79],[3,84,3,87],[8,86,8,89],[9,8,10,9],[9,10,10,11],[9,12,10,13],[9,14,10,16],[9,26,10,27],[9,28,10,30],[8,66,8,68],[8,69,8,72],[8,73,8,75],[8,76,8,79],[8,80,8,82],[8,83,8,85],[8,51,8,53],[8,54,8,55],[8,56,8,57],[8,58,8,59],[8,60,8,62],[8,63,8,65],[8,24,10,25],[8,26,8,30],[8,31,10,36],[8,37,8,46],[8,47,8,48],[8,49,8,50],[9,49,10,50],[11,0,14,2],[11,3,14,5],[11,6,14,7],[11,8,14,9],[11,10,14,11],[11,12,14,13],[9,86,9,89],[10,69,10,72],[10,73,10,74],[10,76,10,78],[10,81,10,82],[10,83,10,84],[10,86,10,89],[9,66,10,68],[9,69,9,72],[9,73,9,74],[9,76,9,78],[9,81,9,82],[9,83,9,84],[9,51,10,53],[9,54,10,55],[9,56,10,57],[9,58,10,59],[9,60,10,62],[9,63,10,65],[13,75,13,78],[13,79,13,80],[13,81,13,84],[9,37,10,40],[9,41,10,46],[9,47,10,48],[12,85,12,89],[13,47,13,52],[13,63,13,68],[13,69,13,74],[12,47,12,52],[12,63,12,68],[12,53,12,55],[12,56,12,59],[12,60,12,62],[13,53,13,55],[13,56,13,59],[13,60,13,62],[14,53,14,55],[14,56,14,59],[14,60,14,62],[11,19,14,20],[11,21,14,23],[11,24,14,25],[11,26,14,27],[16,0,18,2],[16,6,18,6],[16,7,18,7],[16,8,18,8],[16,9,18,9],[16,10,18,10],[16,11,18,11],[16,12,18,13],[14,79,14,80],[14,81,14,84],[14,85,14,89],[15,12,15,19],[15,20,15,28],[15,29,15,65],[15,66,15,75],[11,28,14,30],[11,31,14,36],[11,37,14,40],[11,41,14,46],[11,47,11,68],[11,69,11,89],[11,14,14,16],[11,17,14,18],[13,85,13,89],[14,47,14,52],[14,63,14,68],[14,69,14,74],[14,75,14,78],[12,69,12,74],[12,75,12,78],[12,79,12,80],[12,81,12,84],[19,0,20,2],[19,12,19,13],[19,14,19,15],[19,18,19,19],[19,20,19,21],[19,23,19,24],[19,25,19,26],[19,27,19,28],[17,41,20,42],[17,43,18,46],[17,47,18,50],[17,51,18,55],[17,56,20,57],[17,58,18,62],[19,43,20,44],[19,45,20,46],[19,47,20,49],[19,50,20,50],[17,16,18,16],[17,17,18,17],[17,22,18,22],[17,23,18,24],[17,25,18,26],[17,27,18,28],[17,29,20,31],[16,14,18,15],[16,16,16,17],[16,18,18,19],[16,20,18,21],[16,22,16,28],[16,29,16,65],[17,32,20,34],[21,12,21,15],[21,16,21,19],[21,29,21,31],[21,32,21,34],[20,12,20,19],[20,20,21,23],[20,24,21,28],[21,35,21,36],[21,37,21,38],[21,39,21,40],[21,41,21,42],[19,68,20,69],[19,70,20,71],[19,72,20,73],[19,74,20,75],[19,76,20,79],[19,51,20,52],[19,53,20,54],[19,55,20,55],[19,58,20,60],[19,61,20,62],[19,66,20,67],[17,63,20,65],[16,66,18,67],[16,68,18,69],[16,70,18,71],[16,72,18,73],[16,74,18,75],[16,76,18,79],[17,35,20,36],[17,37,20,38],[17,39,20,40],[22,16,22,19],[22,20,22,23],[22,24,22,28],[22,29,22,31],[22,32,22,34],[22,35,22,36],[21,58,21,60],[21,61,21,62],[21,63,21,65],[21,66,22,73],[21,74,22,75],[21,76,21,79],[22,76,22,79],[21,43,21,44],[21,45,21,46],[21,47,21,49],[21,51,21,52],[21,53,21,54],[21,56,21,57],[23,0,23,89],[24,0,24,2],[24,3,24,5],[24,6,24,7],[24,8,24,9],[24,10,24,11],[24,12,24,14],[24,15,24,17],[24,18,24,20],[22,51,22,52],[22,53,22,54],[22,56,22,57],[22,58,22,60],[22,61,22,62],[22,63,22,65],[22,37,22,38],[22,39,22,40],[22,41,22,42],[22,43,22,44],[22,45,22,46],[22,47,22,49],[21,0,22,2],[24,88,25,89],[25,0,25,1],[25,3,25,4],[25,12,25,13],[25,15,25,16],[25,18,25,19],[25,21,25,22],[25,23,25,24],[25,27,25,28],[22,12,22,15],[24,68,24,71],[24,72,24,75],[24,76,24,79],[24,80,24,84],[24,85,25,85],[24,86,25,87],[25,76,25,78],[25,80,25,81],[25,82,25,84],[24,43,24,46],[24,47,24,50],[24,51,24,54],[24,55,24,59],[24,60,24,63],[24,64,24,67],[24,21,24,24],[24,25,24,26],[24,27,24,29],[24,30,24,35],[24,36,24,38],[24,39,24,42],[26,37,26,38],[26,39,26,40],[26,0,26,1],[26,3,26,4],[26,12,26,13],[26,15,26,16],[26,18,26,19],[26,21,26,22],[25,64,25,65],[25,66,25,67],[25,68,25,69],[25,70,25,71],[25,72,25,73],[25,74,25,75],[25,51,25,52],[25,53,25,54],[25,55,25,57],[25,58,25,59],[25,60,25,61],[25,62,25,63],[25,33,25,35],[25,37,25,38],[25,39,25,40],[25,41,25,42],[25,43,25,45],[25,47,25,49],[25,30,25,32],[26,85,27,85],[26,86,27,87],[26,88,27,89],[27,0,27,2],[27,3,27,5],[27,6,27,7],[27,8,27,9],[27,10,27,11],[27,12,27,14],[27,15,27,17],[26,70,26,71],[26,72,26,73],[26,74,26,75],[26,76,26,78],[26,80,26,81],[26,82,26,84],[26,58,26,59],[26,60,26,61],[26,62,26,63],[26,64,26,65],[26,66,26,67],[26,68,26,69],[26,41,26,42],[26,43,26,45],[26,47,26,49],[26,51,26,52],[26,53,26,54],[26,55,26,57],[26,23,26,24],[26,27,26,28],[26,30,26,32],[26,33,26,35],[27,64,27,67],[27,68,27,71],[27,72,27,75],[27,76,27,79],[27,80,27,84],[28,0,28,14],[28,15,28,20],[28,21,28,32],[27,39,27,42],[27,43,27,46],[27,47,27,50],[27,51,27,54],[27,55,27,59],[27,60,27,63],[27,18,27,20],[27,21,27,24],[27,25,27,26],[27,27,27,29],[27,30,27,35],[27,36,27,38],[30,21,30,26],[30,27,30,29],[30,30,30,32],[31,0,31,2],[31,3,31,4],[31,8,31,9],[31,10,31,11],[31,12,32,14],[31,15,32,17],[31,18,32,20],[29,30,29,32],[29,33,35,89],[30,0,30,2],[30,3,30,5],[30,6,30,7],[30,8,30,9],[30,10,30,11],[30,12,30,14],[30,15,30,17],[30,18,30,20],[29,0,29,2],[29,3,29,7],[29,8,29,14],[29,15,29,20],[29,21,29,26],[29,27,29,29],[33,0,33,2],[33,3,33,7],[33,8,33,11],[33,12,33,14],[33,15,35,17],[33,18,35,20],[34,0,35,2],[34,3,34,5],[34,6,34,7],[34,8,34,9],[31,21,31,26],[31,27,31,29],[31,30,31,32],[32,0,32,2],[32,3,32,4],[32,8,32,9],[32,10,32,11],[32,21,33,26],[32,27,33,29],[32,30,33,32],[38,4,39,7],[38,8,39,11],[38,12,38,19],[38,20,39,21],[38,22,39,23],[36,0,37,40],[36,41,36,68],[36,69,36,89],[37,41,37,46],[37,47,37,58],[37,59,37,68],[37,69,37,79],[37,80,39,81],[37,82,39,85],[37,86,39,89],[34,10,34,11],[34,12,35,14],[34,21,35,26],[34,27,35,32],[35,3,35,5],[35,6,35,7],[35,8,35,9],[35,10,35,11],[40,0,41,1],[40,2,41,3],[40,4,41,5],[40,6,41,7],[40,8,41,9],[40,10,41,11],[38,66,39,68],[38,69,39,71],[38,72,39,75],[38,76,39,79],[39,12,39,13],[39,14,39,15],[39,16,39,17],[39,18,39,19],[39,47,39,48],[39,49,39,50],[38,46,39,46],[38,47,38,52],[38,53,38,56],[38,57,39,58],[38,59,39,61],[38,62,39,65],[39,51,39,52],[39,53,39,54],[39,55,39,56],[38,24,39,27],[38,28,39,31],[38,32,39,35],[38,36,39,40],[38,41,39,42],[38,43,39,45],[38,0,39,3],[40,41,40,42],[40,43,40,45],[40,47,40,48],[40,49,40,50],[40,24,41,25],[40,26,41,27],[40,28,41,29],[40,30,41,31],[40,32,41,33],[40,34,41,35],[40,18,41,18],[40,19,41,19],[40,20,41,20],[40,21,41,21],[40,22,41,22],[40,23,41,23],[40,12,41,12],[40,13,41,13],[40,14,41,14],[40,15,41,15],[40,16,41,16],[40,17,41,17],[42,21,44,21],[42,22,44,22],[42,10,44,11],[42,12,44,12],[42,13,44,13],[42,14,44,14],[42,15,44,15],[42,16,44,16],[40,86,40,89],[41,41,41,52],[41,53,41,64],[41,65,41,76],[41,77,41,89],[42,0,44,1],[42,2,44,3],[42,4,44,5],[42,6,44,7],[42,8,44,9],[40,66,40,68],[40,69,40,71],[40,72,40,75],[40,76,40,79],[40,80,40,81],[40,82,40,85],[40,51,40,52],[40,53,40,54],[40,55,40,56],[40,57,40,58],[40,59,40,61],[40,62,40,65],[40,36,41,38],[40,39,41,40],[42,73,43,76],[42,77,43,84],[42,85,43,89],[44,41,44,45],[44,46,44,48],[44,49,44,50],[44,51,44,52],[44,53,44,55],[44,56,44,60],[44,61,44,64],[42,51,43,52],[42,53,43,55],[42,56,43,60],[42,61,43,64],[42,65,43,68],[42,69,43,72],[42,34,44,35],[42,36,44,38],[42,39,44,40],[42,41,43,45],[42,46,43,48],[42,49,43,50],[46,70,46,71],[46,72,46,74],[46,75,46,84],[46,85,46,86],[46,87,46,89],[47,0,47,5],[47,8,47,13],[47,15,47,16],[47,17,47,21],[47,22,47,23],[46,0,46,5],[46,8,46,13],[46,15,46,16],[46,17,46,33],[46,34,46,60],[46,61,46,69],[44,65,44,68],[44,69,44,72],[44,73,44,76],[44,77,44,84],[44,85,44,89],[45,0,45,89],[42,23,44,23],[42,24,44,25],[42,26,44,27],[42,28,44,29],[42,30,44,31],[42,32,44,33],[42,17,44,17],[42,18,44,18],[42,19,44,19],[42,20,44,20],[47,72,47,74],[47,75,47,84],[47,85,47,86],[47,87,47,89],[48,0,48,5],[48,8,48,13],[48,15,48,16],[48,17,48,21],[48,22,49,23],[48,27,48,28],[47,51,47,53],[47,55,47,56],[47,57,47,58],[47,59,47,60],[47,61,47,69],[47,70,47,71],[47,27,47,28],[47,30,47,31],[47,32,47,33],[47,34,47,43],[47,44,47,46],[47,47,47,49],[49,75,50,84],[49,85,50,86],[49,87,50,89],[50,0,50,6],[50,8,50,13],[50,15,50,16],[50,17,50,21],[50,22,54,23],[50,27,50,28],[48,75,48,84],[48,85,48,86],[48,87,48,89],[49,0,49,5],[49,8,49,13],[49,15,49,16],[49,17,49,21],[49,27,49,28],[49,30,49,31],[49,34,49,43],[48,55,48,56],[48,57,48,58],[48,59,50,60],[48,61,48,69],[48,70,48,71],[48,72,48,74],[49,55,49,56],[49,57,49,58],[49,61,49,69],[49,70,49,71],[48,30,48,31],[48,32,49,33],[48,34,48,43],[50,70,50,71],[50,72,50,74],[51,0,51,6],[51,8,51,13],[51,15,51,16],[51,17,51,21],[51,27,51,28],[51,30,51,31],[51,34,51,43],[51,47,51,49],[50,34,50,43],[50,47,50,49],[50,51,50,53],[50,55,50,56],[50,57,50,58],[50,61,50,69],[49,72,49,74],[48,44,51,46],[48,47,48,49],[48,51,48,53],[49,47,49,49],[49,51,49,53],[50,30,50,31],[50,32,54,33],[51,72,51,74],[53,0,53,6],[53,8,53,13],[53,15,53,16],[53,17,53,21],[53,27,53,28],[53,30,53,31],[51,75,51,84],[51,85,51,86],[51,87,51,89],[52,0,52,6],[52,8,52,13],[52,15,52,16],[52,17,52,21],[52,27,52,28],[52,30,52,31],[51,51,51,53],[51,55,51,56],[51,57,51,58],[51,59,52,60],[51,61,51,69],[51,70,51,71],[52,61,52,69],[52,70,52,71],[52,72,52,74],[52,75,52,84],[52,85,52,86],[52,87,52,89],[52,34,52,43],[52,44,53,46],[52,47,52,49],[52,51,52,53],[52,55,52,56],[52,57,52,58],[53,34,53,43],[53,47,53,49],[53,51,53,53],[53,55,53,56],[53,85,53,86],[53,87,53,89],[54,0,54,6],[54,8,54,13],[54,15,54,16],[54,17,54,21],[54,27,54,28],[54,30,54,31],[54,34,54,43],[54,44,54,46],[53,57,53,58],[53,59,54,60],[53,61,53,69],[53,70,53,71],[53,72,53,74],[53,75,53,84],[54,72,54,74],[54,75,54,84],[54,85,54,86],[54,87,54,89],[55,0,55,6],[55,8,55,13],[55,15,55,16],[55,17,55,21],[55,27,55,28],[55,30,55,31],[55,32,60,33],[54,47,54,49],[54,51,54,53],[54,55,54,56],[54,57,54,58],[54,61,54,69],[54,70,54,71],[56,87,56,89],[57,0,57,6],[57,8,57,13],[57,15,57,16],[57,17,57,21],[57,27,57,28],[57,30,57,31],[57,34,57,43],[56,51,56,53],[56,55,56,56],[56,57,56,58],[56,61,56,69],[56,70,56,71],[56,72,56,74],[55,87,55,89],[56,0,56,6],[56,8,56,13],[56,15,56,16],[58,61,58,69],[58,70,58,71],[58,72,58,74],[56,17,56,21],[56,27,56,28],[56,30,56,31],[56,34,56,43],[56,44,57,46],[56,47,56,49],[55,59,56,60],[55,61,55,69],[55,70,55,71],[55,72,55,74],[55,75,55,84],[55,85,55,86],[56,75,56,84],[56,85,56,86],[55,34,55,43],[55,44,55,46],[55,47,55,49],[55,51,55,53],[55,55,55,56],[55,57,55,58],[57,75,57,84],[57,85,57,86],[61,72,61,74],[61,75,61,84],[61,85,61,86],[57,87,57,89],[58,0,59,6],[58,7,59,7],[58,8,58,13],[58,15,58,16],[58,17,58,21],[58,27,58,28],[58,30,58,31],[57,55,57,56],[57,57,57,58],[57,59,57,60],[57,61,57,69],[57,70,57,71],[57,72,57,74],[59,85,59,86],[59,87,59,89],[57,47,57,49],[57,51,57,53],[58,87,58,89],[59,8,60,13],[59,14,60,14],[59,15,60,16],[59,17,59,21],[59,27,59,28],[59,30,59,31],[59,34,59,43],[59,47,59,49],[59,51,59,53],[58,59,59,60],[64,84,64,85],[61,87,61,89],[61,32,61,33],[61,34,61,43],[61,44,61,60],[62,44,62,60],[60,87,60,89],[61,0,61,6],[61,8,61,12],[61,13,61,14],[61,15,61,16],[60,0,60,6],[60,17,60,21],[60,27,60,28],[60,30,60,31],[60,34,60,43],[60,44,60,60],[60,75,60,84],[60,85,60,86],[62,61,62,89],[59,61,60,69],[59,70,60,71],[59,72,60,74],[59,75,59,84],[58,44,59,46],[58,47,58,49],[58,51,58,53],[58,55,58,56],[58,57,58,58],[59,55,59,56],[63,86,63,89],[64,0,64,6],[64,8,64,12],[64,13,64,14],[64,15,64,16],[64,17,66,19],[64,20,66,22],[64,23,64,26],[64,27,64,49],[64,50,66,54],[65,0,65,6],[65,8,65,12],[65,13,65,14],[66,86,67,88],[66,89,67,89],[67,0,67,6],[67,8,67,12],[67,13,67,14],[67,15,67,16],[67,17,67,19],[66,38,66,49],[66,61,66,64],[66,66,66,68],[63,0,63,6],[63,8,63,12],[63,13,63,14],[63,15,63,16],[63,17,63,60],[63,61,63,65],[63,66,63,70],[63,71,63,80],[63,81,63,85],[66,69,66,70],[66,71,66,73],[66,74,66,75],[65,76,65,79],[65,81,65,83],[65,84,65,85],[65,86,65,88],[66,0,66,6],[66,8,66,12],[66,13,66,14],[66,15,66,16],[66,23,66,26],[66,27,66,37],[65,15,65,16],[65,23,65,26],[65,27,65,37],[65,38,65,49],[64,55,66,60],[64,61,64,64],[64,66,64,68],[64,69,64,70],[64,74,64,75],[64,86,64,88],[64,76,64,79],[65,61,65,64],[65,66,65,68],[65,69,65,70],[65,74,65,75],[66,76,66,79],[66,81,66,83],[66,84,66,85],[64,81,64,83],[68,84,71,86],[67,81,67,83],[67,84,67,85],[68,0,68,6],[68,8,68,12],[68,13,68,14],[68,15,68,16],[68,17,68,60],[68,61,73,62],[68,63,71,65],[68,66,71,68],[67,61,67,64],[67,66,67,68],[67,69,67,70],[67,71,67,73],[67,74,67,75],[67,76,67,79],[67,20,67,22],[67,23,67,26],[67,27,67,37],[67,38,67,49],[67,50,67,54],[67,55,67,60],[70,38,70,41],[70,42,70,45],[70,46,70,55],[70,56,70,60],[71,17,71,23],[71,24,71,32],[71,33,71,37],[71,38,71,41],[71,42,71,45],[71,46,71,55],[69,46,69,55],[69,56,69,60],[70,0,71,6],[70,7,71,7],[70,8,71,12],[70,13,71,14],[70,15,71,16],[70,17,70,23],[70,24,70,32],[70,33,70,37],[69,0,69,6],[69,8,69,12],[69,13,69,14],[69,15,69,16],[69,17,69,23],[69,24,69,32],[69,33,69,37],[69,38,69,41],[69,42,69,45],[72,75,73,78],[72,79,73,80],[72,81,73,83],[72,84,73,86],[72,87,73,89],[73,0,73,6],[73,17,73,23],[73,24,73,32],[73,33,73,37],[73,38,73,41],[72,46,72,55],[72,56,72,60],[72,63,73,65],[72,66,73,68],[72,69,73,71],[72,72,73,74],[71,56,71,60],[72,0,72,6],[72,8,73,12],[72,13,73,14],[72,15,73,16],[72,17,72,23],[72,24,72,32],[72,33,72,37],[72,38,72,41],[72,42,72,45],[68,87,71,89],[68,69,71,71],[68,72,71,74],[68,75,71,78],[68,79,71,80],[68,81,71,83],[75,17,75,23],[75,24,75,32],[75,38,75,41],[75,42,75,45],[75,46,75,55],[87,0,87,2],[87,3,87,5],[87,6,87,7],[87,8,87,9],[87,10,87,11],[73,42,73,45],[73,46,73,55],[73,56,73,60],[74,17,74,23],[74,24,74,32],[74,38,74,41],[74,42,74,45],[74,46,74,55],[87,80,87,84],[87,85,88,85]],"merged_total":1135,"flags":["merged_cut"]}
[null,null,null,null,null,null,null,null,null,null,null,null,null,null,null,null,null,null,null,null,null,null,null,null,null,null,null,"DIRECCION - PROGRAMA  APS \nSUBSECRETARIA DE MEDICINA SOCIAL\nRONDA N°: 192   AÑO: 2025",null,null,null,null,null,null,null,null,null,null,null,null,null,null,null,null,null,null,null,null,null,null,null,null,null,null,"1r","2r","3r",null,"4r",null,"T",null,null,null,null,null,null,null,null,null,null,null,null,null,null,null,null,null,null,null,"Informe y orden de Ronda: ",6,null,null,null,null,2]
[null,null,null,null,null,null,null,"Area Operativa N°: ",4,null,null,null,null,null,"Nombre: ","MORILLO",null,null,null,null,null,null,null,null,null,null,null,null,null,null,null,null,null,null,null,null,null,null,null,null,null,null,null,null,null,null,"Mort. Mater. Acum. Año",null,null,null,null,null,null,null,0,{"$f":"CE41","v":0},0,null,{"$f":"CE41","v":0},null,{"$f":"SUM(BC2:BG2)","v":0},null,null,null,null,"Sector:",null,"VILLA PRIMAVERA",null,null,null,null,null,null,null,null,null,null,null,null,null,null,null,null,null,"N°",15]
[null,null,null,null,null,null,null,null,null,null,null,null,null,null,null,null,null,null,null,null,null,null,null,null,null,null,null,null,null,null,null,null,null,null,null,null,null,null,null,null,null,null,null,null,null,null,"Mort. 0-1 año Acum Año",null,null,null,null,null,null,null,0,{"$f":"BR41+BU41+BY41","v":0},0,null,{"$f":"BR41+BU41+BY41","v":0},null,{"$f":"SUM(BC3:BG3)","v":0},null,null,null,null,null,"Etnia: ","Wichi",null,null,null,null,null,null,null,null,null,null,null,null,null,null,null,null,null,"Sector Riesgo:"]
[null,null,null,null,null,null,null,"Establec. Base: ","HOSPITAL MORILLO",null,null,null,null,null,null,null,null,null,null,null,null,null,null,null,null,null,null,null,null,null,null,null,null,null,null,null,null,null,null,null,null,null,null,null,null,null,"Mort. 1-4 años Acum Año",null,null,null,null,null,null,null,0,{"$f":"CC41","v":0},0,null,{"$f":"CC41","v":0},null,{"$f":"SUM(BC4:BG4)","v":0},null,null,null,null,null,null,null,null,null,null,null,null,"Desde: ","07/03/2025",null,null,null,null,null,null,null,null,"Hasta: ","05/06/2026"]
[null,null,null,null,null,null,null,null,null,null,null,null,null,null,null,null,null,null,null,null,null,null,null,null,null,null,null,null,null,null,null,null,null,null,null,null,null,null,null,null,null,null,null,null,null,null,null,null,null,null,null,null,null,null,null,null,null,null,null,null,null,null,null,null,null,null,null,null,null,null,null,null,null,null,null,null,null,null,null,"Cobertura: ","CUBIERTO"]
[null,null,null,null,null,null,null,"Sup. Intermedio: ","Correa, Miguel Angel",null,null,null,null,null,null,null,null,null,null,null,null,null,null,null,null,null,null,null,null,null,null,null,"Responsable A.P.S.: ","Dr. Abel Ibarra",null,null,null,null,null,null,null,null,null,null,null,null,null,null,null,null,null,null,null,null,null,null,"Agente Sanitario: ","Barrios, Juan Ramon",null,null,null,null,null,null,null,null,null,null,null,null,null,null,null,null,"Sit. Revista: ","DESIG.TEMPORARIA",null,null,null,null,null,"Reg. Horario: ","30 HS."]
[]
["A) FAMILIAS VISITADAS EN LA RONDA",null,null,null,null,null,null,null,null,null,null,null,null,null,null,null,null,null,null,null,null,null,null,null,null,null,null,null,null,null,null,null,null,null,null,null,null,null,null,null,null,null,null,null,null,null,null,"B) FACTORES DE PRIORIZACION DE VISITAS"]
["ASIGNADAS",null,null,"VISITADAS",null,null,"TOTAL\nVISITAS",null,"NO VISITADAS",null,null,null,null,null,null,null,null,"FLIAS ORIG.",null,"FLIAS. URB.",null,"FLIAS. PERIURB",null,null,"FLIAS. RURALES",null,"GOLON\nMIGRANTES",null,null,null,null,"FLIAS. CON PL. SOCIALES",null,null,null,null,null,"PRODUCCION\nFAMILIAR",null,null,null,null,null,null,null,null,null,1,null,2,null,3,null,null,4,null,5,null,6,null,7,null,null,8,null,null,9,null,null,10,null,null,null,11,null,null,12,null,null,null,13,null,null,14,null,null,15]
[null,null,null,null,null,null,null,null,"RECHAZO TOTAL",null,"AUSEN\n-TE",null,"NO VISITADAS",null,"TOT NO VISIT.",null,null,null,null,null,null,null,null,null,null,null,"HACIA\nEL AO",null,"DESDE\nEL AO",null,null,null,null,null,null,null,null,"HUERTA",null,null,null,"GRANJA",null,null,null,null,null,0,null,0,null,0,null,null,0,null,0,null,0,null,0,null,null,0,null,null,0,null,null,"Total",null,null,null,"Tot",null,"Trat","Tot.",null,null,"Trat.","Tot.","Trat.",null,"Tot.",null,"Trat","Total"]
[null,null,null,null,null,null,null,null,null,null,0,null,null,null,null,null,null,null,null,null,null,null,null,null,null,null,null,null,null,null,null,null,null,null,null,null,null,null,null,null,null,null,null,null,null,null,null,null,null,null,null,null,null,null,null,null,null,null,null,null,null,null,null,null,null,null,null,null,null,0,null,null,null,0,null,0,0,null,null,0,0,0,null,0,null,0,0]
[0,null,null,0,null,null,0,null,0,null,0,null,0,null,{"$f":"M12+K12+I12","v":0},null,null,0,null,0,null,0,null,null,0,null,0,null,0,null,null,0,null,null,null,null,null,0,null,null,null,0,null,null,null,null,null,"C) VISITAS A FLIAS. PRIORIZADAS",null,null,null,null,null,null,null,null,null,null,null,null,null,null,null,null,null,null,null,null,null,"D) SUPERV. A FLIAS. "]
[null,null,null,null,null,null,null,null,null,null,null,null,null,null,null,null,null,null,null,null,null,null,null,null,null,null,null,null,null,null,null,null,null,null,null,null,null,null,null,null,null,null,null,null,null,null,null,"PRIORIDAD",null,null,null,null,null,1,null,null,2,null,null,null,3,null,null,"Total",null,null,null,null,null,"PRIORIDAD",null,null,null,null,null,1,null,null,null,2,null,3,null,null,null,"TOTAL"]
[null,null,null,null,null,null,null,null,null,null,null,null,null,null,null,null,null,null,null,null,null,null,null,null,null,null,null,null,null,null,null,null,null,null,null,null,null,null,null,null,null,null,null,null,null,null,null,"N° FAMILIAS",null,null,null,null,null,0,null,null,0,null,null,null,0,null,null,{"$f":"SUM(BB14:BI14)","v":0},null,null,null,null,null,"INTERMEDIA",null,null,null,null,null,0,null,null,null,0,null,0,null,null,null,{"$f":"SUM(BX14:CD14)","v":0}]
[null,null,null,null,null,null,null,null,null,null,null,null,null,null,null,null,null,null,null,null,null,null,null,null,null,null,null,null,null,null,null,null,null,null,null,null,null,null,null,null,null,null,null,null,null,null,null,"VISITAS",null,null,null,null,null,0,null,null,0,null,null,null,0,null,null,{"$f":"SUM(BB15:BI15)","v":0},null,null,null,null,null,"PROFESIONAL",null,null,null,null,null,0,null,null,null,0,null,0,null,null,null,{"$f":"SUM(BX15:CB15)","v":0}]
["E) EDAD FERTIL",null,null,null,null,"F) EMBARAZADAS",null,null,null,null,null,null,"G) PARTOS",null,null,null,null,null,null,null,"H) R.N. EN LA RONDA",null,null,null,null,null,null,null,null,"I) EVALUACION ANTROPOMETRICA",null,null,null,null,null,null,null,null,null,null,null,null,null,null,null,null,null,null,null,null,null,null,null,null,null,null,null,null,null,null,null,null,null,null,null,null,"NIÑ MBP/BP/RBP CTRL. INT.",null,null,null,null,null,null,null,null,null,"LACT. MATERNA"]
["PAP",null,null,0,null,"CAPT. 1er TRIMESTRE","ESP EN EL AÑO","ACUMULADAS","NUEVAS\nRONDA","TOTAL","DE RIESGO","<19 Años","TOTAL",null,"HOSPITALARIOS",null,"DOMIC.",null,"N° PUERPERAS",null,"NACIDOS VIVOS",null,"P AL NACER",null,null,null,null,null,null,"NIÑOS CONTROLADOS",null,null,null,null,null,null,null,null,null,null,null,null,null,null,null,null,null,null,null,null,null,null,null,null,null,null,null,null,null,null,null,null,null,null,null,null,"MELAN",null,"MED",null,"ENF.",null,"LAB",null,"NUTR",null,"< 6 M EN LA RONDA",null,null,null,{"$f":"CC20+CC22+CC23","v":0}]
[null,null,null,null,null,null,null,null,null,null,null,null,null,null,null,null,"DOM","ASIS",null,null,null,null,"ALTO PESO","ADEC",null,"BAJO PESO",null,"MB\nPESO",null,"EDAD",null,null,"A CONTROLAR",null,null,"ADECUADO",null,"BP\nBAJO PESO",null,"MBP\nMUY B. PESO",null,"ALTO PESO",null,"RIESGO",null,null,null,"RECUPERADOS",null,null,null,"TALLA / EDAD",null,null,null,null,"NUEVOS\nEPISODIOS",null,"PERDIDOS",null,null,null,null,"FALLECIDOS\nC/ANTEC. ANTROPOM."]
[]
["Antic.",null,null,0,null,0,{"$f":"IF(ISERROR(((CC92*1.8)/100)),0,(((CC92*1.8)/100)))","v":0},0,0,{"$f":"SUM(F23:L23)","v":0},0,0,{"$f":"O20+Q20+R20","v":0},null,0,null,0,0,0,null,{"$f":"W20+X20+Z20+AB20","v":0},null,0,0,null,0,null,0,null,null,null,null,null,null,null,null,null,null,null,null,null,null,null,"BP",null,"AP",null,"BP",null,null,"AP","BT",null,"MBT",null,"RGO\nBT",null,null,"BP\nMBP",null,null,"A.P.",null,null,null,null,0,null,0,null,0,null,0,null,0,null,"EXCLUSIVO",null,null,null,0]
[null,null,null,null,null,"CONTROLES",null,null,null,null,null,null," ",null,null,null,null,null,null,null,"PREMATUROS",null,null,null,"PESQUISA"]
["Aborto",null,null,0,null,"MELON",null,"MEL","MED","ENF","LAB","S/C","PUERP",null,null,null,"R.N.",null,null,null,null,null,null,null,null,null,null,null,null,"< 2 años",null,null,{"$f":"A27+C27+D27+F27+G27+H27","v":0},null,null,0,null,0,null,0,null,0,null,0,null,0,null,0,null,null,0,0,null,0,null,0,0,null,0,null,null,0,null,0,null,null,"CONTROLES EN DOMIC. NIÑO BP o MBP",null,null,null,null,null,null,null,0,null,"MIXTA",null,null,null,0]
[null,null,null,null,null,0,null,0,0,0,0,0,0,null,null,null,0,null,null,null,0,null,null,null,0,null,null,null,null,"2 a 6 años",null,null,{"$f":"I27+J27+K27+L27+M27+O27+P27+R27","v":0},null,null,0,null,0,null,0,null,0,null,0,null,0,null,0,null,null,0,0,null,0,null,0,0,null,0,null,null,0,null,0,null,null,null,null,null,null,null,null,null,null,null,null,"ARTIF",null,null,null,0]
["J) DATOS DE POBLACION"]
["0 a 5m",null,null,"6 a 11m",null,null,"1 AÑO",null,"2 AÑOS",null,"3 AÑOS",null,"4 AÑOS",null,null,"5 AÑOS",null,null,"6 AÑOS",null,null,"7 A 9 AÑOS",null,null,null,"10 AÑOS",null,"11 AÑOS",null,null,"12 A 14",null,null,null,null,null,"15 A 19",null,null,"20 A 24",null,null,null,"25 A 29",null,null,null,"30 A 34",null,null,null,"35 A 39",null,null,null,"40 A 44",null,null,null,null,"45 A 49",null,null,null,"50 A 54",null,null,null,"55 A 59",null,null,null,"60 A 64",null,null,null,"65 y +",null,null,null,"TOTAL",null,null,null,null,"MUJERES\n10 A 49","O. SOCIAL",null,"INDOCUM"]
["M",null,"F","M",null,"F","M","F","M","F","M","F","M",null,"F","M",null,"F","M",null,"F","M",null,"F",null,"M","F","M",null,"F","M",null,null,"F",null,null,"M","F",null,"M",null,"F",null,"M",null,null,"F","M",null,null,"F","M",null,"F",null,"M",null,null,"F",null,"M",null,"F",null,"M",null,"F",null,"M",null,"F",null,"M",null,"F",null,"M",null,null,"F","M",null,"F"]
[0,null,0,0,null,0,0,0,0,0,0,0,0,null,0,0,null,0,0,null,0,0,null,0,null,0,0,0,null,0,0,null,null,0,null,null,0,0,null,0,null,0,null,0,null,null,0,0,null,null,0,0,null,0,null,0,null,null,0,null,0,null,0,null,0,null,0,null,0,null,0,null,0,null,0,null,0,null,null,0,{"$f":"BY27+BU27+BQ27+BM27+BI27+BD27+AZ27+AV27+AR27+AN27+AK27+AE27+AB27+Z27+V27+S27+P27+M27+K27+I27+G27+D27+A27","v":0},null,{"$f":"CB27+BW27+BS27+BO27+BK27+BG27+BB27+AY27+AU27+AP27+AL27+AH27+AD27+AA27+X27+U27+R27+O27+L27+J27+H27+F27+C27","v":0},null,null,{"$f":"BK27+BG27+BB27+AY27+AU27+AP27+AL27+AH27+AD27+AA27","v":0},0,null,0]
[{"$f":"A27+C27","v":0},null,null,{"$f":"D27+F27","v":0},null,null,{"$f":"G27+H27","v":0},null,{"$f":"I27+J27","v":0},null,{"$f":"K27+L27","v":0},null,{"$f":"M27+O27","v":0},null,null,{"$f":"P27+R27","v":0},null,null,{"$f":"S27+U27","v":0},null,null,{"$f":"V27+X27","v":0},null,null,null,{"$f":"Z27+AA27","v":0},null,{"$f":"AB27+AD27","v":0},null,null,{"$f":"AE27+AH27","v":0},null,null,null,null,null,{"$f":"AL27+AK27","v":0},null,null,{"$f":"AN27+AP27","v":0},null,null,null,{"$f":"AR27+AU27","v":0},null,null,null,{"$f":"AV27+AY27","v":0},null,null,null,{"$f":"AZ27+BB27","v":0},null,null,null,{"$f":"BD27+BG27","v":0},null,null,null,null,{"$f":"BI27+BK27","v":0},null,null,null,{"$f":"BM27+BO27","v":0},null,null,null,{"$f":"BQ27+BS27","v":0},null,null,null,{"$f":"BU27+BW27","v":0},null,null,null,{"$f":"BY27+CB27","v":0},null,null,null,{"$f":"CC27+CE27","v":0}]
["K) TUBERCULOSIS ",null,null,null,null,null,null,null,null,null,null,null,null,null,null," CHAGAS ",null,null,null,null,null,"L) PERSONAS CON ENF. CRONICAS",null,null,null,null,null,null,null,null,null,null,null,"M) OBSERVACIONES"]
["Coef. Sint.Resp.: ",null,null,"MUESTRAS",null,null,null,null,"TRATAM. TBC",null,null,null,null,null,null,"TRATAMIENTOS CHAGAS",null,null,null,null,null,"PERSONAS CON",null,null,null,null,null,"TOTAL",null,null,"EN TRAT.",null,null," "]
[{"$f":"Control!H9","v":8},null,null,"DIAGNOSTICOS",null,null,"CONTROL",null,"Total",null,"TAES",null," ABANDONO",null,null,"INICIO ",null,null,0,null,null,"DIABETES",null,null,null,null,null,0,null,null,0]
["SINT. ESP..",null,null,"Tot",null,"(+)","Tot","(+)",0,null,0,null,0,null,null,"FINALIZACION ",null,null,0,null,null,"HIPERTENSION \nARTERIAL",null,null,null,null,null,0,null,null,0]
[{"$f":"IF(ISERROR(((AK91+AL91+AN91+AP91+AR91+AU91+AV91+AY91+AZ91+BB91+BD91+BG91+BI91+BK91+BM91+BO91+BQ91+BS91+BU91+BW91+BY91+CB91)*0.2)*A31/100),0,(((AK91+AL91+AN91+AP91+AR91+AU91+AV91+AY91+AZ91+BB91+BD91+BG91+BI91+BK91+BM91+BO91+BQ91+BS91+BU91+BW91+BY91+CB91)*0.2)*A31/100))","v":0},null,null,0,null,0,0,0,"QUIMIO Total",null,0,null,null,null,null,null,null,null,null,null,null,"PERSONAS CON OTRAS ENF. CRONICAS AL CUIDADO DE NIÑOS",null,null,null,null,null,0,null,null,0]
["SINT. DETEC.",null,null,"CONTACTO",null,null,null,null,"CTRL. MEDICO",null,null,null,"FINALIZAD0",null,null,"ABANDONO ",null,null,0]
[0,null,null,"< 14a",null,null,"> 15a",null,"Pcte/Rda",null,"A Cont",null,0,null,null,null,null,null,null,null,null,"ADULTOS MAYORES EN SITUACION DE RIESGO",null,null,null,null,null,0]
[null,null,null,0,null,null,0,null,0,null,0]
["N) DERIVACIONES",null,null,null,null,null,null,null,null,null,null,null,null,null,null,null,null,null,null,null,null,null,null,null,null,null,null,null,null,null,null,null,null,null,null,null,null,null,null,null,null,"Ñ) VIVIENDA Y SANEAMIENTO",null,null,null,null,null,null,null,null,null,null,null,null,null,null,null,null,null,null,null,null,null,null,null,null,null,null,null,"O) DEFUNCIONES EN LA RONDA"]
[null,null,null,null,null,null,null,null,null,null,null,null,null,null,null,null,null,null,null,null,null,null,null,null,null,null,null,null,null,null,null,null,null,null,null,null,null,null,null,null,null,"TRAT. AGUA",null,null,null,null,null,"DISP SANITARIA EXCRETAS",null,null,null,null,null,null,null,null,null,null,null,"TRATAM. SANIT BASURA",null,null,null,null,null,null,null,null,null,"MENORES 1 AÑO",null,null,null,null,null,null,null,null,null,null,"1 a 4 AÑOS",null,"MATERNA",null,null,null,"OTRAS"]
["EMB",null,null,null,"RN",null,null,null,"PUERP",null,null,null,"Menores de 6 años",null,null,null,null,null,null,null,"E.\nCRONICAS",null,"PAP",null,"CHAGAS",null,null,null,"TBC",null,null,null,"PSICOSOC",null,null,null,"TOTAL\nDERIVACIONES",null,null,null,null,"RED",null,"EN\nVIV",null,null,"S/T","ARRASTRE",null,null,null,null,null,"LETRINA",null,null,null,"S/T",null,"REC. DOMIC.",null,null,"POZO BASURA",null,null,null,"S/T",null,null,"<7d",null,null,"7 a 28d",null,null,null,"29d a 11 m"]
[null,null,null,null,null,null,null,null,null,null,null,null,"BP- MBP",null,"RGO BP",null,"Resp",null,"Diarr",null,null,null,null,null,null,null,null,null,null,null,null,null,null,null,null,null,null,null,null,null,null,null,null,null,null,null,null,"CLOACAS",null,"PC-CT",null,"PC-ST",null,"CT",null,"ST"]
["Env",null,"Rec",null,"Env",null,"Rec",null,"Env",null,"Rec",null,"Env","Rec","Env","Rec","Env","Rec","Env","Rec","Env","Rec","Env","Rec","Env",null,"Rec",null,"Env",null,"Rec",null,"Env",null,"Rec",null,"ENV",null,null,"Rec",null,0,null,0,null,null,0,0,null,0,null,0,null,0,null,0,null,0,null,0,null,null,0,null,null,null,0,null,null,0,null,null,0,null,null,null,0,null,null,null,0,null,0,null,null,null,0]
[null,null,null,null,null,null,null,null,null,null,null,null,null,null,null,null,null,null,null,null,null,null,null,null,null,null,null,null,null,null,null,null,null,null,null,null,null,null,null,null,null,"CASAS ",null,null,null,null,null,null,null,null,null,null,null,"CHAGAS",null,null,null,null,null,null,null,null,null,null,null,"DENGUE CHIKUNGUNYA",null,null,null,null,null,null,null,null,null,null,null,"P) PROM. SALUD"]
[0,null,0,null,0,null,0,null,0,null,0,null,0,0,0,0,0,0,0,0,0,0,0,0,0,null,0,null,0,null,0,null,0,null,0,null,{"$f":"AG43+AC43+Y43+W43+U43+S43+Q43+O43+M43+I43+E43+A43","v":0},null,null,{"$f":"AI43+AE43+AA43+X43+V43+T43+R43+P43+N43+K43+G43+C43","v":0},null,"ASIGNADAS",null,null,null,null,"VISITADAS",null,null,"VACIAS",null,"DESTRUIDAS",null,"EVALUADAS",null,null,"POSITIVAS",null,null,null,null,"TRATADAS",null,null,null,"EVALUADAS",null,null,null,"POSITIVAS",null,null,null,"TRATADAS",null,null,null,"PLANIFICADAS \nEN COMUNIDAD",null,null,null,null,null,null,null,0]
[]
[null,null,null,null,null,null,null,null,null,null,null,null,null,null,null,null,null,null,null,null,null,null,null,null,null,null,null,null,null,null,null,null,null,null,null,null,null,null,null,null,null,0,null,null,null,null,0,null,null,0,null,0,null,0,null,null,0,null,null,null,null,0,null,null,null,0,null,null,null,0,null,null,null,0,null,null,null,"REALIZADAS ",null,null,null,null,null,null,null,0]
["Q) INDICADORES"]
["DE ESTRUCTURA",null,null,null,null,null,"SI","NO","DE PRODUCCION",null,null,null,null,null,"%","META",null," DE INMUNIZACIONES",null,null,null,null,null,null,null,null,null,null,null,null,null,null,null,null," DE INMUNIZACIONES",null,null,null,null,null,null,null,null,null,null,null,null,null,null,null,null,null,null,null,null,null,null,null,null,null,null," DE RESULTADO",null,null,null,null,null,null,null,null,"%",null,"META",null,null," DE RESULTADO",null,null,null,null,null,null,null,null,null,"%",null,"META RDA"]
["Formularios",null,null,null,null,null,0,0,"Cobertura a Familias",null,null,null,null,null,{"$f":"IF(ISERROR(D12/A12),0,(D12/A12)*100)","v":0},100,null,"VACUNA",null,null,null,null,"P. REF",null,"1r","2r","3r","4r",null,"T","%",null,"META",null,"VACUNA",null,null,null,null,null,null,null,null,null,"P. REF",null,null,"1r",null,null,"2r","3r",null,null,"4r","T",null,"%",null,"META",null,"Ed Fértil c/Anticoncepción",null,null,null,null,null,null,null,null,{"$f":"IF(ISERROR(D20/CH27),0,(D20/CH27)*100)","v":0},null,null,null,null,"Niños 2 a 5 Recup BP",null,null,null,null,null,null,null,null,null,{"$f":"IF(ISERROR(AV23/K80),0,(AV23/K80)*100)","v":0},null,100]
["Equipo",null,null,null,null,null,0,0,"Niños < 2 años Controlados",null,null,null,null,null,{"$f":"IF(ISERROR(((AJ22+AL22+AN22+AP22)/(A28+D28+G28))),0,(((AJ22+AL22+AN22+AP22)/(A28+D28+G28)))*100)","v":0},100,null,"BCG RN",null,null,null,null,{"$f":"U20","v":0},null,0,0,0,0,null,{"$f":"SUM(Y49:AB49)","v":0},{"$f":"IF(ISERROR(Z49/W49),0,(Z49/W49)*100)","v":0},null,100,null,"2 Ref. Varicela Ingreso Esc",null,null,null,null,null,null,null,null,null,20,null,null,0,null,null,0,0,null,null,0,{"$f":"SUM(AV49:BC49)","v":0},null,{"$f":"IF(ISERROR(AY49/AS49),0,(AY49/AS49)*100)","v":0},null,25,null,"PAP",null,null,null,null,null,null,null,null,{"$f":"IF(ISERROR(D17/CH27),0,(D17/CH27)*100)","v":0},null,null,null,null,"Niños 2 a 5 Recup AP",null,null,null,null,null,null,null,null,null,{"$f":"IF(ISERROR(AY23/K82),0,(AY23/K82)*100)","v":0},null,100]
["Combustible",null,null,null,null,null,0,0,"Niños  (2 a 5 años) Controlados",null,null,null,null,null,{"$f":"IF(ISERROR(((AJ23+AL23+AN23+AP23)/(I28+K28+M28+P28))),0,(((AJ23+AL23+AN23+AP23)/(I28+K28+M28+P28)))*100)","v":0},100,null,"Hepatitis B RN","Hepatitis B RN",null,"Hepatitis B RN","Hepatitis B RN",null,null,0,0,0,0,null,{"$f":"SUM(Y50:AB50)","v":0},{"$f":"IF(ISERROR(Z50/W49),0,(Z50/W49)*100)","v":0},null,null,null,"2° Ref. Antipolio Ingreso Escolar",null,null,null,null,null,null,null,null,null,null,null,null,0,null,null,0,0,null,null,0,{"$f":"SUM(AV50:BC50)","v":0},null,{"$f":"IF(ISERROR(AY50/AS49),0,(AY50/AS49)*100)","v":0},null,null,null,"Embarazadas Con MELON",null,null,null,null,null,null,null,null,{"$f":"IF(ISERROR(F23/J20),0,(F23/J20)*100)","v":0},null,80,null,null,"Niños 6 meses con LME",null,null,null,null,null,null,null,null,null,{"$f":"IF(ISERROR(CC20/CC17),0,(CC20/CC17)*100)","v":0},null,80]
[" DE DIAGNOSTICO",null,null,null,null,null,null,"%","Conc. Vis. Flias Prio",null,null,null,null,null,{"$f":"IF(ISERROR((BB15+BE15)/(BB14+BE14)),0,((BB15+BE15)/(BB14+BE14)))","v":0},25,null,"2° Neumococo < 1a","3ª SOT/Salk < 1a",null,"3ª SOT/Salk < 1a","3ª SOT/Salk < 1a",{"$f":"A91+C91+D91+F91","v":0},null,0,0,0,0,null,{"$f":"SUM(Y51:AB51)","v":0},{"$f":"IF(ISERROR(Z51/W51),0,(Z51/W51)*100)","v":0},null,100,null,"2° Ref. DPT Ingreso Escolar",null,null,null,null,null,null,null,null,null,null,null,null,0,null,null,0,0,null,null,0,{"$f":"SUM(AV51:BC51)","v":0},null,{"$f":"IF(ISERROR(AY51/AS49),0,(AY51/AS49)*100)","v":0},null,null,null,"Partos Hospitalarios",null,null,null,null,null,null,null,null,{"$f":"IF(ISERROR(O20/M20),0,(O20/M20)*100)","v":0},null,100]
["Flias Priorizadas 3 + 2:",null,null,null,null,null,null,{"$f":"IF(ISERROR((BB14+BE14)/D12),0,(BB14+BE14)/D12*100)","v":0},"Conc.C.Dom Niños Bp/MBP",null,null,null,null,null,{"$f":"IF(ISERROR(BW22/(AL22+AN22+AL23+AN23)),0,(BW22/(AL22+AN22+AL23+AN23)))","v":0},3,null,"2° Rotavirus <1 a","3º Pentavalente <1 a",null,"3º Pentavalente <1 a","3º Pentavalente <1 a",null,null,0,0,0,0,null,{"$f":"SUM(Y52:AB52)","v":0},{"$f":"IF(ISERROR(Z52/W51),0,(Z52/W51)*100)","v":0},null,null,null,"2° TV Ingreso Escolar",null,null,null,null,null,null,null,null,null,null,null,null,0,null,null,0,0,null,null,0,{"$f":"SUM(AV52:BC52)","v":0},null,{"$f":"IF(ISERROR(AY52/AS49),0,(AY52/AS49)*100)","v":0},null,100,null,"Conc Control Médico a RN",null,null,null,null,null,null,null,null,{"$f":"IF(ISERROR(Q23/M20),0,(Q23/M20))","v":0},null,4,null,null,"% Niños BP MBP y RBP con MELaN",null,null,null,null,null,null,null,null,null,{"$f":"IF(ISERROR(BO20/(AL22+AN22+AR22+AL23+AN23+AR23)),0,(BO20/(AL22+AN22+AR22+AL23+AN23+AR23))*100)","v":0},null,100]
["Flias Urbanas",null,null,null,null,null,null,{"$f":"IF(ISERROR(T12/D12),0,(T12/D12)*100)","v":0},"Rel. Muestra/Sint Resp.",null,null,null,null,null,{"$f":"IF(ISERROR(D33/A35),0,(D33/A35))","v":0},2,null,"2° Meningococo < 1a",null,null,null,null,null,null,0,0,0,0,null,{"$f":"SUM(Y53:AB53)","v":0},{"$f":"IF(ISERROR(Z53/W51),0,(Z53/W51)*100)","v":0},null,null,null,"dTpa 11 años",null,null,null,null,null,null,null,null,null,15,null,null,0,null,null,0,0,null,null,0,{"$f":"SUM(AV53:BC53)","v":0},null,{"$f":"IF(ISERROR(AY53/AS53),0,(AY53/AS53)*100)","v":0},null,null,null,"Conc Control Méd. a puérpera",null,null,null,null,null,null,null,null,{"$f":"IF(ISERROR(M23/S20),0,(M23/S20))","v":0},null,4,null,null,"Sint Resp Detect. Seg zona",null,null,null,null,null,null,null,null,null,{"$f":"IF(ISERROR((A35*100)/(((20*(AK28+AN28+AR28+AV28+AZ28+BD28+BI28+BM28+BQ28+BU28+BY28))/100)*A31)),0,(A35*100)/((((20*(AK28+AN28+AR28+AV28+AZ28+BD28+BI28+BM28+BQ28+BU28+BY28))/100)*A31)/100))","v":0},null,"S/Z"]
["Flias Periurbanas",null,null,null,null,null,null,{"$f":"IF(ISERROR(V12/D12),0,(V12/D12)*100)","v":0},"Casas Evaluadas Chagas",null,null,null,null,null,{"$f":"IF(ISERROR(BB45/AU45),0,(BB45/AU45)*100)","v":0},100,null,"3° Antipolio < 1 año","2ª Rotavirus < 1 año",null,"2ª Rotavirus < 1 año","2ª Rotavirus < 1 año",null,null,0,0,0,0,null,{"$f":"SUM(Y54:AB54)","v":0},{"$f":"IF(ISERROR(Z54/W51),0,(Z54/W51)*100)","v":0},null,null,null,"U.D. Meningococo",null,null,null,null,null,null,null,null,null,null,null,null,0,null,null,0,0,null,null,0,{"$f":"SUM(AV54:BC54)","v":0},null,{"$f":"IF(ISERROR(AY54/AS53),0,(AY54/AS53)*100)","v":0},null,"95% AL 1° SEM",null,"RN con Pesquisa",null,null,null,null,null,null,null,null,{"$f":"IF(ISERROR(Y23/U20),0,(Y23/U20)*100)","v":0},null,100,null,null,"Pacientes TBC con Control Médico",null,null,null,null,null,null,null,null,null,{"$f":"IF(ISERROR(I36/I32),0,(I36/I32)*100)","v":0},null,100]
["Flias Rurales",null,null,null,null,null,null,{"$f":"IF(ISERROR(Y12/D12),0,(Y12/D12)*100)","v":0},"Casas Tratadas Chagas",null,null,null,null,null,{"$f":"IF(ISERROR(BJ45/BE45),0,(BJ45/BE45)*100)","v":0},100,null,"3° Pentavalente <1 año","TV 1 año",null,"TV 1 año","TV 1 año",null,null,0,0,0,0,null,{"$f":"SUM(Y55:AB55)","v":0},{"$f":"IF(ISERROR(Z55/W51),0,(Z55/W51)*100)","v":0},null,null,null,"1° HPV Niñas cumplen 11 a en año en curso",null,null,null,null,null,null,null,null,null,6,null,null,0,null,null,0,0,null,null,0,{"$f":"SUM(AV55:BC55)","v":0},null,{"$f":"IF(ISERROR(AY55/AS55),0,(AY55/AS55)*100)","v":0},null,null,null,"Derivaciones Enviadas/Recibidas",null,null,null,null,null,null,null,null,{"$f":"IF(ISERROR(AN43/AK43),0,(AN43/AK43)*100)","v":0},null,100,null,null,"Contactos TBC Controlados",null,null,null,null,null,null,null,null,null,{"$f":"IF(ISERROR(K36/(D36+G36)),0,(K36/(D36+G36)))*100","v":0},null,100]
["Flias Originarias",null,null,null,null,null,null,{"$f":"IF(ISERROR(R12/D12),0,(R12/D12)*100)","v":0},"Casas Evaluadas Dengue",null,null,null,null,null,{"$f":"IF(ISERROR(BN45/AU45),0,(BN45/AU45)*100)","v":0},100,null,"1° TV","A HA 1 año",null,"A HA 1 año","A HA 1 año",{"$f":"G91+H91","v":0},null,6,0,0,0,null,{"$f":"SUM(Y56:AB56)","v":6},{"$f":"IF(ISERROR(Z56/W56),0,(Z56/W56)*100)","v":0},null,100,null,"1° HPV Niños cumplen 11 a en año en curso",25,25,null,null,null,null,null,null,null,10,null,null,0,null,null,0,0,null,null,0,{"$f":"SUM(AV56:BC56)","v":0},null,{"$f":"IF(ISERROR(AY56/AS56),0,(AY56/AS56)*100)","v":0},null,"95% AL 1° SEM",null,"Niños < 2 a Riesgo BP",null,null,null,null,null,null,null,null,{"$f":"IF(ISERROR(AR22/AJ22),0,(AR22/AJ22)*100)","v":0},null,null,null,null,"TAES de TBC",null,null,null,null,null,null,null,null,null,{"$f":"IF(ISERROR(K32/I32),0,(K32/I32)*100)","v":0},null,100]
["Flias Migr. desde AO",null,null,null,null,null,null,{"$f":"IF(ISERROR(AC12/A12),0,(AC12/A12)*100)","v":0},"Casas Tratadas Dengue",null,null,null,null,null,{"$f":"IF(ISERROR(BV45/BR45),0,(BV45/BR45)*100)","v":0},100,null,"2° TV","A HA 1 año",null,"A HA 1 año","A HA 1 año",null,null,6,0,0,0,null,{"$f":"SUM(Y57:AB57)","v":6},{"$f":"IF(ISERROR(Z57/W56),0,(Z57/W56)*100)","v":0},null,null,null,"Emb. con dTpa",null,null,null,null,null,null,null,null,null,0,null,null,0,null,null,0,0,null,null,0,{"$f":"SUM(AV57:BC57)","v":0},null,{"$f":"IF(ISERROR(AY57/AS57),0,(AY57/AS57)*100)","v":0},null,null,null,"Niños < 2 a Riesgo AP",null,null,null,null,null,null,null,null,{"$f":"IF(ISERROR(AT22/AJ22),0,(AT22/AJ22)*100)","v":0},null,null,null,null,"Ptes. con tratamiento por Chagas",null,null,null,null,null,null,null,null,null,{"$f":"S31","v":0}]
["Flias Migr. hacia el AO",null,null,null,null,null,null,{"$f":"IF(ISERROR(AA12/A12),0,(AA12/A12)*100)","v":0},"Superv Int. a la Familia",null,null,null,null,null,{"$f":"IF(ISERROR((CH14*100)/BL14),0,((CH14*100)/BL14))","v":0},20,null,"Unica Dosis A HA",null,null,null,null,null,null,6,0,0,0,null,{"$f":"SUM(Y58:AB58)","v":6},{"$f":"IF(ISERROR(Z58/W56),0,(Z58/W56)*100)","v":0},null,null,null,"Emb. con Vac Sinsicial",null,null,null,null,null,null,null,null,null,null,null,null,2,null,null,0,0,null,null,0,{"$f":"SUM(AV58:BC58)","v":2},null,{"$f":"IF(ISERROR(AY58/AS57),0,(AY58/AS57)*100)","v":0},null,100,null,"Niños < 2 Recup BP",null,null,null,null,null,null,null,null,{"$f":"IF(ISERROR(AV22/K79),0,(AV22/K79)*100)","v":0},null,100,null,null,"Casas positivas Chagas",null,null,null,null,null,null,null,null,null,{"$f":"IF(ISERROR(BE45/BB45),0,(BE45/BB45)*100)","v":0},null,0]
["Flias con planes sociales",null,null,null,null,null,null,{"$f":"IF(ISERROR(AF12/D12),0,(AF12/D12)*100)","v":0},"Superv Prof. Flias Prio (3v)",null,null,null,null,null,{"$f":"IF(ISERROR(CH15/(BB14+BE14)),0,(CH15/(BB14+BE14))*100)","v":0},70,null,"Ref Neumococo 1 año","Ref Neumoc 1 año",null,"Ref Neumoc 1 año","Ref Neumoc 1 año",null,null,6,0,0,0,null,{"$f":"SUM(Y59:AB59)","v":6},{"$f":"IF(ISERROR(Z59/W56),0,(Z59/W56)*100)","v":0},null,null,null,"dT  Vigente > 65 a",null,null,null,null,null,null,null,null,null,8,null,null,0,null,null,0,0,null,null,0,{"$f":"SUM(AV59:BC59)","v":0},null,{"$f":"IF(ISERROR(AY59/AS59),0,(AY59/AS59)*100)","v":0},null,100,null,"Niños < 2 Recup AP",null,null,null,null,null,null,null,null,{"$f":"IF(ISERROR(AY22/K81),0,(AY22/K81)*100)","v":0},null,100,null,null,"Casas Positivas Aedes",null,null,null,null,null,null,null,null,null,{"$f":"IF(ISERROR(BR45/BN45),0,(BR45/BN45)*100)","v":0},null," "]
[null,null,null,null,null,null,null,null,"% Activ Prom.Salud Comunitarias",null,null,null,null,null,{"$f":"IF(ISERROR(CH45/CH43),0,(CH45/CH43)*100)","v":0},100,null,"Ref. Meningococo 1 año","Ref Cuádruple 1 año",null,"Ref Cuádruple 1 año","Ref Cuádruple 1 año",null,null,5,0,0,0,null,{"$f":"SUM(Y60:AB60)","v":5},{"$f":"IF(ISERROR(Z60/W56),0,(Z60/W56)*100)","v":0},null,null,null,"Neumo 20 > 65 años",null,null,null,null,null,null,null,null,null,null,null,null,0,null,null,0,0,null,null,0,{"$f":"SUM(AV60:BC60)","v":0},null,{"$f":"IF(ISERROR(AY60/AS59),0,(AY60/AS59)*100)","v":0},null,null,null,"Niños 2 a 5 Riesgo BP",null,null,null,null,null,null,null,null,{"$f":"IF(ISERROR(AR23/AJ23),0,(AR23/AJ23)*100)","v":0},null,null,null,null,"UROCS 1/SEC",null,null,null,null,null,null,null,null,null,0,null,"1/SEC"]
["Flias. c/Antec Mort Mat Inf",null,null,null,null,null,null,{"$f":"IF(ISERROR(AV10/D12),0,(AV10/D12)*100)","v":0},null,null,null,null,null,null,null,null,null,"Unica Dosis Varicela","Ref SOT 1 año",null,"Ref SOT 1 año","Ref SOT 1 año",null,null,6,0,0,0,null,{"$f":"SUM(Y61:AB61)","v":6},{"$f":"IF(ISERROR(Z61/W56),0,(Z61/W56)*100)","v":0},null,null,null,"Aplic. Cargadas a Nomivac",null,null,null,null,null,null,null,null,null,0,null,null,null,null,null,null,null,null,null,null,null,null,null,null,null,null,null,null,null,null,null,null,null,null,null,null,null,null,null,null,"Flias con Huerta",null,null,null,null,null,null,null,null,null,{"$f":"IF(ISERROR(AL12/D12),0,(AL12/D12)*100)","v":0}]
["F con 3 o más <6 años",null,null,null,null,null,null,{"$f":"IF(ISERROR(BI10/D12),0,(BI10/D12)*100)","v":0}," DE IMPACTO",null,null,null,null,"%",null,"META",null,"4° Dosis o 1° Ref. Pentavalente",null,null,null,null,null,null,0,0,0,0,null,{"$f":"SUM(Y62:AB62)","v":0},{"$f":"IF(ISERROR(Z62/W56),0,(Z62/W56)*100)","v":0},null,null,null,"Total Aplic /AS",null,null,null,null,null,null,null,null,null,0,null,null,null,null,null,null,null,null,null,null,null,null,null,null,null,null,"Niños 2 a 5 Riesgo AP",null,null,null,null,null,null,null,null,{"$f":"IF(ISERROR(AT23/AJ23),0,(AT23/AJ23)*100)","v":0},null,null,null,null,"Flias con Granja",null,null,null,null,null,null,null,null,null,{"$f":"IF(ISERROR(AP12/D12),0,(AP12/D12)*100)","v":0}]
["Flias con Hacinamiento",null,null,null,null,null,null,{"$f":"IF(ISERROR(BL10/D12),0,(BL10/D12)*100)","v":0},"Agua Seg (Trat Red + Viv)",null,null,null,null,{"$f":"IF(ISERROR((AP41+AR41)/D12),0,((AP41+AR41)/D12)*100)","v":0},null,100,null,"2° AG 6m a 24m",null,null,null,null,16,null,0,0,0,0,null,{"$f":"SUM(Y63:AB63)","v":0},{"$f":"IF(ISERROR(Z63/W63),0,(Z63/W63)*100)","v":0},null," ",null,"VAC COVID APLIC EN LA RONDA",null,null,null,null,null,null,null,null,null,0,null,null,null,null,null,null,null,null,null,null,null,null,null,null,null,null,"U) A llenar en 1° Ronda del Año"]
["Flias con Analfabet",null,null,null,null,null,null,{"$f":"IF(ISERROR(BO10/D12),0,(BO10/D12)*100)","v":0},"DSE (Arrastre y letrinas)",null,null,null,null,{"$f":"IF(ISERROR((AV41+AX41+AZ41+BB41+BD41)/D12),0,((AV41+AX41+AZ41+BB41+BD41)/D12)*100)","v":0},null,100,null,"R) PRODUCCION Y RENDIMIENTO",null,null,null,null,null,null,null,null,null,null,null,null,null,null,null,null,null,null,null,null,null,null,null,null,null,null,null,null,null,null,null,null,null,null,null,null,null,null,null,null,null,null,null,"Piso",null,null,null,null,"Techo",null,null,null,null,"Paredes",null,null,null,null,null,null,null,null,null,"Cocina",null,null,null,null,"Tenencia"]
["Flias con Suicidio",null,null,null,null,null,null,{"$f":"IF(ISERROR(BT11/D12),0,(BT11/D12)*100)","v":0},"TSB (Recolección + Pozo)",null,null,null,null,{"$f":"IF(ISERROR((BH41+BK41)/D12),0,((BH41+BK41)/D12)*100)","v":0},null,100,null,"DIAS A TRAB. /RONDA",null,null,"DIAS INCLEM CLIMAT.",null,null,"DIAS Y NROS DE ARTICULOS TOMADOS",null,null,null,"CAPACITACIONES Y OTRAS ACTIVIDADES",null,null,null,null,null,null,null,null,null,null,null,null,null,null,null,null,null,null,null,null,null,null,"DIAS TRABAJADOS\nEN TERRENO",null,null,null,null,"PROM. DIARIO DE FLIAS VISIT.",null,null,null,null,null,"Mosaico/B.",null,null,null,0,"Losa",null,null,0,null,"Ladrillo",null,null,0,null,"Madera",null,null,null,0,"Gas",null,null,0,null,"Segura",null,null,0]
["Flias c /tentativa suicidio",null,null,null,null,null,null,{"$f":"IF(ISERROR(BV11/D12),0,(BV11/D12)*100)","v":0},"Emb Adolescente",null,null,null,null,{"$f":"IF(ISERROR(L20/J20),0,(L20/J20)*100)","v":0},null,null,null,null,null,null,null,null,null,0,null,null,null,0,null,null,null,null,null,null,null,null,null,null,0,null,null,null,null,null,null,null,null,null,null,null,null,null,null,null,null,null,null,null,null,null,null,"Cemento",null,null,null,0,"Chapa\nZinc",null,null,0,null,"Bloque",null,null,0,null,"Quincho",null,null,null,0,"Leña/\nCarb",null,null,0,null,"Inseg.",null,null,0]
["Flias con Alcoholismo",null,null,null,null,null,null,{"$f":"IF(ISERROR(BY11/D12),0,(BY11/D12)*100)","v":0},"Niños <2 Bajo Peso/MBP",null,null,null,null,{"$f":"IF(ISERROR((AL22+AN22)/(AJ22+AP22+AL22+AN22)),0,((AL22+AN22)/(AJ22+AP22+AL22+AN22))*100)","v":0},null,null,null,null,null,null,null,null,null,0,null,null,null,0,null,null,null,null,null,null,null,null,null,null,0,null,null,null,null,null,null,null,null,null,null,null,null,null,null,null,null,null,null,null,null,null,null,"Tierra",null,null,null,0,"Paja/\nBarro",null,null,0,null,"Adobe",null,null,0,null,"Carton/Pl",null,null,null,0,"Otros",null,null,0,null,"Hac",null,null,0,null,null,null,5]
["Flias c/ otras Adicciones",null,null,null,null,null,null,{"$f":"IF(ISERROR(CC11/D12),0,(CC11/D12)*100)","v":0},"Niños <2 a AP",null,null,null,null,{"$f":"IF(ISERROR(AP22/(AJ22+AP22+AL22+AN22)),0,(AP22/(AJ22+AP22+AL22+AN22))*100)","v":0},null,null,null,0,null,null,0,null,null,0,null,null,null,0,null,null,null,null,null,null,null,null,null,null,0,null,null,null,null,null,null,null,null,null,null,null,0,null,null,null,null,{"$f":"IF(ISERROR(G12/AY68),0,(G12/AY68))","v":0},null,null,null,null,null,"Otros",null,null,null,0,"Otros",null,null,0,null,"Piedra",null,null,0,null,"Otro",null,null,null,0,"Helad.",null,null,0]
["Flias con VIF",null,null,null,null,null,null,{"$f":"IF(ISERROR(CF11/D12),0,(CF11/D12)*100)","v":0},"Niños < 2 baja y MBT",null,null,null,null,{"$f":"IF(ISERROR((AZ22+BB22)/(AJ22+AP22+AL22+AN22)),0,((AZ22+BB22)/(AJ22+AP22+AL22+AN22))*100)","v":0},null,null,null,"S) DETALLE DE LAS DEFUNCIONES (Todas las del Sector)",null,null,null,null,null,null,null,null,null,null,null,null,null,null,null,null,null,null,null,null,null,null,null,null,null,null,null,null,null,null,null,null,null,null,null,null,null,null,null,null,null,null,null,"Agua",null,"Corriente a Domic",null,null,"Grifo Terr",null,null,"Grifo Público",null,null,"Bomba",null,null,"Pozo",null,null,null,"Camión Aguatero / Cisterna",null,"Vertiente/Rio/Aceq",null,null,"Laguna",null,null,"Lluvia/Aljibe"]
["Flias con Diabetes",null,null,null,null,null,null,{"$f":"IF(ISERROR(AB31/D12),0,(AB31/D12)*100)","v":0},"Niños 2 a 5 Bajo Peso/MBP",null,null,null,null,{"$f":"IF(ISERROR((AL23+AN23)/(AJ23+AP23+AL23+AN23)),0,((AL23+AN23)/(AJ23+AP23+AL23+AN23))*100)","v":0},null,null,null,"APELLIDO Y NOMBRE",null,null,null,null,null,null,"DOMICILIO",null,null,null,null,null,null,null,null,"NACIMIENTO",null,null,null,null,"DEFUNCION",null,null,null,"PESO\nAL NACER",null,null,null,"CAUSA",null,null,null,null,null,null,null,null,null,"CLASIFICAC."]
["Flias con Hipertensión",null,null,null,null,null,null,{"$f":"IF(ISERROR(AB32/D12),0,(AB32/D12)*100)","v":0},"Niños 2 a 5 AP",null,null,null,null,{"$f":"IF(ISERROR(AP23/(AJ23+AP23+AL23+AN23)),0,(AP23/(AJ23+AP23+AL23+AN23))*100)","v":0}]
[]
["Personas con otras enfermedades crónicas al cuidado de niños",null,null,null,null,null,null,{"$f":"IF(ISERROR(AB33/D12),0,(AB33/D12)*100)","v":0},"Niños 2 a 5 baja y MBT",null,null,null,null,{"$f":"IF(ISERROR((AZ23+BB23)/(AJ23+AP23+AL23+AN23)),0,((AZ23+BB23)/(AJ23+AP23+AL23+AN23))*100)","v":0},null,null,null,null,null,null,null,null,null,null,null,null,null,null,null,null,null,null,null,null,null,null,null,null,null,null,null,null,null,null,null,null,null,null,null,null,null,null,null,null,null,null,null,null,null,null,null,null,null,0,null,null,0,null,null,0,null,null,0,null,null,0,null,null,null,0,null,0,null,null,0,null,null,0]
["Pers c/O Social/Pob total",null,null,null,null,null,null,{"$f":"IF(ISERROR(CI27/CC28),0,(CI27/CC28)*100)","v":0}]
[]
[]
[]
[]
["BP+MBP Ronda Anterior Men2a: ",null,null,null,null,null,null,null,null,null,0]
["BP+MBP Ronda Anterior 2 a 6a: ",null,null,null,null,null,null,null,null,null,1]
["AP Ronda Anterior Men2a: ",null,null,null,null,null,null,null,null,null,0]
["AP Ronda Anterior 2 a 6a: ",null,null,null,null,null,null,null,null,null,0]
[]
[]
[]
[]
[]
["0 a 5m",null,null,"6 a 11m",null,null,"1 AÑO",null,"2 AÑOS",null,"3 AÑOS",null,"4 AÑOS",null,null,"5 AÑOS",null,null,"6 AÑOS",null,null,"7 A 9 AÑOS",null,null,null,"10 AÑOS",null,"11 AÑOS",null,null,"12 A 14",null,null,null,null,null,"15 A 19",null,null,"20 A 24",null,null,null,"25 A 29",null,null,null,"30 A 34",null,null,null,"35 A 39",null,null,null,"40 A 44",null,null,null,null,"45 A 49",null,null,null,"50 A 54",null,null,null,"55 A 59",null,null,null,"60 A 64",null,null,null,"65 y +",null,null,null,"TOTAL",null,null,null,null,"MUJERES\n10 A 49"]
["M",null,"F","M",null,"F","M","F","M","F","M","F","M",null,"F","M",null,"F","M",null,"F","M",null,"F",null,"M","F","M",null,"F","M",null,null,"F",null,null,"M","F",null,"M",null,"F",null,"M",null,null,"F","M",null,null,"F","M",null,"F",null,"M",null,null,"F",null,"M",null,"F",null,"M",null,"F",null,"M",null,"F",null,"M",null,"F",null,"M",null,null,"F","M",null,"F"]
[0,null,0,0,null,0,0,0,0,0,0,0,0,null,0,0,null,0,0,null,0,0,null,0,null,0,0,0,null,0,0,null,null,0,null,null,0,0,null,0,null,0,null,0,null,null,0,0,null,null,0,0,null,0,null,0,null,null,0,null,0,null,0,null,0,null,0,null,0,null,0,null,0,null,0,null,0,null,null,0,{"$f":"SUM(A90,D90,G90,I90,K90,M90,P90,S90,V90,Z90,AB90,AE90,AK90,AN90,AR90,AV90,AZ90,BD90,BI90,BM90,BQ90,BU90,BY90)","v":0},null,{"$f":"SUM(C90,F90,H90,J90,L90,O90,R90,U90,X90,AA90,AD90,AH90,AL90,AP90,AU90,AY90,BB90,BG90,BK90,BO90,BS90,BW90,CB90)","v":0},null,null,{"$f":"SUM(AA90,AD90,AH90,AL90,AP90,AU90,AY90,BB90,BG90,BK90)","v":0}]
[{"$f":"SUM(A90:C90)","v":0},null,null,{"$f":"SUM(D90,F90)","v":0},null,null,{"$f":"SUM(G90,H90)","v":0},null,{"$f":"SUM(I90,J90)","v":0},null,{"$f":"SUM(K90,L90)","v":0},null,{"$f":"SUM(M90,O90)","v":0},null,null,{"$f":"SUM(P90,R90)","v":0},null,null,{"$f":"SUM(S90,U90)","v":0},null,null,{"$f":"SUM(V90,X90)","v":0},null,null,null,{"$f":"SUM(Z90,AA90)","v":0},null,{"$f":"SUM(AB90,AD90)","v":0},null,null,{"$f":"SUM(AE90,AH90)","v":0},null,null,null,null,null,{"$f":"SUM(AK90,AL90)","v":0},null,null,{"$f":"SUM(AN90,AP90)","v":0},null,null,null,{"$f":"SUM(AR90,AU90)","v":0},null,null,null,{"$f":"SUM(AV90,AY90)","v":0},null,null,null,{"$f":"SUM(AZ90,BB90)","v":0},null,null,null,{"$f":"SUM(BD90,BG90)","v":0},null,null,null,null,{"$f":"SUM(BI90,BK90)","v":0},null,null,null,{"$f":"SUM(BM90,BO90)","v":0},null,null,null,{"$f":"SUM(BQ90,BS90)","v":0},null,null,null,{"$f":"SUM(BU90,BW90)","v":0},null,null,null,{"$f":"SUM(BY90,CB90)","v":0},null,null,null,{"$f":"A91+D91+G91+I91+K91+M91+P91+S91+V91+Z91+AB91+AE91+AK91+AN91+AR91+AV91+AZ91+BD91+BI91+BM91+BQ91+BU91+BY91","v":0}]
["Mejor Población: 1° - 2019",null,null,null,null,null,null,null,null,null,null,null,null,null,null,null,null,null,null,null,null,null,null,null,null,null,null,null,null,null,null,null,null,null,null,null,null,null,null,null,null,null,null,null,null,null,null,null,null,null,null,null,null,null,null,null,null,null,null,null,null,null,null,null,null,null,null,null,null,null,null,null,null,null,null,null,null,null,null,null,{"$f":"SUM(CC91,CE91)","v":0}]
["Cobertura: 1%"]

{"sheet":"LA CORTADA","index":24,"n_rows":93,"n_cols":94,"rows_kept":93,"cut":false,"hidden":false,"merged":[[61,30,61,31],[62,30,62,31],[89,85,90,85],[90,0,90,2],[90,3,90,5],[90,6,90,7],[90,8,90,9],[90,10,90,11],[90,12,90,14],[90,15,90,17],[90,18,90,20],[90,21,90,24],[89,70,89,71],[89,72,89,73],[89,74,89,75],[89,76,89,78],[89,80,89,81],[89,82,89,84],[89,58,89,59],[89,51,89,52],[89,53,89,54],[89,55,89,57],[89,23,89,24],[89,27,89,28],[89,30,89,32],[89,33,89,35],[89,37,89,38],[89,39,89,40],[90,72,90,75],[90,76,90,79],[90,80,90,84],[90,47,90,50],[90,51,90,54],[90,55,90,59],[90,60,90,63],[90,64,90,67],[90,68,90,71],[90,25,90,26],[90,27,90,29],[90,30,90,35],[90,36,90,38],[90,39,90,42],[90,43,90,46],[89,0,89,1],[89,3,89,4],[89,12,89,13],[89,15,89,16],[89,18,89,19],[89,21,89,22],[88,62,88,63],[88,64,88,65],[88,66,88,67],[88,68,88,69],[88,70,88,71],[88,72,88,73],[88,47,88,49],[88,51,88,52],[88,53,88,54],[88,55,88,57],[88,58,88,59],[88,60,88,61],[88,30,88,32],[88,33,88,35],[88,37,88,38],[88,39,88,40],[88,41,88,42],[88,43,88,45],[89,60,89,61],[89,62,89,63],[89,64,89,65],[89,66,89,67],[89,68,89,69],[89,41,89,42],[89,43,89,45],[89,47,89,49],[87,80,87,84],[87,85,88,85],[88,0,88,1],[88,3,88,4],[88,12,88,13],[88,15,88,16],[88,18,88,19],[88,21,88,22],[88,23,88,24],[88,27,88,28],[87,55,87,59],[87,60,87,63],[87,64,87,67],[87,68,87,71],[87,72,87,75],[87,76,87,79],[87,30,87,35],[87,36,87,38],[87,39,87,42],[87,43,87,46],[87,47,87,50],[87,51,87,54],[87,12,87,14],[87,15,87,17],[87,18,87,20],[87,21,87,24],[87,25,87,26],[87,27,87,29],[88,74,88,75],[88,76,88,78],[88,80,88,81],[88,82,88,84],[75,17,75,23],[75,24,75,32],[75,38,75,41],[75,42,75,45],[75,46,75,55],[87,0,87,2],[87,3,87,5],[87,6,87,7],[87,8,87,9],[87,10,87,11],[73,42,73,45],[73,46,73,55],[73,56,73,60],[74,17,74,23],[74,24,74,32],[74,38,74,41],[74,42,74,45],[74,46,74,55],[72,75,73,78],[72,79,73,80],[72,81,73,83],[72,84,73,86],[72,87,73,89],[73,0,73,6],[73,17,73,23],[73,24,73,32],[73,33,73,37],[73,38,73,41],[72,46,72,55],[72,56,72,60],[72,63,73,65],[72,66,73,68],[72,69,73,71],[72,72,73,74],[71,56,71,60],[72,0,72,6],[72,8,73,12],[72,13,73,14],[72,15,73,16],[72,17,72,23],[72,24,72,32],[72,33,72,37],[72,38,72,41],[72,42,72,45],[68,87,71,89],[68,69,71,71],[68,72,71,74],[68,75,71,78],[68,79,71,80],[68,81,71,83],[71,46,71,55],[69,46,69,55],[69,56,69,60],[70,0,71,6],[70,7,71,7],[70,8,71,12],[70,13,71,14],[70,15,71,16],[70,17,70,23],[70,24,70,32],[70,33,70,37],[69,0,69,6],[69,8,69,12],[69,13,69,14],[69,15,69,16],[69,17,69,23],[69,24,69,32],[69,33,69,37],[69,38,69,41],[69,42,69,45],[68,84,71,86],[67,81,67,83],[67,84,67,85],[68,0,68,6],[68,8,68,12],[68,13,68,14],[68,15,68,16],[68,17,68,60],[68,61,73,62],[68,63,71,65],[68,66,71,68],[67,61,67,64],[67,66,67,68],[67,69,67,70],[67,71,67,73],[67,74,67,75],[67,76,67,79],[67,20,67,22],[67,23,67,26],[67,27,67,37],[67,38,67,49],[67,50,67,54],[67,55,67,60],[70,38,70,41],[70,42,70,45],[70,46,70,55],[70,56,70,60],[71,17,71,23],[71,24,71,32],[71,33,71,37],[71,38,71,41],[71,42,71,45],[63,0,63,6],[63,8,63,12],[63,13,63,14],[63,15,63,16],[63,17,63,60],[63,61,63,65],[63,66,63,70],[63,71,63,80],[63,81,63,85],[66,69,66,70],[66,71,66,73],[66,74,66,75],[65,76,65,79],[65,81,65,83],[65,84,65,85],[65,86,65,88],[66,0,66,6],[66,8,66,12],[66,13,66,14],[66,15,66,16],[66,23,66,26],[66,27,66,37],[65,15,65,16],[65,23,65,26],[65,27,65,37],[65,38,65,49],[64,55,66,60],[64,61,64,64],[64,66,64,68],[64,69,64,70],[64,74,64,75],[64,86,64,88],[64,20,66,22],[64,23,64,26],[64,27,64,49],[64,50,66,54],[65,0,65,6],[65,8,65,12],[65,13,65,14],[66,86,67,88],[66,89,67,89],[67,0,67,6],[67,8,67,12],[67,13,67,14],[67,15,67,16],[67,17,67,19],[66,38,66,49],[66,61,66,64],[66,66,66,68],[64,76,64,79],[65,61,65,64],[65,66,65,68],[65,69,65,70],[65,74,65,75],[66,76,66,79],[66,81,66,83],[66,84,66,85],[62,0,62,6],[62,8,62,12],[62,13,62,14],[62,15,62,16],[62,32,62,33],[62,34,62,43],[64,81,64,83],[64,84,64,85],[61,87,61,89],[61,32,61,33],[61,34,61,43],[61,44,61,60],[62,44,62,60],[60,87,60,89],[61,0,61,6],[61,8,61,12],[61,13,61,14],[61,15,61,16],[60,0,60,6],[60,17,60,21],[60,27,60,28],[60,30,60,31],[60,34,60,43],[60,44,60,60],[63,86,63,89],[64,0,64,6],[64,8,64,12],[64,13,64,14],[64,15,64,16],[64,17,66,19],[60,75,60,84],[60,85,60,86],[62,61,62,89],[58,75,58,84],[58,85,58,86],[59,61,60,69],[59,70,60,71],[59,72,60,74],[59,75,59,84],[58,34,58,43],[58,44,59,46],[58,47,58,49],[58,51,58,53],[58,55,58,56],[58,57,58,58],[59,55,59,56],[59,57,59,58],[61,61,61,69],[61,70,61,71],[61,72,61,74],[61,75,61,84],[61,85,61,86],[57,87,57,89],[58,0,59,6],[58,7,59,7],[58,8,58,13],[58,15,58,16],[58,17,58,21],[58,27,58,28],[58,30,58,31],[57,55,57,56],[57,57,57,58],[57,59,57,60],[57,61,57,69],[57,70,57,71],[57,72,57,74],[59,85,59,86],[59,87,59,89],[57,47,57,49],[57,51,57,53],[58,87,58,89],[59,8,60,13],[59,14,60,14],[59,15,60,16],[59,17,59,21],[59,27,59,28],[59,30,59,31],[59,34,59,43],[59,47,59,49],[59,51,59,53],[58,59,59,60],[58,61,58,69],[58,70,58,71],[58,72,58,74],[56,27,56,28],[56,30,56,31],[56,34,56,43],[56,44,57,46],[56,47,56,49],[55,59,56,60],[55,61,55,69],[55,70,55,71],[55,72,55,74],[55,75,55,84],[55,85,55,86],[56,75,56,84],[56,85,56,86],[55,34,55,43],[55,44,55,46],[55,47,55,49],[55,51,55,53],[55,55,55,56],[55,57,55,58],[57,75,57,84],[57,85,57,86],[55,0,55,6],[55,8,55,13],[55,15,55,16],[55,17,55,21],[55,27,55,28],[55,30,55,31],[55,32,60,33],[54,47,54,49],[54,51,54,53],[54,55,54,56],[54,57,54,58],[54,61,54,69],[54,70,54,71],[56,87,56,89],[57,0,57,6],[57,8,57,13],[57,15,57,16],[57,17,57,21],[57,27,57,28],[57,30,57,31],[57,34,57,43],[56,51,56,53],[56,55,56,56],[56,57,56,58],[56,61,56,69],[56,70,56,71],[56,72,56,74],[55,87,55,89],[56,0,56,6],[56,8,56,13],[56,15,56,16],[56,17,56,21],[53,87,53,89],[54,0,54,6],[54,8,54,13],[54,15,54,16],[54,17,54,21],[54,27,54,28],[54,30,54,31],[54,34,54,43],[54,44,54,46],[53,57,53,58],[53,59,54,60],[53,61,53,69],[53,70,53,71],[53,72,53,74],[53,75,53,84],[54,72,54,74],[54,75,54,84],[54,85,54,86],[54,87,54,89],[51,75,51,84],[51,85,51,86],[51,87,51,89],[52,0,52,6],[52,8,52,13],[52,15,52,16],[52,17,52,21],[52,27,52,28],[52,30,52,31],[51,51,51,53],[51,55,51,56],[51,57,51,58],[51,59,52,60],[51,61,51,69],[51,70,51,71],[52,61,52,69],[52,70,52,71],[52,72,52,74],[52,75,52,84],[52,85,52,86],[52,87,52,89],[52,34,52,43],[52,44,53,46],[52,47,52,49],[52,51,52,53],[52,55,52,56],[52,57,52,58],[53,34,53,43],[53,47,53,49],[53,51,53,53],[53,55,53,56],[53,85,53,86],[51,0,51,6],[51,8,51,13],[51,15,51,16],[51,17,51,21],[51,27,51,28],[51,30,51,31],[51,34,51,43],[51,47,51,49],[50,34,50,43],[50,47,50,49],[50,51,50,53],[50,55,50,56],[50,57,50,58],[50,61,50,69],[49,72,49,74],[48,44,51,46],[48,47,48,49],[48,51,48,53],[49,47,49,49],[49,51,49,53],[50,30,50,31],[50,32,54,33],[51,72,51,74],[53,0,53,6],[53,8,53,13],[53,15,53,16],[53,17,53,21],[53,27,53,28],[53,30,53,31],[48,85,48,86],[48,87,48,89],[49,0,49,5],[49,8,49,13],[49,15,49,16],[49,17,49,21],[49,27,49,28],[49,30,49,31],[49,34,49,43],[48,55,48,56],[48,57,48,58],[48,59,50,60],[48,61,48,69],[48,70,48,71],[48,72,48,74],[49,55,49,56],[49,57,49,58],[49,61,49,69],[49,70,49,71],[48,30,48,31],[48,32,49,33],[48,34,48,43],[50,70,50,71],[50,72,50,74],[47,72,47,74],[47,75,47,84],[47,85,47,86],[47,87,47,89],[48,0,48,5],[48,8,48,13],[48,15,48,16],[48,17,48,21],[48,22,49,23],[48,27,48,28],[47,51,47,53],[47,55,47,56],[47,57,47,58],[47,59,47,60],[47,61,47,69],[47,70,47,71],[47,27,47,28],[47,30,47,31],[47,32,47,33],[47,34,47,43],[47,44,47,46],[47,47,47,49],[49,75,50,84],[49,85,50,86],[49,87,50,89],[50,0,50,6],[50,8,50,13],[50,15,50,16],[50,17,50,21],[50,22,54,23],[50,27,50,28],[48,75,48,84],[46,70,46,71],[46,72,46,74],[46,75,46,84],[46,85,46,86],[46,87,46,89],[47,0,47,5],[47,8,47,13],[47,15,47,16],[47,17,47,21],[47,22,47,23],[46,0,46,5],[46,8,46,13],[46,15,46,16],[46,17,46,33],[46,34,46,60],[46,61,46,69],[44,65,44,68],[44,69,44,72],[44,73,44,76],[44,77,44,84],[44,85,44,89],[45,0,45,89],[42,23,44,23],[42,24,44,25],[42,26,44,27],[42,28,44,29],[42,30,44,31],[42,32,44,33],[42,17,44,17],[42,18,44,18],[42,19,44,19],[42,20,44,20],[42,73,43,76],[42,77,43,84],[42,85,43,89],[44,41,44,45],[44,46,44,48],[44,49,44,50],[44,51,44,52],[44,53,44,55],[44,56,44,60],[44,61,44,64],[42,51,43,52],[42,53,43,55],[42,56,43,60],[42,61,43,64],[42,65,43,68],[42,69,43,72],[42,34,44,35],[42,36,44,38],[42,39,44,40],[42,41,43,45],[42,46,43,48],[42,49,43,50],[42,21,44,21],[42,22,44,22],[42,10,44,11],[42,12,44,12],[42,13,44,13],[42,14,44,14],[42,15,44,15],[42,16,44,16],[40,86,40,89],[41,41,41,52],[41,53,41,64],[41,65,41,76],[41,77,41,89],[42,0,44,1],[42,2,44,3],[42,4,44,5],[42,6,44,7],[42,8,44,9],[40,66,40,68],[40,69,40,71],[40,72,40,75],[40,76,40,79],[40,80,40,81],[40,82,40,85],[40,51,40,52],[40,53,40,54],[40,55,40,56],[40,57,40,58],[40,59,40,61],[40,62,40,65],[40,36,41,38],[40,39,41,40],[40,41,40,42],[40,43,40,45],[40,47,40,48],[40,49,40,50],[40,24,41,25],[40,26,41,27],[40,28,41,29],[40,30,41,31],[40,32,41,33],[40,34,41,35],[40,18,41,18],[40,19,41,19],[40,20,41,20],[40,21,41,21],[40,22,41,22],[40,23,41,23],[40,12,41,12],[40,13,41,13],[40,14,41,14],[40,15,41,15],[40,16,41,16],[40,17,41,17],[40,0,41,1],[40,2,41,3],[40,4,41,5],[40,6,41,7],[40,8,41,9],[40,10,41,11],[38,66,39,68],[38,69,39,71],[38,72,39,75],[38,76,39,79],[39,12,39,13],[39,14,39,15],[39,16,39,17],[39,18,39,19],[39,47,39,48],[39,49,39,50],[38,46,39,46],[38,47,38,52],[38,53,38,56],[38,57,39,58],[38,59,39,61],[38,62,39,65],[39,51,39,52],[39,53,39,54],[39,55,39,56],[38,24,39,27],[38,28,39,31],[38,32,39,35],[38,36,39,40],[38,41,39,42],[38,43,39,45],[38,0,39,3],[36,41,36,68],[36,69,36,89],[37,41,37,46],[37,47,37,58],[37,59,37,68],[37,69,37,79],[37,80,39,81],[37,82,39,85],[37,86,39,89],[34,10,34,11],[34,12,35,14],[34,21,35,26],[34,27,35,32],[35,3,35,5],[35,6,35,7],[35,8,35,9],[35,10,35,11],[34,0,35,2],[34,3,34,5],[34,6,34,7],[34,8,34,9],[31,21,31,26],[31,27,31,29],[31,30,31,32],[32,0,32,2],[32,3,32,4],[32,8,32,9],[32,10,32,11],[32,21,33,26],[32,27,33,29],[32,30,33,32],[38,4,39,7],[38,8,39,11],[38,12,38,19],[38,20,39,21],[38,22,39,23],[36,0,37,40],[30,21,30,26],[30,27,30,29],[30,30,30,32],[31,0,31,2],[31,3,31,4],[31,8,31,9],[31,10,31,11],[31,12,32,14],[31,15,32,17],[31,18,32,20],[29,30,29,32],[29,33,35,89],[30,0,30,2],[30,3,30,5],[30,6,30,7],[30,8,30,9],[30,10,30,11],[30,12,30,14],[30,15,30,17],[30,18,30,20],[29,0,29,2],[29,3,29,7],[29,8,29,14],[29,15,29,20],[29,21,29,26],[29,27,29,29],[33,0,33,2],[33,3,33,7],[33,8,33,11],[33,12,33,14],[33,15,35,17],[33,18,35,20],[27,64,27,67],[27,68,27,71],[27,72,27,75],[27,76,27,79],[27,80,27,84],[28,0,28,14],[28,15,28,20],[28,21,28,32],[27,39,27,42],[27,43,27,46],[27,47,27,50],[27,51,27,54],[27,55,27,59],[27,60,27,63],[27,18,27,20],[27,21,27,24],[27,25,27,26],[27,27,27,29],[27,30,27,35],[27,36,27,38],[22,12,22,15],[22,16,22,19],[22,20,22,23],[22,24,22,28],[26,85,27,85],[26,86,27,87],[26,88,27,89],[27,0,27,2],[27,3,27,5],[27,6,27,7],[27,8,27,9],[27,10,27,11],[27,12,27,14],[27,15,27,17],[26,70,26,71],[26,72,26,73],[26,74,26,75],[26,76,26,78],[26,80,26,81],[26,82,26,84],[26,58,26,59],[26,60,26,61],[26,62,26,63],[26,64,26,65],[26,66,26,67],[26,68,26,69],[26,41,26,42],[26,43,26,45],[26,47,26,49],[26,51,26,52],[26,53,26,54],[26,55,26,57],[26,37,26,38],[26,39,26,40],[26,0,26,1],[26,3,26,4],[26,12,26,13],[26,15,26,16],[26,18,26,19],[26,21,26,22],[25,64,25,65],[25,66,25,67],[25,68,25,69],[25,70,25,71],[25,72,25,73],[25,74,25,75],[25,51,25,52],[25,53,25,54],[25,55,25,57],[25,58,25,59],[25,60,25,61],[25,62,25,63],[25,33,25,35],[25,37,25,38],[25,39,25,40],[25,41,25,42],[25,43,25,45],[25,47,25,49],[25,30,25,32],[26,23,26,24],[26,27,26,28],[26,30,26,32],[26,33,26,35],[24,88,25,89],[25,0,25,1],[25,3,25,4],[25,12,25,13],[25,15,25,16],[25,18,25,19],[25,21,25,22],[25,23,25,24],[25,27,25,28],[24,68,24,71],[24,72,24,75],[24,76,24,79],[24,80,24,84],[24,85,25,85],[24,86,25,87],[25,76,25,78],[25,80,25,81],[25,82,25,84],[24,43,24,46],[24,47,24,50],[24,51,24,54],[24,55,24,59],[24,60,24,63],[24,64,24,67],[24,21,24,24],[24,25,24,26],[24,27,24,29],[24,30,24,35],[24,36,24,38],[24,39,24,42],[21,76,21,79],[22,76,22,79],[21,43,21,44],[21,45,21,46],[21,47,21,49],[21,51,21,52],[21,53,21,54],[21,56,21,57],[21,12,21,15],[21,16,21,19],[21,29,21,31],[21,32,21,34],[21,41,21,42],[23,0,23,89],[24,0,24,2],[24,3,24,5],[24,6,24,7],[24,8,24,9],[24,10,24,11],[24,12,24,14],[24,15,24,17],[24,18,24,20],[22,51,22,52],[22,53,22,54],[22,56,22,57],[22,58,22,60],[22,61,22,62],[22,63,22,65],[22,37,22,38],[22,39,22,40],[22,41,22,42],[21,0,22,2],[22,29,22,31],[22,32,22,34],[22,35,22,36],[21,58,21,60],[21,61,21,62],[21,63,21,65],[21,66,22,73],[22,43,22,44],[22,45,22,46],[22,47,22,49],[19,68,20,69],[19,70,20,71],[19,72,20,73],[17,29,20,31],[17,32,20,34],[17,35,20,36],[19,74,20,75],[17,37,20,38],[17,39,20,40],[17,41,20,42],[21,74,22,75],[19,76,20,79],[19,51,20,52],[19,53,20,54],[19,55,20,55],[19,58,20,60],[19,61,20,62],[19,66,20,67],[17,63,20,65],[16,66,18,67],[16,68,18,69],[16,70,18,71],[16,72,18,73],[16,74,18,75],[16,76,18,79],[19,45,20,46],[19,47,20,49],[19,50,20,50],[17,43,18,46],[17,47,18,50],[17,51,18,55],[17,56,20,57],[17,58,18,62],[19,43,20,44],[11,0,14,2],[16,0,18,2],[16,6,18,6],[16,7,18,7],[16,8,18,8],[16,9,18,9],[16,10,18,10],[16,11,18,11],[16,12,18,13],[16,14,18,15],[16,16,16,17],[16,18,18,19],[19,18,19,19],[19,20,19,21],[19,23,19,24],[19,25,19,26],[19,27,19,28],[17,16,18,16],[17,17,18,17],[17,22,18,22],[17,23,18,24],[17,25,18,26],[17,27,18,28],[14,85,14,89],[15,12,15,19],[15,20,15,28],[15,29,15,65],[15,66,15,75],[11,28,14,30],[11,31,14,36],[11,37,14,40],[11,41,14,46],[11,47,11,68],[11,69,11,89],[11,14,14,16],[11,17,14,18],[11,3,14,5],[11,6,14,7],[11,8,14,9],[11,10,14,11],[11,12,14,13],[13,75,13,78],[13,79,13,80],[12,85,12,89],[13,47,13,52],[13,63,13,68],[13,69,13,74],[12,47,12,52],[12,63,12,68],[12,53,12,55],[12,56,12,59],[12,60,12,62],[13,53,13,55],[14,53,14,55],[14,56,14,59],[14,60,14,62],[11,19,14,20],[11,21,14,23],[11,24,14,25],[11,26,14,27],[9,69,9,72],[9,73,9,74],[9,76,9,78]],"merged_total":1135,"flags":["merged_cut"]}
[null,null,null,null,null,null,null,null,null,null,null,null,null,null,null,null,null,null,null,null,null,null,null,null,null,null,null,"DIRECCION - PROGRAMA  APS \nSUBSECRETARIA DE MEDICINA SOCIAL\nRONDA N°: 192   AÑO: 2025",null,null,null,null,null,null,null,null,null,null,null,null,null,null,null,null,null,null,null,null,null,null,null,null,null,null,"1r","2r","3r",null,"4r",null,"T",null,null,null,null,null,null,null,null,null,null,null,null,null,null,null,null,null,null,null,"Informe y orden de Ronda: ",6,null,null,null,null,2]
[null,null,null,null,null,null,null,"Area Operativa N°: ",4,null,null,null,null,null,"Nombre: ","MORILLO",null,null,null,null,null,null,null,null,null,null,null,null,null,null,null,null,null,null,null,null,null,null,null,null,null,null,null,null,null,null,"Mort. Mater. Acum. Año",null,null,null,null,null,null,null,0,{"$f":"CE41","v":0},0,null,{"$f":"CE41","v":0},null,{"$f":"SUM(BC2:BG2)","v":0},null,null,null,null,"Sector:",null,"LA CORTADA",null,null,null,null,null,null,null,null,null,null,null,null,null,null,null,null,null,"N°",16]
[null,null,null,null,null,null,null,null,null,null,null,null,null,null,null,null,null,null,null,null,null,null,null,null,null,null,null,null,null,null,null,null,null,null,null,null,null,null,null,null,null,null,null,null,null,null,"Mort. 0-1 año Acum Año",null,null,null,null,null,null,null,0,{"$f":"BR41+BU41+BY41","v":0},0,null,{"$f":"BR41+BU41+BY41","v":0},null,{"$f":"SUM(BC3:BG3)","v":0},null,null,null,null,null,"Etnia: ","WICHI",null,null,null,null,null,null,null,null,null,null,null,null,null,null,null,null,null,"Sector Riesgo:","SI"]
[null,null,null,null,null,null,null,"Establec. Base: ","HOSPITAL MORILLO",null,null,null,null,null,null,null,null,null,null,null,null,null,null,null,null,null,null,null,null,null,null,null,null,null,null,null,null,null,null,null,null,null,null,null,null,null,"Mort. 1-4 años Acum Año",null,null,null,null,null,null,null,0,{"$f":"CC41","v":0},0,null,{"$f":"CC41","v":0},null,{"$f":"SUM(BC4:BG4)","v":0},null,null,null,null,null,null,null,null,null,null,null,null,"Desde: ","07/03/2025",null,null,null,null,null,null,null,null,"Hasta: ","05/06/2026"]
[null,null,null,null,null,null,null,null,null,null,null,null,null,null,null,null,null,null,null,null,null,null,null,null,null,null,null,null,null,null,null,null,null,null,null,null,null,null,null,null,null,null,null,null,null,null,null,null,null,null,null,null,null,null,null,null,null,null,null,null,null,null,null,null,null,null,null,null,null,null,null,null,null,null,null,null,null,null,null,"Cobertura: ","CUBIERTO"]
[null,null,null,null,null,null,null,"Sup. Intermedio: ","MIGUEL ANGEL CORREA",null,null,null,null,null,null,null,null,null,null,null,null,null,null,null,null,null,null,null,null,null,null,null,"Responsable A.P.S.: ","Dr. Angel Ibarra",null,null,null,null,null,null,null,null,null,null,null,null,null,null,null,null,null,null,null,null,null,null,"Agente Sanitario: ","William Argañaraz",null,null,null,null,null,null,null,null,null,null,null,null,null,null,null,null,"Sit. Revista: ","PLANTA PERMANENTE",null,null,null,null,null,"Reg. Horario: ","30 HS."]
[]
["A) FAMILIAS VISITADAS EN LA RONDA",null,null,null,null,null,null,null,null,null,null,null,null,null,null,null,null,null,null,null,null,null,null,null,null,null,null,null,null,null,null,null,null,null,null,null,null,null,null,null,null,null,null,null,null,null,null,"B) FACTORES DE PRIORIZACION DE VISITAS"]
["ASIGNADAS",null,null,"VISITADAS",null,null,"TOTAL\nVISITAS",null,"NO VISITADAS",null,null,null,null,null,null,null,null,"FLIAS ORIG.",null,"FLIAS. URB.",null,"FLIAS. PERIURB",null,null,"FLIAS. RURALES",null,"GOLON\nMIGRANTES",null,null,null,null,"FLIAS. CON PL. SOCIALES",null,null,null,null,null,"PRODUCCION\nFAMILIAR",null,null,null,null,null,null,null,null,null,1,null,2,null,3,null,null,4,null,5,null,6,null,7,null,null,8,null,null,9,null,null,10,null,null,null,11,null,null,12,null,null,null,13,null,null,14,null,null,15]
[null,null,null,null,null,null,null,null,"RECHAZO TOTAL",null,"AUSEN\n-TE",null,"NO VISITADAS",null,"TOT NO VISIT.",null,null,null,null,null,null,null,null,null,null,null,"HACIA\nEL AO",null,"DESDE\nEL AO",null,null,null,null,null,null,null,null,"HUERTA",null,null,null,"GRANJA",null,null,null,null,null,0,null,0,null,0,null,null,0,null,0,null,0,null,0,null,null,0,null,null,0,null,null,"Total",null,null,null,"Tot",null,"Trat","Tot.",null,null,"Trat.","Tot.","Trat.",null,"Tot.",null,"Trat","Total"]
[null,null,null,null,null,null,null,null,null,null,0,null,null,null,null,null,null,null,null,null,null,null,null,null,null,null,null,null,null,null,null,null,null,null,null,null,null,null,null,null,null,null,null,null,null,null,null,null,null,null,null,null,null,null,null,null,null,null,null,null,null,null,null,null,null,null,null,null,null,0,null,null,null,0,null,0,0,null,null,0,0,0,null,0,null,0,0]
[0,null,null,0,null,null,0,null,0,null,0,null,0,null,{"$f":"M12+K12+I12","v":0},null,null,0,null,0,null,0,null,null,0,null,0,null,0,null,null,0,null,null,null,null,null,0,null,null,null,0,null,null,null,null,null,"C) VISITAS A FLIAS. PRIORIZADAS",null,null,null,null,null,null,null,null,null,null,null,null,null,null,null,null,null,null,null,null,null,"D) SUPERV. A FLIAS. "]
[null,null,null,null,null,null,null,null,null,null,null,null,null,null,null,null,null,null,null,null,null,null,null,null,null,null,null,null,null,null,null,null,null,null,null,null,null,null,null,null,null,null,null,null,null,null,null,"PRIORIDAD",null,null,null,null,null,1,null,null,2,null,null,null,3,null,null,"Total",null,null,null,null,null,"PRIORIDAD",null,null,null,null,null,1,null,null,null,2,null,3,null,null,null,"TOTAL"]
[null,null,null,null,null,null,null,null,null,null,null,null,null,null,null,null,null,null,null,null,null,null,null,null,null,null,null,null,null,null,null,null,null,null,null,null,null,null,null,null,null,null,null,null,null,null,null,"N° FAMILIAS",null,null,null,null,null,0,null,null,0,null,null,null,0,null,null,{"$f":"SUM(BB14:BI14)","v":0},null,null,null,null,null,"INTERMEDIA",null,null,null,null,null,0,null,null,null,0,null,0,null,null,null,{"$f":"SUM(BX14:CD14)","v":0}]
[null,null,null,null,null,null,null,null,null,null,null,null,null,null,null,null,null,null,null,null,null,null,null,null,null,null,null,null,null,null,null,null,null,null,null,null,null,null,null,null,null,null,null,null,null,null,null,"VISITAS",null,null,null,null,null,0,null,null,0,null,null,null,0,null,null,{"$f":"SUM(BB15:BI15)","v":0},null,null,null,null,null,"PROFESIONAL",null,null,null,null,null,0,null,null,null,0,null,0,null,null,null,{"$f":"SUM(BX15:CB15)","v":0}]
["E) EDAD FERTIL",null,null,null,null,"F) EMBARAZADAS",null,null,null,null,null,null,"G) PARTOS",null,null,null,null,null,null,null,"H) R.N. EN LA RONDA",null,null,null,null,null,null,null,null,"I) EVALUACION ANTROPOMETRICA",null,null,null,null,null,null,null,null,null,null,null,null,null,null,null,null,null,null,null,null,null,null,null,null,null,null,null,null,null,null,null,null,null,null,null,null,"NIÑ MBP/BP/RBP CTRL. INT.",null,null,null,null,null,null,null,null,null,"LACT. MATERNA"]
["PAP",null,null,0,null,"CAPT. 1er TRIMESTRE","ESP EN EL AÑO","ACUMULADAS","NUEVAS\nRONDA","TOTAL","DE RIESGO","<19 Años","TOTAL",null,"HOSPITALARIOS",null,"DOMIC.",null,"N° PUERPERAS",null,"NACIDOS VIVOS",null,"P AL NACER",null,null,null,null,null,null,"NIÑOS CONTROLADOS",null,null,null,null,null,null,null,null,null,null,null,null,null,null,null,null,null,null,null,null,null,null,null,null,null,null,null,null,null,null,null,null,null,null,null,null,"MELAN",null,"MED",null,"ENF.",null,"LAB",null,"NUTR",null,"< 6 M EN LA RONDA",null,null,null,{"$f":"CC20+CC22+CC23","v":0}]
[null,null,null,null,null,null,null,null,null,null,null,null,null,null,null,null,"DOM","ASIS",null,null,null,null,"ALTO PESO","ADEC",null,"BAJO PESO",null,"MB\nPESO",null,"EDAD",null,null,"A CONTROLAR",null,null,"ADECUADO",null,"BP\nBAJO PESO",null,"MBP\nMUY B. PESO",null,"ALTO PESO",null,"RIESGO",null,null,null,"RECUPERADOS",null,null,null,"TALLA / EDAD",null,null,null,null,"NUEVOS\nEPISODIOS",null,"PERDIDOS",null,null,null,null,"FALLECIDOS\nC/ANTEC. ANTROPOM."]
[]
["Antic.",null,null,0,null,0,{"$f":"IF(ISERROR(((CC92*1.8)/100)),0,(((CC92*1.8)/100)))","v":0},0,0,{"$f":"SUM(F23:L23)","v":0},0,0,{"$f":"O20+Q20+R20","v":0},null,0,null,0,0,0,null,{"$f":"W20+X20+Z20+AB20","v":0},null,0,0,null,0,null,0,null,null,null,null,null,null,null,null,null,null,null,null,null,null,null,"BP",null,"AP",null,"BP",null,null,"AP","BT",null,"MBT",null,"RGO\nBT",null,null,"BP\nMBP",null,null,"A.P.",null,null,null,null,0,null,0,null,0,null,0,null,0,null,"EXCLUSIVO",null,null,null,0]
[null,null,null,null,null,"CONTROLES",null,null,null,null,null,null," ",null,null,null,null,null,null,null,"PREMATUROS",null,null,null,"PESQUISA"]
["Aborto",null,null,0,null,"MELON",null,"MEL","MED","ENF","LAB","S/C","PUERP",null,null,null,"R.N.",null,null,null,null,null,null,null,null,null,null,null,null,"< 2 años",null,null,{"$f":"A27+C27+D27+F27+G27+H27","v":0},null,null,0,null,0,null,0,null,0,null,0,null,0,null,0,null,null,0,0,null,0,null,0,0,null,0,null,null,0,null,0,null,null,"CONTROLES EN DOMIC. NIÑO BP o MBP",null,null,null,null,null,null,null,0,null,"MIXTA",null,null,null,0]
[null,null,null,null,null,0,null,0,0,0,0,0,0,null,null,null,0,null,null,null,0,null,null,null,0,null,null,null,null,"2 a 6 años",null,null,{"$f":"I27+J27+K27+L27+M27+O27+P27+R27","v":0},null,null,0,null,0,null,0,null,0,null,0,null,0,null,0,null,null,0,0,null,0,null,0,0,null,0,null,null,0,null,0,null,null,null,null,null,null,null,null,null,null,null,null,"ARTIF",null,null,null,0]
["J) DATOS DE POBLACION"]
["0 a 5m",null,null,"6 a 11m",null,null,"1 AÑO",null,"2 AÑOS",null,"3 AÑOS",null,"4 AÑOS",null,null,"5 AÑOS",null,null,"6 AÑOS",null,null,"7 A 9 AÑOS",null,null,null,"10 AÑOS",null,"11 AÑOS",null,null,"12 A 14",null,null,null,null,null,"15 A 19",null,null,"20 A 24",null,null,null,"25 A 29",null,null,null,"30 A 34",null,null,null,"35 A 39",null,null,null,"40 A 44",null,null,null,null,"45 A 49",null,null,null,"50 A 54",null,null,null,"55 A 59",null,null,null,"60 A 64",null,null,null,"65 y +",null,null,null,"TOTAL",null,null,null,null,"MUJERES\n10 A 49","O. SOCIAL",null,"INDOCUM"]
["M",null,"F","M",null,"F","M","F","M","F","M","F","M",null,"F","M",null,"F","M",null,"F","M",null,"F",null,"M","F","M",null,"F","M",null,null,"F",null,null,"M","F",null,"M",null,"F",null,"M",null,null,"F","M",null,null,"F","M",null,"F",null,"M",null,null,"F",null,"M",null,"F",null,"M",null,"F",null,"M",null,"F",null,"M",null,"F",null,"M",null,null,"F","M",null,"F"]
[0,null,0,0,null,0,0,0,0,0,0,0,0,null,0,0,null,0,0,null,0,0,null,0,null,0,0,0,null,0,0,null,null,0,null,null,0,0,null,0,null,0,null,0,null,null,0,0,null,null,0,0,null,0,null,0,null,null,0,null,0,null,0,null,0,null,0,null,0,null,0,null,0,null,0,null,0,null,null,0,{"$f":"BY27+BU27+BQ27+BM27+BI27+BD27+AZ27+AV27+AR27+AN27+AK27+AE27+AB27+Z27+V27+S27+P27+M27+K27+I27+G27+D27+A27","v":0},null,{"$f":"CB27+BW27+BS27+BO27+BK27+BG27+BB27+AY27+AU27+AP27+AL27+AH27+AD27+AA27+X27+U27+R27+O27+L27+J27+H27+F27+C27","v":0},null,null,{"$f":"BK27+BG27+BB27+AY27+AU27+AP27+AL27+AH27+AD27+AA27","v":0},0,null,0]
[{"$f":"A27+C27","v":0},null,null,{"$f":"D27+F27","v":0},null,null,{"$f":"G27+H27","v":0},null,{"$f":"I27+J27","v":0},null,{"$f":"K27+L27","v":0},null,{"$f":"M27+O27","v":0},null,null,{"$f":"P27+R27","v":0},null,null,{"$f":"S27+U27","v":0},null,null,{"$f":"V27+X27","v":0},null,null,null,{"$f":"Z27+AA27","v":0},null,{"$f":"AB27+AD27","v":0},null,null,{"$f":"AE27+AH27","v":0},null,null,null,null,null,{"$f":"AL27+AK27","v":0},null,null,{"$f":"AN27+AP27","v":0},null,null,null,{"$f":"AR27+AU27","v":0},null,null,null,{"$f":"AV27+AY27","v":0},null,null,null,{"$f":"AZ27+BB27","v":0},null,null,null,{"$f":"BD27+BG27","v":0},null,null,null,null,{"$f":"BI27+BK27","v":0},null,null,null,{"$f":"BM27+BO27","v":0},null,null,null,{"$f":"BQ27+BS27","v":0},null,null,null,{"$f":"BU27+BW27","v":0},null,null,null,{"$f":"BY27+CB27","v":0},null,null,null,{"$f":"CC27+CE27","v":0}]
["K) TUBERCULOSIS ",null,null,null,null,null,null,null,null,null,null,null,null,null,null," CHAGAS ",null,null,null,null,null,"L) PERSONAS CON ENF. CRONICAS",null,null,null,null,null,null,null,null,null,null,null,"M) OBSERVACIONES"]
["Coef. Sint.Resp.: ",null,null,"MUESTRAS",null,null,null,null,"TRATAM. TBC",null,null,null,null,null,null,"TRATAMIENTOS CHAGAS",null,null,null,null,null,"PERSONAS CON",null,null,null,null,null,"TOTAL",null,null,"EN TRAT.",null,null," "]
[{"$f":"Control!H9","v":8},null,null,"DIAGNOSTICOS",null,null,"CONTROL",null,"Total",null,"TAES",null," ABANDONO",null,null,"INICIO ",null,null,0,null,null,"DIABETES",null,null,null,null,null,0,null,null,0]
["SINT. ESP..",null,null,"Tot",null,"(+)","Tot","(+)",0,null,0,null,0,null,null,"FINALIZACION ",null,null,0,null,null,"HIPERTENSION \nARTERIAL",null,null,null,null,null,0,null,null,0]
[{"$f":"IF(ISERROR(((AK91+AL91+AN91+AP91+AR91+AU91+AV91+AY91+AZ91+BB91+BD91+BG91+BI91+BK91+BM91+BO91+BQ91+BS91+BU91+BW91+BY91+CB91)*0.2)*A31/100),0,(((AK91+AL91+AN91+AP91+AR91+AU91+AV91+AY91+AZ91+BB91+BD91+BG91+BI91+BK91+BM91+BO91+BQ91+BS91+BU91+BW91+BY91+CB91)*0.2)*A31/100))","v":0},null,null,0,null,0,0,0,"QUIMIO Total",null,0,null,null,null,null,null,null,null,null,null,null,"PERSONAS CON OTRAS ENF. CRONICAS AL CUIDADO DE NIÑOS",null,null,null,null,null,0,null,null,0]
["SINT. DETEC.",null,null,"CONTACTO",null,null,null,null,"CTRL. MEDICO",null,null,null,"FINALIZAD0",null,null,"ABANDONO ",null,null,0]
[0,null,null,"< 14a",null,null,"> 15a",null,"Pcte/Rda",null,"A Cont",null,0,null,null,null,null,null,null,null,null,"ADULTOS MAYORES EN SITUACION DE RIESGO",null,null,null,null,null,0]
[null,null,null,0,null,null,0,null,0,null,0]
["N) DERIVACIONES",null,null,null,null,null,null,null,null,null,null,null,null,null,null,null,null,null,null,null,null,null,null,null,null,null,null,null,null,null,null,null,null,null,null,null,null,null,null,null,null,"Ñ) VIVIENDA Y SANEAMIENTO",null,null,null,null,null,null,null,null,null,null,null,null,null,null,null,null,null,null,null,null,null,null,null,null,null,null,null,"O) DEFUNCIONES EN LA RONDA"]
[null,null,null,null,null,null,null,null,null,null,null,null,null,null,null,null,null,null,null,null,null,null,null,null,null,null,null,null,null,null,null,null,null,null,null,null,null,null,null,null,null,"TRAT. AGUA",null,null,null,null,null,"DISP SANITARIA EXCRETAS",null,null,null,null,null,null,null,null,null,null,null,"TRATAM. SANIT BASURA",null,null,null,null,null,null,null,null,null,"MENORES 1 AÑO",null,null,null,null,null,null,null,null,null,null,"1 a 4 AÑOS",null,"MATERNA",null,null,null,"OTRAS"]
["EMB",null,null,null,"RN",null,null,null,"PUERP",null,null,null,"Menores de 6 años",null,null,null,null,null,null,null,"E.\nCRONICAS",null,"PAP",null,"CHAGAS",null,null,null,"TBC",null,null,null,"PSICOSOC",null,null,null,"TOTAL\nDERIVACIONES",null,null,null,null,"RED",null,"EN\nVIV",null,null,"S/T","ARRASTRE",null,null,null,null,null,"LETRINA",null,null,null,"S/T",null,"REC. DOMIC.",null,null,"POZO BASURA",null,null,null,"S/T",null,null,"<7d",null,null,"7 a 28d",null,null,null,"29d a 11 m"]
[null,null,null,null,null,null,null,null,null,null,null,null,"BP- MBP",null,"RGO BP",null,"Resp",null,"Diarr",null,null,null,null,null,null,null,null,null,null,null,null,null,null,null,null,null,null,null,null,null,null,null,null,null,null,null,null,"CLOACAS",null,"PC-CT",null,"PC-ST",null,"CT",null,"ST"]
["Env",null,"Rec",null,"Env",null,"Rec",null,"Env",null,"Rec",null,"Env","Rec","Env","Rec","Env","Rec","Env","Rec","Env","Rec","Env","Rec","Env",null,"Rec",null,"Env",null,"Rec",null,"Env",null,"Rec",null,"ENV",null,null,"Rec",null,0,null,0,null,null,0,0,null,0,null,0,null,0,null,0,null,0,null,0,null,null,0,null,null,null,0,null,null,0,null,null,0,null,null,null,0,null,null,null,0,null,0,null,null,null,0]
[null,null,null,null,null,null,null,null,null,null,null,null,null,null,null,null,null,null,null,null,null,null,null,null,null,null,null,null,null,null,null,null,null,null,null,null,null,null,null,null,null,"CASAS ",null,null,null,null,null,null,null,null,null,null,null,"CHAGAS",null,null,null,null,null,null,null,null,null,null,null,"DENGUE CHIKUNGUNYA",null,null,null,null,null,null,null,null,null,null,null,"P) PROM. SALUD"]
[0,null,0,null,0,null,0,null,0,null,0,null,0,0,0,0,0,0,0,0,0,0,0,0,0,null,0,null,0,null,0,null,0,null,0,null,{"$f":"AG43+AC43+Y43+W43+U43+S43+Q43+O43+M43+I43+E43+A43","v":0},null,null,{"$f":"AI43+AE43+AA43+X43+V43+T43+R43+P43+N43+K43+G43+C43","v":0},null,"ASIGNADAS",null,null,null,null,"VISITADAS",null,null,"VACIAS",null,"DESTRUIDAS",null,"EVALUADAS",null,null,"POSITIVAS",null,null,null,null,"TRATADAS",null,null,null,"EVALUADAS",null,null,null,"POSITIVAS",null,null,null,"TRATADAS",null,null,null,"PLANIFICADAS \nEN COMUNIDAD",null,null,null,null,null,null,null,0]
[]
[null,null,null,null,null,null,null,null,null,null,null,null,null,null,null,null,null,null,null,null,null,null,null,null,null,null,null,null,null,null,null,null,null,null,null,null,null,null,null,null,null,0,null,null,null,null,0,null,null,0,null,0,null,0,null,null,0,null,null,null,null,0,null,null,null,0,null,null,null,0,null,null,null,0,null,null,null,"REALIZADAS ",null,null,null,null,null,null,null,0]
["Q) INDICADORES"]
["DE ESTRUCTURA",null,null,null,null,null,"SI","NO","DE PRODUCCION",null,null,null,null,null,"%","META",null," DE INMUNIZACIONES",null,null,null,null,null,null,null,null,null,null,null,null,null,null,null,null," DE INMUNIZACIONES",null,null,null,null,null,null,null,null,null,null,null,null,null,null,null,null,null,null,null,null,null,null,null,null,null,null," DE RESULTADO",null,null,null,null,null,null,null,null,"%",null,"META",null,null," DE RESULTADO",null,null,null,null,null,null,null,null,null,"%",null,"META RDA"]
["Formularios",null,null,null,null,null,0,0,"Cobertura a Familias",null,null,null,null,null,{"$f":"IF(ISERROR(D12/A12),0,(D12/A12)*100)","v":0},100,null,"VACUNA",null,null,null,null,"P. REF",null,"1r","2r","3r","4r",null,"T","%",null,"META",null,"VACUNA",null,null,null,null,null,null,null,null,null,"P. REF",null,null,"1r",null,null,"2r","3r",null,null,"4r","T",null,"%",null,"META",null,"Ed Fértil c/Anticoncepción",null,null,null,null,null,null,null,null,{"$f":"IF(ISERROR(D20/CH27),0,(D20/CH27)*100)","v":0},null,null,null,null,"Niños 2 a 5 Recup BP",null,null,null,null,null,null,null,null,null,{"$f":"IF(ISERROR(AV23/K80),0,(AV23/K80)*100)","v":0},null,100]
["Equipo",null,null,null,null,null,0,0,"Niños < 2 años Controlados",null,null,null,null,null,{"$f":"IF(ISERROR(((AJ22+AL22+AN22+AP22)/(A28+D28+G28))),0,(((AJ22+AL22+AN22+AP22)/(A28+D28+G28)))*100)","v":0},100,null,"BCG RN",null,null,null,null,{"$f":"U20","v":0},null,3,0,0,0,null,{"$f":"SUM(Y49:AB49)","v":3},{"$f":"IF(ISERROR(Z49/W49),0,(Z49/W49)*100)","v":0},null,100,null,"2 Ref. Varicela Ingreso Esc",null,null,null,null,null,null,null,null,null,13,null,null,11,null,null,0,0,null,null,0,{"$f":"SUM(AV49:BC49)","v":11},null,{"$f":"IF(ISERROR(AY49/AS49),0,(AY49/AS49)*100)","v":0},null,25,null,"PAP",null,null,null,null,null,null,null,null,{"$f":"IF(ISERROR(D17/CH27),0,(D17/CH27)*100)","v":0},null,null,null,null,"Niños 2 a 5 Recup AP",null,null,null,null,null,null,null,null,null,{"$f":"IF(ISERROR(AY23/K82),0,(AY23/K82)*100)","v":0},null,100]
["Combustible",null,null,null,null,null,0,0,"Niños  (2 a 5 años) Controlados",null,null,null,null,null,{"$f":"IF(ISERROR(((AJ23+AL23+AN23+AP23)/(I28+K28+M28+P28))),0,(((AJ23+AL23+AN23+AP23)/(I28+K28+M28+P28)))*100)","v":0},100,null,"Hepatitis B RN","Hepatitis B RN",null,"Hepatitis B RN","Hepatitis B RN",null,null,3,0,0,0,null,{"$f":"SUM(Y50:AB50)","v":3},{"$f":"IF(ISERROR(Z50/W49),0,(Z50/W49)*100)","v":0},null,null,null,"2° Ref. Antipolio Ingreso Escolar",null,null,null,null,null,null,null,null,null,null,null,null,11,null,null,0,0,null,null,0,{"$f":"SUM(AV50:BC50)","v":11},null,{"$f":"IF(ISERROR(AY50/AS49),0,(AY50/AS49)*100)","v":0},null,null,null,"Embarazadas Con MELON",null,null,null,null,null,null,null,null,{"$f":"IF(ISERROR(F23/J20),0,(F23/J20)*100)","v":0},null,80,null,null,"Niños 6 meses con LME",null,null,null,null,null,null,null,null,null,{"$f":"IF(ISERROR(CC20/CC17),0,(CC20/CC17)*100)","v":0},null,80]
[" DE DIAGNOSTICO",null,null,null,null,null,null,"%","Conc. Vis. Flias Prio",null,null,null,null,null,{"$f":"IF(ISERROR((BB15+BE15)/(BB14+BE14)),0,((BB15+BE15)/(BB14+BE14)))","v":0},25,null,"2° Neumococo < 1a","3ª SOT/Salk < 1a",null,"3ª SOT/Salk < 1a","3ª SOT/Salk < 1a",{"$f":"A91+C91+D91+F91","v":0},null,5,0,0,0,null,{"$f":"SUM(Y51:AB51)","v":5},{"$f":"IF(ISERROR(Z51/W51),0,(Z51/W51)*100)","v":0},null,100,null,"2° Ref. DPT Ingreso Escolar",null,null,null,null,null,null,null,null,null,null,null,null,11,null,null,0,0,null,null,0,{"$f":"SUM(AV51:BC51)","v":11},null,{"$f":"IF(ISERROR(AY51/AS49),0,(AY51/AS49)*100)","v":0},null,null,null,"Partos Hospitalarios",null,null,null,null,null,null,null,null,{"$f":"IF(ISERROR(O20/M20),0,(O20/M20)*100)","v":0},null,100]
["Flias Priorizadas 3 + 2:",null,null,null,null,null,null,{"$f":"IF(ISERROR((BB14+BE14)/D12),0,(BB14+BE14)/D12*100)","v":0},"Conc.C.Dom Niños Bp/MBP",null,null,null,null,null,{"$f":"IF(ISERROR(BW22/(AL22+AN22+AL23+AN23)),0,(BW22/(AL22+AN22+AL23+AN23)))","v":0},3,null,"2° Rotavirus <1 a","3º Pentavalente <1 a",null,"3º Pentavalente <1 a","3º Pentavalente <1 a",null,null,4,0,0,0,null,{"$f":"SUM(Y52:AB52)","v":4},{"$f":"IF(ISERROR(Z52/W51),0,(Z52/W51)*100)","v":0},null,null,null,"2° TV Ingreso Escolar",null,null,null,null,null,null,null,null,null,null,null,null,11,null,null,0,0,null,null,0,{"$f":"SUM(AV52:BC52)","v":11},null,{"$f":"IF(ISERROR(AY52/AS49),0,(AY52/AS49)*100)","v":0},null,100,null,"Conc Control Médico a RN",null,null,null,null,null,null,null,null,{"$f":"IF(ISERROR(Q23/M20),0,(Q23/M20))","v":0},null,4,null,null,"% Niños BP MBP y RBP con MELaN",null,null,null,null,null,null,null,null,null,{"$f":"IF(ISERROR(BO20/(AL22+AN22+AR22+AL23+AN23+AR23)),0,(BO20/(AL22+AN22+AR22+AL23+AN23+AR23))*100)","v":0},null,100]
["Flias Urbanas",null,null,null,null,null,null,{"$f":"IF(ISERROR(T12/D12),0,(T12/D12)*100)","v":0},"Rel. Muestra/Sint Resp.",null,null,null,null,null,{"$f":"IF(ISERROR(D33/A35),0,(D33/A35))","v":0},2,null,"2° Meningococo < 1a",null,null,null,null,null,null,2,0,0,0,null,{"$f":"SUM(Y53:AB53)","v":2},{"$f":"IF(ISERROR(Z53/W51),0,(Z53/W51)*100)","v":0},null,null,null,"dTpa 11 años",null,null,null,null,null,null,null,null,null,13,null,null,9,null,null,0,0,null,null,0,{"$f":"SUM(AV53:BC53)","v":9},null,{"$f":"IF(ISERROR(AY53/AS53),0,(AY53/AS53)*100)","v":0},null,null,null,"Conc Control Méd. a puérpera",null,null,null,null,null,null,null,null,{"$f":"IF(ISERROR(M23/S20),0,(M23/S20))","v":0},null,4,null,null,"Sint Resp Detect. Seg zona",null,null,null,null,null,null,null,null,null,{"$f":"IF(ISERROR((A35*100)/(((20*(AK28+AN28+AR28+AV28+AZ28+BD28+BI28+BM28+BQ28+BU28+BY28))/100)*A31)),0,(A35*100)/((((20*(AK28+AN28+AR28+AV28+AZ28+BD28+BI28+BM28+BQ28+BU28+BY28))/100)*A31)/100))","v":0},null,"S/Z"]
["Flias Periurbanas",null,null,null,null,null,null,{"$f":"IF(ISERROR(V12/D12),0,(V12/D12)*100)","v":0},"Casas Evaluadas Chagas",null,null,null,null,null,{"$f":"IF(ISERROR(BB45/AU45),0,(BB45/AU45)*100)","v":0},100,null,"3° Antipolio < 1 año","2ª Rotavirus < 1 año",null,"2ª Rotavirus < 1 año","2ª Rotavirus < 1 año",null,null,3,0,0,0,null,{"$f":"SUM(Y54:AB54)","v":3},{"$f":"IF(ISERROR(Z54/W51),0,(Z54/W51)*100)","v":0},null,null,null,"U.D. Meningococo",null,null,null,null,null,null,null,null,null,null,null,null,9,null,null,0,0,null,null,0,{"$f":"SUM(AV54:BC54)","v":9},null,{"$f":"IF(ISERROR(AY54/AS53),0,(AY54/AS53)*100)","v":0},null,"95% AL 1° SEM",null,"RN con Pesquisa",null,null,null,null,null,null,null,null,{"$f":"IF(ISERROR(Y23/U20),0,(Y23/U20)*100)","v":0},null,100,null,null,"Pacientes TBC con Control Médico",null,null,null,null,null,null,null,null,null,{"$f":"IF(ISERROR(I36/I32),0,(I36/I32)*100)","v":0},null,100]
["Flias Rurales",null,null,null,null,null,null,{"$f":"IF(ISERROR(Y12/D12),0,(Y12/D12)*100)","v":0},"Casas Tratadas Chagas",null,null,null,null,null,{"$f":"IF(ISERROR(BJ45/BE45),0,(BJ45/BE45)*100)","v":0},100,null,"3° Pentavalente <1 año","TV 1 año",null,"TV 1 año","TV 1 año",null,null,3,0,0,0,null,{"$f":"SUM(Y55:AB55)","v":3},{"$f":"IF(ISERROR(Z55/W51),0,(Z55/W51)*100)","v":0},null,null,null,"1° HPV Niñas cumplen 11 a en año en curso",null,null,null,null,null,null,null,null,null,8,null,null,5,null,null,0,0,null,null,0,{"$f":"SUM(AV55:BC55)","v":5},null,{"$f":"IF(ISERROR(AY55/AS55),0,(AY55/AS55)*100)","v":0},null,null,null,"Derivaciones Enviadas/Recibidas",null,null,null,null,null,null,null,null,{"$f":"IF(ISERROR(AN43/AK43),0,(AN43/AK43)*100)","v":0},null,100,null,null,"Contactos TBC Controlados",null,null,null,null,null,null,null,null,null,{"$f":"IF(ISERROR(K36/(D36+G36)),0,(K36/(D36+G36)))*100","v":0},null,100]
["Flias Originarias",null,null,null,null,null,null,{"$f":"IF(ISERROR(R12/D12),0,(R12/D12)*100)","v":0},"Casas Evaluadas Dengue",null,null,null,null,null,{"$f":"IF(ISERROR(BN45/AU45),0,(BN45/AU45)*100)","v":0},100,null,"1° TV","A HA 1 año",null,"A HA 1 año","A HA 1 año",{"$f":"G91+H91","v":0},null,1,0,0,0,null,{"$f":"SUM(Y56:AB56)","v":1},{"$f":"IF(ISERROR(Z56/W56),0,(Z56/W56)*100)","v":0},null,100,null,"1° HPV Niños cumplen 11 a en año en curso",25,25,null,null,null,null,null,null,null,5,null,null,2,null,null,0,0,null,null,0,{"$f":"SUM(AV56:BC56)","v":2},null,{"$f":"IF(ISERROR(AY56/AS56),0,(AY56/AS56)*100)","v":0},null,"95% AL 1° SEM",null,"Niños < 2 a Riesgo BP",null,null,null,null,null,null,null,null,{"$f":"IF(ISERROR(AR22/AJ22),0,(AR22/AJ22)*100)","v":0},null,null,null,null,"TAES de TBC",null,null,null,null,null,null,null,null,null,{"$f":"IF(ISERROR(K32/I32),0,(K32/I32)*100)","v":0},null,100]
["Flias Migr. desde AO",null,null,null,null,null,null,{"$f":"IF(ISERROR(AC12/A12),0,(AC12/A12)*100)","v":0},"Casas Tratadas Dengue",null,null,null,null,null,{"$f":"IF(ISERROR(BV45/BR45),0,(BV45/BR45)*100)","v":0},100,null,"2° TV","A HA 1 año",null,"A HA 1 año","A HA 1 año",null,null,0,0,0,0,null,{"$f":"SUM(Y57:AB57)","v":0},{"$f":"IF(ISERROR(Z57/W56),0,(Z57/W56)*100)","v":0},null,null,null,"Emb. con dTpa",null,null,null,null,null,null,null,null,null,8,null,null,6,null,null,0,0,null,null,0,{"$f":"SUM(AV57:BC57)","v":6},null,{"$f":"IF(ISERROR(AY57/AS57),0,(AY57/AS57)*100)","v":0},null,null,null,"Niños < 2 a Riesgo AP",null,null,null,null,null,null,null,null,{"$f":"IF(ISERROR(AT22/AJ22),0,(AT22/AJ22)*100)","v":0},null,null,null,null,"Ptes. con tratamiento por Chagas",null,null,null,null,null,null,null,null,null,{"$f":"S31","v":0}]
["Flias Migr. hacia el AO",null,null,null,null,null,null,{"$f":"IF(ISERROR(AA12/A12),0,(AA12/A12)*100)","v":0},"Superv Int. a la Familia",null,null,null,null,null,{"$f":"IF(ISERROR((CH14*100)/BL14),0,((CH14*100)/BL14))","v":0},20,null,"Unica Dosis A HA",null,null,null,null,null,null,0,0,0,0,null,{"$f":"SUM(Y58:AB58)","v":0},{"$f":"IF(ISERROR(Z58/W56),0,(Z58/W56)*100)","v":0},null,null,null,"Emb. con Vac Sinsicial",null,null,null,null,null,null,null,null,null,null,null,null,4,null,null,0,0,null,null,0,{"$f":"SUM(AV58:BC58)","v":4},null,{"$f":"IF(ISERROR(AY58/AS57),0,(AY58/AS57)*100)","v":0},null,100,null,"Niños < 2 Recup BP",null,null,null,null,null,null,null,null,{"$f":"IF(ISERROR(AV22/K79),0,(AV22/K79)*100)","v":0},null,100,null,null,"Casas positivas Chagas",null,null,null,null,null,null,null,null,null,{"$f":"IF(ISERROR(BE45/BB45),0,(BE45/BB45)*100)","v":0},null,0]
["Flias con planes sociales",null,null,null,null,null,null,{"$f":"IF(ISERROR(AF12/D12),0,(AF12/D12)*100)","v":0},"Superv Prof. Flias Prio (3v)",null,null,null,null,null,{"$f":"IF(ISERROR(CH15/(BB14+BE14)),0,(CH15/(BB14+BE14))*100)","v":0},70,null,"Ref Neumococo 1 año","Ref Neumoc 1 año",null,"Ref Neumoc 1 año","Ref Neumoc 1 año",null,null,0,0,0,0,null,{"$f":"SUM(Y59:AB59)","v":0},{"$f":"IF(ISERROR(Z59/W56),0,(Z59/W56)*100)","v":0},null,null,null,"dT  Vigente > 65 a",null,null,null,null,null,null,null,null,null,11,null,null,11,null,null,0,0,null,null,0,{"$f":"SUM(AV59:BC59)","v":11},null,{"$f":"IF(ISERROR(AY59/AS59),0,(AY59/AS59)*100)","v":0},null,100,null,"Niños < 2 Recup AP",null,null,null,null,null,null,null,null,{"$f":"IF(ISERROR(AY22/K81),0,(AY22/K81)*100)","v":0},null,100,null,null,"Casas Positivas Aedes",null,null,null,null,null,null,null,null,null,{"$f":"IF(ISERROR(BR45/BN45),0,(BR45/BN45)*100)","v":0},null," "]
[null,null,null,null,null,null,null,null,"% Activ Prom.Salud Comunitarias",null,null,null,null,null,{"$f":"IF(ISERROR(CH45/CH43),0,(CH45/CH43)*100)","v":0},100,null,"Ref. Meningococo 1 año","Ref Cuádruple 1 año",null,"Ref Cuádruple 1 año","Ref Cuádruple 1 año",null,null,2,0,0,0,null,{"$f":"SUM(Y60:AB60)","v":2},{"$f":"IF(ISERROR(Z60/W56),0,(Z60/W56)*100)","v":0},null,null,null,"Neumo 20 > 65 años",null,null,null,null,null,null,null,null,null,null,null,null,11,null,null,0,0,null,null,0,{"$f":"SUM(AV60:BC60)","v":11},null,{"$f":"IF(ISERROR(AY60/AS59),0,(AY60/AS59)*100)","v":0},null,null,null,"Niños 2 a 5 Riesgo BP",null,null,null,null,null,null,null,null,{"$f":"IF(ISERROR(AR23/AJ23),0,(AR23/AJ23)*100)","v":0},null,null,null,null,"UROCS 1/SEC",null,null,null,null,null,null,null,null,null,0,null,"1/SEC"]
["Flias. c/Antec Mort Mat Inf",null,null,null,null,null,null,{"$f":"IF(ISERROR(AV10/D12),0,(AV10/D12)*100)","v":0},null,null,null,null,null,null,null,null,null,"Unica Dosis Varicela","Ref SOT 1 año",null,"Ref SOT 1 año","Ref SOT 1 año",null,null,1,0,0,0,null,{"$f":"SUM(Y61:AB61)","v":1},{"$f":"IF(ISERROR(Z61/W56),0,(Z61/W56)*100)","v":0},null,null,null,"Aplic. Cargadas a Nomivac",null,null,null,null,null,null,null,null,null,0,null,null,null,null,null,null,null,null,null,null,null,null,null,null,null,null,null,null,null,null,null,null,null,null,null,null,null,null,null,null,"Flias con Huerta",null,null,null,null,null,null,null,null,null,{"$f":"IF(ISERROR(AL12/D12),0,(AL12/D12)*100)","v":0}]
["F con 3 o más <6 años",null,null,null,null,null,null,{"$f":"IF(ISERROR(BI10/D12),0,(BI10/D12)*100)","v":0}," DE IMPACTO",null,null,null,null,"%",null,"META",null,"4° Dosis o 1° Ref. Pentavalente",null,null,null,null,null,null,1,0,0,0,null,{"$f":"SUM(Y62:AB62)","v":1},{"$f":"IF(ISERROR(Z62/W56),0,(Z62/W56)*100)","v":0},null,null,null,"Total Aplic /AS",null,null,null,null,null,null,null,null,null,0,null,null,null,null,null,null,null,null,null,null,null,null,null,null,null,null,"Niños 2 a 5 Riesgo AP",null,null,null,null,null,null,null,null,{"$f":"IF(ISERROR(AT23/AJ23),0,(AT23/AJ23)*100)","v":0},null,null,null,null,"Flias con Granja",null,null,null,null,null,null,null,null,null,{"$f":"IF(ISERROR(AP12/D12),0,(AP12/D12)*100)","v":0}]
["Flias con Hacinamiento",null,null,null,null,null,null,{"$f":"IF(ISERROR(BL10/D12),0,(BL10/D12)*100)","v":0},"Agua Seg (Trat Red + Viv)",null,null,null,null,{"$f":"IF(ISERROR((AP41+AR41)/D12),0,((AP41+AR41)/D12)*100)","v":0},null,100,null,"2° AG 6m a 24m",null,null,null,null,15,null,0,0,0,0,null,{"$f":"SUM(Y63:AB63)","v":0},{"$f":"IF(ISERROR(Z63/W63),0,(Z63/W63)*100)","v":0},null," ",null,"VAC COVID APLIC EN LA RONDA",null,null,null,null,null,null,null,null,null,0,null,null,null,null,null,null,null,null,null,null,null,null,null,null,null,null,"U) A llenar en 1° Ronda del Año"]
["Flias con Analfabet",null,null,null,null,null,null,{"$f":"IF(ISERROR(BO10/D12),0,(BO10/D12)*100)","v":0},"DSE (Arrastre y letrinas)",null,null,null,null,{"$f":"IF(ISERROR((AV41+AX41+AZ41+BB41+BD41)/D12),0,((AV41+AX41+AZ41+BB41+BD41)/D12)*100)","v":0},null,100,null,"R) PRODUCCION Y RENDIMIENTO",null,null,null,null,null,null,null,null,null,null,null,null,null,null,null,null,null,null,null,null,null,null,null,null,null,null,null,null,null,null,null,null,null,null,null,null,null,null,null,null,null,null,null,"Piso",null,null,null,null,"Techo",null,null,null,null,"Paredes",null,null,null,null,null,null,null,null,null,"Cocina",null,null,null,null,"Tenencia"]
["Flias con Suicidio",null,null,null,null,null,null,{"$f":"IF(ISERROR(BT11/D12),0,(BT11/D12)*100)","v":0},"TSB (Recolección + Pozo)",null,null,null,null,{"$f":"IF(ISERROR((BH41+BK41)/D12),0,((BH41+BK41)/D12)*100)","v":0},null,100,null,"DIAS A TRAB. /RONDA",null,null,"DIAS INCLEM CLIMAT.",null,null,"DIAS Y NROS DE ARTICULOS TOMADOS",null,null,null,"CAPACITACIONES Y OTRAS ACTIVIDADES",null,null,null,null,null,null,null,null,null,null,null,null,null,null,null,null,null,null,null,null,null,null,"DIAS TRABAJADOS\nEN TERRENO",null,null,null,null,"PROM. DIARIO DE FLIAS VISIT.",null,null,null,null,null,"Mosaico/B.",null,null,null,0,"Losa",null,null,0,null,"Ladrillo",null,null,0,null,"Madera",null,null,null,0,"Gas",null,null,0,null,"Segura",null,null,0]
["Flias c /tentativa suicidio",null,null,null,null,null,null,{"$f":"IF(ISERROR(BV11/D12),0,(BV11/D12)*100)","v":0},"Emb Adolescente",null,null,null,null,{"$f":"IF(ISERROR(L20/J20),0,(L20/J20)*100)","v":0},null,null,null,null,null,null,null,null,null,0,null,null,null,0,null,null,null,null,null,null,null,null,null,null,0,null,null,null,null,null,null,null,null,null,null,null,null,null,null,null,null,null,null,null,null,null,null,"Cemento",null,null,null,0,"Chapa\nZinc",null,null,0,null,"Bloque",null,null,0,null,"Quincho",null,null,null,0,"Leña/\nCarb",null,null,0,null,"Inseg.",null,null,0]
["Flias con Alcoholismo",null,null,null,null,null,null,{"$f":"IF(ISERROR(BY11/D12),0,(BY11/D12)*100)","v":0},"Niños <2 Bajo Peso/MBP",null,null,null,null,{"$f":"IF(ISERROR((AL22+AN22)/(AJ22+AP22+AL22+AN22)),0,((AL22+AN22)/(AJ22+AP22+AL22+AN22))*100)","v":0},null,null,null,null,null,null,null,null,null,0,null,null,null,0,null,null,null,null,null,null,null,null,null,null,0,null,null,null,null,null,null,null,null,null,null,null,null,null,null,null,null,null,null,null,null,null,null,"Tierra",null,null,null,0,"Paja/\nBarro",null,null,0,null,"Adobe",null,null,0,null,"Carton/Pl",null,null,null,0,"Otros",null,null,0,null,"Hac",null,null,0,null,null,null,5]
["Flias c/ otras Adicciones",null,null,null,null,null,null,{"$f":"IF(ISERROR(CC11/D12),0,(CC11/D12)*100)","v":0},"Niños <2 a AP",null,null,null,null,{"$f":"IF(ISERROR(AP22/(AJ22+AP22+AL22+AN22)),0,(AP22/(AJ22+AP22+AL22+AN22))*100)","v":0},null,null,null,0,null,null,0,null,null,0,null,null,null,0,null,null,null,null,null,null,null,null,null,null,0,null,null,null,null,null,null,null,null,null,null,null,0,null,null,null,null,{"$f":"IF(ISERROR(G12/AY68),0,(G12/AY68))","v":0},null,null,null,null,null,"Otros",null,null,null,0,"Otros",null,null,0,null,"Piedra",null,null,0,null,"Otro",null,null,null,0,"Helad.",null,null,0]
["Flias con VIF",null,null,null,null,null,null,{"$f":"IF(ISERROR(CF11/D12),0,(CF11/D12)*100)","v":0},"Niños < 2 baja y MBT",null,null,null,null,{"$f":"IF(ISERROR((AZ22+BB22)/(AJ22+AP22+AL22+AN22)),0,((AZ22+BB22)/(AJ22+AP22+AL22+AN22))*100)","v":0},null,null,null,"S) DETALLE DE LAS DEFUNCIONES (Todas las del Sector)",null,null,null,null,null,null,null,null,null,null,null,null,null,null,null,null,null,null,null,null,null,null,null,null,null,null,null,null,null,null,null,null,null,null,null,null,null,null,null,null,null,null,null,"Agua",null,"Corriente a Domic",null,null,"Grifo Terr",null,null,"Grifo Público",null,null,"Bomba",null,null,"Pozo",null,null,null,"Camión Aguatero / Cisterna",null,"Vertiente/Rio/Aceq",null,null,"Laguna",null,null,"Lluvia/Aljibe"]
["Flias con Diabetes",null,null,null,null,null,null,{"$f":"IF(ISERROR(AB31/D12),0,(AB31/D12)*100)","v":0},"Niños 2 a 5 Bajo Peso/MBP",null,null,null,null,{"$f":"IF(ISERROR((AL23+AN23)/(AJ23+AP23+AL23+AN23)),0,((AL23+AN23)/(AJ23+AP23+AL23+AN23))*100)","v":0},null,null,null,"APELLIDO Y NOMBRE",null,null,null,null,null,null,"DOMICILIO",null,null,null,null,null,null,null,null,"NACIMIENTO",null,null,null,null,"DEFUNCION",null,null,null,"PESO\nAL NACER",null,null,null,"CAUSA",null,null,null,null,null,null,null,null,null,"CLASIFICAC."]
["Flias con Hipertensión",null,null,null,null,null,null,{"$f":"IF(ISERROR(AB32/D12),0,(AB32/D12)*100)","v":0},"Niños 2 a 5 AP",null,null,null,null,{"$f":"IF(ISERROR(AP23/(AJ23+AP23+AL23+AN23)),0,(AP23/(AJ23+AP23+AL23+AN23))*100)","v":0}]
[]
["Personas con otras enfermedades crónicas al cuidado de niños",null,null,null,null,null,null,{"$f":"IF(ISERROR(AB33/D12),0,(AB33/D12)*100)","v":0},"Niños 2 a 5 baja y MBT",null,null,null,null,{"$f":"IF(ISERROR((AZ23+BB23)/(AJ23+AP23+AL23+AN23)),0,((AZ23+BB23)/(AJ23+AP23+AL23+AN23))*100)","v":0},null,null,null,null,null,null,null,null,null,null,null,null,null,null,null,null,null,null,null,null,null,null,null,null,null,null,null,null,null,null,null,null,null,null,null,null,null,null,null,null,null,null,null,null,null,null,null,null,null,0,null,null,0,null,null,0,null,null,0,null,null,0,null,null,null,0,null,0,null,null,0,null,null,0]
["Pers c/O Social/Pob total",null,null,null,null,null,null,{"$f":"IF(ISERROR(CI27/CC28),0,(CI27/CC28)*100)","v":0}]
[]
[]
[]
[]
["BP+MBP Ronda Anterior Men2a: ",null,null,null,null,null,null,null,null,null,1]
["BP+MBP Ronda Anterior 2 a 6a: ",null,null,null,null,null,null,null,null,null,0]
["AP Ronda Anterior Men2a: ",null,null,null,null,null,null,null,null,null,2]
["AP Ronda Anterior 2 a 6a: ",null,null,null,null,null,null,null,null,null,1]
[]
[]
[]
[]
[]
["0 a 5m",null,null,"6 a 11m",null,null,"1 AÑO",null,"2 AÑOS",null,"3 AÑOS",null,"4 AÑOS",null,null,"5 AÑOS",null,null,"6 AÑOS",null,null,"7 A 9 AÑOS",null,null,null,"10 AÑOS",null,"11 AÑOS",null,null,"12 A 14",null,null,null,null,null,"15 A 19",null,null,"20 A 24",null,null,null,"25 A 29",null,null,null,"30 A 34",null,null,null,"35 A 39",null,null,null,"40 A 44",null,null,null,null,"45 A 49",null,null,null,"50 A 54",null,null,null,"55 A 59",null,null,null,"60 A 64",null,null,null,"65 y +",null,null,null,"TOTAL",null,null,null,null,"MUJERES\n10 A 49"]
["M",null,"F","M",null,"F","M","F","M","F","M","F","M",null,"F","M",null,"F","M",null,"F","M",null,"F",null,"M","F","M",null,"F","M",null,null,"F",null,null,"M","F",null,"M",null,"F",null,"M",null,null,"F","M",null,null,"F","M",null,"F",null,"M",null,null,"F",null,"M",null,"F",null,"M",null,"F",null,"M",null,"F",null,"M",null,"F",null,"M",null,null,"F","M",null,"F"]
[0,null,0,0,null,0,0,0,0,0,0,0,0,null,0,0,null,0,0,null,0,0,null,0,null,0,0,0,null,0,0,null,null,0,null,null,0,0,null,0,null,0,null,0,null,null,0,0,null,null,0,0,null,0,null,0,null,null,0,null,0,null,0,null,0,null,0,null,0,null,0,null,0,null,0,null,0,null,null,0,{"$f":"SUM(A90,D90,G90,I90,K90,M90,P90,S90,V90,Z90,AB90,AE90,AK90,AN90,AR90,AV90,AZ90,BD90,BI90,BM90,BQ90,BU90,BY90)","v":0},null,{"$f":"SUM(C90,F90,H90,J90,L90,O90,R90,U90,X90,AA90,AD90,AH90,AL90,AP90,AU90,AY90,BB90,BG90,BK90,BO90,BS90,BW90,CB90)","v":0},null,null,{"$f":"SUM(AA90,AD90,AH90,AL90,AP90,AU90,AY90,BB90,BG90,BK90)","v":0}]
[{"$f":"SUM(A90:C90)","v":0},null,null,{"$f":"SUM(D90,F90)","v":0},null,null,{"$f":"SUM(G90,H90)","v":0},null,{"$f":"SUM(I90,J90)","v":0},null,{"$f":"SUM(K90,L90)","v":0},null,{"$f":"SUM(M90,O90)","v":0},null,null,{"$f":"SUM(P90,R90)","v":0},null,null,{"$f":"SUM(S90,U90)","v":0},null,null,{"$f":"SUM(V90,X90)","v":0},null,null,null,{"$f":"SUM(Z90,AA90)","v":0},null,{"$f":"SUM(AB90,AD90)","v":0},null,null,{"$f":"SUM(AE90,AH90)","v":0},null,null,null,null,null,{"$f":"SUM(AK90,AL90)","v":0},null,null,{"$f":"SUM(AN90,AP90)","v":0},null,null,null,{"$f":"SUM(AR90,AU90)","v":0},null,null,null,{"$f":"SUM(AV90,AY90)","v":0},null,null,null,{"$f":"SUM(AZ90,BB90)","v":0},null,null,null,{"$f":"SUM(BD90,BG90)","v":0},null,null,null,null,{"$f":"SUM(BI90,BK90)","v":0},null,null,null,{"$f":"SUM(BM90,BO90)","v":0},null,null,null,{"$f":"SUM(BQ90,BS90)","v":0},null,null,null,{"$f":"SUM(BU90,BW90)","v":0},null,null,null,{"$f":"SUM(BY90,CB90)","v":0},null,null,null,{"$f":"A91+D91+G91+I91+K91+M91+P91+S91+V91+Z91+AB91+AE91+AK91+AN91+AR91+AV91+AZ91+BD91+BI91+BM91+BQ91+BU91+BY91","v":0}]
["Mejor Población: 1° - 2019",null,null,null,null,null,null,null,null,null,null,null,null,null,null,null,null,null,null,null,null,null,null,null,null,null,null,null,null,null,null,null,null,null,null,null,null,null,null,null,null,null,null,null,null,null,null,null,null,null,null,null,null,null,null,null,null,null,null,null,null,null,null,null,null,null,null,null,null,null,null,null,null,null,null,null,null,null,null,null,{"$f":"SUM(CC91,CE91)","v":0}]
["Cobertura: 1%"]

{"sheet":"CHAÑAR 2","index":25,"n_rows":93,"n_cols":94,"rows_kept":93,"cut":false,"hidden":false,"merged":[[61,30,61,31],[62,30,62,31],[0,86,0,87],[1,8,1,9],[1,15,1,25],[1,46,1,53],[1,56,1,57],[1,58,1,59],[1,60,1,61],[1,67,1,84],[1,86,1,87],[0,27,3,45],[0,46,0,52],[0,56,0,57],[0,58,0,59],[0,60,0,61],[0,81,0,84],[2,46,2,53],[2,56,2,57],[2,58,2,59],[2,60,2,61],[6,0,6,89],[7,0,7,46],[7,47,7,89],[8,0,10,2],[8,3,10,5],[8,6,10,7],[8,8,8,16],[8,17,10,18],[8,19,10,20],[8,21,10,23],[4,80,4,87],[5,8,5,24],[5,33,5,46],[5,57,5,67],[5,75,5,77],[5,82,5,87],[2,67,2,79],[2,86,2,87],[3,8,3,23],[3,46,3,53],[3,56,3,57],[3,58,3,59],[3,60,3,61],[3,74,3,79],[3,84,3,87],[8,86,8,89],[9,8,10,9],[9,10,10,11],[9,12,10,13],[9,14,10,16],[9,26,10,27],[9,28,10,30],[8,66,8,68],[8,69,8,72],[8,73,8,75],[8,76,8,79],[8,80,8,82],[8,83,8,85],[8,51,8,53],[8,54,8,55],[8,56,8,57],[8,58,8,59],[8,60,8,62],[8,63,8,65],[8,24,10,25],[8,26,8,30],[8,31,10,36],[8,37,8,46],[8,47,8,48],[8,49,8,50],[9,49,10,50],[11,0,14,2],[11,3,14,5],[11,6,14,7],[11,8,14,9],[11,10,14,11],[11,12,14,13],[9,86,9,89],[10,69,10,72],[10,73,10,74],[10,76,10,78],[10,81,10,82],[10,83,10,84],[10,86,10,89],[9,66,10,68],[9,69,9,72],[9,73,9,74],[9,76,9,78],[9,81,9,82],[9,83,9,84],[9,51,10,53],[9,54,10,55],[9,56,10,57],[9,58,10,59],[9,60,10,62],[9,63,10,65],[13,75,13,78],[13,79,13,80],[13,81,13,84],[9,37,10,40],[9,41,10,46],[9,47,10,48],[12,85,12,89],[13,47,13,52],[13,63,13,68],[13,69,13,74],[12,47,12,52],[12,63,12,68],[12,53,12,55],[12,56,12,59],[12,60,12,62],[13,53,13,55],[13,56,13,59],[13,60,13,62],[14,53,14,55],[14,56,14,59],[14,60,14,62],[11,19,14,20],[11,21,14,23],[11,24,14,25],[11,26,14,27],[16,0,18,2],[16,6,18,6],[16,7,18,7],[16,8,18,8],[16,9,18,9],[16,10,18,10],[16,11,18,11],[16,12,18,13],[14,79,14,80],[14,81,14,84],[14,85,14,89],[15,12,15,19],[15,20,15,28],[15,29,15,65],[15,66,15,75],[11,28,14,30],[11,31,14,36],[11,37,14,40],[11,41,14,46],[11,47,11,68],[11,69,11,89],[11,14,14,16],[11,17,14,18],[13,85,13,89],[14,47,14,52],[14,63,14,68],[14,69,14,74],[14,75,14,78],[12,69,12,74],[12,75,12,78],[12,79,12,80],[12,81,12,84],[19,0,20,2],[19,12,19,13],[19,14,19,15],[19,18,19,19],[19,20,19,21],[19,23,19,24],[19,25,19,26],[19,27,19,28],[17,41,20,42],[17,43,18,46],[17,47,18,50],[17,51,18,55],[17,56,20,57],[17,58,18,62],[19,43,20,44],[19,45,20,46],[19,47,20,49],[19,50,20,50],[17,16,18,16],[17,17,18,17],[17,22,18,22],[17,23,18,24],[17,25,18,26],[17,27,18,28],[17,29,20,31],[16,14,18,15],[16,16,16,17],[16,18,18,19],[16,20,18,21],[16,22,16,28],[16,29,16,65],[17,32,20,34],[21,12,21,15],[21,16,21,19],[21,29,21,31],[21,32,21,34],[20,12,20,19],[20,20,21,23],[20,24,21,28],[21,35,21,36],[21,37,21,38],[21,39,21,40],[21,41,21,42],[19,68,20,69],[19,70,20,71],[19,72,20,73],[19,74,20,75],[19,76,20,79],[19,51,20,52],[19,53,20,54],[19,55,20,55],[19,58,20,60],[19,61,20,62],[19,66,20,67],[17,63,20,65],[16,66,18,67],[16,68,18,69],[16,70,18,71],[16,72,18,73],[16,74,18,75],[16,76,18,79],[17,35,20,36],[17,37,20,38],[17,39,20,40],[22,16,22,19],[22,20,22,23],[22,24,22,28],[22,29,22,31],[22,32,22,34],[22,35,22,36],[21,58,21,60],[21,61,21,62],[21,63,21,65],[21,66,22,73],[21,74,22,75],[21,76,21,79],[22,76,22,79],[21,43,21,44],[21,45,21,46],[21,47,21,49],[21,51,21,52],[21,53,21,54],[21,56,21,57],[23,0,23,89],[24,0,24,2],[24,3,24,5],[24,6,24,7],[24,8,24,9],[24,10,24,11],[24,12,24,14],[24,15,24,17],[24,18,24,20],[22,51,22,52],[22,53,22,54],[22,56,22,57],[22,58,22,60],[22,61,22,62],[22,63,22,65],[22,37,22,38],[22,39,22,40],[22,41,22,42],[22,43,22,44],[22,45,22,46],[22,47,22,49],[21,0,22,2],[24,88,25,89],[25,0,25,1],[25,3,25,4],[25,12,25,13],[25,15,25,16],[25,18,25,19],[25,21,25,22],[25,23,25,24],[25,27,25,28],[22,12,22,15],[24,68,24,71],[24,72,24,75],[24,76,24,79],[24,80,24,84],[24,85,25,85],[24,86,25,87],[25,76,25,78],[25,80,25,81],[25,82,25,84],[24,43,24,46],[24,47,24,50],[24,51,24,54],[24,55,24,59],[24,60,24,63],[24,64,24,67],[24,21,24,24],[24,25,24,26],[24,27,24,29],[24,30,24,35],[24,36,24,38],[24,39,24,42],[26,37,26,38],[26,39,26,40],[26,0,26,1],[26,3,26,4],[26,12,26,13],[26,15,26,16],[26,18,26,19],[26,21,26,22],[25,64,25,65],[25,66,25,67],[25,68,25,69],[25,70,25,71],[25,72,25,73],[25,74,25,75],[25,51,25,52],[25,53,25,54],[25,55,25,57],[25,58,25,59],[25,60,25,61],[25,62,25,63],[25,33,25,35],[25,37,25,38],[25,39,25,40],[25,41,25,42],[25,43,25,45],[25,47,25,49],[25,30,25,32],[26,85,27,85],[26,86,27,87],[26,88,27,89],[27,0,27,2],[27,3,27,5],[27,6,27,7],[27,8,27,9],[27,10,27,11],[27,12,27,14],[27,15,27,17],[26,70,26,71],[26,72,26,73],[26,74,26,75],[26,76,26,78],[26,80,26,81],[26,82,26,84],[26,58,26,59],[26,60,26,61],[26,62,26,63],[26,64,26,65],[26,66,26,67],[26,68,26,69],[26,41,26,42],[26,43,26,45],[26,47,26,49],[26,51,26,52],[26,53,26,54],[26,55,26,57],[26,23,26,24],[26,27,26,28],[26,30,26,32],[26,33,26,35],[27,64,27,67],[27,68,27,71],[27,72,27,75],[27,76,27,79],[27,80,27,84],[28,0,28,14],[28,15,28,20],[28,21,28,32],[27,39,27,42],[27,43,27,46],[27,47,27,50],[27,51,27,54],[27,55,27,59],[27,60,27,63],[27,18,27,20],[27,21,27,24],[27,25,27,26],[27,27,27,29],[27,30,27,35],[27,36,27,38],[30,21,30,26],[30,27,30,29],[30,30,30,32],[31,0,31,2],[31,3,31,4],[31,8,31,9],[31,10,31,11],[31,12,32,14],[31,15,32,17],[31,18,32,20],[29,30,29,32],[29,33,35,89],[30,0,30,2],[30,3,30,5],[30,6,30,7],[30,8,30,9],[30,10,30,11],[30,12,30,14],[30,15,30,17],[30,18,30,20],[29,0,29,2],[29,3,29,7],[29,8,29,14],[29,15,29,20],[29,21,29,26],[29,27,29,29],[33,0,33,2],[33,3,33,7],[33,8,33,11],[33,12,33,14],[33,15,35,17],[33,18,35,20],[34,0,35,2],[34,3,34,5],[34,6,34,7],[34,8,34,9],[31,21,31,26],[31,27,31,29],[31,30,31,32],[32,0,32,2],[32,3,32,4],[32,8,32,9],[32,10,32,11],[32,21,33,26],[32,27,33,29],[32,30,33,32],[38,4,39,7],[38,8,39,11],[38,12,38,19],[38,20,39,21],[38,22,39,23],[36,0,37,40],[36,41,36,68],[36,69,36,89],[37,41,37,46],[37,47,37,58],[37,59,37,68],[37,69,37,79],[37,80,39,81],[37,82,39,85],[37,86,39,89],[34,10,34,11],[34,12,35,14],[34,21,35,26],[34,27,35,32],[35,3,35,5],[35,6,35,7],[35,8,35,9],[35,10,35,11],[40,0,41,1],[40,2,41,3],[40,4,41,5],[40,6,41,7],[40,8,41,9],[40,10,41,11],[38,66,39,68],[38,69,39,71],[38,72,39,75],[38,76,39,79],[39,12,39,13],[39,14,39,15],[39,16,39,17],[39,18,39,19],[39,47,39,48],[39,49,39,50],[38,46,39,46],[38,47,38,52],[38,53,38,56],[38,57,39,58],[38,59,39,61],[38,62,39,65],[39,51,39,52],[39,53,39,54],[39,55,39,56],[38,24,39,27],[38,28,39,31],[38,32,39,35],[38,36,39,40],[38,41,39,42],[38,43,39,45],[38,0,39,3],[40,41,40,42],[40,43,40,45],[40,47,40,48],[40,49,40,50],[40,24,41,25],[40,26,41,27],[40,28,41,29],[40,30,41,31],[40,32,41,33],[40,34,41,35],[40,18,41,18],[40,19,41,19],[40,20,41,20],[40,21,41,21],[40,22,41,22],[40,23,41,23],[40,12,41,12],[40,13,41,13],[40,14,41,14],[40,15,41,15],[40,16,41,16],[40,17,41,17],[42,21,44,21],[42,22,44,22],[42,10,44,11],[42,12,44,12],[42,13,44,13],[42,14,44,14],[42,15,44,15],[42,16,44,16],[40,86,40,89],[41,41,41,52],[41,53,41,64],[41,65,41,76],[41,77,41,89],[42,0,44,1],[42,2,44,3],[42,4,44,5],[42,6,44,7],[42,8,44,9],[40,66,40,68],[40,69,40,71],[40,72,40,75],[40,76,40,79],[40,80,40,81],[40,82,40,85],[40,51,40,52],[40,53,40,54],[40,55,40,56],[40,57,40,58],[40,59,40,61],[40,62,40,65],[40,36,41,38],[40,39,41,40],[42,73,43,76],[42,77,43,84],[42,85,43,89],[44,41,44,45],[44,46,44,48],[44,49,44,50],[44,51,44,52],[44,53,44,55],[44,56,44,60],[44,61,44,64],[42,51,43,52],[42,53,43,55],[42,56,43,60],[42,61,43,64],[42,65,43,68],[42,69,43,72],[42,34,44,35],[42,36,44,38],[42,39,44,40],[42,41,43,45],[42,46,43,48],[42,49,43,50],[46,70,46,71],[46,72,46,74],[46,75,46,84],[46,85,46,86],[46,87,46,89],[47,0,47,5],[47,8,47,13],[47,15,47,16],[47,17,47,21],[47,22,47,23],[46,0,46,5],[46,8,46,13],[46,15,46,16],[46,17,46,33],[46,34,46,60],[46,61,46,69],[44,65,44,68],[44,69,44,72],[44,73,44,76],[44,77,44,84],[44,85,44,89],[45,0,45,89],[42,23,44,23],[42,24,44,25],[42,26,44,27],[42,28,44,29],[42,30,44,31],[42,32,44,33],[42,17,44,17],[42,18,44,18],[42,19,44,19],[42,20,44,20],[47,72,47,74],[47,75,47,84],[47,85,47,86],[47,87,47,89],[48,0,48,5],[48,8,48,13],[48,15,48,16],[48,17,48,21],[48,22,49,23],[48,27,48,28],[47,51,47,53],[47,55,47,56],[47,57,47,58],[47,59,47,60],[47,61,47,69],[47,70,47,71],[47,27,47,28],[47,30,47,31],[47,32,47,33],[47,34,47,43],[47,44,47,46],[47,47,47,49],[49,75,50,84],[49,85,50,86],[49,87,50,89],[50,0,50,6],[50,8,50,13],[50,15,50,16],[50,17,50,21],[50,22,54,23],[50,27,50,28],[48,75,48,84],[48,85,48,86],[48,87,48,89],[49,0,49,5],[49,8,49,13],[49,15,49,16],[49,17,49,21],[49,27,49,28],[49,30,49,31],[49,34,49,43],[48,55,48,56],[48,57,48,58],[48,59,50,60],[48,61,48,69],[48,70,48,71],[48,72,48,74],[49,55,49,56],[49,57,49,58],[49,61,49,69],[49,70,49,71],[48,30,48,31],[48,32,49,33],[48,34,48,43],[50,70,50,71],[50,72,50,74],[51,0,51,6],[51,8,51,13],[51,15,51,16],[51,17,51,21],[51,27,51,28],[51,30,51,31],[51,34,51,43],[51,47,51,49],[50,34,50,43],[50,47,50,49],[50,51,50,53],[50,55,50,56],[50,57,50,58],[50,61,50,69],[49,72,49,74],[48,44,51,46],[48,47,48,49],[48,51,48,53],[49,47,49,49],[49,51,49,53],[50,30,50,31],[50,32,54,33],[51,72,51,74],[53,0,53,6],[53,8,53,13],[53,15,53,16],[53,17,53,21],[53,27,53,28],[53,30,53,31],[51,75,51,84],[51,85,51,86],[51,87,51,89],[52,0,52,6],[52,8,52,13],[52,15,52,16],[52,17,52,21],[52,27,52,28],[52,30,52,31],[51,51,51,53],[51,55,51,56],[51,57,51,58],[51,59,52,60],[51,61,51,69],[51,70,51,71],[52,61,52,69],[52,70,52,71],[52,72,52,74],[52,75,52,84],[52,85,52,86],[52,87,52,89],[52,34,52,43],[52,44,53,46],[52,47,52,49],[52,51,52,53],[52,55,52,56],[52,57,52,58],[53,34,53,43],[53,47,53,49],[53,51,53,53],[53,55,53,56],[53,85,53,86],[53,87,53,89],[54,0,54,6],[54,8,54,13],[54,15,54,16],[54,17,54,21],[54,27,54,28],[54,30,54,31],[54,34,54,43],[54,44,54,46],[53,57,53,58],[53,59,54,60],[53,61,53,69],[53,70,53,71],[53,72,53,74],[53,75,53,84],[54,72,54,74],[54,75,54,84],[54,85,54,86],[54,87,54,89],[55,0,55,6],[55,8,55,13],[55,15,55,16],[55,17,55,21],[55,27,55,28],[55,30,55,31],[55,32,60,33],[54,47,54,49],[54,51,54,53],[54,55,54,56],[54,57,54,58],[54,61,54,69],[54,70,54,71],[56,87,56,89],[57,0,57,6],[57,8,57,13],[57,15,57,16],[57,17,57,21],[57,27,57,28],[57,30,57,31],[57,34,57,43],[56,51,56,53],[56,55,56,56],[56,57,56,58],[56,61,56,69],[56,70,56,71],[56,72,56,74],[55,87,55,89],[56,0,56,6],[56,8,56,13],[56,15,56,16],[58,61,58,69],[58,70,58,71],[58,72,58,74],[56,17,56,21],[56,27,56,28],[56,30,56,31],[56,34,56,43],[56,44,57,46],[56,47,56,49],[55,59,56,60],[55,61,55,69],[55,70,55,71],[55,72,55,74],[55,75,55,84],[55,85,55,86],[56,75,56,84],[56,85,56,86],[55,34,55,43],[55,44,55,46],[55,47,55,49],[55,51,55,53],[55,55,55,56],[55,57,55,58],[57,75,57,84],[57,85,57,86],[61,72,61,74],[61,75,61,84],[61,85,61,86],[57,87,57,89],[58,0,59,6],[58,7,59,7],[58,8,58,13],[58,15,58,16],[58,17,58,21],[58,27,58,28],[58,30,58,31],[57,55,57,56],[57,57,57,58],[57,59,57,60],[57,61,57,69],[57,70,57,71],[57,72,57,74],[59,85,59,86],[59,87,59,89],[57,47,57,49],[57,51,57,53],[58,87,58,89],[59,8,60,13],[59,14,60,14],[59,15,60,16],[59,17,59,21],[59,27,59,28],[59,30,59,31],[59,34,59,43],[59,47,59,49],[59,51,59,53],[58,59,59,60],[64,84,64,85],[61,87,61,89],[61,32,61,33],[61,34,61,43],[61,44,61,60],[62,44,62,60],[60,87,60,89],[61,0,61,6],[61,8,61,12],[61,13,61,14],[61,15,61,16],[60,0,60,6],[60,17,60,21],[60,27,60,28],[60,30,60,31],[60,34,60,43],[60,44,60,60],[60,75,60,84],[60,85,60,86],[62,61,62,89],[59,61,60,69],[59,70,60,71],[59,72,60,74],[59,75,59,84],[58,44,59,46],[58,47,58,49],[58,51,58,53],[58,55,58,56],[58,57,58,58],[59,55,59,56],[63,86,63,89],[64,0,64,6],[64,8,64,12],[64,13,64,14],[64,15,64,16],[64,17,66,19],[64,20,66,22],[64,23,64,26],[64,27,64,49],[64,50,66,54],[65,0,65,6],[65,8,65,12],[65,13,65,14],[66,86,67,88],[66,89,67,89],[67,0,67,6],[67,8,67,12],[67,13,67,14],[67,15,67,16],[67,17,67,19],[66,38,66,49],[66,61,66,64],[66,66,66,68],[63,0,63,6],[63,8,63,12],[63,13,63,14],[63,15,63,16],[63,17,63,60],[63,61,63,65],[63,66,63,70],[63,71,63,80],[63,81,63,85],[66,69,66,70],[66,71,66,73],[66,74,66,75],[65,76,65,79],[65,81,65,83],[65,84,65,85],[65,86,65,88],[66,0,66,6],[66,8,66,12],[66,13,66,14],[66,15,66,16],[66,23,66,26],[66,27,66,37],[65,15,65,16],[65,23,65,26],[65,27,65,37],[65,38,65,49],[64,55,66,60],[64,61,64,64],[64,66,64,68],[64,69,64,70],[64,74,64,75],[64,86,64,88],[64,76,64,79],[65,61,65,64],[65,66,65,68],[65,69,65,70],[65,74,65,75],[66,76,66,79],[66,81,66,83],[66,84,66,85],[64,81,64,83],[68,84,71,86],[67,81,67,83],[67,84,67,85],[68,0,68,6],[68,8,68,12],[68,13,68,14],[68,15,68,16],[68,17,68,60],[68,61,73,62],[68,63,71,65],[68,66,71,68],[67,61,67,64],[67,66,67,68],[67,69,67,70],[67,71,67,73],[67,74,67,75],[67,76,67,79],[67,20,67,22],[67,23,67,26],[67,27,67,37],[67,38,67,49],[67,50,67,54],[67,55,67,60],[70,38,70,41],[70,42,70,45],[70,46,70,55],[70,56,70,60],[71,17,71,23],[71,24,71,32],[71,33,71,37],[71,38,71,41],[71,42,71,45],[71,46,71,55],[69,46,69,55],[69,56,69,60],[70,0,71,6],[70,7,71,7],[70,8,71,12],[70,13,71,14],[70,15,71,16],[70,17,70,23],[70,24,70,32],[70,33,70,37],[69,0,69,6],[69,8,69,12],[69,13,69,14],[69,15,69,16],[69,17,69,23],[69,24,69,32],[69,33,69,37],[69,38,69,41],[69,42,69,45],[72,75,73,78],[72,79,73,80],[72,81,73,83],[72,84,73,86],[72,87,73,89],[73,0,73,6],[73,17,73,23],[73,24,73,32],[73,33,73,37],[73,38,73,41],[72,46,72,55],[72,56,72,60],[72,63,73,65],[72,66,73,68],[72,69,73,71],[72,72,73,74],[71,56,71,60],[72,0,72,6],[72,8,73,12],[72,13,73,14],[72,15,73,16],[72,17,72,23],[72,24,72,32],[72,33,72,37],[72,38,72,41],[72,42,72,45],[68,87,71,89],[68,69,71,71],[68,72,71,74],[68,75,71,78],[68,79,71,80],[68,81,71,83],[75,17,75,23],[75,24,75,32],[75,38,75,41],[75,42,75,45],[75,46,75,55],[87,0,87,2],[87,3,87,5],[87,6,87,7],[87,8,87,9],[87,10,87,11],[73,42,73,45],[73,46,73,55],[73,56,73,60],[74,17,74,23],[74,24,74,32],[74,38,74,41],[74,42,74,45],[74,46,74,55],[87,80,87,84],[87,85,88,85]],"merged_total":1135,"flags":["merged_cut"]}
[null,null,null,null,null,null,null,null,null,null,null,null,null,null,null,null,null,null,null,null,null,null,null,null,null,null,null,"DIRECCION - PROGRAMA  APS \nSUBSECRETARIA DE MEDICINA SOCIAL\nRONDA N°: 192   AÑO: 2025",null,null,null,null,null,null,null,null,null,null,null,null,null,null,null,null,null,null,null,null,null,null,null,null,null,null,"1r","2r","3r",null,"4r",null,"T",null,null,null,null,null,null,null,null,null,null,null,null,null,null,null,null,null,null,null,"Informe y orden de Ronda: ",6,null,null,null,null,2]
[null,null,null,null,null,null,null,"Area Operativa N°: ",4,null,null,null,null,null,"Nombre: ","MORILLO",null,null,null,null,null,null,null,null,null,null,null,null,null,null,null,null,null,null,null,null,null,null,null,null,null,null,null,null,null,null,"Mort. Mater. Acum. Año",null,null,null,null,null,null,null,0,{"$f":"CE41","v":0},0,null,{"$f":"CE41","v":0},null,{"$f":"SUM(BC2:BG2)","v":0},null,null,null,null,"Sector:",null,"CHAÑAR 2",null,null,null,null,null,null,null,null,null,null,null,null,null,null,null,null,null,"N°",17]
[null,null,null,null,null,null,null,null,null,null,null,null,null,null,null,null,null,null,null,null,null,null,null,null,null,null,null,null,null,null,null,null,null,null,null,null,null,null,null,null,null,null,null,null,null,null,"Mort. 0-1 año Acum Año",null,null,null,null,null,null,null,1,{"$f":"BR41+BU41+BY41","v":0},0,null,{"$f":"BR41+BU41+BY41","v":0},null,{"$f":"SUM(BC3:BG3)","v":1},null,null,null,null,null,"Etnia: ","CRIOLLO-WICHI",null,null,null,null,null,null,null,null,null,null,null,null,null,null,null,null,null,"Sector Riesgo:","SI"]
[null,null,null,null,null,null,null,"Establec. Base: ","HOSPITAL MORILLO",null,null,null,null,null,null,null,null,null,null,null,null,null,null,null,null,null,null,null,null,null,null,null,null,null,null,null,null,null,null,null,null,null,null,null,null,null,"Mort. 1-4 años Acum Año",null,null,null,null,null,null,null,0,{"$f":"CC41","v":0},0,null,{"$f":"CC41","v":0},null,{"$f":"SUM(BC4:BG4)","v":0},null,null,null,null,null,null,null,null,null,null,null,null,"Desde: ","07/03/2025",null,null,null,null,null,null,null,null,"Hasta: ","05/06/2026"]
[null,null,null,null,null,null,null,null,null,null,null,null,null,null,null,null,null,null,null,null,null,null,null,null,null,null,null,null,null,null,null,null,null,null,null,null,null,null,null,null,null,null,null,null,null,null,null,null,null,null,null,null,null,null,null,null,null,null,null,null,null,null,null,null,null,null,null,null,null,null,null,null,null,null,null,null,null,null,null,"Cobertura: ","CUBIERTO"]
[null,null,null,null,null,null,null,"Sup. Intermedio: ","Miguel Angel Correa",null,null,null,null,null,null,null,null,null,null,null,null,null,null,null,null,null,null,null,null,null,null,null,"Responsable A.P.S.: ","Dr. Abel Ibarra",null,null,null,null,null,null,null,null,null,null,null,null,null,null,null,null,null,null,null,null,null,null,"Agente Sanitario: ","ALBORNOZ JUDITH",null,null,null,null,null,null,null,null,null,null,null,null,null,null,null,null,"Sit. Revista: ","DESIG.TEMPORARIA",null,null,null,null,null,"Reg. Horario: ","30 HS."]
[]
["A) FAMILIAS VISITADAS EN LA RONDA",null,null,null,null,null,null,null,null,null,null,null,null,null,null,null,null,null,null,null,null,null,null,null,null,null,null,null,null,null,null,null,null,null,null,null,null,null,null,null,null,null,null,null,null,null,null,"B) FACTORES DE PRIORIZACION DE VISITAS"]
["ASIGNADAS",null,null,"VISITADAS",null,null,"TOTAL\nVISITAS",null,"NO VISITADAS",null,null,null,null,null,null,null,null,"FLIAS ORIG.",null,"FLIAS. URB.",null,"FLIAS. PERIURB",null,null,"FLIAS. RURALES",null,"GOLON\nMIGRANTES",null,null,null,null,"FLIAS. CON PL. SOCIALES",null,null,null,null,null,"PRODUCCION\nFAMILIAR",null,null,null,null,null,null,null,null,null,1,null,2,null,3,null,null,4,null,5,null,6,null,7,null,null,8,null,null,9,null,null,10,null,null,null,11,null,null,12,null,null,null,13,null,null,14,null,null,15]
[null,null,null,null,null,null,null,null,"RECHAZO TOTAL",null,"AUSEN\n-TE",null,"NO VISITADAS",null,"TOT NO VISIT.",null,null,null,null,null,null,null,null,null,null,null,"HACIA\nEL AO",null,"DESDE\nEL AO",null,null,null,null,null,null,null,null,"HUERTA",null,null,null,"GRANJA",null,null,null,null,null,0,null,0,null,0,null,null,0,null,0,null,0,null,0,null,null,0,null,null,0,null,null,"Total",null,null,null,"Tot",null,"Trat","Tot.",null,null,"Trat.","Tot.","Trat.",null,"Tot.",null,"Trat","Total"]
[null,null,null,null,null,null,null,null,null,null,0,null,null,null,null,null,null,null,null,null,null,null,null,null,null,null,null,null,null,null,null,null,null,null,null,null,null,null,null,null,null,null,null,null,null,null,null,null,null,null,null,null,null,null,null,null,null,null,null,null,null,null,null,null,null,null,null,null,null,0,null,null,null,0,null,0,0,null,null,0,0,0,null,0,null,0,0]
[0,null,null,0,null,null,0,null,0,null,0,null,0,null,{"$f":"M12+K12+I12","v":0},null,null,0,null,0,null,0,null,null,0,null,0,null,0,null,null,0,null,null,null,null,null,0,null,null,null,0,null,null,null,null,null,"C) VISITAS A FLIAS. PRIORIZADAS",null,null,null,null,null,null,null,null,null,null,null,null,null,null,null,null,null,null,null,null,null,"D) SUPERV. A FLIAS. "]
[null,null,null,null,null,null,null,null,null,null,null,null,null,null,null,null,null,null,null,null,null,null,null,null,null,null,null,null,null,null,null,null,null,null,null,null,null,null,null,null,null,null,null,null,null,null,null,"PRIORIDAD",null,null,null,null,null,1,null,null,2,null,null,null,3,null,null,"Total",null,null,null,null,null,"PRIORIDAD",null,null,null,null,null,3,null,null,null,2,null,1,null,null,null,"TOTAL"]
[null,null,null,null,null,null,null,null,null,null,null,null,null,null,null,null,null,null,null,null,null,null,null,null,null,null,null,null,null,null,null,null,null,null,null,null,null,null,null,null,null,null,null,null,null,null,null,"N° FAMILIAS",null,null,null,null,null,0,null,null,0,null,null,null,0,null,null,{"$f":"SUM(BB14:BI14)","v":0},null,null,null,null,null,"INTERMEDIA",null,null,null,null,null,0,null,null,null,0,null,0,null,null,null,{"$f":"SUM(BX14:CD14)","v":0}]
[null,null,null,null,null,null,null,null,null,null,null,null,null,null,null,null,null,null,null,null,null,null,null,null,null,null,null,null,null,null,null,null,null,null,null,null,null,null,null,null,null,null,null,null,null,null,null,"VISITAS",null,null,null,null,null,0,null,null,0,null,null,null,0,null,null,{"$f":"SUM(BB15:BI15)","v":0},null,null,null,null,null,"PROFESIONAL",null,null,null,null,null,0,null,null,null,0,null,0,null,null,null,{"$f":"SUM(BX15:CB15)","v":0}]
["E) EDAD FERTIL",null,null,null,null,"F) EMBARAZADAS",null,null,null,null,null,null,"G) PARTOS",null,null,null,null,null,null,null,"H) R.N. EN LA RONDA",null,null,null,null,null,null,null,null,"I) EVALUACION ANTROPOMETRICA",null,null,null,null,null,null,null,null,null,null,null,null,null,null,null,null,null,null,null,null,null,null,null,null,null,null,null,null,null,null,null,null,null,null,null,null,"NIÑ MBP/BP/RBP CTRL. INT.",null,null,null,null,null,null,null,null,null,"LACT. MATERNA"]
["PAP",null,null,0,null,"CAPT. 1er TRIMESTRE","ESP EN EL AÑO","ACUMULADAS","NUEVAS\nRONDA","TOTAL","DE RIESGO","<19 Años","TOTAL",null,"HOSPITALARIOS",null,"DOMIC.",null,"N° PUERPERAS",null,"NACIDOS VIVOS",null,"P AL NACER",null,null,null,null,null,null,"NIÑOS CONTROLADOS",null,null,null,null,null,null,null,null,null,null,null,null,null,null,null,null,null,null,null,null,null,null,null,null,null,null,null,null,null,null,null,null,null,null,null,null,"MELAN",null,"MED",null,"ENF.",null,"LAB",null,"NUTR",null,"< 6 M EN LA RONDA",null,null,null,{"$f":"CC20+CC22+CC23","v":0}]
[null,null,null,null,null,null,null,null,null,null,null,null,null,null,null,null,"DOM","ASIS",null,null,null,null,"ALTO PESO","ADEC",null,"BAJO PESO",null,"MB\nPESO",null,"EDAD",null,null,"A CONTROLAR",null,null,"ADECUADO",null,"BP\nBAJO PESO",null,"MBP\nMUY B. PESO",null,"ALTO PESO",null,"RIESGO",null,null,null,"RECUPERADOS",null,null,null,"TALLA / EDAD",null,null,null,null,"NUEVOS\nEPISODIOS",null,"PERDIDOS",null,null,null,null,"FALLECIDOS\nC/ANTEC. ANTROPOM."]
[]
["Antic.",null,null,0,null,0,{"$f":"IF(ISERROR(((CC92*1.8)/100)),0,(((CC92*1.8)/100)))","v":0},0,0,{"$f":"SUM(F23:L23)","v":0},0,0,{"$f":"O20+Q20+R20","v":0},null,0,null,0,0,0,null,{"$f":"W20+X20+Z20+AB20","v":0},null,0,0,null,0,null,0,null,null,null,null,null,null,null,null,null,null,null,null,null,null,null,"BP",null,"AP",null,"BP",null,null,"AP","BT",null,"MBT",null,"RGO\nBT",null,null,"BP\nMBP",null,null,"A.P.",null,null,null,null,0,null,0,null,0,null,0,null,0,null,"EXCLUSIVO",null,null,null,0]
[null,null,null,null,null,"CONTROLES",null,null,null,null,null,null," ",null,null,null,null,null,null,null,"PREMATUROS",null,null,null,"PESQUISA"]
["Aborto",null,null,0,null,"MELON",null,"MEL","MED","ENF","LAB","S/C","PUERP",null,null,null,"R.N.",null,null,null,null,null,null,null,null,null,null,null,null,"< 2 años",null,null,{"$f":"A27+C27+D27+F27+G27+H27","v":0},null,null,0,null,0,null,0,null,0,null,0,null,0,null,0,null,null,0,0,null,0,null,0,0,null,0,null,null,0,null,0,null,null,"CONTROLES EN DOMIC. NIÑO BP o MBP",null,null,null,null,null,null,null,0,null,"MIXTA",null,null,null,0]
[null,null,null,null,null,0,null,0,0,0,0,0,0,null,null,null,0,null,null,null,0,null,null,null,0,null,null,null,null,"2 a 6 años",null,null,{"$f":"I27+J27+K27+L27+M27+O27+P27+R27","v":0},null,null,0,null,0,null,0,null,0,null,0,null,0,null,0,null,null,0,0,null,0,null,0,0,null,0,null,null,0,null,0,null,null,null,null,null,null,null,null,null,null,null,null,"ARTIF",null,null,null,0]
["J) DATOS DE POBLACION"]
["0 a 5m",null,null,"6 a 11m",null,null,"1 AÑO",null,"2 AÑOS",null,"3 AÑOS",null,"4 AÑOS",null,null,"5 AÑOS",null,null,"6 AÑOS",null,null,"7 A 9 AÑOS",null,null,null,"10 AÑOS",null,"11 AÑOS",null,null,"12 A 14",null,null,null,null,null,"15 A 19",null,null,"20 A 24",null,null,null,"25 A 29",null,null,null,"30 A 34",null,null,null,"35 A 39",null,null,null,"40 A 44",null,null,null,null,"45 A 49",null,null,null,"50 A 54",null,null,null,"55 A 59",null,null,null,"60 A 64",null,null,null,"65 y +",null,null,null,"TOTAL",null,null,null,null,"MUJERES\n10 A 49","O. SOCIAL",null,"INDOCUM"]
["M",null,"F","M",null,"F","M","F","M","F","M","F","M",null,"F","M",null,"F","M",null,"F","M",null,"F",null,"M","F","M",null,"F","M",null,null,"F",null,null,"M","F",null,"M",null,"F",null,"M",null,null,"F","M",null,null,"F","M",null,"F",null,"M",null,null,"F",null,"M",null,"F",null,"M",null,"F",null,"M",null,"F",null,"M",null,"F",null,"M",null,null,"F","M",null,"F"]
[0,null,0,0,null,0,0,0,0,0,0,0,0,null,0,0,null,0,0,null,0,0,null,0,null,0,0,0,null,0,0,null,null,0,null,null,0,0,null,0,null,0,null,0,null,null,0,0,null,null,0,0,null,0,null,0,null,null,0,null,0,null,0,null,0,null,0,null,0,null,0,null,0,null,0,null,0,null,null,0,{"$f":"BY27+BU27+BQ27+BM27+BI27+BD27+AZ27+AV27+AR27+AN27+AK27+AE27+AB27+Z27+V27+S27+P27+M27+K27+I27+G27+D27+A27","v":0},null,{"$f":"CB27+BW27+BS27+BO27+BK27+BG27+BB27+AY27+AU27+AP27+AL27+AH27+AD27+AA27+X27+U27+R27+O27+L27+J27+H27+F27+C27","v":0},null,null,{"$f":"BK27+BG27+BB27+AY27+AU27+AP27+AL27+AH27+AD27+AA27","v":0},0,null,0]
[{"$f":"A27+C27","v":0},null,null,{"$f":"D27+F27","v":0},null,null,{"$f":"G27+H27","v":0},null,{"$f":"I27+J27","v":0},null,{"$f":"K27+L27","v":0},null,{"$f":"M27+O27","v":0},null,null,{"$f":"P27+R27","v":0},null,null,{"$f":"S27+U27","v":0},null,null,{"$f":"V27+X27","v":0},null,null,null,{"$f":"Z27+AA27","v":0},null,{"$f":"AB27+AD27","v":0},null,null,{"$f":"AE27+AH27","v":0},null,null,null,null,null,{"$f":"AL27+AK27","v":0},null,null,{"$f":"AN27+AP27","v":0},null,null,null,{"$f":"AR27+AU27","v":0},null,null,null,{"$f":"AV27+AY27","v":0},null,null,null,{"$f":"AZ27+BB27","v":0},null,null,null,{"$f":"BD27+BG27","v":0},null,null,null,null,{"$f":"BI27+BK27","v":0},null,null,null,{"$f":"BM27+BO27","v":0},null,null,null,{"$f":"BQ27+BS27","v":0},null,null,null,{"$f":"BU27+BW27","v":0},null,null,null,{"$f":"BY27+CB27","v":0},null,null,null,{"$f":"CC27+CE27","v":0}]
["K) TUBERCULOSIS ",null,null,null,null,null,null,null,null,null,null,null,null,null,null," CHAGAS ",null,null,null,null,null,"L) PERSONAS CON ENF. CRONICAS",null,null,null,null,null,null,null,null,null,null,null,"M) OBSERVACIONES"]
["Coef. Sint.Resp.: ",null,null,"MUESTRAS",null,null,null,null,"TRATAM. TBC",null,null,null,null,null,null,"TRATAMIENTOS CHAGAS",null,null,null,null,null,"PERSONAS CON",null,null,null,null,null,"TOTAL",null,null,"EN TRAT.",null,null," "]
[{"$f":"Control!H9","v":8},null,null,"DIAGNOSTICOS",null,null,"CONTROL",null,"Total",null,"TAES",null," ABANDONO",null,null,"INICIO ",null,null,0,null,null,"DIABETES",null,null,null,null,null,0,null,null,0]
["SINT. ESP..",null,null,"Tot",null,"(+)","Tot","(+)",0,null,0,null,0,null,null,"FINALIZACION ",null,null,0,null,null,"HIPERTENSION \nARTERIAL",null,null,null,null,null,0,null,null,0]
[{"$f":"IF(ISERROR(((AK91+AL91+AN91+AP91+AR91+AU91+AV91+AY91+AZ91+BB91+BD91+BG91+BI91+BK91+BM91+BO91+BQ91+BS91+BU91+BW91+BY91+CB91)*0.2)*A31/100),0,(((AK91+AL91+AN91+AP91+AR91+AU91+AV91+AY91+AZ91+BB91+BD91+BG91+BI91+BK91+BM91+BO91+BQ91+BS91+BU91+BW91+BY91+CB91)*0.2)*A31/100))","v":0},null,null,0,null,0,0,0,"QUIMIO Total",null,0,null,null,null,null,null,null,null,null,null,null,"PERSONAS CON OTRAS ENF. CRONICAS AL CUIDADO DE NIÑOS",null,null,null,null,null,0,null,null,0]
["SINT. DETEC.",null,null,"CONTACTO",null,null,null,null,"CTRL. MEDICO",null,null,null,"FINALIZAD0",null,null,"ABANDONO ",null,null,0]
[0,null,null,"< 14a",null,null,"> 15a",null,"Pcte/Rda",null,"A Cont",null,0,null,null,null,null,null,null,null,null,"ADULTOS MAYORES EN SITUACION DE RIESGO",null,null,null,null,null,0]
[null,null,null,0,null,null,0,null,0,null,0]
["N) DERIVACIONES",null,null,null,null,null,null,null,null,null,null,null,null,null,null,null,null,null,null,null,null,null,null,null,null,null,null,null,null,null,null,null,null,null,null,null,null,null,null,null,null,"Ñ) VIVIENDA Y SANEAMIENTO",null,null,null,null,null,null,null,null,null,null,null,null,null,null,null,null,null,null,null,null,null,null,null,null,null,null,null,"O) DEFUNCIONES EN LA RONDA"]
[null,null,null,null,null,null,null,null,null,null,null,null,null,null,null,null,null,null,null,null,null,null,null,null,null,null,null,null,null,null,null,null,null,null,null,null,null,null,null,null,null,"TRAT. AGUA",null,null,null,null,null,"DISP SANITARIA EXCRETAS",null,null,null,null,null,null,null,null,null,null,null,"TRATAM. SANIT BASURA",null,null,null,null,null,null,null,null,null,"MENORES 1 AÑO",null,null,null,null,null,null,null,null,null,null,"1 a 4 AÑOS",null,"MATERNA",null,null,null,"OTRAS"]
["EMB",null,null,null,"RN",null,null,null,"PUERP",null,null,null,"Menores de 6 años",null,null,null,null,null,null,null,"E.\nCRONICAS",null,"PAP",null,"CHAGAS",null,null,null,"TBC",null,null,null,"PSICOSOC",null,null,null,"TOTAL\nDERIVACIONES",null,null,null,null,"RED",null,"EN\nVIV",null,null,"S/T","ARRASTRE",null,null,null,null,null,"LETRINA",null,null,null,"S/T",null,"REC. DOMIC.",null,null,"POZO BASURA",null,null,null,"S/T",null,null,"<7d",null,null,"7 a 28d",null,null,null,"29d a 11 m"]
[null,null,null,null,null,null,null,null,null,null,null,null,"BP- MBP",null,"RGO BP",null,"Resp",null,"Diarr",null,null,null,null,null,null,null,null,null,null,null,null,null,null,null,null,null,null,null,null,null,null,null,null,null,null,null,null,"CLOACAS",null,"PC-CT",null,"PC-ST",null,"CT",null,"ST"]
["Env",null,"Rec",null,"Env",null,"Rec",null,"Env",null,"Rec",null,"Env","Rec","Env","Rec","Env","Rec","Env","Rec","Env","Rec","Env","Rec","Env",null,"Rec",null,"Env",null,"Rec",null,"Env",null,"Rec",null,"ENV",null,null,"Rec",null,0,null,0,null,null,0,0,null,0,null,0,null,0,null,0,null,0,null,0,null,null,0,null,null,null,0,null,null,0,null,null,0,null,null,null,0,null,null,null,0,null,0,null,null,null,0]
[null,null,null,null,null,null,null,null,null,null,null,null,null,null,null,null,null,null,null,null,null,null,null,null,null,null,null,null,null,null,null,null,null,null,null,null,null,null,null,null,null,"CASAS ",null,null,null,null,null,null,null,null,null,null,null,"CHAGAS",null,null,null,null,null,null,null,null,null,null,null,"DENGUE CHIKUNGUNYA",null,null,null,null,null,null,null,null,null,null,null,"P) PROM. SALUD"]
[0,null,0,null,0,null,0,null,0,null,0,null,0,0,0,0,0,0,0,0,0,0,0,0,0,null,0,null,0,null,0,null,0,null,0,null,{"$f":"AG43+AC43+Y43+W43+U43+S43+Q43+O43+M43+I43+E43+A43","v":0},null,null,{"$f":"AI43+AE43+AA43+X43+V43+T43+R43+P43+N43+K43+G43+C43","v":0},null,"ASIGNADAS",null,null,null,null,"VISITADAS",null,null,"VACIAS",null,"DESTRUIDAS",null,"EVALUADAS",null,null,"POSITIVAS",null,null,null,null,"TRATADAS",null,null,null,"EVALUADAS",null,null,null,"POSITIVAS",null,null,null,"TRATADAS",null,null,null,"PLANIFICADAS \nEN COMUNIDAD",null,null,null,null,null,null,null,0]
[]
[null,null,null,null,null,null,null,null,null,null,null,null,null,null,null,null,null,null,null,null,null,null,null,null,null,null,null,null,null,null,null,null,null,null,null,null,null,null,null,null,null,0,null,null,null,null,0,null,null,0,null,0,null,0,null,null,0,null,null,null,null,0,null,null,null,0,null,null,null,0,null,null,null,0,null,null,null,"REALIZADAS ",null,null,null,null,null,null,null,0]
["Q) INDICADORES"]
["DE ESTRUCTURA",null,null,null,null,null,"SI","NO","DE PRODUCCION",null,null,null,null,null,"%","META",null," DE INMUNIZACIONES",null,null,null,null,null,null,null,null,null,null,null,null,null,null,null,null," DE INMUNIZACIONES",null,null,null,null,null,null,null,null,null,null,null,null,null,null,null,null,null,null,null,null,null,null,null,null,null,null," DE RESULTADO",null,null,null,null,null,null,null,null,"%",null,"META",null,null," DE RESULTADO",null,null,null,null,null,null,null,null,null,"%",null,"META RDA"]
["Formularios",null,null,null,null,null,0,0,"Cobertura a Familias",null,null,null,null,null,{"$f":"IF(ISERROR(D12/A12),0,(D12/A12)*100)","v":0},100,null,"VACUNA",null,null,null,null,"P. REF",null,"1r","2r","3r","4r",null,"T","%",null,"META",null,"VACUNA",null,null,null,null,null,null,null,null,null,"P. REF",null,null,"1r",null,null,"2r","3r",null,null,"4r","T",null,"%",null,"META",null,"Ed Fértil c/Anticoncepción",null,null,null,null,null,null,null,null,{"$f":"IF(ISERROR(D20/CH27),0,(D20/CH27)*100)","v":0},null,null,null,null,"Niños 2 a 5 Recup BP",null,null,null,null,null,null,null,null,null,{"$f":"IF(ISERROR(AV23/K80),0,(AV23/K80)*100)","v":0},null,100]
["Equipo",null,null,null,null,null,0,0,"Niños < 2 años Controlados",null,null,null,null,null,{"$f":"IF(ISERROR(((AJ22+AL22+AN22+AP22)/(A28+D28+G28))),0,(((AJ22+AL22+AN22+AP22)/(A28+D28+G28)))*100)","v":0},100,null,"BCG RN",null,null,null,null,{"$f":"U20","v":0},null,5,0,0,0,null,{"$f":"SUM(Y49:AB49)","v":5},{"$f":"IF(ISERROR(Z49/W49),0,(Z49/W49)*100)","v":0},null,100,null,"2 Ref. Varicela Ingreso Esc",null,null,null,null,null,null,null,null,null,11,null,null,11,null,null,0,0,null,null,0,{"$f":"SUM(AV49:BC49)","v":11},null,{"$f":"IF(ISERROR(AY49/AS49),0,(AY49/AS49)*100)","v":0},null,25,null,"PAP",null,null,null,null,null,null,null,null,{"$f":"IF(ISERROR(D17/CH27),0,(D17/CH27)*100)","v":0},null,null,null,null,"Niños 2 a 5 Recup AP",null,null,null,null,null,null,null,null,null,{"$f":"IF(ISERROR(AY23/K82),0,(AY23/K82)*100)","v":0},null,100]
["Combustible",null,null,null,null,null,0,0,"Niños  (2 a 5 años) Controlados",null,null,null,null,null,{"$f":"IF(ISERROR(((AJ23+AL23+AN23+AP23)/(I28+K28+M28+P28))),0,(((AJ23+AL23+AN23+AP23)/(I28+K28+M28+P28)))*100)","v":0},100,null,"Hepatitis B RN","Hepatitis B RN",null,"Hepatitis B RN","Hepatitis B RN",null,null,5,0,0,0,null,{"$f":"SUM(Y50:AB50)","v":5},{"$f":"IF(ISERROR(Z50/W49),0,(Z50/W49)*100)","v":0},null,null,null,"2° Ref. Antipolio Ingreso Escolar",null,null,null,null,null,null,null,null,null,null,null,null,11,null,null,0,0,null,null,0,{"$f":"SUM(AV50:BC50)","v":11},null,{"$f":"IF(ISERROR(AY50/AS49),0,(AY50/AS49)*100)","v":0},null,null,null,"Embarazadas Con MELON",null,null,null,null,null,null,null,null,{"$f":"IF(ISERROR(F23/J20),0,(F23/J20)*100)","v":0},null,80,null,null,"Niños 6 meses con LME",null,null,null,null,null,null,null,null,null,{"$f":"IF(ISERROR(CC20/CC17),0,(CC20/CC17)*100)","v":0},null,80]
[" DE DIAGNOSTICO",null,null,null,null,null,null,"%","Conc. Vis. Flias Prio",null,null,null,null,null,{"$f":"IF(ISERROR((BB15+BE15)/(BB14+BE14)),0,((BB15+BE15)/(BB14+BE14)))","v":0},25,null,"2° Neumococo < 1a","3ª SOT/Salk < 1a",null,"3ª SOT/Salk < 1a","3ª SOT/Salk < 1a",{"$f":"A91+C91+D91+F91","v":0},null,4,0,0,0,null,{"$f":"SUM(Y51:AB51)","v":4},{"$f":"IF(ISERROR(Z51/W51),0,(Z51/W51)*100)","v":0},null,100,null,"2° Ref. DPT Ingreso Escolar",null,null,null,null,null,null,null,null,null,null,null,null,11,null,null,0,0,null,null,0,{"$f":"SUM(AV51:BC51)","v":11},null,{"$f":"IF(ISERROR(AY51/AS49),0,(AY51/AS49)*100)","v":0},null,null,null,"Partos Hospitalarios",null,null,null,null,null,null,null,null,{"$f":"IF(ISERROR(O20/M20),0,(O20/M20)*100)","v":0},null,100]
["Flias Priorizadas 3 + 2:",null,null,null,null,null,null,{"$f":"IF(ISERROR((BB14+BE14)/D12),0,(BB14+BE14)/D12*100)","v":0},"Conc.C.Dom Niños Bp/MBP",null,null,null,null,null,{"$f":"IF(ISERROR(BW22/(AL22+AN22+AL23+AN23)),0,(BW22/(AL22+AN22+AL23+AN23)))","v":0},3,null,"2° Rotavirus <1 a","3º Pentavalente <1 a",null,"3º Pentavalente <1 a","3º Pentavalente <1 a",null,null,6,0,0,0,null,{"$f":"SUM(Y52:AB52)","v":6},{"$f":"IF(ISERROR(Z52/W51),0,(Z52/W51)*100)","v":0},null,null,null,"2° TV Ingreso Escolar",null,null,null,null,null,null,null,null,null,null,null,null,11,null,null,0,0,null,null,0,{"$f":"SUM(AV52:BC52)","v":11},null,{"$f":"IF(ISERROR(AY52/AS49),0,(AY52/AS49)*100)","v":0},null,100,null,"Conc Control Médico a RN",null,null,null,null,null,null,null,null,{"$f":"IF(ISERROR(Q23/M20),0,(Q23/M20))","v":0},null,4,null,null,"% Niños BP MBP y RBP con MELaN",null,null,null,null,null,null,null,null,null,{"$f":"IF(ISERROR(BO20/(AL22+AN22+AR22+AL23+AN23+AR23)),0,(BO20/(AL22+AN22+AR22+AL23+AN23+AR23))*100)","v":0},null,100]
["Flias Urbanas",null,null,null,null,null,null,{"$f":"IF(ISERROR(T12/D12),0,(T12/D12)*100)","v":0},"Rel. Muestra/Sint Resp.",null,null,null,null,null,{"$f":"IF(ISERROR(D33/A35),0,(D33/A35))","v":0},2,null,"2° Meningococo < 1a",null,null,null,null,null,null,1,0,0,0,null,{"$f":"SUM(Y53:AB53)","v":1},{"$f":"IF(ISERROR(Z53/W51),0,(Z53/W51)*100)","v":0},null,null,null,"dTpa 11 años",null,null,null,null,null,null,null,null,null,17,null,null,11,null,null,0,0,null,null,0,{"$f":"SUM(AV53:BC53)","v":11},null,{"$f":"IF(ISERROR(AY53/AS53),0,(AY53/AS53)*100)","v":0},null,null,null,"Conc Control Méd. a puérpera",null,null,null,null,null,null,null,null,{"$f":"IF(ISERROR(M23/S20),0,(M23/S20))","v":0},null,4,null,null,"Sint Resp Detect. Seg zona",null,null,null,null,null,null,null,null,null,{"$f":"IF(ISERROR((A35*100)/(((20*(AK28+AN28+AR28+AV28+AZ28+BD28+BI28+BM28+BQ28+BU28+BY28))/100)*A31)),0,(A35*100)/((((20*(AK28+AN28+AR28+AV28+AZ28+BD28+BI28+BM28+BQ28+BU28+BY28))/100)*A31)/100))","v":0},null,"S/Z"]
["Flias Periurbanas",null,null,null,null,null,null,{"$f":"IF(ISERROR(V12/D12),0,(V12/D12)*100)","v":0},"Casas Evaluadas Chagas",null,null,null,null,null,{"$f":"IF(ISERROR(BB45/AU45),0,(BB45/AU45)*100)","v":0},100,null,"3° Antipolio < 1 año","2ª Rotavirus < 1 año",null,"2ª Rotavirus < 1 año","2ª Rotavirus < 1 año",null,null,1,0,0,0,null,{"$f":"SUM(Y54:AB54)","v":1},{"$f":"IF(ISERROR(Z54/W51),0,(Z54/W51)*100)","v":0},null,null,null,"U.D. Meningococo",null,null,null,null,null,null,null,null,null,null,null,null,11,null,null,0,0,null,null,0,{"$f":"SUM(AV54:BC54)","v":11},null,{"$f":"IF(ISERROR(AY54/AS53),0,(AY54/AS53)*100)","v":0},null,"95% AL 1° SEM",null,"RN con Pesquisa",null,null,null,null,null,null,null,null,{"$f":"IF(ISERROR(Y23/U20),0,(Y23/U20)*100)","v":0},null,100,null,null,"Pacientes TBC con Control Médico",null,null,null,null,null,null,null,null,null,{"$f":"IF(ISERROR(I36/I32),0,(I36/I32)*100)","v":0},null,100]
["Flias Rurales",null,null,null,null,null,null,{"$f":"IF(ISERROR(Y12/D12),0,(Y12/D12)*100)","v":0},"Casas Tratadas Chagas",null,null,null,null,null,{"$f":"IF(ISERROR(BJ45/BE45),0,(BJ45/BE45)*100)","v":0},100,null,"3° Pentavalente <1 año","TV 1 año",null,"TV 1 año","TV 1 año",null,null,1,0,0,0,null,{"$f":"SUM(Y55:AB55)","v":1},{"$f":"IF(ISERROR(Z55/W51),0,(Z55/W51)*100)","v":0},null,null,null,"1° HPV Niñas cumplen 11 a en año en curso",null,null,null,null,null,null,null,null,null,11,null,null,5,null,null,0,0,null,null,0,{"$f":"SUM(AV55:BC55)","v":5},null,{"$f":"IF(ISERROR(AY55/AS55),0,(AY55/AS55)*100)","v":0},null,null,null,"Derivaciones Enviadas/Recibidas",null,null,null,null,null,null,null,null,{"$f":"IF(ISERROR(AN43/AK43),0,(AN43/AK43)*100)","v":0},null,100,null,null,"Contactos TBC Controlados",null,null,null,null,null,null,null,null,null,{"$f":"IF(ISERROR(K36/(D36+G36)),0,(K36/(D36+G36)))*100","v":0},null,100]
["Flias Originarias",null,null,null,null,null,null,{"$f":"IF(ISERROR(R12/D12),0,(R12/D12)*100)","v":0},"Casas Evaluadas Dengue",null,null,null,null,null,{"$f":"IF(ISERROR(BN45/AU45),0,(BN45/AU45)*100)","v":0},100,null,"1° TV","A HA 1 año",null,"A HA 1 año","A HA 1 año",{"$f":"G91+H91","v":0},null,5,0,0,0,null,{"$f":"SUM(Y56:AB56)","v":5},{"$f":"IF(ISERROR(Z56/W56),0,(Z56/W56)*100)","v":0},null,100,null,"1° HPV Niños cumplen 11 a en año en curso",25,25,null,null,null,null,null,null,null,6,null,null,3,null,null,0,0,null,null,0,{"$f":"SUM(AV56:BC56)","v":3},null,{"$f":"IF(ISERROR(AY56/AS56),0,(AY56/AS56)*100)","v":0},null,"95% AL 1° SEM",null,"Niños < 2 a Riesgo BP",null,null,null,null,null,null,null,null,{"$f":"IF(ISERROR(AR22/AJ22),0,(AR22/AJ22)*100)","v":0},null,null,null,null,"TAES de TBC",null,null,null,null,null,null,null,null,null,{"$f":"IF(ISERROR(K32/I32),0,(K32/I32)*100)","v":0},null,100]
["Flias Migr. desde AO",null,null,null,null,null,null,{"$f":"IF(ISERROR(AC12/A12),0,(AC12/A12)*100)","v":0},"Casas Tratadas Dengue",null,null,null,null,null,{"$f":"IF(ISERROR(BV45/BR45),0,(BV45/BR45)*100)","v":0},100,null,"2° TV","A HA 1 año",null,"A HA 1 año","A HA 1 año",null,null,4,0,0,0,null,{"$f":"SUM(Y57:AB57)","v":4},{"$f":"IF(ISERROR(Z57/W56),0,(Z57/W56)*100)","v":0},null,null,null,"Emb. con dTpa",null,null,null,null,null,null,null,null,null,6,null,null,4,null,null,0,0,null,null,0,{"$f":"SUM(AV57:BC57)","v":4},null,{"$f":"IF(ISERROR(AY57/AS57),0,(AY57/AS57)*100)","v":0},null,null,null,"Niños < 2 a Riesgo AP",null,null,null,null,null,null,null,null,{"$f":"IF(ISERROR(AT22/AJ22),0,(AT22/AJ22)*100)","v":0},null,null,null,null,"Ptes. con tratamiento por Chagas",null,null,null,null,null,null,null,null,null,{"$f":"S31","v":0}]
["Flias Migr. hacia el AO",null,null,null,null,null,null,{"$f":"IF(ISERROR(AA12/A12),0,(AA12/A12)*100)","v":0},"Superv Int. a la Familia",null,null,null,null,null,{"$f":"IF(ISERROR((CH14*100)/BL14),0,((CH14*100)/BL14))","v":0},20,null,"Unica Dosis A HA",null,null,null,null,null,null,4,0,0,0,null,{"$f":"SUM(Y58:AB58)","v":4},{"$f":"IF(ISERROR(Z58/W56),0,(Z58/W56)*100)","v":0},null,null,null,"Emb. con Vac Sinsicial",null,null,null,null,null,null,null,null,null,null,null,null,4,null,null,0,0,null,null,0,{"$f":"SUM(AV58:BC58)","v":4},null,{"$f":"IF(ISERROR(AY58/AS57),0,(AY58/AS57)*100)","v":0},null,100,null,"Niños < 2 Recup BP",null,null,null,null,null,null,null,null,{"$f":"IF(ISERROR(AV22/K79),0,(AV22/K79)*100)","v":0},null,100,null,null,"Casas positivas Chagas",null,null,null,null,null,null,null,null,null,{"$f":"IF(ISERROR(BE45/BB45),0,(BE45/BB45)*100)","v":0},null,0]
["Flias con planes sociales",null,null,null,null,null,null,{"$f":"IF(ISERROR(AF12/D12),0,(AF12/D12)*100)","v":0},"Superv Prof. Flias Prio (3v)",null,null,null,null,null,{"$f":"IF(ISERROR(CH15/(BB14+BE14)),0,(CH15/(BB14+BE14))*100)","v":0},70,null,"Ref Neumococo 1 año","Ref Neumoc 1 año",null,"Ref Neumoc 1 año","Ref Neumoc 1 año",null,null,4,0,0,0,null,{"$f":"SUM(Y59:AB59)","v":4},{"$f":"IF(ISERROR(Z59/W56),0,(Z59/W56)*100)","v":0},null,null,null,"dT  Vigente > 65 a",null,null,null,null,null,null,null,null,null,5,null,null,0,null,null,0,0,null,null,0,{"$f":"SUM(AV59:BC59)","v":0},null,{"$f":"IF(ISERROR(AY59/AS59),0,(AY59/AS59)*100)","v":0},null,100,null,"Niños < 2 Recup AP",null,null,null,null,null,null,null,null,{"$f":"IF(ISERROR(AY22/K81),0,(AY22/K81)*100)","v":0},null,100,null,null,"Casas Positivas Aedes",null,null,null,null,null,null,null,null,null,{"$f":"IF(ISERROR(BR45/BN45),0,(BR45/BN45)*100)","v":0},null," "]
[null,null,null,null,null,null,null,null,"% Activ Prom.Salud Comunitarias",null,null,null,null,null,{"$f":"IF(ISERROR(CH45/CH43),0,(CH45/CH43)*100)","v":0},100,null,"Ref. Meningococo 1 año","Ref Cuádruple 1 año",null,"Ref Cuádruple 1 año","Ref Cuádruple 1 año",null,null,5,0,0,0,null,{"$f":"SUM(Y60:AB60)","v":5},{"$f":"IF(ISERROR(Z60/W56),0,(Z60/W56)*100)","v":0},null,null,null,"Neumo 20 > 65 años",null,null,null,null,null,null,null,null,null,null,null,null,0,null,null,0,0,null,null,0,{"$f":"SUM(AV60:BC60)","v":0},null,{"$f":"IF(ISERROR(AY60/AS59),0,(AY60/AS59)*100)","v":0},null,null,null,"Niños 2 a 5 Riesgo BP",null,null,null,null,null,null,null,null,{"$f":"IF(ISERROR(AR23/AJ23),0,(AR23/AJ23)*100)","v":0},null,null,null,null,"UROCS 1/SEC",null,null,null,null,null,null,null,null,null,0,null,"1/SEC"]
["Flias. c/Antec Mort Mat Inf",null,null,null,null,null,null,{"$f":"IF(ISERROR(AV10/D12),0,(AV10/D12)*100)","v":0},null,null,null,null,null,null,null,null,null,"Unica Dosis Varicela","Ref SOT 1 año",null,"Ref SOT 1 año","Ref SOT 1 año",null,null,5,0,0,0,null,{"$f":"SUM(Y61:AB61)","v":5},{"$f":"IF(ISERROR(Z61/W56),0,(Z61/W56)*100)","v":0},null,null,null,"Aplic. Cargadas a Nomivac",null,null,null,null,null,null,null,null,null,0,null,null,null,null,null,null,null,null,null,null,null,null,null,null,null,null,null,null,null,null,null,null,null,null,null,null,null,null,null,null,"Flias con Huerta",null,null,null,null,null,null,null,null,null,{"$f":"IF(ISERROR(AL12/D12),0,(AL12/D12)*100)","v":0}]
["F con 3 o más <6 años",null,null,null,null,null,null,{"$f":"IF(ISERROR(BI10/D12),0,(BI10/D12)*100)","v":0}," DE IMPACTO",null,null,null,null,"%",null,"META",null,"4° Dosis o 1° Ref. Pentavalente",null,null,null,null,null,null,4,0,0,0,null,{"$f":"SUM(Y62:AB62)","v":4},{"$f":"IF(ISERROR(Z62/W56),0,(Z62/W56)*100)","v":0},null,null,null,"Total Aplic /AS",null,null,null,null,null,null,null,null,null,0,null,null,null,null,null,null,null,null,null,null,null,null,null,null,null,null,"Niños 2 a 5 Riesgo AP",null,null,null,null,null,null,null,null,{"$f":"IF(ISERROR(AT23/AJ23),0,(AT23/AJ23)*100)","v":0},null,null,null,null,"Flias con Granja",null,null,null,null,null,null,null,null,null,{"$f":"IF(ISERROR(AP12/D12),0,(AP12/D12)*100)","v":0}]
["Flias con Hacinamiento",null,null,null,null,null,null,{"$f":"IF(ISERROR(BL10/D12),0,(BL10/D12)*100)","v":0},"Agua Seg (Trat Red + Viv)",null,null,null,null,{"$f":"IF(ISERROR((AP41+AR41)/D12),0,((AP41+AR41)/D12)*100)","v":0},null,100,null,"2° AG 6m a 24m",null,null,null,null,20,null,0,0,0,0,null,{"$f":"SUM(Y63:AB63)","v":0},{"$f":"IF(ISERROR(Z63/W63),0,(Z63/W63)*100)","v":0},null," ",null,"VAC COVID APLIC EN LA RONDA",null,null,null,null,null,null,null,null,null,0,null,null,null,null,null,null,null,null,null,null,null,null,null,null,null,null,"U) A llenar en 1° Ronda del Año"]
["Flias con Analfabet",null,null,null,null,null,null,{"$f":"IF(ISERROR(BO10/D12),0,(BO10/D12)*100)","v":0},"DSE (Arrastre y letrinas)",null,null,null,null,{"$f":"IF(ISERROR((AV41+AX41+AZ41+BB41+BD41)/D12),0,((AV41+AX41+AZ41+BB41+BD41)/D12)*100)","v":0},null,100,null,"R) PRODUCCION Y RENDIMIENTO",null,null,null,null,null,null,null,null,null,null,null,null,null,null,null,null,null,null,null,null,null,null,null,null,null,null,null,null,null,null,null,null,null,null,null,null,null,null,null,null,null,null,null,"Piso",null,null,null,null,"Techo",null,null,null,null,"Paredes",null,null,null,null,null,null,null,null,null,"Cocina",null,null,null,null,"Tenencia"]
["Flias con Suicidio",null,null,null,null,null,null,{"$f":"IF(ISERROR(BT11/D12),0,(BT11/D12)*100)","v":0},"TSB (Recolección + Pozo)",null,null,null,null,{"$f":"IF(ISERROR((BH41+BK41)/D12),0,((BH41+BK41)/D12)*100)","v":0},null,100,null,"DIAS A TRAB. /RONDA",null,null,"DIAS INCLEM CLIMAT.",null,null,"DIAS Y NROS DE ARTICULOS TOMADOS",null,null,null,"CAPACITACIONES Y OTRAS ACTIVIDADES",null,null,null,null,null,null,null,null,null,null,null,null,null,null,null,null,null,null,null,null,null,null,"DIAS TRABAJADOS\nEN TERRENO",null,null,null,null,"PROM. DIARIO DE FLIAS VISIT.",null,null,null,null,null,"Mosaico/B.",null,null,null,0,"Losa",null,null,0,null,"Ladrillo",null,null,0,null,"Madera",null,null,null,0,"Gas",null,null,0,null,"Segura",null,null,0]
["Flias c /tentativa suicidio",null,null,null,null,null,null,{"$f":"IF(ISERROR(BV11/D12),0,(BV11/D12)*100)","v":0},"Emb Adolescente",null,null,null,null,{"$f":"IF(ISERROR(L20/J20),0,(L20/J20)*100)","v":0},null,null,null,null,null,null,null,null,null,0,null,null,null,0,null,null,null,null,null,null,null,null,null,null,0,null,null,null,null,null,null,null,null,null,null,null,null,null,null,null,null,null,null,null,null,null,null,"Cemento",null,null,null,0,"Chapa\nZinc",null,null,0,null,"Bloque",null,null,0,null,"Quincho",null,null,null,0,"Leña/\nCarb",null,null,0,null,"Inseg.",null,null,0]
["Flias con Alcoholismo",null,null,null,null,null,null,{"$f":"IF(ISERROR(BY11/D12),0,(BY11/D12)*100)","v":0},"Niños <2 Bajo Peso/MBP",null,null,null,null,{"$f":"IF(ISERROR((AL22+AN22)/(AJ22+AP22+AL22+AN22)),0,((AL22+AN22)/(AJ22+AP22+AL22+AN22))*100)","v":0},null,null,null,null,null,null,null,null,null,0,null,null,null,0,null,null,null,null,null,null,null,null,null,null,0,null,null,null,null,null,null,null,null,null,null,null,null,null,null,null,null,null,null,null,null,null,null,"Tierra",null,null,null,0,"Paja/\nBarro",null,null,0,null,"Adobe",null,null,0,null,"Carton/Pl",null,null,null,0,"Otros",null,null,0,null,"Hac",null,null,0,null,null,null,5]
["Flias c/ otras Adicciones",null,null,null,null,null,null,{"$f":"IF(ISERROR(CC11/D12),0,(CC11/D12)*100)","v":0},"Niños <2 a AP",null,null,null,null,{"$f":"IF(ISERROR(AP22/(AJ22+AP22+AL22+AN22)),0,(AP22/(AJ22+AP22+AL22+AN22))*100)","v":0},null,null,null,0,null,null,0,null,null,0,null,null,null,0,null,null,null,null,null,null,null,null,null,null,0,null,null,null,null,null,null,null,null,null,null,null,0,null,null,null,null,{"$f":"IF(ISERROR(G12/AY68),0,(G12/AY68))","v":0},null,null,null,null,null,"Otros",null,null,null,0,"Otros",null,null,0,null,"Piedra",null,null,0,null,"Otro",null,null,null,0,"Helad.",null,null,0]
["Flias con VIF",null,null,null,null,null,null,{"$f":"IF(ISERROR(CF11/D12),0,(CF11/D12)*100)","v":0},"Niños < 2 baja y MBT",null,null,null,null,{"$f":"IF(ISERROR((AZ22+BB22)/(AJ22+AP22+AL22+AN22)),0,((AZ22+BB22)/(AJ22+AP22+AL22+AN22))*100)","v":0},null,null,null,"S) DETALLE DE LAS DEFUNCIONES (Todas las del Sector)",null,null,null,null,null,null,null,null,null,null,null,null,null,null,null,null,null,null,null,null,null,null,null,null,null,null,null,null,null,null,null,null,null,null,null,null,null,null,null,null,null,null,null,"Agua",null,"Corriente a Domic",null,null,"Grifo Terr",null,null,"Grifo Público",null,null,"Bomba",null,null,"Pozo",null,null,null,"Camión Aguatero / Cisterna",null,"Vertiente/Rio/Aceq",null,null,"Laguna",null,null,"Lluvia/Aljibe"]
["Flias con Diabetes",null,null,null,null,null,null,{"$f":"IF(ISERROR(AB31/D12),0,(AB31/D12)*100)","v":0},"Niños 2 a 5 Bajo Peso/MBP",null,null,null,null,{"$f":"IF(ISERROR((AL23+AN23)/(AJ23+AP23+AL23+AN23)),0,((AL23+AN23)/(AJ23+AP23+AL23+AN23))*100)","v":0},null,null,null,"APELLIDO Y NOMBRE",null,null,null,null,null,null,"DOMICILIO",null,null,null,null,null,null,null,null,"NACIMIENTO",null,null,null,null,"DEFUNCION",null,null,null,"PESO\nAL NACER",null,null,null,"CAUSA",null,null,null,null,null,null,null,null,null,"CLASIFICAC."]
["Flias con Hipertensión",null,null,null,null,null,null,{"$f":"IF(ISERROR(AB32/D12),0,(AB32/D12)*100)","v":0},"Niños 2 a 5 AP",null,null,null,null,{"$f":"IF(ISERROR(AP23/(AJ23+AP23+AL23+AN23)),0,(AP23/(AJ23+AP23+AL23+AN23))*100)","v":0}]
[]
["Personas con otras enfermedades crónicas al cuidado de niños",null,null,null,null,null,null,{"$f":"IF(ISERROR(AB33/D12),0,(AB33/D12)*100)","v":0},"Niños 2 a 5 baja y MBT",null,null,null,null,{"$f":"IF(ISERROR((AZ23+BB23)/(AJ23+AP23+AL23+AN23)),0,((AZ23+BB23)/(AJ23+AP23+AL23+AN23))*100)","v":0},null,null,null,null,null,null,null,null,null,null,null,null,null,null,null,null,null,null,null,null,null,null,null,null,null,null,null,null,null,null,null,null,null,null,null,null,null,null,null,null,null,null,null,null,null,null,null,null,null,0,null,null,0,null,null,0,null,null,0,null,null,0,null,null,null,0,null,0,null,null,0,null,null,0]
["Pers c/O Social/Pob total",null,null,null,null,null,null,{"$f":"IF(ISERROR(CI27/CC28),0,(CI27/CC28)*100)","v":0}]
[]
[]
[null,null,null,null,null,null,null,null,null,null,null,null,null,null,null,null,null,null,null,null,null,null,null,null,null,null,null,null,null,null,null,null,null,7]
[]
["BP+MBP Ronda Anterior Men2a: ",null,null,null,null,null,null,null,null,null,4]
["BP+MBP Ronda Anterior 2 a 6a: ",null,null,null,null,null,null,null,null,null,2]
["AP Ronda Anterior Men2a: ",null,null,null,null,null,null,null,null,null,2]
["AP Ronda Anterior 2 a 6a: ",null,null,null,null,null,null,null,null,null,0]
[]
[]
[]
[]
[]
["0 a 5m",null,null,"6 a 11m",null,null,"1 AÑO",null,"2 AÑOS",null,"3 AÑOS",null,"4 AÑOS",null,null,"5 AÑOS",null,null,"6 AÑOS",null,null,"7 A 9 AÑOS",null,null,null,"10 AÑOS",null,"11 AÑOS",null,null,"12 A 14",null,null,null,null,null,"15 A 19",null,null,"20 A 24",null,null,null,"25 A 29",null,null,null,"30 A 34",null,null,null,"35 A 39",null,null,null,"40 A 44",null,null,null,null,"45 A 49",null,null,null,"50 A 54",null,null,null,"55 A 59",null,null,null,"60 A 64",null,null,null,"65 y +",null,null,null,"TOTAL",null,null,null,null,"MUJERES\n10 A 49"]
["M",null,"F","M",null,"F","M","F","M","F","M","F","M",null,"F","M",null,"F","M",null,"F","M",null,"F",null,"M","F","M",null,"F","M",null,null,"F",null,null,"M","F",null,"M",null,"F",null,"M",null,null,"F","M",null,null,"F","M",null,"F",null,"M",null,null,"F",null,"M",null,"F",null,"M",null,"F",null,"M",null,"F",null,"M",null,"F",null,"M",null,null,"F","M",null,"F"]
[0,null,0,0,null,0,0,0,0,0,0,0,0,null,0,0,null,0,0,null,0,0,null,0,null,0,0,0,null,0,0,null,null,0,null,null,0,0,null,0,null,0,null,0,null,null,0,0,null,null,0,0,null,0,null,0,null,null,0,null,0,null,0,null,0,null,0,null,0,null,0,null,0,null,0,null,0,null,null,0,{"$f":"SUM(A90,D90,G90,I90,K90,M90,P90,S90,V90,Z90,AB90,AE90,AK90,AN90,AR90,AV90,AZ90,BD90,BI90,BM90,BQ90,BU90,BY90)","v":0},null,{"$f":"SUM(C90,F90,H90,J90,L90,O90,R90,U90,X90,AA90,AD90,AH90,AL90,AP90,AU90,AY90,BB90,BG90,BK90,BO90,BS90,BW90,CB90)","v":0},null,null,{"$f":"SUM(AA90,AD90,AH90,AL90,AP90,AU90,AY90,BB90,BG90,BK90)","v":0}]
[{"$f":"SUM(A90:C90)","v":0},null,null,{"$f":"SUM(D90,F90)","v":0},null,null,{"$f":"SUM(G90,H90)","v":0},null,{"$f":"SUM(I90,J90)","v":0},null,{"$f":"SUM(K90,L90)","v":0},null,{"$f":"SUM(M90,O90)","v":0},null,null,{"$f":"SUM(P90,R90)","v":0},null,null,{"$f":"SUM(S90,U90)","v":0},null,null,{"$f":"SUM(V90,X90)","v":0},null,null,null,{"$f":"SUM(Z90,AA90)","v":0},null,{"$f":"SUM(AB90,AD90)","v":0},null,null,{"$f":"SUM(AE90,AH90)","v":0},null,null,null,null,null,{"$f":"SUM(AK90,AL90)","v":0},null,null,{"$f":"SUM(AN90,AP90)","v":0},null,null,null,{"$f":"SUM(AR90,AU90)","v":0},null,null,null,{"$f":"SUM(AV90,AY90)","v":0},null,null,null,{"$f":"SUM(AZ90,BB90)","v":0},null,null,null,{"$f":"SUM(BD90,BG90)","v":0},null,null,null,null,{"$f":"SUM(BI90,BK90)","v":0},null,null,null,{"$f":"SUM(BM90,BO90)","v":0},null,null,null,{"$f":"SUM(BQ90,BS90)","v":0},null,null,null,{"$f":"SUM(BU90,BW90)","v":0},null,null,null,{"$f":"SUM(BY90,CB90)","v":0},null,null,null,{"$f":"A91+D91+G91+I91+K91+M91+P91+S91+V91+Z91+AB91+AE91+AK91+AN91+AR91+AV91+AZ91+BD91+BI91+BM91+BQ91+BU91+BY91","v":0}]
["Mejor Población: 1° - 2019",null,null,null,null,null,null,null,null,null,null,null,null,null,null,null,null,null,null,null,null,null,null,null,null,null,null,null,null,null,null,null,null,null,null,null,null,null,null,null,null,null,null,null,null,null,null,null,null,null,null,null,null,null,null,null,null,null,null,null,null,null,null,null,null,null,null,null,null,null,null,null,null,null,null,null,null,null,null,null,{"$f":"SUM(CC91,CE91)","v":0}]
["Cobertura: 1%"]

{"sheet":"1 DE MAYO","index":26,"n_rows":93,"n_cols":94,"rows_kept":93,"cut":false,"hidden":false,"merged":[[61,30,61,31],[62,30,62,31],[0,86,0,87],[1,8,1,9],[1,15,1,25],[1,46,1,53],[1,56,1,57],[1,58,1,59],[1,60,1,61],[1,67,1,84],[1,86,1,87],[0,27,3,45],[0,46,0,52],[0,56,0,57],[0,58,0,59],[0,60,0,61],[0,81,0,84],[2,46,2,53],[2,56,2,57],[2,58,2,59],[2,60,2,61],[6,0,6,89],[7,0,7,46],[7,47,7,89],[8,0,10,2],[8,3,10,5],[8,6,10,7],[8,8,8,16],[8,17,10,18],[8,19,10,20],[8,21,10,23],[4,80,4,87],[5,8,5,24],[5,33,5,46],[5,57,5,67],[5,75,5,77],[5,82,5,87],[2,67,2,79],[2,86,2,87],[3,8,3,23],[3,46,3,53],[3,56,3,57],[3,58,3,59],[3,60,3,61],[3,74,3,79],[3,84,3,87],[8,86,8,89],[9,8,10,9],[9,10,10,11],[9,12,10,13],[9,14,10,16],[9,26,10,27],[9,28,10,30],[8,66,8,68],[8,69,8,72],[8,73,8,75],[8,76,8,79],[8,80,8,82],[8,83,8,85],[8,51,8,53],[8,54,8,55],[8,56,8,57],[8,58,8,59],[8,60,8,62],[8,63,8,65],[8,24,10,25],[8,26,8,30],[8,31,10,36],[8,37,8,46],[8,47,8,48],[8,49,8,50],[9,49,10,50],[11,0,14,2],[11,3,14,5],[11,6,14,7],[11,8,14,9],[11,10,14,11],[11,12,14,13],[9,86,9,89],[10,69,10,72],[10,73,10,74],[10,76,10,78],[10,81,10,82],[10,83,10,84],[10,86,10,89],[9,66,10,68],[9,69,9,72],[9,73,9,74],[9,76,9,78],[9,81,9,82],[9,83,9,84],[9,51,10,53],[9,54,10,55],[9,56,10,57],[9,58,10,59],[9,60,10,62],[9,63,10,65],[13,75,13,78],[13,79,13,80],[13,81,13,84],[9,37,10,40],[9,41,10,46],[9,47,10,48],[12,85,12,89],[13,47,13,52],[13,63,13,68],[13,69,13,74],[12,47,12,52],[12,63,12,68],[12,53,12,55],[12,56,12,59],[12,60,12,62],[13,53,13,55],[13,56,13,59],[13,60,13,62],[14,53,14,55],[14,56,14,59],[14,60,14,62],[11,19,14,20],[11,21,14,23],[11,24,14,25],[11,26,14,27],[16,0,18,2],[16,6,18,6],[16,7,18,7],[16,8,18,8],[16,9,18,9],[16,10,18,10],[16,11,18,11],[16,12,18,13],[14,79,14,80],[14,81,14,84],[14,85,14,89],[15,12,15,19],[15,20,15,28],[15,29,15,65],[15,66,15,75],[11,28,14,30],[11,31,14,36],[11,37,14,40],[11,41,14,46],[11,47,11,68],[11,69,11,89],[11,14,14,16],[11,17,14,18],[13,85,13,89],[14,47,14,52],[14,63,14,68],[14,69,14,74],[14,75,14,78],[12,69,12,74],[12,75,12,78],[12,79,12,80],[12,81,12,84],[19,0,20,2],[19,12,19,13],[19,14,19,15],[19,18,19,19],[19,20,19,21],[19,23,19,24],[19,25,19,26],[19,27,19,28],[17,41,20,42],[17,43,18,46],[17,47,18,50],[17,51,18,55],[17,56,20,57],[17,58,18,62],[19,43,20,44],[19,45,20,46],[19,47,20,49],[19,50,20,50],[17,16,18,16],[17,17,18,17],[17,22,18,22],[17,23,18,24],[17,25,18,26],[17,27,18,28],[17,29,20,31],[16,14,18,15],[16,16,16,17],[16,18,18,19],[16,20,18,21],[16,22,16,28],[16,29,16,65],[17,32,20,34],[21,12,21,15],[21,16,21,19],[21,29,21,31],[21,32,21,34],[20,12,20,19],[20,20,21,23],[20,24,21,28],[21,35,21,36],[21,37,21,38],[21,39,21,40],[21,41,21,42],[19,68,20,69],[19,70,20,71],[19,72,20,73],[19,74,20,75],[19,76,20,79],[19,51,20,52],[19,53,20,54],[19,55,20,55],[19,58,20,60],[19,61,20,62],[19,66,20,67],[17,63,20,65],[16,66,18,67],[16,68,18,69],[16,70,18,71],[16,72,18,73],[16,74,18,75],[16,76,18,79],[17,35,20,36],[17,37,20,38],[17,39,20,40],[22,16,22,19],[22,20,22,23],[22,24,22,28],[22,29,22,31],[22,32,22,34],[22,35,22,36],[21,58,21,60],[21,61,21,62],[21,63,21,65],[21,66,22,73],[21,74,22,75],[21,76,21,79],[22,76,22,79],[21,43,21,44],[21,45,21,46],[21,47,21,49],[21,51,21,52],[21,53,21,54],[21,56,21,57],[23,0,23,89],[24,0,24,2],[24,3,24,5],[24,6,24,7],[24,8,24,9],[24,10,24,11],[24,12,24,14],[24,15,24,17],[24,18,24,20],[22,51,22,52],[22,53,22,54],[22,56,22,57],[22,58,22,60],[22,61,22,62],[22,63,22,65],[22,37,22,38],[22,39,22,40],[22,41,22,42],[22,43,22,44],[22,45,22,46],[22,47,22,49],[21,0,22,2],[24,88,25,89],[25,0,25,1],[25,3,25,4],[25,12,25,13],[25,15,25,16],[25,18,25,19],[25,21,25,22],[25,23,25,24],[25,27,25,28],[22,12,22,15],[24,68,24,71],[24,72,24,75],[24,76,24,79],[24,80,24,84],[24,85,25,85],[24,86,25,87],[25,76,25,78],[25,80,25,81],[25,82,25,84],[24,43,24,46],[24,47,24,50],[24,51,24,54],[24,55,24,59],[24,60,24,63],[24,64,24,67],[24,21,24,24],[24,25,24,26],[24,27,24,29],[24,30,24,35],[24,36,24,38],[24,39,24,42],[26,37,26,38],[26,39,26,40],[26,0,26,1],[26,3,26,4],[26,12,26,13],[26,15,26,16],[26,18,26,19],[26,21,26,22],[25,64,25,65],[25,66,25,67],[25,68,25,69],[25,70,25,71],[25,72,25,73],[25,74,25,75],[25,51,25,52],[25,53,25,54],[25,55,25,57],[25,58,25,59],[25,60,25,61],[25,62,25,63],[25,33,25,35],[25,37,25,38],[25,39,25,40],[25,41,25,42],[25,43,25,45],[25,47,25,49],[25,30,25,32],[26,85,27,85],[26,86,27,87],[26,88,27,89],[27,0,27,2],[27,3,27,5],[27,6,27,7],[27,8,27,9],[27,10,27,11],[27,12,27,14],[27,15,27,17],[26,70,26,71],[26,72,26,73],[26,74,26,75],[26,76,26,78],[26,80,26,81],[26,82,26,84],[26,58,26,59],[26,60,26,61],[26,62,26,63],[26,64,26,65],[26,66,26,67],[26,68,26,69],[26,41,26,42],[26,43,26,45],[26,47,26,49],[26,51,26,52],[26,53,26,54],[26,55,26,57],[26,23,26,24],[26,27,26,28],[26,30,26,32],[26,33,26,35],[27,64,27,67],[27,68,27,71],[27,72,27,75],[27,76,27,79],[27,80,27,84],[28,0,28,14],[28,15,28,20],[28,21,28,32],[27,39,27,42],[27,43,27,46],[27,47,27,50],[27,51,27,54],[27,55,27,59],[27,60,27,63],[27,18,27,20],[27,21,27,24],[27,25,27,26],[27,27,27,29],[27,30,27,35],[27,36,27,38],[30,21,30,26],[30,27,30,29],[30,30,30,32],[31,0,31,2],[31,3,31,4],[31,8,31,9],[31,10,31,11],[31,12,32,14],[31,15,32,17],[31,18,32,20],[29,30,29,32],[29,33,35,89],[30,0,30,2],[30,3,30,5],[30,6,30,7],[30,8,30,9],[30,10,30,11],[30,12,30,14],[30,15,30,17],[30,18,30,20],[29,0,29,2],[29,3,29,7],[29,8,29,14],[29,15,29,20],[29,21,29,26],[29,27,29,29],[33,0,33,2],[33,3,33,7],[33,8,33,11],[33,12,33,14],[33,15,35,17],[33,18,35,20],[34,0,35,2],[34,3,34,5],[34,6,34,7],[34,8,34,9],[31,21,31,26],[31,27,31,29],[31,30,31,32],[32,0,32,2],[32,3,32,4],[32,8,32,9],[32,10,32,11],[32,21,33,26],[32,27,33,29],[32,30,33,32],[38,4,39,7],[38,8,39,11],[38,12,38,19],[38,20,39,21],[38,22,39,23],[36,0,37,40],[36,41,36,68],[36,69,36,89],[37,41,37,46],[37,47,37,58],[37,59,37,68],[37,69,37,79],[37,80,39,81],[37,82,39,85],[37,86,39,89],[34,10,34,11],[34,12,35,14],[34,21,35,26],[34,27,35,32],[35,3,35,5],[35,6,35,7],[35,8,35,9],[35,10,35,11],[40,0,41,1],[40,2,41,3],[40,4,41,5],[40,6,41,7],[40,8,41,9],[40,10,41,11],[38,66,39,68],[38,69,39,71],[38,72,39,75],[38,76,39,79],[39,12,39,13],[39,14,39,15],[39,16,39,17],[39,18,39,19],[39,47,39,48],[39,49,39,50],[38,46,39,46],[38,47,38,52],[38,53,38,56],[38,57,39,58],[38,59,39,61],[38,62,39,65],[39,51,39,52],[39,53,39,54],[39,55,39,56],[38,24,39,27],[38,28,39,31],[38,32,39,35],[38,36,39,40],[38,41,39,42],[38,43,39,45],[38,0,39,3],[40,41,40,42],[40,43,40,45],[40,47,40,48],[40,49,40,50],[40,24,41,25],[40,26,41,27],[40,28,41,29],[40,30,41,31],[40,32,41,33],[40,34,41,35],[40,18,41,18],[40,19,41,19],[40,20,41,20],[40,21,41,21],[40,22,41,22],[40,23,41,23],[40,12,41,12],[40,13,41,13],[40,14,41,14],[40,15,41,15],[40,16,41,16],[40,17,41,17],[42,21,44,21],[42,22,44,22],[42,10,44,11],[42,12,44,12],[42,13,44,13],[42,14,44,14],[42,15,44,15],[42,16,44,16],[40,86,40,89],[41,41,41,52],[41,53,41,64],[41,65,41,76],[41,77,41,89],[42,0,44,1],[42,2,44,3],[42,4,44,5],[42,6,44,7],[42,8,44,9],[40,66,40,68],[40,69,40,71],[40,72,40,75],[40,76,40,79],[40,80,40,81],[40,82,40,85],[40,51,40,52],[40,53,40,54],[40,55,40,56],[40,57,40,58],[40,59,40,61],[40,62,40,65],[40,36,41,38],[40,39,41,40],[42,73,43,76],[42,77,43,84],[42,85,43,89],[44,41,44,45],[44,46,44,48],[44,49,44,50],[44,51,44,52],[44,53,44,55],[44,56,44,60],[44,61,44,64],[42,51,43,52],[42,53,43,55],[42,56,43,60],[42,61,43,64],[42,65,43,68],[42,69,43,72],[42,34,44,35],[42,36,44,38],[42,39,44,40],[42,41,43,45],[42,46,43,48],[42,49,43,50],[46,70,46,71],[46,72,46,74],[46,75,46,84],[46,85,46,86],[46,87,46,89],[47,0,47,5],[47,8,47,13],[47,15,47,16],[47,17,47,21],[47,22,47,23],[46,0,46,5],[46,8,46,13],[46,15,46,16],[46,17,46,33],[46,34,46,60],[46,61,46,69],[44,65,44,68],[44,69,44,72],[44,73,44,76],[44,77,44,84],[44,85,44,89],[45,0,45,89],[42,23,44,23],[42,24,44,25],[42,26,44,27],[42,28,44,29],[42,30,44,31],[42,32,44,33],[42,17,44,17],[42,18,44,18],[42,19,44,19],[42,20,44,20],[47,72,47,74],[47,75,47,84],[47,85,47,86],[47,87,47,89],[48,0,48,5],[48,8,48,13],[48,15,48,16],[48,17,48,21],[48,22,49,23],[48,27,48,28],[47,51,47,53],[47,55,47,56],[47,57,47,58],[47,59,47,60],[47,61,47,69],[47,70,47,71],[47,27,47,28],[47,30,47,31],[47,32,47,33],[47,34,47,43],[47,44,47,46],[47,47,47,49],[49,75,50,84],[49,85,50,86],[49,87,50,89],[50,0,50,6],[50,8,50,13],[50,15,50,16],[50,17,50,21],[50,22,54,23],[50,27,50,28],[48,75,48,84],[48,85,48,86],[48,87,48,89],[49,0,49,5],[49,8,49,13],[49,15,49,16],[49,17,49,21],[49,27,49,28],[49,30,49,31],[49,34,49,43],[48,55,48,56],[48,57,48,58],[48,59,50,60],[48,61,48,69],[48,70,48,71],[48,72,48,74],[49,55,49,56],[49,57,49,58],[49,61,49,69],[49,70,49,71],[48,30,48,31],[48,32,49,33],[48,34,48,43],[50,70,50,71],[50,72,50,74],[51,0,51,6],[51,8,51,13],[51,15,51,16],[51,17,51,21],[51,27,51,28],[51,30,51,31],[51,34,51,43],[51,47,51,49],[50,34,50,43],[50,47,50,49],[50,51,50,53],[50,55,50,56],[50,57,50,58],[50,61,50,69],[49,72,49,74],[48,44,51,46],[48,47,48,49],[48,51,48,53],[49,47,49,49],[49,51,49,53],[50,30,50,31],[50,32,54,33],[51,72,51,74],[53,0,53,6],[53,8,53,13],[53,15,53,16],[53,17,53,21],[53,27,53,28],[53,30,53,31],[51,75,51,84],[51,85,51,86],[51,87,51,89],[52,0,52,6],[52,8,52,13],[52,15,52,16],[52,17,52,21],[52,27,52,28],[52,30,52,31],[51,51,51,53],[51,55,51,56],[51,57,51,58],[51,59,52,60],[51,61,51,69],[51,70,51,71],[52,61,52,69],[52,70,52,71],[52,72,52,74],[52,75,52,84],[52,85,52,86],[52,87,52,89],[52,34,52,43],[52,44,53,46],[52,47,52,49],[52,51,52,53],[52,55,52,56],[52,57,52,58],[53,34,53,43],[53,47,53,49],[53,51,53,53],[53,55,53,56],[53,85,53,86],[53,87,53,89],[54,0,54,6],[54,8,54,13],[54,15,54,16],[54,17,54,21],[54,27,54,28],[54,30,54,31],[54,34,54,43],[54,44,54,46],[53,57,53,58],[53,59,54,60],[53,61,53,69],[53,70,53,71],[53,72,53,74],[53,75,53,84],[54,72,54,74],[54,75,54,84],[54,85,54,86],[54,87,54,89],[55,0,55,6],[55,8,55,13],[55,15,55,16],[55,17,55,21],[55,27,55,28],[55,30,55,31],[55,32,60,33],[54,47,54,49],[54,51,54,53],[54,55,54,56],[54,57,54,58],[54,61,54,69],[54,70,54,71],[56,87,56,89],[57,0,57,6],[57,8,57,13],[57,15,57,16],[57,17,57,21],[57,27,57,28],[57,30,57,31],[57,34,57,43],[56,51,56,53],[56,55,56,56],[56,57,56,58],[56,61,56,69],[56,70,56,71],[56,72,56,74],[55,87,55,89],[56,0,56,6],[56,8,56,13],[56,15,56,16],[58,61,58,69],[58,70,58,71],[58,72,58,74],[56,17,56,21],[56,27,56,28],[56,30,56,31],[56,34,56,43],[56,44,57,46],[56,47,56,49],[55,59,56,60],[55,61,55,69],[55,70,55,71],[55,72,55,74],[55,75,55,84],[55,85,55,86],[56,75,56,84],[56,85,56,86],[55,34,55,43],[55,44,55,46],[55,47,55,49],[55,51,55,53],[55,55,55,56],[55,57,55,58],[57,75,57,84],[57,85,57,86],[61,72,61,74],[61,75,61,84],[61,85,61,86],[57,87,57,89],[58,0,59,6],[58,7,59,7],[58,8,58,13],[58,15,58,16],[58,17,58,21],[58,27,58,28],[58,30,58,31],[57,55,57,56],[57,57,57,58],[57,59,57,60],[57,61,57,69],[57,70,57,71],[57,72,57,74],[59,85,59,86],[59,87,59,89],[57,47,57,49],[57,51,57,53],[58,87,58,89],[59,8,60,13],[59,14,60,14],[59,15,60,16],[59,17,59,21],[59,27,59,28],[59,30,59,31],[59,34,59,43],[59,47,59,49],[59,51,59,53],[58,59,59,60],[64,84,64,85],[61,87,61,89],[61,32,61,33],[61,34,61,43],[61,44,61,60],[62,44,62,60],[60,87,60,89],[61,0,61,6],[61,8,61,12],[61,13,61,14],[61,15,61,16],[60,0,60,6],[60,17,60,21],[60,27,60,28],[60,30,60,31],[60,34,60,43],[60,44,60,60],[60,75,60,84],[60,85,60,86],[62,61,62,89],[59,61,60,69],[59,70,60,71],[59,72,60,74],[59,75,59,84],[58,44,59,46],[58,47,58,49],[58,51,58,53],[58,55,58,56],[58,57,58,58],[59,55,59,56],[63,86,63,89],[64,0,64,6],[64,8,64,12],[64,13,64,14],[64,15,64,16],[64,17,66,19],[64,20,66,22],[64,23,64,26],[64,27,64,49],[64,50,66,54],[65,0,65,6],[65,8,65,12],[65,13,65,14],[66,86,67,88],[66,89,67,89],[67,0,67,6],[67,8,67,12],[67,13,67,14],[67,15,67,16],[67,17,67,19],[66,38,66,49],[66,61,66,64],[66,66,66,68],[63,0,63,6],[63,8,63,12],[63,13,63,14],[63,15,63,16],[63,17,63,60],[63,61,63,65],[63,66,63,70],[63,71,63,80],[63,81,63,85],[66,69,66,70],[66,71,66,73],[66,74,66,75],[65,76,65,79],[65,81,65,83],[65,84,65,85],[65,86,65,88],[66,0,66,6],[66,8,66,12],[66,13,66,14],[66,15,66,16],[66,23,66,26],[66,27,66,37],[65,15,65,16],[65,23,65,26],[65,27,65,37],[65,38,65,49],[64,55,66,60],[64,61,64,64],[64,66,64,68],[64,69,64,70],[64,74,64,75],[64,86,64,88],[64,76,64,79],[65,61,65,64],[65,66,65,68],[65,69,65,70],[65,74,65,75],[66,76,66,79],[66,81,66,83],[66,84,66,85],[64,81,64,83],[68,84,71,86],[67,81,67,83],[67,84,67,85],[68,0,68,6],[68,8,68,12],[68,13,68,14],[68,15,68,16],[68,17,68,60],[68,61,73,62],[68,63,71,65],[68,66,71,68],[67,61,67,64],[67,66,67,68],[67,69,67,70],[67,71,67,73],[67,74,67,75],[67,76,67,79],[67,20,67,22],[67,23,67,26],[67,27,67,37],[67,38,67,49],[67,50,67,54],[67,55,67,60],[70,38,70,41],[70,42,70,45],[70,46,70,55],[70,56,70,60],[71,17,71,23],[71,24,71,32],[71,33,71,37],[71,38,71,41],[71,42,71,45],[71,46,71,55],[69,46,69,55],[69,56,69,60],[70,0,71,6],[70,7,71,7],[70,8,71,12],[70,13,71,14],[70,15,71,16],[70,17,70,23],[70,24,70,32],[70,33,70,37],[69,0,69,6],[69,8,69,12],[69,13,69,14],[69,15,69,16],[69,17,69,23],[69,24,69,32],[69,33,69,37],[69,38,69,41],[69,42,69,45],[72,75,73,78],[72,79,73,80],[72,81,73,83],[72,84,73,86],[72,87,73,89],[73,0,73,6],[73,17,73,23],[73,24,73,32],[73,33,73,37],[73,38,73,41],[72,46,72,55],[72,56,72,60],[72,63,73,65],[72,66,73,68],[72,69,73,71],[72,72,73,74],[71,56,71,60],[72,0,72,6],[72,8,73,12],[72,13,73,14],[72,15,73,16],[72,17,72,23],[72,24,72,32],[72,33,72,37],[72,38,72,41],[72,42,72,45],[68,87,71,89],[68,69,71,71],[68,72,71,74],[68,75,71,78],[68,79,71,80],[68,81,71,83],[75,17,75,23],[75,24,75,32],[75,38,75,41],[75,42,75,45],[75,46,75,55],[87,0,87,2],[87,3,87,5],[87,6,87,7],[87,8,87,9],[87,10,87,11],[73,42,73,45],[73,46,73,55],[73,56,73,60],[74,17,74,23],[74,24,74,32],[74,38,74,41],[74,42,74,45],[74,46,74,55],[87,80,87,84],[87,85,88,85]],"merged_total":1135,"flags":["merged_cut"]}
[null,null,null,null,null,null,null,null,null,null,null,null,null,null,null,null,null,null,null,null,null,null,null,null,null,null,null,"DIRECCION - PROGRAMA  APS \nSUBSECRETARIA DE MEDICINA SOCIAL\nRONDA N°: 192   AÑO: 2025",null,null,null,null,null,null,null,null,null,null,null,null,null,null,null,null,null,null,null,null,null,null,null,null,null,null,"1r","2r","3r",null,"4r",null,"T",null,null,null,null,null,null,null,null,null,null,null,null,null,null,null,null,null,null,null,"Informe y orden de Ronda: ",6,null,null,null,null,2]
[null,null,null,null,null,null,null,"Area Operativa N°: ",4,null,null,null,null,null,"Nombre: ","MORILLO",null,null,null,null,null,null,null,null,null,null,null,null,null,null,null,null,null,null,null,null,null,null,null,null,null,null,null,null,null,null,"Mort. Mater. Acum. Año",null,null,null,null,null,null,null,0,{"$f":"CE41","v":0},0,null,{"$f":"CE41","v":0},null,{"$f":"SUM(BC2:BG2)","v":0},null,null,null,null,"Sector:",null,"1 DE MAYO",null,null,null,null,null,null,null,null,null,null,null,null,null,null,null,null,null,"N°",18]
[null,null,null,null,null,null,null,null,null,null,null,null,null,null,null,null,null,null,null,null,null,null,null,null,null,null,null,null,null,null,null,null,null,null,null,null,null,null,null,null,null,null,null,null,null,null,"Mort. 0-1 año Acum Año",null,null,null,null,null,null,null,0,{"$f":"BR41+BU41+BY41","v":0},0,null,{"$f":"BR41+BU41+BY41","v":0},null,{"$f":"SUM(BC3:BG3)","v":0},null,null,null,null,null,"Etnia: ","CRIOLLO Y WICHI ",null,null,null,null,null,null,null,null,null,null,null,null,null,null,null,null,null,"Sector Riesgo:"]
[null,null,null,null,null,null,null,"Establec. Base: ","HOSPITAL MORILLO",null,null,null,null,null,null,null,null,null,null,null,null,null,null,null,null,null,null,null,null,null,null,null,null,null,null,null,null,null,null,null,null,null,null,null,null,null,"Mort. 1-4 años Acum Año",null,null,null,null,null,null,null,0,{"$f":"CC41","v":0},0,null,{"$f":"CC41","v":0},null,{"$f":"SUM(BC4:BG4)","v":0},null,null,null,null,null,null,null,null,null,null,null,null,"Desde: ","07/03/2025",null,null,null,null,null,null,null,null,"Hasta: ","05/06/2026"]
[null,null,null,null,null,null,null,null,null,null,null,null,null,null,null,null,null,null,null,null,null,null,null,null,null,null,null,null,null,null,null,null,null,null,null,null,null,null,null,null,null,null,null,null,null,null,null,null,null,null,null,null,null,null,null,null,null,null,null,null,null,null,null,null,null,null,null,null,null,null,null,null,null,null,null,null,null,null,null,"Cobertura: ","CUBIERTO"]
[null,null,null,null,null,null,null,"Sup. Intermedio: ","MIGUEL CORREA",null,null,null,null,null,null,null,null,null,null,null,null,null,null,null,null,null,null,null,null,null,null,null,"Responsable A.P.S.: ","Dr. Abel Ibarra",null,null,null,null,null,null,null,null,null,null,null,null,null,null,null,null,null,null,null,null,null,null,"Agente Sanitario: ","HUMBERTO GUERRA",null,null,null,null,null,null,null,null,null,null,null,null,null,null,null,null,"Sit. Revista: ","PLANTA PERMANENTE",null,null,null,null,null,"Reg. Horario: ","30 HS."]
[]
["A) FAMILIAS VISITADAS EN LA RONDA",null,null,null,null,null,null,null,null,null,null,null,null,null,null,null,null,null,null,null,null,null,null,null,null,null,null,null,null,null,null,null,null,null,null,null,null,null,null,null,null,null,null,null,null,null,null,"B) FACTORES DE PRIORIZACION DE VISITAS"]
["ASIGNADAS",null,null,"VISITADAS",null,null,"TOTAL\nVISITAS",null,"NO VISITADAS",null,null,null,null,null,null,null,null,"FLIAS ORIG.",null,"FLIAS. URB.",null,"FLIAS. PERIURB",null,null,"FLIAS. RURALES",null,"GOLON\nMIGRANTES",null,null,null,null,"FLIAS. CON PL. SOCIALES",null,null,null,null,null,"PRODUCCION\nFAMILIAR",null,null,null,null,null,null,null,null,null,1,null,2,null,3,null,null,4,null,5,null,6,null,7,null,null,8,null,null,9,null,null,10,null,null,null,11,null,null,12,null,null,null,13,null,null,14,null,null,15]
[null,null,null,null,null,null,null,null,"RECHAZO TOTAL",null,"AUSEN\n-TE",null,"NO VISITADAS",null,"TOT NO VISIT.",null,null,null,null,null,null,null,null,null,null,null,"HACIA\nEL AO",null,"DESDE\nEL AO",null,null,null,null,null,null,null,null,"HUERTA",null,null,null,"GRANJA",null,null,null,null,null,0,null,0,null,0,null,null,0,null,0,null,0,null,0,null,null,0,null,null,0,null,null,"Total",null,null,null,"Tot",null,"Trat","Tot.",null,null,"Trat.","Tot.","Trat.",null,"Tot.",null,"Trat","Total"]
[null,null,null,null,null,null,null,null,null,null,0,null,null,null,null,null,null,null,null,null,null,null,null,null,null,null,null,null,null,null,null,null,null,null,null,null,null,null,null,null,null,null,null,null,null,null,null,null,null,null,null,null,null,null,null,null,null,null,null,null,null,null,null,null,null,null,null,null,null,0,null,null,null,0,null,0,0,null,null,0,0,0,null,0,null,0,0]
[0,null,null,0,null,null,0,null,0,null,0,null,0,null,{"$f":"M12+K12+I12","v":0},null,null,0,null,0,null,0,null,null,0,null,0,null,0,null,null,0,null,null,null,null,null,0,null,null,null,0,null,null,null,null,null,"C) VISITAS A FLIAS. PRIORIZADAS",null,null,null,null,null,null,null,null,null,null,null,null,null,null,null,null,null,null,null,null,null,"D) SUPERV. A FLIAS. "]
[null,null,null,null,null,null,null,null,null,null,null,null,null,null,null,null,null,null,null,null,null,null,null,null,null,null,null,null,null,null,null,null,null,null,null,null,null,null,null,null,null,null,null,null,null,null,null,"PRIORIDAD",null,null,null,null,null,1,null,null,2,null,null,null,3,null,null,"Total",null,null,null,null,null,"PRIORIDAD",null,null,null,null,null,3,null,null,null,2,null,1,null,null,null,"TOTAL"]
[null,null,null,null,null,null,null,null,null,null,null,null,null,null,null,null,null,null,null,null,null,null,null,null,null,null,null,null,null,null,null,null,null,null,null,null,null,null,null,null,null,null,null,null,null,null,null,"N° FAMILIAS",null,null,null,null,null,0,null,null,0,null,null,null,0,null,null,{"$f":"SUM(BB14:BI14)","v":0},null,null,null,null,null,"INTERMEDIA",null,null,null,null,null,0,null,null,null,0,null,0,null,null,null,{"$f":"SUM(BX14:CD14)","v":0}]
[null,null,null,null,null,null,null,null,null,null,null,null,null,null,null,null,null,null,null,null,null,null,null,null,null,null,null,null,null,null,null,null,null,null,null,null,null,null,null,null,null,null,null,null,null,null,null,"VISITAS",null,null,null,null,null,0,null,null,0,null,null,null,0,null,null,{"$f":"SUM(BB15:BI15)","v":0},null,null,null,null,null,"PROFESIONAL",null,null,null,null,null,0,null,null,null,0,null,0,null,null,null,{"$f":"SUM(BX15:CB15)","v":0}]
["E) EDAD FERTIL",null,null,null,null,"F) EMBARAZADAS",null,null,null,null,null,null,"G) PARTOS",null,null,null,null,null,null,null,"H) R.N. EN LA RONDA",null,null,null,null,null,null,null,null,"I) EVALUACION ANTROPOMETRICA",null,null,null,null,null,null,null,null,null,null,null,null,null,null,null,null,null,null,null,null,null,null,null,null,null,null,null,null,null,null,null,null,null,null,null,null,"NIÑ MBP/BP/RBP CTRL. INT.",null,null,null,null,null,null,null,null,null,"LACT. MATERNA"]
["PAP",null,null,0,null,"CAPT. 1er TRIMESTRE","ESP EN EL AÑO","ACUMULADAS","NUEVAS\nRONDA","TOTAL","DE RIESGO","<19 Años","TOTAL",null,"HOSPITALARIOS",null,"DOMIC.",null,"N° PUERPERAS",null,"NACIDOS VIVOS",null,"P AL NACER",null,null,null,null,null,null,"NIÑOS CONTROLADOS",null,null,null,null,null,null,null,null,null,null,null,null,null,null,null,null,null,null,null,null,null,null,null,null,null,null,null,null,null,null,null,null,null,null,null,null,"MELAN",null,"MED",null,"ENF.",null,"LAB",null,"NUTR",null,"< 6 M EN LA RONDA",null,null,null,{"$f":"CC20+CC22+CC23","v":0}]
[null,null,null,null,null,null,null,null,null,null,null,null,null,null,null,null,"DOM","ASIS",null,null,null,null,"ALTO PESO","ADEC",null,"BAJO PESO",null,"MB\nPESO",null,"EDAD",null,null,"A CONTROLAR",null,null,"ADECUADO",null,"BP\nBAJO PESO",null,"MBP\nMUY B. PESO",null,"ALTO PESO",null,"RIESGO",null,null,null,"RECUPERADOS",null,null,null,"TALLA / EDAD",null,null,null,null,"NUEVOS\nEPISODIOS",null,"PERDIDOS",null,null,null,null,"FALLECIDOS\nC/ANTEC. ANTROPOM."]
[]
["Antic.",null,null,0,null,0,{"$f":"IF(ISERROR(((CC92*1.8)/100)),0,(((CC92*1.8)/100)))","v":8.8559999999999999},0,0,{"$f":"SUM(F23:L23)","v":0},0,0,{"$f":"O20+Q20+R20","v":0},null,0,null,0,0,0,null,{"$f":"W20+X20+Z20+AB20","v":0},null,0,0,null,0,null,0,null,null,null,null,null,null,null,null,null,null,null,null,null,null,null,"BP",null,"AP",null,"BP",null,null,"AP","BT",null,"MBT",null,"RGO\nBT",null,null,"BP\nMBP",null,null,"A.P.",null,null,null,null,0,null,0,null,0,null,0,null,0,null,"EXCLUSIVO",null,null,null,0]
[null,null,null,null,null,"CONTROLES",null,null,null,null,null,null," ",null,null,null,null,null,null,null,"PREMATUROS",null,null,null,"PESQUISA"]
["Aborto",null,null,0,null,"MELON",null,"MEL","MED","ENF","LAB","S/C","PUERP",null,null,null,"R.N.",null,null,null,null,null,null,null,null,null,null,null,null,"< 2 años",null,null,{"$f":"A27+C27+D27+F27+G27+H27","v":0},null,null,0,null,0,null,0,null,0,null,0,null,0,null,0,null,null,0,0,null,0,null,0,0,null,0,null,null,0,null,0,null,null,"CONTROLES EN DOMIC. NIÑO BP o MBP",null,null,null,null,null,null,null,0,null,"MIXTA",null,null,null,0]
[null,null,null,null,null,0,null,0,0,0,0,0,0,null,null,null,0,null,null,null,0,null,null,null,0,null,null,null,null,"2 a 6 años",null,null,{"$f":"I27+J27+K27+L27+M27+O27+P27+R27","v":0},null,null,0,null,0,null,0,null,0,null,0,null,0,null,0,null,null,0,0,null,0,null,0,0,null,0,null,null,0,null,0,null,null,null,null,null,null,null,null,null,null,null,null,"ARTIF",null,null,null,0]
["J) DATOS DE POBLACION"]
["0 a 5m",null,null,"6 a 11m",null,null,"1 AÑO",null,"2 AÑOS",null,"3 AÑOS",null,"4 AÑOS",null,null,"5 AÑOS",null,null,"6 AÑOS",null,null,"7 A 9 AÑOS",null,null,null,"10 AÑOS",null,"11 AÑOS",null,null,"12 A 14",null,null,null,null,null,"15 A 19",null,null,"20 A 24",null,null,null,"25 A 29",null,null,null,"30 A 34",null,null,null,"35 A 39",null,null,null,"40 A 44",null,null,null,null,"45 A 49",null,null,null,"50 A 54",null,null,null,"55 A 59",null,null,null,"60 A 64",null,null,null,"65 y +",null,null,null,"TOTAL",null,null,null,null,"MUJERES\n10 A 49","O. SOCIAL",null,"INDOCUM"]
["M",null,"F","M",null,"F","M","F","M","F","M","F","M",null,"F","M",null,"F","M",null,"F","M",null,"F",null,"M","F","M",null,"F","M",null,null,"F",null,null,"M","F",null,"M",null,"F",null,"M",null,null,"F","M",null,null,"F","M",null,"F",null,"M",null,null,"F",null,"M",null,"F",null,"M",null,"F",null,"M",null,"F",null,"M",null,"F",null,"M",null,null,"F","M",null,"F"]
[0,null,0,0,null,0,0,0,0,0,0,0,0,null,0,0,null,0,0,null,0,0,null,0,null,0,0,0,null,0,0,null,null,0,null,null,0,0,null,0,null,0,null,0,null,null,0,0,null,null,0,0,null,0,null,0,null,null,0,null,0,null,0,null,0,null,0,null,0,null,0,null,0,null,0,null,0,null,null,0,{"$f":"BY27+BU27+BQ27+BM27+BI27+BD27+AZ27+AV27+AR27+AN27+AK27+AE27+AB27+Z27+V27+S27+P27+M27+K27+I27+G27+D27+A27","v":0},null,{"$f":"CB27+BW27+BS27+BO27+BK27+BG27+BB27+AY27+AU27+AP27+AL27+AH27+AD27+AA27+X27+U27+R27+O27+L27+J27+H27+F27+C27","v":0},null,null,{"$f":"BK27+BG27+BB27+AY27+AU27+AP27+AL27+AH27+AD27+AA27","v":0},0,null,0]
[{"$f":"A27+C27","v":0},null,null,{"$f":"D27+F27","v":0},null,null,{"$f":"G27+H27","v":0},null,{"$f":"I27+J27","v":0},null,{"$f":"K27+L27","v":0},null,{"$f":"M27+O27","v":0},null,null,{"$f":"P27+R27","v":0},null,null,{"$f":"S27+U27","v":0},null,null,{"$f":"V27+X27","v":0},null,null,null,{"$f":"Z27+AA27","v":0},null,{"$f":"AB27+AD27","v":0},null,null,{"$f":"AE27+AH27","v":0},null,null,null,null,null,{"$f":"AL27+AK27","v":0},null,null,{"$f":"AN27+AP27","v":0},null,null,null,{"$f":"AR27+AU27","v":0},null,null,null,{"$f":"AV27+AY27","v":0},null,null,null,{"$f":"AZ27+BB27","v":0},null,null,null,{"$f":"BD27+BG27","v":0},null,null,null,null,{"$f":"BI27+BK27","v":0},null,null,null,{"$f":"BM27+BO27","v":0},null,null,null,{"$f":"BQ27+BS27","v":0},null,null,null,{"$f":"BU27+BW27","v":0},null,null,null,{"$f":"BY27+CB27","v":0},null,null,null,{"$f":"CC27+CE27","v":0}]
["K) TUBERCULOSIS ",null,null,null,null,null,null,null,null,null,null,null,null,null,null," CHAGAS ",null,null,null,null,null,"L) PERSONAS CON ENF. CRONICAS",null,null,null,null,null,null,null,null,null,null,null,"M) OBSERVACIONES"]
["Coef. Sint.Resp.: ",null,null,"MUESTRAS",null,null,null,null,"TRATAM. TBC",null,null,null,null,null,null,"TRATAMIENTOS CHAGAS",null,null,null,null,null,"PERSONAS CON",null,null,null,null,null,"TOTAL",null,null,"EN TRAT.",null,null," "]
[{"$f":"Control!H9","v":8},null,null,"DIAGNOSTICOS",null,null,"CONTROL",null,"Total",null,"TAES",null," ABANDONO",null,null,"INICIO ",null,null,0,null,null,"DIABETES",null,null,null,null,null,0,null,null,0]
["SINT. ESP..",null,null,"Tot",null,"(+)","Tot","(+)",0,null,0,null,0,null,null,"FINALIZACION ",null,null,0,null,null,"HIPERTENSION \nARTERIAL",null,null,null,null,null,0,null,null,0]
[{"$f":"IF(ISERROR(((AK91+AL91+AN91+AP91+AR91+AU91+AV91+AY91+AZ91+BB91+BD91+BG91+BI91+BK91+BM91+BO91+BQ91+BS91+BU91+BW91+BY91+CB91)*0.2)*A31/100),0,(((AK91+AL91+AN91+AP91+AR91+AU91+AV91+AY91+AZ91+BB91+BD91+BG91+BI91+BK91+BM91+BO91+BQ91+BS91+BU91+BW91+BY91+CB91)*0.2)*A31/100))","v":6.16},null,null,0,null,0,0,0,"QUIMIO Total",null,0,null,null,null,null,null,null,null,null,null,null,"PERSONAS CON OTRAS ENF. CRONICAS AL CUIDADO DE NIÑOS",null,null,null,null,null,0,null,null,0]
["SINT. DETEC.",null,null,"CONTACTO",null,null,null,null,"CTRL. MEDICO",null,null,null,"FINALIZAD0",null,null,"ABANDONO ",null,null,0]
[0,null,null,"< 14a",null,null,"> 15a",null,"Pcte/Rda",null,"A Cont",null,0,null,null,null,null,null,null,null,null,"ADULTOS MAYORES EN SITUACION DE RIESGO",null,null,null,null,null,0]
[null,null,null,0,null,null,0,null,0,null,0]
["N) DERIVACIONES",null,null,null,null,null,null,null,null,null,null,null,null,null,null,null,null,null,null,null,null,null,null,null,null,null,null,null,null,null,null,null,null,null,null,null,null,null,null,null,null,"Ñ) VIVIENDA Y SANEAMIENTO",null,null,null,null,null,null,null,null,null,null,null,null,null,null,null,null,null,null,null,null,null,null,null,null,null,null,null,"O) DEFUNCIONES EN LA RONDA"]
[null,null,null,null,null,null,null,null,null,null,null,null,null,null,null,null,null,null,null,null,null,null,null,null,null,null,null,null,null,null,null,null,null,null,null,null,null,null,null,null,null,"TRAT. AGUA",null,null,null,null,null,"DISP SANITARIA EXCRETAS",null,null,null,null,null,null,null,null,null,null,null,"TRATAM. SANIT BASURA",null,null,null,null,null,null,null,null,null,"MENORES 1 AÑO",null,null,null,null,null,null,null,null,null,null,"1 a 4 AÑOS",null,"MATERNA",null,null,null,"OTRAS"]
["EMB",null,null,null,"RN",null,null,null,"PUERP",null,null,null,"Menores de 6 años",null,null,null,null,null,null,null,"E.\nCRONICAS",null,"PAP",null,"CHAGAS",null,null,null,"TBC",null,null,null,"PSICOSOC",null,null,null,"TOTAL\nDERIVACIONES",null,null,null,null,"RED",null,"EN\nVIV",null,null,"S/T","ARRASTRE",null,null,null,null,null,"LETRINA",null,null,null,"S/T",null,"REC. DOMIC.",null,null,"POZO BASURA",null,null,null,"S/T",null,null,"<7d",null,null,"7 a 28d",null,null,null,"29d a 11 m"]
[null,null,null,null,null,null,null,null,null,null,null,null,"BP- MBP",null,"RGO BP",null,"Resp",null,"Diarr",null,null,null,null,null,null,null,null,null,null,null,null,null,null,null,null,null,null,null,null,null,null,null,null,null,null,null,null,"CLOACAS",null,"PC-CT",null,"PC-ST",null,"CT",null,"ST"]
["Env",null,"Rec",null,"Env",null,"Rec",null,"Env",null,"Rec",null,"Env","Rec","Env","Rec","Env","Rec","Env","Rec","Env","Rec","Env","Rec","Env",null,"Rec",null,"Env",null,"Rec",null,"Env",null,"Rec",null,"ENV",null,null,"Rec",null,0,null,0,null,null,0,0,null,0,null,0,null,0,null,0,null,0,null,0,null,null,0,null,null,null,0,null,null,0,null,null,0,null,null,null,0,null,null,null,0,null,0,null,null,null,0]
[null,null,null,null,null,null,null,null,null,null,null,null,null,null,null,null,null,null,null,null,null,null,null,null,null,null,null,null,null,null,null,null,null,null,null,null,null,null,null,null,null,"CASAS ",null,null,null,null,null,null,null,null,null,null,null,"CHAGAS",null,null,null,null,null,null,null,null,null,null,null,"DENGUE CHIKUNGUNYA",null,null,null,null,null,null,null,null,null,null,null,"P) PROM. SALUD"]
[0,null,0,null,0,null,0,null,0,null,0,null,0,0,0,0,0,0,0,0,0,0,0,0,0,null,0,null,0,null,0,null,0,null,0,null,{"$f":"AG43+AC43+Y43+W43+U43+S43+Q43+O43+M43+I43+E43+A43","v":0},null,null,{"$f":"AI43+AE43+AA43+X43+V43+T43+R43+P43+N43+K43+G43+C43","v":0},null,"ASIGNADAS",null,null,null,null,"VISITADAS",null,null,"VACIAS",null,"DESTRUIDAS",null,"EVALUADAS",null,null,"POSITIVAS",null,null,null,null,"TRATADAS",null,null,null,"EVALUADAS",null,null,null,"POSITIVAS",null,null,null,"TRATADAS",null,null,null,"PLANIFICADAS \nEN COMUNIDAD",null,null,null,null,null,null,null,0]
[]
[null,null,null,null,null,null,null,null,null,null,null,null,null,null,null,null,null,null,null,null,null,null,null,null,null,null,null,null,null,null,null,null,null,null,null,null,null,null,null,null,null,0,null,null,null,null,0,null,null,0,null,0,null,0,null,null,0,null,null,null,null,0,null,null,null,0,null,null,null,0,null,null,null,0,null,null,null,"REALIZADAS ",null,null,null,null,null,null,null,0]
["Q) INDICADORES"]
["DE ESTRUCTURA",null,null,null,null,null,"SI","NO","DE PRODUCCION",null,null,null,null,null,"%","META",null," DE INMUNIZACIONES",null,null,null,null,null,null,null,null,null,null,null,null,null,null,null,null," DE INMUNIZACIONES",null,null,null,null,null,null,null,null,null,null,null,null,null,null,null,null,null,null,null,null,null,null,null,null,null,null," DE RESULTADO",null,null,null,null,null,null,null,null,"%",null,"META",null,null," DE RESULTADO",null,null,null,null,null,null,null,null,null,"%",null,"META RDA"]
["Formularios",null,null,null,null,null,0,0,"Cobertura a Familias",null,null,null,null,null,{"$f":"IF(ISERROR(D12/A12),0,(D12/A12)*100)","v":0},100,null,"VACUNA",null,null,null,null,"P. REF",null,"1r","2r","3r","4r",null,"T","%",null,"META",null,"VACUNA",null,null,null,null,null,null,null,null,null,"P. REF",null,null,"1r",null,null,"2r","3r",null,null,"4r","T",null,"%",null,"META",null,"Ed Fértil c/Anticoncepción",null,null,null,null,null,null,null,null,{"$f":"IF(ISERROR(D20/CH27),0,(D20/CH27)*100)","v":0},null,null,null,null,"Niños 2 a 5 Recup BP",null,null,null,null,null,null,null,null,null,{"$f":"IF(ISERROR(AV23/K80),0,(AV23/K80)*100)","v":0},null,100]
["Equipo",null,null,null,null,null,0,0,"Niños < 2 años Controlados",null,null,null,null,null,{"$f":"IF(ISERROR(((AJ22+AL22+AN22+AP22)/(A28+D28+G28))),0,(((AJ22+AL22+AN22+AP22)/(A28+D28+G28)))*100)","v":0},100,null,"BCG RN",null,null,null,null,{"$f":"U20","v":0},null,0,0,0,0,null,{"$f":"SUM(Y49:AB49)","v":0},{"$f":"IF(ISERROR(Z49/W49),0,(Z49/W49)*100)","v":0},null,100,null,"2 Ref. Varicela Ingreso Esc",null,null,null,null,null,null,null,null,null,7,null,null,7,null,null,0,0,null,null,0,{"$f":"SUM(AV49:BC49)","v":7},null,{"$f":"IF(ISERROR(AY49/AS49),0,(AY49/AS49)*100)","v":0},null,25,null,"PAP",null,null,null,null,null,null,null,null,{"$f":"IF(ISERROR(D17/CH27),0,(D17/CH27)*100)","v":0},null,null,null,null,"Niños 2 a 5 Recup AP",null,null,null,null,null,null,null,null,null,{"$f":"IF(ISERROR(AY23/K82),0,(AY23/K82)*100)","v":0},null,100]
["Combustible",null,null,null,null,null,0,0,"Niños  (2 a 5 años) Controlados",null,null,null,null,null,{"$f":"IF(ISERROR(((AJ23+AL23+AN23+AP23)/(I28+K28+M28+P28))),0,(((AJ23+AL23+AN23+AP23)/(I28+K28+M28+P28)))*100)","v":0},100,null,"Hepatitis B RN","Hepatitis B RN",null,"Hepatitis B RN","Hepatitis B RN",null,null,0,0,0,0,null,{"$f":"SUM(Y50:AB50)","v":0},{"$f":"IF(ISERROR(Z50/W49),0,(Z50/W49)*100)","v":0},null,null,null,"2° Ref. Antipolio Ingreso Escolar",null,null,null,null,null,null,null,null,null,null,null,null,7,null,null,0,0,null,null,0,{"$f":"SUM(AV50:BC50)","v":7},null,{"$f":"IF(ISERROR(AY50/AS49),0,(AY50/AS49)*100)","v":0},null,null,null,"Embarazadas Con MELON",null,null,null,null,null,null,null,null,{"$f":"IF(ISERROR(F23/J20),0,(F23/J20)*100)","v":0},null,80,null,null,"Niños 6 meses con LME",null,null,null,null,null,null,null,null,null,{"$f":"IF(ISERROR(CC20/CC17),0,(CC20/CC17)*100)","v":0},null,80]
[" DE DIAGNOSTICO",null,null,null,null,null,null,"%","Conc. Vis. Flias Prio",null,null,null,null,null,{"$f":"IF(ISERROR((BB15+BE15)/(BB14+BE14)),0,((BB15+BE15)/(BB14+BE14)))","v":0},25,null,"2° Neumococo < 1a","3ª SOT/Salk < 1a",null,"3ª SOT/Salk < 1a","3ª SOT/Salk < 1a",{"$f":"A91+C91+D91+F91","v":2},null,0,0,0,0,null,{"$f":"SUM(Y51:AB51)","v":0},{"$f":"IF(ISERROR(Z51/W51),0,(Z51/W51)*100)","v":0},null,100,null,"2° Ref. DPT Ingreso Escolar",null,null,null,null,null,null,null,null,null,null,null,null,7,null,null,0,0,null,null,0,{"$f":"SUM(AV51:BC51)","v":7},null,{"$f":"IF(ISERROR(AY51/AS49),0,(AY51/AS49)*100)","v":0},null,null,null,"Partos Hospitalarios",null,null,null,null,null,null,null,null,{"$f":"IF(ISERROR(O20/M20),0,(O20/M20)*100)","v":0},null,100]
["Flias Priorizadas 3 + 2:",null,null,null,null,null,null,{"$f":"IF(ISERROR((BB14+BE14)/D12),0,(BB14+BE14)/D12*100)","v":0},"Conc.C.Dom Niños Bp/MBP",null,null,null,null,null,{"$f":"IF(ISERROR(BW22/(AL22+AN22+AL23+AN23)),0,(BW22/(AL22+AN22+AL23+AN23)))","v":0},3,null,"2° Rotavirus <1 a","3º Pentavalente <1 a",null,"3º Pentavalente <1 a","3º Pentavalente <1 a",null,null,0,0,0,0,null,{"$f":"SUM(Y52:AB52)","v":0},{"$f":"IF(ISERROR(Z52/W51),0,(Z52/W51)*100)","v":0},null,null,null,"2° TV Ingreso Escolar",null,null,null,null,null,null,null,null,null,null,null,null,7,null,null,0,0,null,null,0,{"$f":"SUM(AV52:BC52)","v":7},null,{"$f":"IF(ISERROR(AY52/AS49),0,(AY52/AS49)*100)","v":0},null,100,null,"Conc Control Médico a RN",null,null,null,null,null,null,null,null,{"$f":"IF(ISERROR(Q23/M20),0,(Q23/M20))","v":0},null,4,null,null,"% Niños BP MBP y RBP con MELaN",null,null,null,null,null,null,null,null,null,{"$f":"IF(ISERROR(BO20/(AL22+AN22+AR22+AL23+AN23+AR23)),0,(BO20/(AL22+AN22+AR22+AL23+AN23+AR23))*100)","v":0},null,100]
["Flias Urbanas",null,null,null,null,null,null,{"$f":"IF(ISERROR(T12/D12),0,(T12/D12)*100)","v":0},"Rel. Muestra/Sint Resp.",null,null,null,null,null,{"$f":"IF(ISERROR(D33/A35),0,(D33/A35))","v":0},2,null,"2° Meningococo < 1a",null,null,null,null,null,null,0,0,0,0,null,{"$f":"SUM(Y53:AB53)","v":0},{"$f":"IF(ISERROR(Z53/W51),0,(Z53/W51)*100)","v":0},null,null,null,"dTpa 11 años",null,null,null,null,null,null,null,null,null,12,null,null,0,null,null,0,0,null,null,0,{"$f":"SUM(AV53:BC53)","v":0},null,{"$f":"IF(ISERROR(AY53/AS53),0,(AY53/AS53)*100)","v":0},null,null,null,"Conc Control Méd. a puérpera",null,null,null,null,null,null,null,null,{"$f":"IF(ISERROR(M23/S20),0,(M23/S20))","v":0},null,4,null,null,"Sint Resp Detect. Seg zona",null,null,null,null,null,null,null,null,null,{"$f":"IF(ISERROR((A35*100)/(((20*(AK28+AN28+AR28+AV28+AZ28+BD28+BI28+BM28+BQ28+BU28+BY28))/100)*A31)),0,(A35*100)/((((20*(AK28+AN28+AR28+AV28+AZ28+BD28+BI28+BM28+BQ28+BU28+BY28))/100)*A31)/100))","v":0},null,"S/Z"]
["Flias Periurbanas",null,null,null,null,null,null,{"$f":"IF(ISERROR(V12/D12),0,(V12/D12)*100)","v":0},"Casas Evaluadas Chagas",null,null,null,null,null,{"$f":"IF(ISERROR(BB45/AU45),0,(BB45/AU45)*100)","v":0},100,null,"3° Antipolio < 1 año","2ª Rotavirus < 1 año",null,"2ª Rotavirus < 1 año","2ª Rotavirus < 1 año",null,null,0,0,0,0,null,{"$f":"SUM(Y54:AB54)","v":0},{"$f":"IF(ISERROR(Z54/W51),0,(Z54/W51)*100)","v":0},null,null,null,"U.D. Meningococo",null,null,null,null,null,null,null,null,null,null,null,null,0,null,null,0,0,null,null,0,{"$f":"SUM(AV54:BC54)","v":0},null,{"$f":"IF(ISERROR(AY54/AS53),0,(AY54/AS53)*100)","v":0},null,"95% AL 1° SEM",null,"RN con Pesquisa",null,null,null,null,null,null,null,null,{"$f":"IF(ISERROR(Y23/U20),0,(Y23/U20)*100)","v":0},null,100,null,null,"Pacientes TBC con Control Médico",null,null,null,null,null,null,null,null,null,{"$f":"IF(ISERROR(I36/I32),0,(I36/I32)*100)","v":0},null,100]
["Flias Rurales",null,null,null,null,null,null,{"$f":"IF(ISERROR(Y12/D12),0,(Y12/D12)*100)","v":0},"Casas Tratadas Chagas",null,null,null,null,null,{"$f":"IF(ISERROR(BJ45/BE45),0,(BJ45/BE45)*100)","v":0},100,null,"3° Pentavalente <1 año","TV 1 año",null,"TV 1 año","TV 1 año",null,null,0,0,0,0,null,{"$f":"SUM(Y55:AB55)","v":0},{"$f":"IF(ISERROR(Z55/W51),0,(Z55/W51)*100)","v":0},null,null,null,"1° HPV Niñas cumplen 11 a en año en curso",null,null,null,null,null,null,null,null,null,2,null,null,2,null,null,0,0,null,null,0,{"$f":"SUM(AV55:BC55)","v":2},null,{"$f":"IF(ISERROR(AY55/AS55),0,(AY55/AS55)*100)","v":0},null,null,null,"Derivaciones Enviadas/Recibidas",null,null,null,null,null,null,null,null,{"$f":"IF(ISERROR(AN43/AK43),0,(AN43/AK43)*100)","v":0},null,100,null,null,"Contactos TBC Controlados",null,null,null,null,null,null,null,null,null,{"$f":"IF(ISERROR(K36/(D36+G36)),0,(K36/(D36+G36)))*100","v":0},null,100]
["Flias Originarias",null,null,null,null,null,null,{"$f":"IF(ISERROR(R12/D12),0,(R12/D12)*100)","v":0},"Casas Evaluadas Dengue",null,null,null,null,null,{"$f":"IF(ISERROR(BN45/AU45),0,(BN45/AU45)*100)","v":0},100,null,"1° TV","A HA 1 año",null,"A HA 1 año","A HA 1 año",{"$f":"G91+H91","v":4},null,0,0,0,0,null,{"$f":"SUM(Y56:AB56)","v":0},{"$f":"IF(ISERROR(Z56/W56),0,(Z56/W56)*100)","v":0},null,100,null,"1° HPV Niños cumplen 11 a en año en curso",25,25,null,null,null,null,null,null,null,10,null,null,8,null,null,0,0,null,null,0,{"$f":"SUM(AV56:BC56)","v":8},null,{"$f":"IF(ISERROR(AY56/AS56),0,(AY56/AS56)*100)","v":0},null,"95% AL 1° SEM",null,"Niños < 2 a Riesgo BP",null,null,null,null,null,null,null,null,{"$f":"IF(ISERROR(AR22/AJ22),0,(AR22/AJ22)*100)","v":0},null,null,null,null,"TAES de TBC",null,null,null,null,null,null,null,null,null,{"$f":"IF(ISERROR(K32/I32),0,(K32/I32)*100)","v":0},null,100]
["Flias Migr. desde AO",null,null,null,null,null,null,{"$f":"IF(ISERROR(AC12/A12),0,(AC12/A12)*100)","v":0},"Casas Tratadas Dengue",null,null,null,null,null,{"$f":"IF(ISERROR(BV45/BR45),0,(BV45/BR45)*100)","v":0},100,null,"2° TV","A HA 1 año",null,"A HA 1 año","A HA 1 año",null,null,0,0,0,0,null,{"$f":"SUM(Y57:AB57)","v":0},{"$f":"IF(ISERROR(Z57/W56),0,(Z57/W56)*100)","v":0},null,null,null,"Emb. con dTpa",null,null,null,null,null,null,null,null,null,1,null,null,0,null,null,0,0,null,null,0,{"$f":"SUM(AV57:BC57)","v":0},null,{"$f":"IF(ISERROR(AY57/AS57),0,(AY57/AS57)*100)","v":0},null,null,null,"Niños < 2 a Riesgo AP",null,null,null,null,null,null,null,null,{"$f":"IF(ISERROR(AT22/AJ22),0,(AT22/AJ22)*100)","v":0},null,null,null,null,"Ptes. con tratamiento por Chagas",null,null,null,null,null,null,null,null,null,{"$f":"S31","v":0}]
["Flias Migr. hacia el AO",null,null,null,null,null,null,{"$f":"IF(ISERROR(AA12/A12),0,(AA12/A12)*100)","v":0},"Superv Int. a la Familia",null,null,null,null,null,{"$f":"IF(ISERROR((CH14*100)/BL14),0,((CH14*100)/BL14))","v":0},20,null,"Unica Dosis A HA",null,null,null,null,null,null,0,0,0,0,null,{"$f":"SUM(Y58:AB58)","v":0},{"$f":"IF(ISERROR(Z58/W56),0,(Z58/W56)*100)","v":0},null,null,null,"Emb. con Vac Sinsicial",null,null,null,null,null,null,null,null,null,null,null,null,0,null,null,0,0,null,null,0,{"$f":"SUM(AV58:BC58)","v":0},null,{"$f":"IF(ISERROR(AY58/AS57),0,(AY58/AS57)*100)","v":0},null,100,null,"Niños < 2 Recup BP",null,null,null,null,null,null,null,null,{"$f":"IF(ISERROR(AV22/K79),0,(AV22/K79)*100)","v":0},null,100,null,null,"Casas positivas Chagas",null,null,null,null,null,null,null,null,null,{"$f":"IF(ISERROR(BE45/BB45),0,(BE45/BB45)*100)","v":0},null,0]
["Flias con planes sociales",null,null,null,null,null,null,{"$f":"IF(ISERROR(AF12/D12),0,(AF12/D12)*100)","v":0},"Superv Prof. Flias Prio (3v)",null,null,null,null,null,{"$f":"IF(ISERROR(CH15/(BB14+BE14)),0,(CH15/(BB14+BE14))*100)","v":0},70,null,"Ref Neumococo 1 año","Ref Neumoc 1 año",null,"Ref Neumoc 1 año","Ref Neumoc 1 año",null,null,0,0,0,0,null,{"$f":"SUM(Y59:AB59)","v":0},{"$f":"IF(ISERROR(Z59/W56),0,(Z59/W56)*100)","v":0},null,null,null,"dT  Vigente > 65 a",null,null,null,null,null,null,null,null,null,36,null,null,0,null,null,0,0,null,null,0,{"$f":"SUM(AV59:BC59)","v":0},null,{"$f":"IF(ISERROR(AY59/AS59),0,(AY59/AS59)*100)","v":0},null,100,null,"Niños < 2 Recup AP",null,null,null,null,null,null,null,null,{"$f":"IF(ISERROR(AY22/K81),0,(AY22/K81)*100)","v":0},null,100,null,null,"Casas Positivas Aedes",null,null,null,null,null,null,null,null,null,{"$f":"IF(ISERROR(BR45/BN45),0,(BR45/BN45)*100)","v":0},null," "]
[null,null,null,null,null,null,null,null,"% Activ Prom.Salud Comunitarias",null,null,null,null,null,{"$f":"IF(ISERROR(CH45/CH43),0,(CH45/CH43)*100)","v":0},100,null,"Ref. Meningococo 1 año","Ref Cuádruple 1 año",null,"Ref Cuádruple 1 año","Ref Cuádruple 1 año",null,null,0,0,0,0,null,{"$f":"SUM(Y60:AB60)","v":0},{"$f":"IF(ISERROR(Z60/W56),0,(Z60/W56)*100)","v":0},null,null,null,"Neumo 20 > 65 años",null,null,null,null,null,null,null,null,null,null,null,null,0,null,null,0,0,null,null,0,{"$f":"SUM(AV60:BC60)","v":0},null,{"$f":"IF(ISERROR(AY60/AS59),0,(AY60/AS59)*100)","v":0},null,null,null,"Niños 2 a 5 Riesgo BP",null,null,null,null,null,null,null,null,{"$f":"IF(ISERROR(AR23/AJ23),0,(AR23/AJ23)*100)","v":0},null,null,null,null,"UROCS 1/SEC",null,null,null,null,null,null,null,null,null,0,null,"1/SEC"]
["Flias. c/Antec Mort Mat Inf",null,null,null,null,null,null,{"$f":"IF(ISERROR(AV10/D12),0,(AV10/D12)*100)","v":0},null,null,null,null,null,null,null,null,null,"Unica Dosis Varicela","Ref SOT 1 año",null,"Ref SOT 1 año","Ref SOT 1 año",null,null,0,0,0,0,null,{"$f":"SUM(Y61:AB61)","v":0},{"$f":"IF(ISERROR(Z61/W56),0,(Z61/W56)*100)","v":0},null,null,null,"Aplic. Cargadas a Nomivac",null,null,null,null,null,null,null,null,null,0,null,null,null,null,null,null,null,null,null,null,null,null,null,null,null,null,null,null,null,null,null,null,null,null,null,null,null,null,null,null,"Flias con Huerta",null,null,null,null,null,null,null,null,null,{"$f":"IF(ISERROR(AL12/D12),0,(AL12/D12)*100)","v":0}]
["F con 3 o más <6 años",null,null,null,null,null,null,{"$f":"IF(ISERROR(BI10/D12),0,(BI10/D12)*100)","v":0}," DE IMPACTO",null,null,null,null,"%",null,"META",null,"4° Dosis o 1° Ref. Pentavalente",null,null,null,null,null,null,0,0,0,0,null,{"$f":"SUM(Y62:AB62)","v":0},{"$f":"IF(ISERROR(Z62/W56),0,(Z62/W56)*100)","v":0},null,null,null,"Total Aplic /AS",null,null,null,null,null,null,null,null,null,0,null,null,null,null,null,null,null,null,null,null,null,null,null,null,null,null,"Niños 2 a 5 Riesgo AP",null,null,null,null,null,null,null,null,{"$f":"IF(ISERROR(AT23/AJ23),0,(AT23/AJ23)*100)","v":0},null,null,null,null,"Flias con Granja",null,null,null,null,null,null,null,null,null,{"$f":"IF(ISERROR(AP12/D12),0,(AP12/D12)*100)","v":0}]
["Flias con Hacinamiento",null,null,null,null,null,null,{"$f":"IF(ISERROR(BL10/D12),0,(BL10/D12)*100)","v":0},"Agua Seg (Trat Red + Viv)",null,null,null,null,{"$f":"IF(ISERROR((AP41+AR41)/D12),0,((AP41+AR41)/D12)*100)","v":0},null,100,null,"2° AG 6m a 24m",null,null,null,null,{"$f":"D91+F91+G91+H91","v":5},null,0,0,0,0,null,{"$f":"SUM(Y63:AB63)","v":0},{"$f":"IF(ISERROR(Z63/W63),0,(Z63/W63)*100)","v":0},null," ",null,"VAC COVID APLIC EN LA RONDA",null,null,null,null,null,null,null,null,null,0,null,null,null,null,null,null,null,null,null,null,null,null,null,null,null,null,"U) A llenar en 1° Ronda del Año"]
["Flias con Analfabet",null,null,null,null,null,null,{"$f":"IF(ISERROR(BO10/D12),0,(BO10/D12)*100)","v":0},"DSE (Arrastre y letrinas)",null,null,null,null,{"$f":"IF(ISERROR((AV41+AX41+AZ41+BB41+BD41)/D12),0,((AV41+AX41+AZ41+BB41+BD41)/D12)*100)","v":0},null,100,null,"R) PRODUCCION Y RENDIMIENTO",null,null,null,null,null,null,null,null,null,null,null,null,null,null,null,null,null,null,null,null,null,null,null,null,null,null,null,null,null,null,null,null,null,null,null,null,null,null,null,null,null,null,null,"Piso",null,null,null,null,"Techo",null,null,null,null,"Paredes",null,null,null,null,null,null,null,null,null,"Cocina",null,null,null,null,"Tenencia"]
["Flias con Suicidio",null,null,null,null,null,null,{"$f":"IF(ISERROR(BT11/D12),0,(BT11/D12)*100)","v":0},"TSB (Recolección + Pozo)",null,null,null,null,{"$f":"IF(ISERROR((BH41+BK41)/D12),0,((BH41+BK41)/D12)*100)","v":0},null,100,null,"DIAS A TRAB. /RONDA",null,null,"DIAS INCLEM CLIMAT.",null,null,"DIAS Y NROS DE ARTICULOS TOMADOS",null,null,null,"CAPACITACIONES Y OTRAS ACTIVIDADES",null,null,null,null,null,null,null,null,null,null,null,null,null,null,null,null,null,null,null,null,null,null,"DIAS TRABAJADOS\nEN TERRENO",null,null,null,null,"PROM. DIARIO DE FLIAS VISIT.",null,null,null,null,null,"Mosaico/B.",null,null,null,0,"Losa",null,null,0,null,"Ladrillo",null,null,0,null,"Madera",null,null,null,0,"Gas",null,null,0,null,"Segura",null,null,0]
["Flias c /tentativa suicidio",null,null,null,null,null,null,{"$f":"IF(ISERROR(BV11/D12),0,(BV11/D12)*100)","v":0},"Emb Adolescente",null,null,null,null,{"$f":"IF(ISERROR(L20/J20),0,(L20/J20)*100)","v":0},null,null,null,null,null,null,null,null,null,0,null,null,null,0,null,null,null,null,null,null,null,null,null,null,0,null,null,null,null,null,null,null,null,null,null,null,null,null,null,null,null,null,null,null,null,null,null,"Cemento",null,null,null,0,"Chapa\nZinc",null,null,0,null,"Bloque",null,null,0,null,"Quincho",null,null,null,0,"Leña/\nCarb",null,null,0,null,"Inseg.",null,null,0]
["Flias con Alcoholismo",null,null,null,null,null,null,{"$f":"IF(ISERROR(BY11/D12),0,(BY11/D12)*100)","v":0},"Niños <2 Bajo Peso/MBP",null,null,null,null,{"$f":"IF(ISERROR((AL22+AN22)/(AJ22+AP22+AL22+AN22)),0,((AL22+AN22)/(AJ22+AP22+AL22+AN22))*100)","v":0},null,null,null,null,null,null,null,null,null,0,null,null,null,0,null,null,null,null,null,null,null,null,null,null,0,null,null,null,null,null,null,null,null,null,null,null,null,null,null,null,null,null,null,null,null,null,null,"Tierra",null,null,null,0,"Paja/\nBarro",null,null,0,null,"Adobe",null,null,0,null,"Carton/Pl",null,null,null,0,"Otros",null,null,0,null,"Hac",null,null,0,null,null,null,5]
["Flias c/ otras Adicciones",null,null,null,null,null,null,{"$f":"IF(ISERROR(CC11/D12),0,(CC11/D12)*100)","v":0},"Niños <2 a AP",null,null,null,null,{"$f":"IF(ISERROR(AP22/(AJ22+AP22+AL22+AN22)),0,(AP22/(AJ22+AP22+AL22+AN22))*100)","v":0},null,null,null,0,null,null,0,null,null,0,null,null,null,0,null,null,null,null,null,null,null,null,null,null,0,null,null,null,null,null,null,null,null,null,null,null,0,null,null,null,null,{"$f":"IF(ISERROR(G12/AY68),0,(G12/AY68))","v":0},null,null,null,null,null,"Otros",null,null,null,0,"Otros",null,null,0,null,"Piedra",null,null,0,null,"Otro",null,null,null,0,"Helad.",null,null,0]
["Flias con VIF",null,null,null,null,null,null,{"$f":"IF(ISERROR(CF11/D12),0,(CF11/D12)*100)","v":0},"Niños < 2 baja y MBT",null,null,null,null,{"$f":"IF(ISERROR((AZ22+BB22)/(AJ22+AP22+AL22+AN22)),0,((AZ22+BB22)/(AJ22+AP22+AL22+AN22))*100)","v":0},null,null,null,"S) DETALLE DE LAS DEFUNCIONES (Todas las del Sector)",null,null,null,null,null,null,null,null,null,null,null,null,null,null,null,null,null,null,null,null,null,null,null,null,null,null,null,null,null,null,null,null,null,null,null,null,null,null,null,null,null,null,null,"Agua",null,"Corriente a Domic",null,null,"Grifo Terr",null,null,"Grifo Público",null,null,"Bomba",null,null,"Pozo",null,null,null,"Camión Aguatero / Cisterna",null,"Vertiente/Rio/Aceq",null,null,"Laguna",null,null,"Lluvia/Aljibe"]
["Flias con Diabetes",null,null,null,null,null,null,{"$f":"IF(ISERROR(AB31/D12),0,(AB31/D12)*100)","v":0},"Niños 2 a 5 Bajo Peso/MBP",null,null,null,null,{"$f":"IF(ISERROR((AL23+AN23)/(AJ23+AP23+AL23+AN23)),0,((AL23+AN23)/(AJ23+AP23+AL23+AN23))*100)","v":0},null,null,null,"APELLIDO Y NOMBRE",null,null,null,null,null,null,"DOMICILIO",null,null,null,null,null,null,null,null,"NACIMIENTO",null,null,null,null,"DEFUNCION",null,null,null,"PESO\nAL NACER",null,null,null,"CAUSA",null,null,null,null,null,null,null,null,null,"CLASIFICAC."]
["Flias con Hipertensión",null,null,null,null,null,null,{"$f":"IF(ISERROR(AB32/D12),0,(AB32/D12)*100)","v":0},"Niños 2 a 5 AP",null,null,null,null,{"$f":"IF(ISERROR(AP23/(AJ23+AP23+AL23+AN23)),0,(AP23/(AJ23+AP23+AL23+AN23))*100)","v":0}]
[]
["Personas con otras enfermedades crónicas al cuidado de niños",null,null,null,null,null,null,{"$f":"IF(ISERROR(AB33/D12),0,(AB33/D12)*100)","v":0},"Niños 2 a 5 baja y MBT",null,null,null,null,{"$f":"IF(ISERROR((AZ23+BB23)/(AJ23+AP23+AL23+AN23)),0,((AZ23+BB23)/(AJ23+AP23+AL23+AN23))*100)","v":0},null,null,null,null,null,null,null,null,null,null,null,null,null,null,null,null,null,null,null,null,null,null,null,null,null,null,null,null,null,null,null,null,null,null,null,null,null,null,null,null,null,null,null,null,null,null,null,null,null,0,null,null,0,null,null,0,null,null,0,null,null,0,null,null,null,0,null,0,null,null,0,null,null,0]
["Pers c/O Social/Pob total",null,null,null,null,null,null,{"$f":"IF(ISERROR(CI27/CC28),0,(CI27/CC28)*100)","v":0}]
[]
[]
[]
[]
["BP+MBP Ronda Anterior Men2a: ",null,null,null,null,null,null,null,null,null,0]
["BP+MBP Ronda Anterior 2 a 6a: ",null,null,null,null,null,null,null,null,null,0]
["AP Ronda Anterior Men2a: ",null,null,null,null,null,null,null,null,null,0]
["AP Ronda Anterior 2 a 6a: ",null,null,null,null,null,null,null,null,null,0]
[]
[]
[]
[]
[]
["0 a 5m",null,null,"6 a 11m",null,null,"1 AÑO",null,"2 AÑOS",null,"3 AÑOS",null,"4 AÑOS",null,null,"5 AÑOS",null,null,"6 AÑOS",null,null,"7 A 9 AÑOS",null,null,null,"10 AÑOS",null,"11 AÑOS",null,null,"12 A 14",null,null,null,null,null,"15 A 19",null,null,"20 A 24",null,null,null,"25 A 29",null,null,null,"30 A 34",null,null,null,"35 A 39",null,null,null,"40 A 44",null,null,null,null,"45 A 49",null,null,null,"50 A 54",null,null,null,"55 A 59",null,null,null,"60 A 64",null,null,null,"65 y +",null,null,null,"TOTAL",null,null,null,null,"MUJERES\n10 A 49"]
["M",null,"F","M",null,"F","M","F","M","F","M","F","M",null,"F","M",null,"F","M",null,"F","M",null,"F",null,"M","F","M",null,"F","M",null,null,"F",null,null,"M","F",null,"M",null,"F",null,"M",null,null,"F","M",null,null,"F","M",null,"F",null,"M",null,null,"F",null,"M",null,"F",null,"M",null,"F",null,"M",null,"F",null,"M",null,"F",null,"M",null,null,"F","M",null,"F"]
[1,null,0,0,null,1,3,1,2,2,3,1,3,null,1,4,null,4,4,null,2,18,null,16,null,4,4,5,null,4,13,null,null,11,null,null,39,29,null,17,null,30,null,27,null,null,28,13,null,null,17,10,null,14,null,12,null,null,15,null,18,null,18,null,14,null,17,null,8,null,12,null,8,null,6,null,20,null,null,13,{"$f":"SUM(A90,D90,G90,I90,K90,M90,P90,S90,V90,Z90,AB90,AE90,AK90,AN90,AR90,AV90,AZ90,BD90,BI90,BM90,BQ90,BU90,BY90)","v":246},null,{"$f":"SUM(C90,F90,H90,J90,L90,O90,R90,U90,X90,AA90,AD90,AH90,AL90,AP90,AU90,AY90,BB90,BG90,BK90,BO90,BS90,BW90,CB90)","v":246},null,null,{"$f":"SUM(AA90,AD90,AH90,AL90,AP90,AU90,AY90,BB90,BG90,BK90)","v":170}]
[{"$f":"SUM(A90:C90)","v":1},null,null,{"$f":"SUM(D90,F90)","v":1},null,null,{"$f":"SUM(G90,H90)","v":4},null,{"$f":"SUM(I90,J90)","v":4},null,{"$f":"SUM(K90,L90)","v":4},null,{"$f":"SUM(M90,O90)","v":4},null,null,{"$f":"SUM(P90,R90)","v":8},null,null,{"$f":"SUM(S90,U90)","v":6},null,null,{"$f":"SUM(V90,X90)","v":34},null,null,null,{"$f":"SUM(Z90,AA90)","v":8},null,{"$f":"SUM(AB90,AD90)","v":9},null,null,{"$f":"SUM(AE90,AH90)","v":24},null,null,null,null,null,{"$f":"SUM(AK90,AL90)","v":68},null,null,{"$f":"SUM(AN90,AP90)","v":47},null,null,null,{"$f":"SUM(AR90,AU90)","v":55},null,null,null,{"$f":"SUM(AV90,AY90)","v":30},null,null,null,{"$f":"SUM(AZ90,BB90)","v":24},null,null,null,{"$f":"SUM(BD90,BG90)","v":27},null,null,null,null,{"$f":"SUM(BI90,BK90)","v":36},null,null,null,{"$f":"SUM(BM90,BO90)","v":31},null,null,null,{"$f":"SUM(BQ90,BS90)","v":20},null,null,null,{"$f":"SUM(BU90,BW90)","v":14},null,null,null,{"$f":"SUM(BY90,CB90)","v":33},null,null,null,{"$f":"A91+D91+G91+I91+K91+M91+P91+S91+V91+Z91+AB91+AE91+AK91+AN91+AR91+AV91+AZ91+BD91+BI91+BM91+BQ91+BU91+BY91","v":492}]
["Mejor Población: 1° - 2019",null,null,null,null,null,null,null,null,null,null,null,null,null,null,null,null,null,null,null,null,null,null,null,null,null,null,null,null,null,null,null,null,null,null,null,null,null,null,null,null,null,null,null,null,null,null,null,null,null,null,null,null,null,null,null,null,null,null,null,null,null,null,null,null,null,null,null,null,null,null,null,null,null,null,null,null,null,null,null,{"$f":"SUM(CC91,CE91)","v":492}]
["Cobertura: 1%"]

{"sheet":"VILLA LAS ROSAS","index":27,"n_rows":93,"n_cols":94,"rows_kept":93,"cut":false,"hidden":false,"merged":[[61,30,61,31],[62,30,62,31],[89,85,90,85],[90,0,90,2],[90,3,90,5],[90,6,90,7],[90,8,90,9],[90,10,90,11],[90,12,90,14],[90,15,90,17],[90,18,90,20],[90,21,90,24],[89,70,89,71],[89,72,89,73],[89,74,89,75],[89,76,89,78],[89,80,89,81],[89,82,89,84],[89,58,89,59],[89,51,89,52],[89,53,89,54],[89,55,89,57],[89,23,89,24],[89,27,89,28],[89,30,89,32],[89,33,89,35],[89,37,89,38],[89,39,89,40],[90,72,90,75],[90,76,90,79],[90,80,90,84],[90,47,90,50],[90,51,90,54],[90,55,90,59],[90,60,90,63],[90,64,90,67],[90,68,90,71],[90,25,90,26],[90,27,90,29],[90,30,90,35],[90,36,90,38],[90,39,90,42],[90,43,90,46],[89,0,89,1],[89,3,89,4],[89,12,89,13],[89,15,89,16],[89,18,89,19],[89,21,89,22],[88,62,88,63],[88,64,88,65],[88,66,88,67],[88,68,88,69],[88,70,88,71],[88,72,88,73],[88,47,88,49],[88,51,88,52],[88,53,88,54],[88,55,88,57],[88,58,88,59],[88,60,88,61],[88,30,88,32],[88,33,88,35],[88,37,88,38],[88,39,88,40],[88,41,88,42],[88,43,88,45],[89,60,89,61],[89,62,89,63],[89,64,89,65],[89,66,89,67],[89,68,89,69],[89,41,89,42],[89,43,89,45],[89,47,89,49],[87,80,87,84],[87,85,88,85],[88,0,88,1],[88,3,88,4],[88,12,88,13],[88,15,88,16],[88,18,88,19],[88,21,88,22],[88,23,88,24],[88,27,88,28],[87,55,87,59],[87,60,87,63],[87,64,87,67],[87,68,87,71],[87,72,87,75],[87,76,87,79],[87,30,87,35],[87,36,87,38],[87,39,87,42],[87,43,87,46],[87,47,87,50],[87,51,87,54],[87,12,87,14],[87,15,87,17],[87,18,87,20],[87,21,87,24],[87,25,87,26],[87,27,87,29],[88,74,88,75],[88,76,88,78],[88,80,88,81],[88,82,88,84],[75,17,75,23],[75,24,75,32],[75,38,75,41],[75,42,75,45],[75,46,75,55],[87,0,87,2],[87,3,87,5],[87,6,87,7],[87,8,87,9],[87,10,87,11],[73,42,73,45],[73,46,73,55],[73,56,73,60],[74,17,74,23],[74,24,74,32],[74,38,74,41],[74,42,74,45],[74,46,74,55],[72,75,73,78],[72,79,73,80],[72,81,73,83],[72,84,73,86],[72,87,73,89],[73,0,73,6],[73,17,73,23],[73,24,73,32],[73,33,73,37],[73,38,73,41],[72,46,72,55],[72,56,72,60],[72,63,73,65],[72,66,73,68],[72,69,73,71],[72,72,73,74],[71,56,71,60],[72,0,72,6],[72,8,73,12],[72,13,73,14],[72,15,73,16],[72,17,72,23],[72,24,72,32],[72,33,72,37],[72,38,72,41],[72,42,72,45],[68,87,71,89],[68,69,71,71],[68,72,71,74],[68,75,71,78],[68,79,71,80],[68,81,71,83],[71,46,71,55],[69,46,69,55],[69,56,69,60],[70,0,71,6],[70,7,71,7],[70,8,71,12],[70,13,71,14],[70,15,71,16],[70,17,70,23],[70,24,70,32],[70,33,70,37],[69,0,69,6],[69,8,69,12],[69,13,69,14],[69,15,69,16],[69,17,69,23],[69,24,69,32],[69,33,69,37],[69,38,69,41],[69,42,69,45],[68,84,71,86],[67,81,67,83],[67,84,67,85],[68,0,68,6],[68,8,68,12],[68,13,68,14],[68,15,68,16],[68,17,68,60],[68,61,73,62],[68,63,71,65],[68,66,71,68],[67,61,67,64],[67,66,67,68],[67,69,67,70],[67,71,67,73],[67,74,67,75],[67,76,67,79],[67,20,67,22],[67,23,67,26],[67,27,67,37],[67,38,67,49],[67,50,67,54],[67,55,67,60],[70,38,70,41],[70,42,70,45],[70,46,70,55],[70,56,70,60],[71,17,71,23],[71,24,71,32],[71,33,71,37],[71,38,71,41],[71,42,71,45],[63,0,63,6],[63,8,63,12],[63,13,63,14],[63,15,63,16],[63,17,63,60],[63,61,63,65],[63,66,63,70],[63,71,63,80],[63,81,63,85],[66,69,66,70],[66,71,66,73],[66,74,66,75],[65,76,65,79],[65,81,65,83],[65,84,65,85],[65,86,65,88],[66,0,66,6],[66,8,66,12],[66,13,66,14],[66,15,66,16],[66,23,66,26],[66,27,66,37],[65,15,65,16],[65,23,65,26],[65,27,65,37],[65,38,65,49],[64,55,66,60],[64,61,64,64],[64,66,64,68],[64,69,64,70],[64,74,64,75],[64,86,64,88],[64,20,66,22],[64,23,64,26],[64,27,64,49],[64,50,66,54],[65,0,65,6],[65,8,65,12],[65,13,65,14],[66,86,67,88],[66,89,67,89],[67,0,67,6],[67,8,67,12],[67,13,67,14],[67,15,67,16],[67,17,67,19],[66,38,66,49],[66,61,66,64],[66,66,66,68],[64,76,64,79],[65,61,65,64],[65,66,65,68],[65,69,65,70],[65,74,65,75],[66,76,66,79],[66,81,66,83],[66,84,66,85],[62,0,62,6],[62,8,62,12],[62,13,62,14],[62,15,62,16],[62,32,62,33],[62,34,62,43],[64,81,64,83],[64,84,64,85],[61,87,61,89],[61,32,61,33],[61,34,61,43],[61,44,61,60],[62,44,62,60],[60,87,60,89],[61,0,61,6],[61,8,61,12],[61,13,61,14],[61,15,61,16],[60,0,60,6],[60,17,60,21],[60,27,60,28],[60,30,60,31],[60,34,60,43],[60,44,60,60],[63,86,63,89],[64,0,64,6],[64,8,64,12],[64,13,64,14],[64,15,64,16],[64,17,66,19],[60,75,60,84],[60,85,60,86],[62,61,62,89],[58,75,58,84],[58,85,58,86],[59,61,60,69],[59,70,60,71],[59,72,60,74],[59,75,59,84],[58,34,58,43],[58,44,59,46],[58,47,58,49],[58,51,58,53],[58,55,58,56],[58,57,58,58],[59,55,59,56],[59,57,59,58],[61,61,61,69],[61,70,61,71],[61,72,61,74],[61,75,61,84],[61,85,61,86],[57,87,57,89],[58,0,59,6],[58,7,59,7],[58,8,58,13],[58,15,58,16],[58,17,58,21],[58,27,58,28],[58,30,58,31],[57,55,57,56],[57,57,57,58],[57,59,57,60],[57,61,57,69],[57,70,57,71],[57,72,57,74],[59,85,59,86],[59,87,59,89],[57,47,57,49],[57,51,57,53],[58,87,58,89],[59,8,60,13],[59,14,60,14],[59,15,60,16],[59,17,59,21],[59,27,59,28],[59,30,59,31],[59,34,59,43],[59,47,59,49],[59,51,59,53],[58,59,59,60],[58,61,58,69],[58,70,58,71],[58,72,58,74],[56,27,56,28],[56,30,56,31],[56,34,56,43],[56,44,57,46],[56,47,56,49],[55,59,56,60],[55,61,55,69],[55,70,55,71],[55,72,55,74],[55,75,55,84],[55,85,55,86],[56,75,56,84],[56,85,56,86],[55,34,55,43],[55,44,55,46],[55,47,55,49],[55,51,55,53],[55,55,55,56],[55,57,55,58],[57,75,57,84],[57,85,57,86],[55,0,55,6],[55,8,55,13],[55,15,55,16],[55,17,55,21],[55,27,55,28],[55,30,55,31],[55,32,60,33],[54,47,54,49],[54,51,54,53],[54,55,54,56],[54,57,54,58],[54,61,54,69],[54,70,54,71],[56,87,56,89],[57,0,57,6],[57,8,57,13],[57,15,57,16],[57,17,57,21],[57,27,57,28],[57,30,57,31],[57,34,57,43],[56,51,56,53],[56,55,56,56],[56,57,56,58],[56,61,56,69],[56,70,56,71],[56,72,56,74],[55,87,55,89],[56,0,56,6],[56,8,56,13],[56,15,56,16],[56,17,56,21],[53,87,53,89],[54,0,54,6],[54,8,54,13],[54,15,54,16],[54,17,54,21],[54,27,54,28],[54,30,54,31],[54,34,54,43],[54,44,54,46],[53,57,53,58],[53,59,54,60],[53,61,53,69],[53,70,53,71],[53,72,53,74],[53,75,53,84],[54,72,54,74],[54,75,54,84],[54,85,54,86],[54,87,54,89],[51,75,51,84],[51,85,51,86],[51,87,51,89],[52,0,52,6],[52,8,52,13],[52,15,52,16],[52,17,52,21],[52,27,52,28],[52,30,52,31],[51,51,51,53],[51,55,51,56],[51,57,51,58],[51,59,52,60],[51,61,51,69],[51,70,51,71],[52,61,52,69],[52,70,52,71],[52,72,52,74],[52,75,52,84],[52,85,52,86],[52,87,52,89],[52,34,52,43],[52,44,53,46],[52,47,52,49],[52,51,52,53],[52,55,52,56],[52,57,52,58],[53,34,53,43],[53,47,53,49],[53,51,53,53],[53,55,53,56],[53,85,53,86],[51,0,51,6],[51,8,51,13],[51,15,51,16],[51,17,51,21],[51,27,51,28],[51,30,51,31],[51,34,51,43],[51,47,51,49],[50,34,50,43],[50,47,50,49],[50,51,50,53],[50,55,50,56],[50,57,50,58],[50,61,50,69],[49,72,49,74],[48,44,51,46],[48,47,48,49],[48,51,48,53],[49,47,49,49],[49,51,49,53],[50,30,50,31],[50,32,54,33],[51,72,51,74],[53,0,53,6],[53,8,53,13],[53,15,53,16],[53,17,53,21],[53,27,53,28],[53,30,53,31],[48,85,48,86],[48,87,48,89],[49,0,49,5],[49,8,49,13],[49,15,49,16],[49,17,49,21],[49,27,49,28],[49,30,49,31],[49,34,49,43],[48,55,48,56],[48,57,48,58],[48,59,50,60],[48,61,48,69],[48,70,48,71],[48,72,48,74],[49,55,49,56],[49,57,49,58],[49,61,49,69],[49,70,49,71],[48,30,48,31],[48,32,49,33],[48,34,48,43],[50,70,50,71],[50,72,50,74],[47,72,47,74],[47,75,47,84],[47,85,47,86],[47,87,47,89],[48,0,48,5],[48,8,48,13],[48,15,48,16],[48,17,48,21],[48,22,49,23],[48,27,48,28],[47,51,47,53],[47,55,47,56],[47,57,47,58],[47,59,47,60],[47,61,47,69],[47,70,47,71],[47,27,47,28],[47,30,47,31],[47,32,47,33],[47,34,47,43],[47,44,47,46],[47,47,47,49],[49,75,50,84],[49,85,50,86],[49,87,50,89],[50,0,50,6],[50,8,50,13],[50,15,50,16],[50,17,50,21],[50,22,54,23],[50,27,50,28],[48,75,48,84],[46,70,46,71],[46,72,46,74],[46,75,46,84],[46,85,46,86],[46,87,46,89],[47,0,47,5],[47,8,47,13],[47,15,47,16],[47,17,47,21],[47,22,47,23],[46,0,46,5],[46,8,46,13],[46,15,46,16],[46,17,46,33],[46,34,46,60],[46,61,46,69],[44,65,44,68],[44,69,44,72],[44,73,44,76],[44,77,44,84],[44,85,44,89],[45,0,45,89],[42,23,44,23],[42,24,44,25],[42,26,44,27],[42,28,44,29],[42,30,44,31],[42,32,44,33],[42,17,44,17],[42,18,44,18],[42,19,44,19],[42,20,44,20],[42,73,43,76],[42,77,43,84],[42,85,43,89],[44,41,44,45],[44,46,44,48],[44,49,44,50],[44,51,44,52],[44,53,44,55],[44,56,44,60],[44,61,44,64],[42,51,43,52],[42,53,43,55],[42,56,43,60],[42,61,43,64],[42,65,43,68],[42,69,43,72],[42,34,44,35],[42,36,44,38],[42,39,44,40],[42,41,43,45],[42,46,43,48],[42,49,43,50],[42,21,44,21],[42,22,44,22],[42,10,44,11],[42,12,44,12],[42,13,44,13],[42,14,44,14],[42,15,44,15],[42,16,44,16],[40,86,40,89],[41,41,41,52],[41,53,41,64],[41,65,41,76],[41,77,41,89],[42,0,44,1],[42,2,44,3],[42,4,44,5],[42,6,44,7],[42,8,44,9],[40,66,40,68],[40,69,40,71],[40,72,40,75],[40,76,40,79],[40,80,40,81],[40,82,40,85],[40,51,40,52],[40,53,40,54],[40,55,40,56],[40,57,40,58],[40,59,40,61],[40,62,40,65],[40,36,41,38],[40,39,41,40],[40,41,40,42],[40,43,40,45],[40,47,40,48],[40,49,40,50],[40,24,41,25],[40,26,41,27],[40,28,41,29],[40,30,41,31],[40,32,41,33],[40,34,41,35],[40,18,41,18],[40,19,41,19],[40,20,41,20],[40,21,41,21],[40,22,41,22],[40,23,41,23],[40,12,41,12],[40,13,41,13],[40,14,41,14],[40,15,41,15],[40,16,41,16],[40,17,41,17],[40,0,41,1],[40,2,41,3],[40,4,41,5],[40,6,41,7],[40,8,41,9],[40,10,41,11],[38,66,39,68],[38,69,39,71],[38,72,39,75],[38,76,39,79],[39,12,39,13],[39,14,39,15],[39,16,39,17],[39,18,39,19],[39,47,39,48],[39,49,39,50],[38,46,39,46],[38,47,38,52],[38,53,38,56],[38,57,39,58],[38,59,39,61],[38,62,39,65],[39,51,39,52],[39,53,39,54],[39,55,39,56],[38,24,39,27],[38,28,39,31],[38,32,39,35],[38,36,39,40],[38,41,39,42],[38,43,39,45],[38,0,39,3],[36,41,36,68],[36,69,36,89],[37,41,37,46],[37,47,37,58],[37,59,37,68],[37,69,37,79],[37,80,39,81],[37,82,39,85],[37,86,39,89],[34,10,34,11],[34,12,35,14],[34,21,35,26],[34,27,35,32],[35,3,35,5],[35,6,35,7],[35,8,35,9],[35,10,35,11],[34,0,35,2],[34,3,34,5],[34,6,34,7],[34,8,34,9],[31,21,31,26],[31,27,31,29],[31,30,31,32],[32,0,32,2],[32,3,32,4],[32,8,32,9],[32,10,32,11],[32,21,33,26],[32,27,33,29],[32,30,33,32],[38,4,39,7],[38,8,39,11],[38,12,38,19],[38,20,39,21],[38,22,39,23],[36,0,37,40],[30,21,30,26],[30,27,30,29],[30,30,30,32],[31,0,31,2],[31,3,31,4],[31,8,31,9],[31,10,31,11],[31,12,32,14],[31,15,32,17],[31,18,32,20],[29,30,29,32],[29,33,35,89],[30,0,30,2],[30,3,30,5],[30,6,30,7],[30,8,30,9],[30,10,30,11],[30,12,30,14],[30,15,30,17],[30,18,30,20],[29,0,29,2],[29,3,29,7],[29,8,29,14],[29,15,29,20],[29,21,29,26],[29,27,29,29],[33,0,33,2],[33,3,33,7],[33,8,33,11],[33,12,33,14],[33,15,35,17],[33,18,35,20],[27,64,27,67],[27,68,27,71],[27,72,27,75],[27,76,27,79],[27,80,27,84],[28,0,28,14],[28,15,28,20],[28,21,28,32],[27,39,27,42],[27,43,27,46],[27,47,27,50],[27,51,27,54],[27,55,27,59],[27,60,27,63],[27,18,27,20],[27,21,27,24],[27,25,27,26],[27,27,27,29],[27,30,27,35],[27,36,27,38],[22,12,22,15],[22,16,22,19],[22,20,22,23],[22,24,22,28],[26,85,27,85],[26,86,27,87],[26,88,27,89],[27,0,27,2],[27,3,27,5],[27,6,27,7],[27,8,27,9],[27,10,27,11],[27,12,27,14],[27,15,27,17],[26,70,26,71],[26,72,26,73],[26,74,26,75],[26,76,26,78],[26,80,26,81],[26,82,26,84],[26,58,26,59],[26,60,26,61],[26,62,26,63],[26,64,26,65],[26,66,26,67],[26,68,26,69],[26,41,26,42],[26,43,26,45],[26,47,26,49],[26,51,26,52],[26,53,26,54],[26,55,26,57],[26,37,26,38],[26,39,26,40],[26,0,26,1],[26,3,26,4],[26,12,26,13],[26,15,26,16],[26,18,26,19],[26,21,26,22],[25,64,25,65],[25,66,25,67],[25,68,25,69],[25,70,25,71],[25,72,25,73],[25,74,25,75],[25,51,25,52],[25,53,25,54],[25,55,25,57],[25,58,25,59],[25,60,25,61],[25,62,25,63],[25,33,25,35],[25,37,25,38],[25,39,25,40],[25,41,25,42],[25,43,25,45],[25,47,25,49],[25,30,25,32],[26,23,26,24],[26,27,26,28],[26,30,26,32],[26,33,26,35],[24,88,25,89],[25,0,25,1],[25,3,25,4],[25,12,25,13],[25,15,25,16],[25,18,25,19],[25,21,25,22],[25,23,25,24],[25,27,25,28],[24,68,24,71],[24,72,24,75],[24,76,24,79],[24,80,24,84],[24,85,25,85],[24,86,25,87],[25,76,25,78],[25,80,25,81],[25,82,25,84],[24,43,24,46],[24,47,24,50],[24,51,24,54],[24,55,24,59],[24,60,24,63],[24,64,24,67],[24,21,24,24],[24,25,24,26],[24,27,24,29],[24,30,24,35],[24,36,24,38],[24,39,24,42],[21,76,21,79],[22,76,22,79],[21,43,21,44],[21,45,21,46],[21,47,21,49],[21,51,21,52],[21,53,21,54],[21,56,21,57],[21,12,21,15],[21,16,21,19],[21,29,21,31],[21,32,21,34],[21,41,21,42],[23,0,23,89],[24,0,24,2],[24,3,24,5],[24,6,24,7],[24,8,24,9],[24,10,24,11],[24,12,24,14],[24,15,24,17],[24,18,24,20],[22,51,22,52],[22,53,22,54],[22,56,22,57],[22,58,22,60],[22,61,22,62],[22,63,22,65],[22,37,22,38],[22,39,22,40],[22,41,22,42],[21,0,22,2],[22,29,22,31],[22,32,22,34],[22,35,22,36],[21,58,21,60],[21,61,21,62],[21,63,21,65],[21,66,22,73],[22,43,22,44],[22,45,22,46],[22,47,22,49],[19,68,20,69],[19,70,20,71],[19,72,20,73],[17,29,20,31],[17,32,20,34],[17,35,20,36],[19,74,20,75],[17,37,20,38],[17,39,20,40],[17,41,20,42],[21,74,22,75],[19,76,20,79],[19,51,20,52],[19,53,20,54],[19,55,20,55],[19,58,20,60],[19,61,20,62],[19,66,20,67],[17,63,20,65],[16,66,18,67],[16,68,18,69],[16,70,18,71],[16,72,18,73],[16,74,18,75],[16,76,18,79],[19,45,20,46],[19,47,20,49],[19,50,20,50],[17,43,18,46],[17,47,18,50],[17,51,18,55],[17,56,20,57],[17,58,18,62],[19,43,20,44],[11,0,14,2],[16,0,18,2],[16,6,18,6],[16,7,18,7],[16,8,18,8],[16,9,18,9],[16,10,18,10],[16,11,18,11],[16,12,18,13],[16,14,18,15],[16,16,16,17],[16,18,18,19],[19,18,19,19],[19,20,19,21],[19,23,19,24],[19,25,19,26],[19,27,19,28],[17,16,18,16],[17,17,18,17],[17,22,18,22],[17,23,18,24],[17,25,18,26],[17,27,18,28],[14,85,14,89],[15,12,15,19],[15,20,15,28],[15,29,15,65],[15,66,15,75],[11,28,14,30],[11,31,14,36],[11,37,14,40],[11,41,14,46],[11,47,11,68],[11,69,11,89],[11,14,14,16],[11,17,14,18],[11,3,14,5],[11,6,14,7],[11,8,14,9],[11,10,14,11],[11,12,14,13],[13,75,13,78],[13,79,13,80],[12,85,12,89],[13,47,13,52],[13,63,13,68],[13,69,13,74],[12,47,12,52],[12,63,12,68],[12,53,12,55],[12,56,12,59],[12,60,12,62],[13,53,13,55],[14,53,14,55],[14,56,14,59],[14,60,14,62],[11,19,14,20],[11,21,14,23],[11,24,14,25],[11,26,14,27],[9,69,9,72],[9,73,9,74],[9,76,9,78]],"merged_total":1135,"flags":["merged_cut"]}
[null,null,null,null,null,null,null,null,null,null,null,null,null,null,null,null,null,null,null,null,null,null,null,null,null,null,null,"DIRECCION - PROGRAMA  APS \nSUBSECRETARIA DE MEDICINA SOCIAL\nRONDA N°: 192   AÑO: 2025",null,null,null,null,null,null,null,null,null,null,null,null,null,null,null,null,null,null,null,null,null,null,null,null,null,null,"1r","2r","3r",null,"4r",null,"T",null,null,null,null,null,null,null,null,null,null,null,null,null,null,null,null,null,null,null,"Informe y orden de Ronda: ",6,null,null,null,null,2]
[null,null,null,null,null,null,null,"Area Operativa N°: ",4,null,null,null,null,null,"Nombre: ","MORILLO",null,null,null,null,null,null,null,null,null,null,null,null,null,null,null,null,null,null,null,null,null,null,null,null,null,null,null,null,null,null,"Mort. Mater. Acum. Año",null,null,null,null,null,null,null,0,{"$f":"CE41","v":0},0,null,{"$f":"CE41","v":0},null,{"$f":"SUM(BC2:BG2)","v":0},null,null,null,null,"Sector:",null,"VILLA LAS ROSAS",null,null,null,null,null,null,null,null,null,null,null,null,null,null,null,null,null,"N°",19]
[null,null,null,null,null,null,null,null,null,null,null,null,null,null,null,null,null,null,null,null,null,null,null,null,null,null,null,null,null,null,null,null,null,null,null,null,null,null,null,null,null,null,null,null,null,null,"Mort. 0-1 año Acum Año",null,null,null,null,null,null,null,0,{"$f":"BR41+BU41+BY41","v":0},1,null,{"$f":"BR41+BU41+BY41","v":0},null,{"$f":"SUM(BC3:BG3)","v":1},null,null,null,null,null,"Etnia: ","Criollo",null,null,null,null,null,null,null,null,null,null,null,null,null,null,null,null,null,"Sector Riesgo:"]
[null,null,null,null,null,null,null,"Establec. Base: ","HOSPITAL MORILLO",null,null,null,null,null,null,null,null,null,null,null,null,null,null,null,null,null,null,null,null,null,null,null,null,null,null,null,null,null,null,null,null,null,null,null,null,null,"Mort. 1-4 años Acum Año",null,null,null,null,null,null,null,0,{"$f":"CC41","v":0},0,null,{"$f":"CC41","v":0},null,{"$f":"SUM(BC4:BG4)","v":0},null,null,null,null,null,null,null,null,null,null,null,null,"Desde: ","07/03/2025",null,null,null,null,null,null,null,null,"Hasta: ","05/06/2026"]
[null,null,null,null,null,null,null,null,null,null,null,null,null,null,null,null,null,null,null,null,null,null,null,null,null,null,null,null,null,null,null,null,null,null,null,null,null,null,null,null,null,null,null,null,null,null,null,null,null,null,null,null,null,null,null,null,null,null,null,null,null,null,null,null,null,null,null,null,null,null,null,null,null,null,null,null,null,null,null,"Cobertura: ","CUBIERTO"]
[null,null,null,null,null,null,null,"Sup. Intermedio: ","Miguel Correa",null,null,null,null,null,null,null,null,null,null,null,null,null,null,null,null,null,null,null,null,null,null,null,"Responsable A.P.S.: ","Dr. Abel Ibarra",null,null,null,null,null,null,null,null,null,null,null,null,null,null,null,null,null,null,null,null,null,null,"Agente Sanitario: ","FERREYRA, Raquel U.",null,null,null,null,null,null,null,null,null,null,null,null,null,null,null,null,"Sit. Revista: ","DESIG.TEMPORARIA",null,null,null,null,null,"Reg. Horario: ","30 HS."]
[]
["A) FAMILIAS VISITADAS EN LA RONDA",null,null,null,null,null,null,null,null,null,null,null,null,null,null,null,null,null,null,null,null,null,null,null,null,null,null,null,null,null,null,null,null,null,null,null,null,null,null,null,null,null,null,null,null,null,null,"B) FACTORES DE PRIORIZACION DE VISITAS"]
["ASIGNADAS",null,null,"VISITADAS",null,null,"TOTAL\nVISITAS",null,"NO VISITADAS",null,null,null,null,null,null,null,null,"FLIAS ORIG.",null,"FLIAS. URB.",null,"FLIAS. PERIURB",null,null,"FLIAS. RURALES",null,"GOLON\nMIGRANTES",null,null,null,null,"FLIAS. CON PL. SOCIALES",null,null,null,null,null,"PRODUCCION\nFAMILIAR",null,null,null,null,null,null,null,null,null,1,null,2,null,3,null,null,4,null,5,null,6,null,7,null,null,8,null,null,9,null,null,10,null,null,null,11,null,null,12,null,null,null,13,null,null,14,null,null,15]
[null,null,null,null,null,null,null,null,"RECHAZO TOTAL",null,"AUSEN\n-TE",null,"NO VISITADAS",null,"TOT NO VISIT.",null,null,null,null,null,null,null,null,null,null,null,"HACIA\nEL AO",null,"DESDE\nEL AO",null,null,null,null,null,null,null,null,"HUERTA",null,null,null,"GRANJA",null,null,null,null,null,0,null,0,null,0,null,null,0,null,0,null,0,null,0,null,null,0,null,null,0,null,null,"Total",null,null,null,"Tot",null,"Trat","Tot.",null,null,"Trat.","Tot.","Trat.",null,"Tot.",null,"Trat","Total"]
[null,null,null,null,null,null,null,null,null,null,0,null,null,null,null,null,null,null,null,null,null,null,null,null,null,null,null,null,null,null,null,null,null,null,null,null,null,null,null,null,null,null,null,null,null,null,null,null,null,null,null,null,null,null,null,null,null,null,null,null,null,null,null,null,null,null,null,null,null,0,null,null,null,0,null,0,0,null,null,0,0,0,null,0,null,0,0]
[0,null,null,0,null,null,0,null,0,null,0,null,0,null,{"$f":"M12+K12+I12","v":0},null,null,0,null,0,null,0,null,null,0,null,0,null,0,null,null,0,null,null,null,null,null,0,null,null,null,0,null,null,null,null,null,"C) VISITAS A FLIAS. PRIORIZADAS",null,null,null,null,null,null,null,null,null,null,null,null,null,null,null,null,null,null,null,null,null,"D) SUPERV. A FLIAS. "]
[null,null,null,null,null,null,null,null,null,null,null,null,null,null,null,null,null,null,null,null,null,null,null,null,null,null,null,null,null,null,null,null,null,null,null,null,null,null,null,null,null,null,null,null,null,null,null,"PRIORIDAD",null,null,null,null,null,1,null,null,2,null,null,null,3,null,null,"Total",null,null,null,null,null,"PRIORIDAD",null,null,null,null,null,1,null,null,null,2,null,3,null,null,null,"TOTAL"]
[null,null,null,null,null,null,null,null,null,null,null,null,null,null,null,null,null,null,null,null,null,null,null,null,null,null,null,null,null,null,null,null,null,null,null,null,null,null,null,null,null,null,null,null,null,null,null,"N° FAMILIAS",null,null,null,null,null,0,null,null,0,null,null,null,0,null,null,{"$f":"SUM(BB14:BI14)","v":0},null,null,null,null,null,"INTERMEDIA",null,null,null,null,null,0,null,null,null,0,null,0,null,null,null,{"$f":"SUM(BX14:CD14)","v":0}]
[null,null,null,null,null,null,null,null,null,null,null,null,null,null,null,null,null,null,null,null,null,null,null,null,null,null,null,null,null,null,null,null,null,null,null,null,null,null,null,null,null,null,null,null,null,null,null,"VISITAS",null,null,null,null,null,0,null,null,0,null,null,null,0,null,null,{"$f":"SUM(BB15:BI15)","v":0},null,null,null,null,null,"PROFESIONAL",null,null,null,null,null,0,null,null,null,0,null,0,null,null,null,{"$f":"SUM(BX15:CB15)","v":0}]
["E) EDAD FERTIL",null,null,null,null,"F) EMBARAZADAS",null,null,null,null,null,null,"G) PARTOS",null,null,null,null,null,null,null,"H) R.N. EN LA RONDA",null,null,null,null,null,null,null,null,"I) EVALUACION ANTROPOMETRICA",null,null,null,null,null,null,null,null,null,null,null,null,null,null,null,null,null,null,null,null,null,null,null,null,null,null,null,null,null,null,null,null,null,null,null,null,"NIÑ MBP/BP/RBP CTRL. INT.",null,null,null,null,null,null,null,null,null,"LACT. MATERNA"]
["PAP",null,null,0,null,"CAPT. 1er TRIMESTRE","ESP EN EL AÑO","ACUMULADAS","NUEVAS\nRONDA","TOTAL","DE RIESGO","<19 Años","TOTAL",null,"HOSPITALARIOS",null,"DOMIC.",null,"N° PUERPERAS",null,"NACIDOS VIVOS",null,"P AL NACER",null,null,null,null,null,null,"NIÑOS CONTROLADOS",null,null,null,null,null,null,null,null,null,null,null,null,null,null,null,null,null,null,null,null,null,null,null,null,null,null,null,null,null,null,null,null,null,null,null,null,"MELAN",null,"MED",null,"ENF.",null,"LAB",null,"NUTR",null,"< 6 M EN LA RONDA",null,null,null,{"$f":"CC20+CC22+CC23","v":0}]
[null,null,null,null,null,null,null,null,null,null,null,null,null,null,null,null,"DOM","ASIS",null,null,null,null,"ALTO PESO","ADEC",null,"BAJO PESO",null,"MB\nPESO",null,"EDAD",null,null,"A CONTROLAR",null,null,"ADECUADO",null,"BP\nBAJO PESO",null,"MBP\nMUY B. PESO",null,"ALTO PESO",null,"RIESGO",null,null,null,"RECUPERADOS",null,null,null,"TALLA / EDAD",null,null,null,null,"NUEVOS\nEPISODIOS",null,"PERDIDOS",null,null,null,null,"FALLECIDOS\nC/ANTEC. ANTROPOM."]
[]
["Antic.",null,null,0,null,0,{"$f":"IF(ISERROR(((CC92*1.8)/100)),0,(((CC92*1.8)/100)))","v":0},0,0,{"$f":"SUM(F23:L23)","v":0},0,0,{"$f":"O20+Q20+R20","v":0},null,0,null,0,0,0,null,{"$f":"W20+X20+Z20+AB20","v":0},null,0,0,null,0,null,0,null,null,null,null,null,null,null,null,null,null,null,null,null,null,null,"BP",null,"AP",null,"BP",null,null,"AP","BT",null,"MBT",null,"RGO\nBT",null,null,"BP\nMBP",null,null,"A.P.",null,null,null,null,0,null,0,null,0,null,0,null,0,null,"EXCLUSIVO",null,null,null,0]
[null,null,null,null,null,"CONTROLES",null,null,null,null,null,null," ",null,null,null,null,null,null,null,"PREMATUROS",null,null,null,"PESQUISA"]
["Aborto",null,null,0,null,"MELON",null,"MEL","MED","ENF","LAB","S/C","PUERP",null,null,null,"R.N.",null,null,null,null,null,null,null,null,null,null,null,null,"< 2 años",null,null,{"$f":"A27+C27+D27+F27+G27+H27","v":0},null,null,0,null,0,null,0,null,0,null,0,null,0,null,0,null,null,0,0,null,0,null,0,0,null,0,null,null,0,null,0,null,null,"CONTROLES EN DOMIC. NIÑO BP o MBP",null,null,null,null,null,null,null,0,null,"MIXTA",null,null,null,0]
[null,null,null,null,null,0,null,0,0,0,0,0,0,null,null,null,0,null,null,null,0,null,null,null,0,null,null,null,null,"2 a 6 años",null,null,{"$f":"I27+J27+K27+L27+M27+O27+P27+R27","v":0},null,null,0,null,0,null,0,null,0,null,0,null,0,null,0,null,null,0,0,null,0,null,0,0,null,0,null,null,0,null,0,null,null,null,null,null,null,null,null,null,null,null,null,"ARTIF",null,null,null,0]
["J) DATOS DE POBLACION"]
["0 a 5m",null,null,"6 a 11m",null,null,"1 AÑO",null,"2 AÑOS",null,"3 AÑOS",null,"4 AÑOS",null,null,"5 AÑOS",null,null,"6 AÑOS",null,null,"7 A 9 AÑOS",null,null,null,"10 AÑOS",null,"11 AÑOS",null,null,"12 A 14",null,null,null,null,null,"15 A 19",null,null,"20 A 24",null,null,null,"25 A 29",null,null,null,"30 A 34",null,null,null,"35 A 39",null,null,null,"40 A 44",null,null,null,null,"45 A 49",null,null,null,"50 A 54",null,null,null,"55 A 59",null,null,null,"60 A 64",null,null,null,"65 y +",null,null,null,"TOTAL",null,null,null,null,"MUJERES\n10 A 49","O. SOCIAL",null,"INDOCUM"]
["M",null,"F","M",null,"F","M","F","M","F","M","F","M",null,"F","M",null,"F","M",null,"F","M",null,"F",null,"M","F","M",null,"F","M",null,null,"F",null,null,"M","F",null,"M",null,"F",null,"M",null,null,"F","M",null,null,"F","M",null,"F",null,"M",null,null,"F",null,"M",null,"F",null,"M",null,"F",null,"M",null,"F",null,"M",null,"F",null,"M",null,null,"F","M",null,"F"]
[0,null,0,0,null,0,0,0,0,0,0,0,0,null,0,0,null,0,0,null,0,0,null,0,null,0,0,0,null,0,0,null,null,0,null,null,0,0,null,0,null,0,null,0,null,null,0,0,null,null,0,0,null,0,null,0,null,null,0,null,0,null,0,null,0,null,0,null,0,null,0,null,0,null,0,null,0,null,null,0,{"$f":"BY27+BU27+BQ27+BM27+BI27+BD27+AZ27+AV27+AR27+AN27+AK27+AE27+AB27+Z27+V27+S27+P27+M27+K27+I27+G27+D27+A27","v":0},null,{"$f":"CB27+BW27+BS27+BO27+BK27+BG27+BB27+AY27+AU27+AP27+AL27+AH27+AD27+AA27+X27+U27+R27+O27+L27+J27+H27+F27+C27","v":0},null,null,{"$f":"BK27+BG27+BB27+AY27+AU27+AP27+AL27+AH27+AD27+AA27","v":0},0,null,0]
[{"$f":"A27+C27","v":0},null,null,{"$f":"D27+F27","v":0},null,null,{"$f":"G27+H27","v":0},null,{"$f":"I27+J27","v":0},null,{"$f":"K27+L27","v":0},null,{"$f":"M27+O27","v":0},null,null,{"$f":"P27+R27","v":0},null,null,{"$f":"S27+U27","v":0},null,null,{"$f":"V27+X27","v":0},null,null,null,{"$f":"Z27+AA27","v":0},null,{"$f":"AB27+AD27","v":0},null,null,{"$f":"AE27+AH27","v":0},null,null,null,null,null,{"$f":"AL27+AK27","v":0},null,null,{"$f":"AN27+AP27","v":0},null,null,null,{"$f":"AR27+AU27","v":0},null,null,null,{"$f":"AV27+AY27","v":0},null,null,null,{"$f":"AZ27+BB27","v":0},null,null,null,{"$f":"BD27+BG27","v":0},null,null,null,null,{"$f":"BI27+BK27","v":0},null,null,null,{"$f":"BM27+BO27","v":0},null,null,null,{"$f":"BQ27+BS27","v":0},null,null,null,{"$f":"BU27+BW27","v":0},null,null,null,{"$f":"BY27+CB27","v":0},null,null,null,{"$f":"CC27+CE27","v":0}]
["K) TUBERCULOSIS ",null,null,null,null,null,null,null,null,null,null,null,null,null,null," CHAGAS ",null,null,null,null,null,"L) PERSONAS CON ENF. CRONICAS",null,null,null,null,null,null,null,null,null,null,null,"M) OBSERVACIONES"]
["Coef. Sint.Resp.: ",null,null,"MUESTRAS",null,null,null,null,"TRATAM. TBC",null,null,null,null,null,null,"TRATAMIENTOS CHAGAS",null,null,null,null,null,"PERSONAS CON",null,null,null,null,null,"TOTAL",null,null,"EN TRAT.",null,null," "]
[{"$f":"Control!H9","v":8},null,null,"DIAGNOSTICOS",null,null,"CONTROL",null,"Total",null,"TAES",null," ABANDONO",null,null,"INICIO ",null,null,0,null,null,"DIABETES",null,null,null,null,null,0,null,null,0]
["SINT. ESP..",null,null,"Tot",null,"(+)","Tot","(+)",0,null,0,null,0,null,null,"FINALIZACION ",null,null,0,null,null,"HIPERTENSION \nARTERIAL",null,null,null,null,null,0,null,null,0]
[{"$f":"IF(ISERROR(((AK91+AL91+AN91+AP91+AR91+AU91+AV91+AY91+AZ91+BB91+BD91+BG91+BI91+BK91+BM91+BO91+BQ91+BS91+BU91+BW91+BY91+CB91)*0.2)*A31/100),0,(((AK91+AL91+AN91+AP91+AR91+AU91+AV91+AY91+AZ91+BB91+BD91+BG91+BI91+BK91+BM91+BO91+BQ91+BS91+BU91+BW91+BY91+CB91)*0.2)*A31/100))","v":0},null,null,0,null,0,0,0,"QUIMIO Total",null,0,null,null,null,null,null,null,null,null,null,null,"PERSONAS CON OTRAS ENF. CRONICAS AL CUIDADO DE NIÑOS",null,null,null,null,null,0,null,null,0]
["SINT. DETEC.",null,null,"CONTACTO",null,null,null,null,"CTRL. MEDICO",null,null,null,"FINALIZAD0",null,null,"ABANDONO ",null,null,0]
[0,null,null,"< 14a",null,null,"> 15a",null,"Pcte/Rda",null,"A Cont",null,0,null,null,null,null,null,null,null,null,"ADULTOS MAYORES EN SITUACION DE RIESGO",null,null,null,null,null,0]
[null,null,null,0,null,null,0,null,0,null,0]
["N) DERIVACIONES",null,null,null,null,null,null,null,null,null,null,null,null,null,null,null,null,null,null,null,null,null,null,null,null,null,null,null,null,null,null,null,null,null,null,null,null,null,null,null,null,"Ñ) VIVIENDA Y SANEAMIENTO",null,null,null,null,null,null,null,null,null,null,null,null,null,null,null,null,null,null,null,null,null,null,null,null,null,null,null,"O) DEFUNCIONES EN LA RONDA"]
[null,null,null,null,null,null,null,null,null,null,null,null,null,null,null,null,null,null,null,null,null,null,null,null,null,null,null,null,null,null,null,null,null,null,null,null,null,null,null,null,null,"TRAT. AGUA",null,null,null,null,null,"DISP SANITARIA EXCRETAS",null,null,null,null,null,null,null,null,null,null,null,"TRATAM. SANIT BASURA",null,null,null,null,null,null,null,null,null,"MENORES 1 AÑO",null,null,null,null,null,null,null,null,null,null,"1 a 4 AÑOS",null,"MATERNA",null,null,null,"OTRAS"]
["EMB",null,null,null,"RN",null,null,null,"PUERP",null,null,null,"Menores de 6 años",null,null,null,null,null,null,null,"E.\nCRONICAS",null,"PAP",null,"CHAGAS",null,null,null,"TBC",null,null,null,"PSICOSOC",null,null,null,"TOTAL\nDERIVACIONES",null,null,null,null,"RED",null,"EN\nVIV",null,null,"S/T","ARRASTRE",null,null,null,null,null,"LETRINA",null,null,null,"S/T",null,"REC. DOMIC.",null,null,"POZO BASURA",null,null,null,"S/T",null,null,"<7d",null,null,"7 a 28d",null,null,null,"29d a 11 m"]
[null,null,null,null,null,null,null,null,null,null,null,null,"BP- MBP",null,"RGO BP",null,"Resp",null,"Diarr",null,null,null,null,null,null,null,null,null,null,null,null,null,null,null,null,null,null,null,null,null,null,null,null,null,null,null,null,"CLOACAS",null,"PC-CT",null,"PC-ST",null,"CT",null,"ST"]
["Env",null,"Rec",null,"Env",null,"Rec",null,"Env",null,"Rec",null,"Env","Rec","Env","Rec","Env","Rec","Env","Rec","Env","Rec","Env","Rec","Env",null,"Rec",null,"Env",null,"Rec",null,"Env",null,"Rec",null,"ENV",null,null,"Rec",null,0,null,0,null,null,0,0,null,0,null,0,null,0,null,0,null,0,null,0,null,null,0,null,null,null,0,null,null,0,null,null,0,null,null,null,0,null,null,null,0,null,0,null,null,null,0]
[null,null,null,null,null,null,null,null,null,null,null,null,null,null,null,null,null,null,null,null,null,null,null,null,null,null,null,null,null,null,null,null,null,null,null,null,null,null,null,null,null,"CASAS ",null,null,null,null,null,null,null,null,null,null,null,"CHAGAS",null,null,null,null,null,null,null,null,null,null,null,"DENGUE CHIKUNGUNYA",null,null,null,null,null,null,null,null,null,null,null,"P) PROM. SALUD"]
[0,null,0,null,0,null,0,null,0,null,0,null,0,0,0,0,0,0,0,0,0,0,0,0,0,null,0,null,0,null,0,null,0,null,0,null,{"$f":"AG43+AC43+Y43+W43+U43+S43+Q43+O43+M43+I43+E43+A43","v":0},null,null,{"$f":"AI43+AE43+AA43+X43+V43+T43+R43+P43+N43+K43+G43+C43","v":0},null,"ASIGNADAS",null,null,null,null,"VISITADAS",null,null,"VACIAS",null,"DESTRUIDAS",null,"EVALUADAS",null,null,"POSITIVAS",null,null,null,null,"TRATADAS",null,null,null,"EVALUADAS",null,null,null,"POSITIVAS",null,null,null,"TRATADAS",null,null,null,"PLANIFICADAS \nEN COMUNIDAD",null,null,null,null,null,null,null,0]
[]
[null,null,null,null,null,null,null,null,null,null,null,null,null,null,null,null,null,null,null,null,null,null,null,null,null,null,null,null,null,null,null,null,null,null,null,null,null,null,null,null,null,0,null,null,null,null,0,null,null,0,null,0,null,0,null,null,0,null,null,null,null,0,null,null,null,0,null,null,null,0,null,null,null,0,null,null,null,"REALIZADAS ",null,null,null,null,null,null,null,0]
["Q) INDICADORES"]
["DE ESTRUCTURA",null,null,null,null,null,"SI","NO","DE PRODUCCION",null,null,null,null,null,"%","META",null," DE INMUNIZACIONES",null,null,null,null,null,null,null,null,null,null,null,null,null,null,null,null," DE INMUNIZACIONES",null,null,null,null,null,null,null,null,null,null,null,null,null,null,null,null,null,null,null,null,null,null,null,null,null,null," DE RESULTADO",null,null,null,null,null,null,null,null,"%",null,"META",null,null," DE RESULTADO",null,null,null,null,null,null,null,null,null,"%",null,"META RDA"]
["Formularios",null,null,null,null,null,0,0,"Cobertura a Familias",null,null,null,null,null,{"$f":"IF(ISERROR(D12/A12),0,(D12/A12)*100)","v":0},100,null,"VACUNA",null,null,null,null,"P. REF",null,"1r","2r","3r","4r",null,"T","%",null,"META",null,"VACUNA",null,null,null,null,null,null,null,null,null,"P. REF",null,null,"1r",null,null,"2r","3r",null,null,"4r","T",null,"%",null,"META",null,"Ed Fértil c/Anticoncepción",null,null,null,null,null,null,null,null,{"$f":"IF(ISERROR(D20/CH27),0,(D20/CH27)*100)","v":0},null,null,null,null,"Niños 2 a 5 Recup BP",null,null,null,null,null,null,null,null,null,{"$f":"IF(ISERROR(AV23/K80),0,(AV23/K80)*100)","v":0},null,100]
["Equipo",null,null,null,null,null,0,0,"Niños < 2 años Controlados",null,null,null,null,null,{"$f":"IF(ISERROR(((AJ22+AL22+AN22+AP22)/(A28+D28+G28))),0,(((AJ22+AL22+AN22+AP22)/(A28+D28+G28)))*100)","v":0},100,null,"BCG RN",null,null,null,null,{"$f":"U20","v":0},null,0,0,0,0,null,{"$f":"SUM(Y49:AB49)","v":0},{"$f":"IF(ISERROR(Z49/W49),0,(Z49/W49)*100)","v":0},null,100,null,"2 Ref. Varicela Ingreso Esc",null,null,null,null,null,null,null,null,null,9,null,null,0,null,null,0,0,null,null,0,{"$f":"SUM(AV49:BC49)","v":0},null,{"$f":"IF(ISERROR(AY49/AS49),0,(AY49/AS49)*100)","v":0},null,25,null,"PAP",null,null,null,null,null,null,null,null,{"$f":"IF(ISERROR(D17/CH27),0,(D17/CH27)*100)","v":0},null,null,null,null,"Niños 2 a 5 Recup AP",null,null,null,null,null,null,null,null,null,{"$f":"IF(ISERROR(AY23/K82),0,(AY23/K82)*100)","v":0},null,100]
["Combustible",null,null,null,null,null,0,0,"Niños  (2 a 5 años) Controlados",null,null,null,null,null,{"$f":"IF(ISERROR(((AJ23+AL23+AN23+AP23)/(I28+K28+M28+P28))),0,(((AJ23+AL23+AN23+AP23)/(I28+K28+M28+P28)))*100)","v":0},100,null,"Hepatitis B RN","Hepatitis B RN",null,"Hepatitis B RN","Hepatitis B RN",null,null,0,0,0,0,null,{"$f":"SUM(Y50:AB50)","v":0},{"$f":"IF(ISERROR(Z50/W49),0,(Z50/W49)*100)","v":0},null,null,null,"2° Ref. Antipolio Ingreso Escolar",null,null,null,null,null,null,null,null,null,null,null,null,0,null,null,0,0,null,null,0,{"$f":"SUM(AV50:BC50)","v":0},null,{"$f":"IF(ISERROR(AY50/AS49),0,(AY50/AS49)*100)","v":0},null,null,null,"Embarazadas Con MELON",null,null,null,null,null,null,null,null,{"$f":"IF(ISERROR(F23/J20),0,(F23/J20)*100)","v":0},null,80,null,null,"Niños 6 meses con LME",null,null,null,null,null,null,null,null,null,{"$f":"IF(ISERROR(CC20/CC17),0,(CC20/CC17)*100)","v":0},null,80]
[" DE DIAGNOSTICO",null,null,null,null,null,null,"%","Conc. Vis. Flias Prio",null,null,null,null,null,{"$f":"IF(ISERROR((BB15+BE15)/(BB14+BE14)),0,((BB15+BE15)/(BB14+BE14)))","v":0},25,null,"2° Neumococo < 1a","3ª SOT/Salk < 1a",null,"3ª SOT/Salk < 1a","3ª SOT/Salk < 1a",{"$f":"A91+C91+D91+F91","v":0},null,1,0,0,0,null,{"$f":"SUM(Y51:AB51)","v":1},{"$f":"IF(ISERROR(Z51/W51),0,(Z51/W51)*100)","v":0},null,100,null,"2° Ref. DPT Ingreso Escolar",null,null,null,null,null,null,null,null,null,null,null,null,0,null,null,0,0,null,null,0,{"$f":"SUM(AV51:BC51)","v":0},null,{"$f":"IF(ISERROR(AY51/AS49),0,(AY51/AS49)*100)","v":0},null,null,null,"Partos Hospitalarios",null,null,null,null,null,null,null,null,{"$f":"IF(ISERROR(O20/M20),0,(O20/M20)*100)","v":0},null,100]
["Flias Priorizadas 3 + 2:",null,null,null,null,null,null,{"$f":"IF(ISERROR((BB14+BE14)/D12),0,(BB14+BE14)/D12*100)","v":0},"Conc.C.Dom Niños Bp/MBP",null,null,null,null,null,{"$f":"IF(ISERROR(BW22/(AL22+AN22+AL23+AN23)),0,(BW22/(AL22+AN22+AL23+AN23)))","v":0},3,null,"2° Rotavirus <1 a","3º Pentavalente <1 a",null,"3º Pentavalente <1 a","3º Pentavalente <1 a",null,null,1,0,0,0,null,{"$f":"SUM(Y52:AB52)","v":1},{"$f":"IF(ISERROR(Z52/W51),0,(Z52/W51)*100)","v":0},null,null,null,"2° TV Ingreso Escolar",null,null,null,null,null,null,null,null,null,null,null,null,0,null,null,0,0,null,null,0,{"$f":"SUM(AV52:BC52)","v":0},null,{"$f":"IF(ISERROR(AY52/AS49),0,(AY52/AS49)*100)","v":0},null,100,null,"Conc Control Médico a RN",null,null,null,null,null,null,null,null,{"$f":"IF(ISERROR(Q23/M20),0,(Q23/M20))","v":0},null,4,null,null,"% Niños BP MBP y RBP con MELaN",null,null,null,null,null,null,null,null,null,{"$f":"IF(ISERROR(BO20/(AL22+AN22+AR22+AL23+AN23+AR23)),0,(BO20/(AL22+AN22+AR22+AL23+AN23+AR23))*100)","v":0},null,100]
["Flias Urbanas",null,null,null,null,null,null,{"$f":"IF(ISERROR(T12/D12),0,(T12/D12)*100)","v":0},"Rel. Muestra/Sint Resp.",null,null,null,null,null,{"$f":"IF(ISERROR(D33/A35),0,(D33/A35))","v":0},2,null,"2° Meningococo < 1a",null,null,null,null,null,null,2,0,0,0,null,{"$f":"SUM(Y53:AB53)","v":2},{"$f":"IF(ISERROR(Z53/W51),0,(Z53/W51)*100)","v":0},null,null,null,"dTpa 11 años",null,null,null,null,null,null,null,null,null,10,null,null,0,null,null,0,0,null,null,0,{"$f":"SUM(AV53:BC53)","v":0},null,{"$f":"IF(ISERROR(AY53/AS53),0,(AY53/AS53)*100)","v":0},null,null,null,"Conc Control Méd. a puérpera",null,null,null,null,null,null,null,null,{"$f":"IF(ISERROR(M23/S20),0,(M23/S20))","v":0},null,4,null,null,"Sint Resp Detect. Seg zona",null,null,null,null,null,null,null,null,null,{"$f":"IF(ISERROR((A35*100)/(((20*(AK28+AN28+AR28+AV28+AZ28+BD28+BI28+BM28+BQ28+BU28+BY28))/100)*A31)),0,(A35*100)/((((20*(AK28+AN28+AR28+AV28+AZ28+BD28+BI28+BM28+BQ28+BU28+BY28))/100)*A31)/100))","v":0},null,"S/Z"]
["Flias Periurbanas",null,null,null,null,null,null,{"$f":"IF(ISERROR(V12/D12),0,(V12/D12)*100)","v":0},"Casas Evaluadas Chagas",null,null,null,null,null,{"$f":"IF(ISERROR(BB45/AU45),0,(BB45/AU45)*100)","v":0},100,null,"3° Antipolio < 1 año","2ª Rotavirus < 1 año",null,"2ª Rotavirus < 1 año","2ª Rotavirus < 1 año",null,null,0,0,0,0,null,{"$f":"SUM(Y54:AB54)","v":0},{"$f":"IF(ISERROR(Z54/W51),0,(Z54/W51)*100)","v":0},null,null,null,"U.D. Meningococo",null,null,null,null,null,null,null,null,null,null,null,null,0,null,null,0,0,null,null,0,{"$f":"SUM(AV54:BC54)","v":0},null,{"$f":"IF(ISERROR(AY54/AS53),0,(AY54/AS53)*100)","v":0},null,"95% AL 1° SEM",null,"RN con Pesquisa",null,null,null,null,null,null,null,null,{"$f":"IF(ISERROR(Y23/U20),0,(Y23/U20)*100)","v":0},null,100,null,null,"Pacientes TBC con Control Médico",null,null,null,null,null,null,null,null,null,{"$f":"IF(ISERROR(I36/I32),0,(I36/I32)*100)","v":0},null,100]
["Flias Rurales",null,null,null,null,null,null,{"$f":"IF(ISERROR(Y12/D12),0,(Y12/D12)*100)","v":0},"Casas Tratadas Chagas",null,null,null,null,null,{"$f":"IF(ISERROR(BJ45/BE45),0,(BJ45/BE45)*100)","v":0},100,null,"3° Pentavalente <1 año","TV 1 año",null,"TV 1 año","TV 1 año",null,null,0,0,0,0,null,{"$f":"SUM(Y55:AB55)","v":0},{"$f":"IF(ISERROR(Z55/W51),0,(Z55/W51)*100)","v":0},null,null,null,"1° HPV Niñas cumplen 11 a en año en curso",null,null,null,null,null,null,null,null,null,6,null,null,0,null,null,0,0,null,null,0,{"$f":"SUM(AV55:BC55)","v":0},null,{"$f":"IF(ISERROR(AY55/AS55),0,(AY55/AS55)*100)","v":0},null,null,null,"Derivaciones Enviadas/Recibidas",null,null,null,null,null,null,null,null,{"$f":"IF(ISERROR(AN43/AK43),0,(AN43/AK43)*100)","v":0},null,100,null,null,"Contactos TBC Controlados",null,null,null,null,null,null,null,null,null,{"$f":"IF(ISERROR(K36/(D36+G36)),0,(K36/(D36+G36)))*100","v":0},null,100]
["Flias Originarias",null,null,null,null,null,null,{"$f":"IF(ISERROR(R12/D12),0,(R12/D12)*100)","v":0},"Casas Evaluadas Dengue",null,null,null,null,null,{"$f":"IF(ISERROR(BN45/AU45),0,(BN45/AU45)*100)","v":0},100,null,"1° TV","A HA 1 año",null,"A HA 1 año","A HA 1 año",{"$f":"G91+H91","v":0},null,0,0,0,0,null,{"$f":"SUM(Y56:AB56)","v":0},{"$f":"IF(ISERROR(Z56/W56),0,(Z56/W56)*100)","v":0},null,100,null,"1° HPV Niños cumplen 11 a en año en curso",25,25,null,null,null,null,null,null,null,4,null,null,0,null,null,0,0,null,null,0,{"$f":"SUM(AV56:BC56)","v":0},null,{"$f":"IF(ISERROR(AY56/AS56),0,(AY56/AS56)*100)","v":0},null,"95% AL 1° SEM",null,"Niños < 2 a Riesgo BP",null,null,null,null,null,null,null,null,{"$f":"IF(ISERROR(AR22/AJ22),0,(AR22/AJ22)*100)","v":0},null,null,null,null,"TAES de TBC",null,null,null,null,null,null,null,null,null,{"$f":"IF(ISERROR(K32/I32),0,(K32/I32)*100)","v":0},null,100]
["Flias Migr. desde AO",null,null,null,null,null,null,{"$f":"IF(ISERROR(AC12/A12),0,(AC12/A12)*100)","v":0},"Casas Tratadas Dengue",null,null,null,null,null,{"$f":"IF(ISERROR(BV45/BR45),0,(BV45/BR45)*100)","v":0},100,null,"2° TV","A HA 1 año",null,"A HA 1 año","A HA 1 año",null,null,0,0,0,0,null,{"$f":"SUM(Y57:AB57)","v":0},{"$f":"IF(ISERROR(Z57/W56),0,(Z57/W56)*100)","v":0},null,null,null,"Emb. con dTpa",null,null,null,null,null,null,null,null,null,3,null,null,0,null,null,0,0,null,null,0,{"$f":"SUM(AV57:BC57)","v":0},null,{"$f":"IF(ISERROR(AY57/AS57),0,(AY57/AS57)*100)","v":0},null,null,null,"Niños < 2 a Riesgo AP",null,null,null,null,null,null,null,null,{"$f":"IF(ISERROR(AT22/AJ22),0,(AT22/AJ22)*100)","v":0},null,null,null,null,"Ptes. con tratamiento por Chagas",null,null,null,null,null,null,null,null,null,{"$f":"S31","v":0}]
["Flias Migr. hacia el AO",null,null,null,null,null,null,{"$f":"IF(ISERROR(AA12/A12),0,(AA12/A12)*100)","v":0},"Superv Int. a la Familia",null,null,null,null,null,{"$f":"IF(ISERROR((CH14*100)/BL14),0,((CH14*100)/BL14))","v":0},20,null,"Unica Dosis A HA",null,null,null,null,null,null,0,0,0,0,null,{"$f":"SUM(Y58:AB58)","v":0},{"$f":"IF(ISERROR(Z58/W56),0,(Z58/W56)*100)","v":0},null,null,null,"Emb. con Vac Sinsicial",null,null,null,null,null,null,null,null,null,null,null,null,0,null,null,0,0,null,null,0,{"$f":"SUM(AV58:BC58)","v":0},null,{"$f":"IF(ISERROR(AY58/AS57),0,(AY58/AS57)*100)","v":0},null,100,null,"Niños < 2 Recup BP",null,null,null,null,null,null,null,null,{"$f":"IF(ISERROR(AV22/K79),0,(AV22/K79)*100)","v":0},null,100,null,null,"Casas positivas Chagas",null,null,null,null,null,null,null,null,null,{"$f":"IF(ISERROR(BE45/BB45),0,(BE45/BB45)*100)","v":0},null,0]
["Flias con planes sociales",null,null,null,null,null,null,{"$f":"IF(ISERROR(AF12/D12),0,(AF12/D12)*100)","v":0},"Superv Prof. Flias Prio (3v)",null,null,null,null,null,{"$f":"IF(ISERROR(CH15/(BB14+BE14)),0,(CH15/(BB14+BE14))*100)","v":0},70,null,"Ref Neumococo 1 año","Ref Neumoc 1 año",null,"Ref Neumoc 1 año","Ref Neumoc 1 año",null,null,0,0,0,0,null,{"$f":"SUM(Y59:AB59)","v":0},{"$f":"IF(ISERROR(Z59/W56),0,(Z59/W56)*100)","v":0},null,null,null,"dT  Vigente > 65 a",null,null,null,null,null,null,null,null,null,40,null,null,0,null,null,0,0,null,null,0,{"$f":"SUM(AV59:BC59)","v":0},null,{"$f":"IF(ISERROR(AY59/AS59),0,(AY59/AS59)*100)","v":0},null,100,null,"Niños < 2 Recup AP",null,null,null,null,null,null,null,null,{"$f":"IF(ISERROR(AY22/K81),0,(AY22/K81)*100)","v":0},null,100,null,null,"Casas Positivas Aedes",null,null,null,null,null,null,null,null,null,{"$f":"IF(ISERROR(BR45/BN45),0,(BR45/BN45)*100)","v":0},null," "]
[null,null,null,null,null,null,null,null,"% Activ Prom.Salud Comunitarias",null,null,null,null,null,{"$f":"IF(ISERROR(CH45/CH43),0,(CH45/CH43)*100)","v":0},100,null,"Ref. Meningococo 1 año","Ref Cuádruple 1 año",null,"Ref Cuádruple 1 año","Ref Cuádruple 1 año",null,null,0,0,0,0,null,{"$f":"SUM(Y60:AB60)","v":0},{"$f":"IF(ISERROR(Z60/W56),0,(Z60/W56)*100)","v":0},null,null,null,"Neumo 20 > 65 años",null,null,null,null,null,null,null,null,null,null,null,null,0,null,null,0,0,null,null,0,{"$f":"SUM(AV60:BC60)","v":0},null,{"$f":"IF(ISERROR(AY60/AS59),0,(AY60/AS59)*100)","v":0},null,null,null,"Niños 2 a 5 Riesgo BP",null,null,null,null,null,null,null,null,{"$f":"IF(ISERROR(AR23/AJ23),0,(AR23/AJ23)*100)","v":0},null,null,null,null,"UROCS 1/SEC",null,null,null,null,null,null,null,null,null,0,null,"1/SEC"]
["Flias. c/Antec Mort Mat Inf",null,null,null,null,null,null,{"$f":"IF(ISERROR(AV10/D12),0,(AV10/D12)*100)","v":0},null,null,null,null,null,null,null,null,null,"Unica Dosis Varicela","Ref SOT 1 año",null,"Ref SOT 1 año","Ref SOT 1 año",null,null,0,0,0,0,null,{"$f":"SUM(Y61:AB61)","v":0},{"$f":"IF(ISERROR(Z61/W56),0,(Z61/W56)*100)","v":0},null,null,null,"Aplic. Cargadas a Nomivac",null,null,null,null,null,null,null,null,null,0,null,null,null,null,null,null,null,null,null,null,null,null,null,null,null,null,null,null,null,null,null,null,null,null,null,null,null,null,null,null,"Flias con Huerta",null,null,null,null,null,null,null,null,null,{"$f":"IF(ISERROR(AL12/D12),0,(AL12/D12)*100)","v":0}]
["F con 3 o más <6 años",null,null,null,null,null,null,{"$f":"IF(ISERROR(BI10/D12),0,(BI10/D12)*100)","v":0}," DE IMPACTO",null,null,null,null,"%",null,"META",null,"4° Dosis o 1° Ref. Pentavalente",null,null,null,null,null,null,0,0,0,0,null,{"$f":"SUM(Y62:AB62)","v":0},{"$f":"IF(ISERROR(Z62/W56),0,(Z62/W56)*100)","v":0},null,null,null,"Total Aplic /AS",null,null,null,null,null,null,null,null,null,0,null,null,null,null,null,null,null,null,null,null,null,null,null,null,null,null,"Niños 2 a 5 Riesgo AP",null,null,null,null,null,null,null,null,{"$f":"IF(ISERROR(AT23/AJ23),0,(AT23/AJ23)*100)","v":0},null,null,null,null,"Flias con Granja",null,null,null,null,null,null,null,null,null,{"$f":"IF(ISERROR(AP12/D12),0,(AP12/D12)*100)","v":0}]
["Flias con Hacinamiento",null,null,null,null,null,null,{"$f":"IF(ISERROR(BL10/D12),0,(BL10/D12)*100)","v":0},"Agua Seg (Trat Red + Viv)",null,null,null,null,{"$f":"IF(ISERROR((AP41+AR41)/D12),0,((AP41+AR41)/D12)*100)","v":0},null,100,null,"2° AG 6m a 24m",null,null,null,null,6,null,0,0,0,0,null,{"$f":"SUM(Y63:AB63)","v":0},{"$f":"IF(ISERROR(Z63/W63),0,(Z63/W63)*100)","v":0},null," ",null,"VAC COVID APLIC EN LA RONDA",null,null,null,null,null,null,null,null,null,0,null,null,null,null,null,null,null,null,null,null,null,null,null,null,null,null,"U) A llenar en 1° Ronda del Año"]
["Flias con Analfabet",null,null,null,null,null,null,{"$f":"IF(ISERROR(BO10/D12),0,(BO10/D12)*100)","v":0},"DSE (Arrastre y letrinas)",null,null,null,null,{"$f":"IF(ISERROR((AV41+AX41+AZ41+BB41+BD41)/D12),0,((AV41+AX41+AZ41+BB41+BD41)/D12)*100)","v":0},null,100,null,"R) PRODUCCION Y RENDIMIENTO",null,null,null,null,null,null,null,null,null,null,null,null,null,null,null,null,null,null,null,null,null,null,null,null,null,null,null,null,null,null,null,null,null,null,null,null,null,null,null,null,null,null,null,"Piso",null,null,null,null,"Techo",null,null,null,null,"Paredes",null,null,null,null,null,null,null,null,null,"Cocina",null,null,null,null,"Tenencia"]
["Flias con Suicidio",null,null,null,null,null,null,{"$f":"IF(ISERROR(BT11/D12),0,(BT11/D12)*100)","v":0},"TSB (Recolección + Pozo)",null,null,null,null,{"$f":"IF(ISERROR((BH41+BK41)/D12),0,((BH41+BK41)/D12)*100)","v":0},null,100,null,"DIAS A TRAB. /RONDA",null,null,"DIAS INCLEM CLIMAT.",null,null,"DIAS Y NROS DE ARTICULOS TOMADOS",null,null,null,"CAPACITACIONES Y OTRAS ACTIVIDADES",null,null,null,null,null,null,null,null,null,null,null,null,null,null,null,null,null,null,null,null,null,null,"DIAS TRABAJADOS\nEN TERRENO",null,null,null,null,"PROM. DIARIO DE FLIAS VISIT.",null,null,null,null,null,"Mosaico/B.",null,null,null,0,"Losa",null,null,0,null,"Ladrillo",null,null,0,null,"Madera",null,null,null,0,"Gas",null,null,0,null,"Segura",null,null,0]
["Flias c /tentativa suicidio",null,null,null,null,null,null,{"$f":"IF(ISERROR(BV11/D12),0,(BV11/D12)*100)","v":0},"Emb Adolescente",null,null,null,null,{"$f":"IF(ISERROR(L20/J20),0,(L20/J20)*100)","v":0},null,null,null,null,null,null,null,null,null,0,null,null,null,0,null,null,null,null,null,null,null,null,null,null,0,null,null,null,null,null,null,null,null,null,null,null,null,null,null,null,null,null,null,null,null,null,null,"Cemento",null,null,null,0,"Chapa\nZinc",null,null,0,null,"Bloque",null,null,0,null,"Quincho",null,null,null,0,"Leña/\nCarb",null,null,0,null,"Inseg.",null,null,0]
["Flias con Alcoholismo",null,null,null,null,null,null,{"$f":"IF(ISERROR(BY11/D12),0,(BY11/D12)*100)","v":0},"Niños <2 Bajo Peso/MBP",null,null,null,null,{"$f":"IF(ISERROR((AL22+AN22)/(AJ22+AP22+AL22+AN22)),0,((AL22+AN22)/(AJ22+AP22+AL22+AN22))*100)","v":0},null,null,null,null,null,null,null,null,null,0,null,null,null,0,null,null,null,null,null,null,null,null,null,null,0,null,null,null,null,null,null,null,null,null,null,null,null,null,null,null,null,null,null,null,null,null,null,"Tierra",null,null,null,0,"Paja/\nBarro",null,null,0,null,"Adobe",null,null,0,null,"Carton/Pl",null,null,null,0,"Otros",null,null,0,null,"Hac",null,null,0,null,null,null,5]
["Flias c/ otras Adicciones",null,null,null,null,null,null,{"$f":"IF(ISERROR(CC11/D12),0,(CC11/D12)*100)","v":0},"Niños <2 a AP",null,null,null,null,{"$f":"IF(ISERROR(AP22/(AJ22+AP22+AL22+AN22)),0,(AP22/(AJ22+AP22+AL22+AN22))*100)","v":0},null,null,null,0,null,null,0,null,null,0,null,null,null,0,null,null,null,null,null,null,null,null,null,null,0,null,null,null,null,null,null,null,null,null,null,null,0,null,null,null,null,{"$f":"IF(ISERROR(G12/AY68),0,(G12/AY68))","v":0},null,null,null,null,null,"Otros",null,null,null,0,"Otros",null,null,0,null,"Piedra",null,null,0,null,"Otro",null,null,null,0,"Helad.",null,null,0]
["Flias con VIF",null,null,null,null,null,null,{"$f":"IF(ISERROR(CF11/D12),0,(CF11/D12)*100)","v":0},"Niños < 2 baja y MBT",null,null,null,null,{"$f":"IF(ISERROR((AZ22+BB22)/(AJ22+AP22+AL22+AN22)),0,((AZ22+BB22)/(AJ22+AP22+AL22+AN22))*100)","v":0},null,null,null,"S) DETALLE DE LAS DEFUNCIONES (Todas las del Sector)",null,null,null,null,null,null,null,null,null,null,null,null,null,null,null,null,null,null,null,null,null,null,null,null,null,null,null,null,null,null,null,null,null,null,null,null,null,null,null,null,null,null,null,"Agua",null,"Corriente a Domic",null,null,"Grifo Terr",null,null,"Grifo Público",null,null,"Bomba",null,null,"Pozo",null,null,null,"Camión Aguatero / Cisterna",null,"Vertiente/Rio/Aceq",null,null,"Laguna",null,null,"Lluvia/Aljibe"]
["Flias con Diabetes",null,null,null,null,null,null,{"$f":"IF(ISERROR(AB31/D12),0,(AB31/D12)*100)","v":0},"Niños 2 a 5 Bajo Peso/MBP",null,null,null,null,{"$f":"IF(ISERROR((AL23+AN23)/(AJ23+AP23+AL23+AN23)),0,((AL23+AN23)/(AJ23+AP23+AL23+AN23))*100)","v":0},null,null,null,"APELLIDO Y NOMBRE",null,null,null,null,null,null,"DOMICILIO",null,null,null,null,null,null,null,null,"NACIMIENTO",null,null,null,null,"DEFUNCION",null,null,null,"PESO\nAL NACER",null,null,null,"CAUSA",null,null,null,null,null,null,null,null,null,"CLASIFICAC."]
["Flias con Hipertensión",null,null,null,null,null,null,{"$f":"IF(ISERROR(AB32/D12),0,(AB32/D12)*100)","v":0},"Niños 2 a 5 AP",null,null,null,null,{"$f":"IF(ISERROR(AP23/(AJ23+AP23+AL23+AN23)),0,(AP23/(AJ23+AP23+AL23+AN23))*100)","v":0}]
[]
["Personas con otras enfermedades crónicas al cuidado de niños",null,null,null,null,null,null,{"$f":"IF(ISERROR(AB33/D12),0,(AB33/D12)*100)","v":0},"Niños 2 a 5 baja y MBT",null,null,null,null,{"$f":"IF(ISERROR((AZ23+BB23)/(AJ23+AP23+AL23+AN23)),0,((AZ23+BB23)/(AJ23+AP23+AL23+AN23))*100)","v":0},null,null,null,null,null,null,null,null,null,null,null,null,null,null,null,null,null,null,null,null,null,null,null,null,null,null,null,null,null,null,null,null,null,null,null,null,null,null,null,null,null,null,null,null,null,null,null,null,null,0,null,null,0,null,null,0,null,null,0,null,null,0,null,null,null,0,null,0,null,null,0,null,null,0]
["Pers c/O Social/Pob total",null,null,null,null,null,null,{"$f":"IF(ISERROR(CI27/CC28),0,(CI27/CC28)*100)","v":0}]
[]
[]
[]
[]
["BP+MBP Ronda Anterior Men2a: ",null,null,null,null,null,null,null,null,null,0]
["BP+MBP Ronda Anterior 2 a 6a: ",null,null,null,null,null,null,null,null,null,0]
["AP Ronda Anterior Men2a: ",null,null,null,null,null,null,null,null,null,0]
["AP Ronda Anterior 2 a 6a: ",null,null,null,null,null,null,null,null,null,0]
[]
[]
[]
[]
[]
["0 a 5m",null,null,"6 a 11m",null,null,"1 AÑO",null,"2 AÑOS",null,"3 AÑOS",null,"4 AÑOS",null,null,"5 AÑOS",null,null,"6 AÑOS",null,null,"7 A 9 AÑOS",null,null,null,"10 AÑOS",null,"11 AÑOS",null,null,"12 A 14",null,null,null,null,null,"15 A 19",null,null,"20 A 24",null,null,null,"25 A 29",null,null,null,"30 A 34",null,null,null,"35 A 39",null,null,null,"40 A 44",null,null,null,null,"45 A 49",null,null,null,"50 A 54",null,null,null,"55 A 59",null,null,null,"60 A 64",null,null,null,"65 y +",null,null,null,"TOTAL",null,null,null,null,"MUJERES\n10 A 49"]
["M",null,"F","M",null,"F","M","F","M","F","M","F","M",null,"F","M",null,"F","M",null,"F","M",null,"F",null,"M","F","M",null,"F","M",null,null,"F",null,null,"M","F",null,"M",null,"F",null,"M",null,null,"F","M",null,null,"F","M",null,"F",null,"M",null,null,"F",null,"M",null,"F",null,"M",null,"F",null,"M",null,"F",null,"M",null,"F",null,"M",null,null,"F","M",null,"F"]
[0,null,0,0,null,0,0,0,0,0,0,0,0,null,0,0,null,0,0,null,0,0,null,0,null,0,0,0,null,0,0,null,null,0,null,null,0,0,null,0,null,0,null,0,null,null,0,0,null,null,0,0,null,0,null,0,null,null,0,null,0,null,0,null,0,null,0,null,0,null,0,null,0,null,0,null,0,null,null,0,{"$f":"SUM(A90,D90,G90,I90,K90,M90,P90,S90,V90,Z90,AB90,AE90,AK90,AN90,AR90,AV90,AZ90,BD90,BI90,BM90,BQ90,BU90,BY90)","v":0},null,{"$f":"SUM(C90,F90,H90,J90,L90,O90,R90,U90,X90,AA90,AD90,AH90,AL90,AP90,AU90,AY90,BB90,BG90,BK90,BO90,BS90,BW90,CB90)","v":0},null,null,{"$f":"SUM(AA90,AD90,AH90,AL90,AP90,AU90,AY90,BB90,BG90,BK90)","v":0}]
[{"$f":"SUM(A90:C90)","v":0},null,null,{"$f":"SUM(D90,F90)","v":0},null,null,{"$f":"SUM(G90,H90)","v":0},null,{"$f":"SUM(I90,J90)","v":0},null,{"$f":"SUM(K90,L90)","v":0},null,{"$f":"SUM(M90,O90)","v":0},null,null,{"$f":"SUM(P90,R90)","v":0},null,null,{"$f":"SUM(S90,U90)","v":0},null,null,{"$f":"SUM(V90,X90)","v":0},null,null,null,{"$f":"SUM(Z90,AA90)","v":0},null,{"$f":"SUM(AB90,AD90)","v":0},null,null,{"$f":"SUM(AE90,AH90)","v":0},null,null,null,null,null,{"$f":"SUM(AK90,AL90)","v":0},null,null,{"$f":"SUM(AN90,AP90)","v":0},null,null,null,{"$f":"SUM(AR90,AU90)","v":0},null,null,null,{"$f":"SUM(AV90,AY90)","v":0},null,null,null,{"$f":"SUM(AZ90,BB90)","v":0},null,null,null,{"$f":"SUM(BD90,BG90)","v":0},null,null,null,null,{"$f":"SUM(BI90,BK90)","v":0},null,null,null,{"$f":"SUM(BM90,BO90)","v":0},null,null,null,{"$f":"SUM(BQ90,BS90)","v":0},null,null,null,{"$f":"SUM(BU90,BW90)","v":0},null,null,null,{"$f":"SUM(BY90,CB90)","v":0},null,null,null,{"$f":"A91+D91+G91+I91+K91+M91+P91+S91+V91+Z91+AB91+AE91+AK91+AN91+AR91+AV91+AZ91+BD91+BI91+BM91+BQ91+BU91+BY91","v":0}]
["Mejor Población: 1° - 2019",null,null,null,null,null,null,null,null,null,null,null,null,null,null,null,null,null,null,null,null,null,null,null,null,null,null,null,null,null,null,null,null,null,null,null,null,null,null,null,null,null,null,null,null,null,null,null,null,null,null,null,null,null,null,null,null,null,null,null,null,null,null,null,null,null,null,null,null,null,null,null,null,null,null,null,null,null,null,null,{"$f":"SUM(CC91,CE91)","v":0}]
["Cobertura: 1%"]

{"sheet":"JUAN PABLO II","index":28,"n_rows":93,"n_cols":94,"rows_kept":93,"cut":false,"hidden":false,"merged":[[61,30,61,31],[62,30,62,31],[0,86,0,87],[1,8,1,9],[1,15,1,25],[1,46,1,53],[1,56,1,57],[1,58,1,59],[1,60,1,61],[1,67,1,84],[1,86,1,87],[0,27,3,45],[0,46,0,52],[0,56,0,57],[0,58,0,59],[0,60,0,61],[0,81,0,84],[2,46,2,53],[2,56,2,57],[2,58,2,59],[2,60,2,61],[6,0,6,89],[7,0,7,46],[7,47,7,89],[8,0,10,2],[8,3,10,5],[8,6,10,7],[8,8,8,16],[8,17,10,18],[8,19,10,20],[8,21,10,23],[4,80,4,87],[5,8,5,24],[5,33,5,46],[5,57,5,67],[5,75,5,77],[5,82,5,87],[2,67,2,79],[2,86,2,87],[3,8,3,23],[3,46,3,53],[3,56,3,57],[3,58,3,59],[3,60,3,61],[3,74,3,79],[3,84,3,87],[8,86,8,89],[9,8,10,9],[9,10,10,11],[9,12,10,13],[9,14,10,16],[9,26,10,27],[9,28,10,30],[8,66,8,68],[8,69,8,72],[8,73,8,75],[8,76,8,79],[8,80,8,82],[8,83,8,85],[8,51,8,53],[8,54,8,55],[8,56,8,57],[8,58,8,59],[8,60,8,62],[8,63,8,65],[8,24,10,25],[8,26,8,30],[8,31,10,36],[8,37,8,46],[8,47,8,48],[8,49,8,50],[9,49,10,50],[11,0,14,2],[11,3,14,5],[11,6,14,7],[11,8,14,9],[11,10,14,11],[11,12,14,13],[9,86,9,89],[10,69,10,72],[10,73,10,74],[10,76,10,78],[10,81,10,82],[10,83,10,84],[10,86,10,89],[9,66,10,68],[9,69,9,72],[9,73,9,74],[9,76,9,78],[9,81,9,82],[9,83,9,84],[9,51,10,53],[9,54,10,55],[9,56,10,57],[9,58,10,59],[9,60,10,62],[9,63,10,65],[13,75,13,78],[13,79,13,80],[13,81,13,84],[9,37,10,40],[9,41,10,46],[9,47,10,48],[12,85,12,89],[13,47,13,52],[13,63,13,68],[13,69,13,74],[12,47,12,52],[12,63,12,68],[12,53,12,55],[12,56,12,59],[12,60,12,62],[13,53,13,55],[13,56,13,59],[13,60,13,62],[14,53,14,55],[14,56,14,59],[14,60,14,62],[11,19,14,20],[11,21,14,23],[11,24,14,25],[11,26,14,27],[16,0,18,2],[16,6,18,6],[16,7,18,7],[16,8,18,8],[16,9,18,9],[16,10,18,10],[16,11,18,11],[16,12,18,13],[14,79,14,80],[14,81,14,84],[14,85,14,89],[15,12,15,19],[15,20,15,28],[15,29,15,65],[15,66,15,75],[11,28,14,30],[11,31,14,36],[11,37,14,40],[11,41,14,46],[11,47,11,68],[11,69,11,89],[11,14,14,16],[11,17,14,18],[13,85,13,89],[14,47,14,52],[14,63,14,68],[14,69,14,74],[14,75,14,78],[12,69,12,74],[12,75,12,78],[12,79,12,80],[12,81,12,84],[19,0,20,2],[19,12,19,13],[19,14,19,15],[19,18,19,19],[19,20,19,21],[19,23,19,24],[19,25,19,26],[19,27,19,28],[17,41,20,42],[17,43,18,46],[17,47,18,50],[17,51,18,55],[17,56,20,57],[17,58,18,62],[19,43,20,44],[19,45,20,46],[19,47,20,49],[19,50,20,50],[17,16,18,16],[17,17,18,17],[17,22,18,22],[17,23,18,24],[17,25,18,26],[17,27,18,28],[17,29,20,31],[16,14,18,15],[16,16,16,17],[16,18,18,19],[16,20,18,21],[16,22,16,28],[16,29,16,65],[17,32,20,34],[21,12,21,15],[21,16,21,19],[21,29,21,31],[21,32,21,34],[20,12,20,19],[20,20,21,23],[20,24,21,28],[21,35,21,36],[21,37,21,38],[21,39,21,40],[21,41,21,42],[19,68,20,69],[19,70,20,71],[19,72,20,73],[19,74,20,75],[19,76,20,79],[19,51,20,52],[19,53,20,54],[19,55,20,55],[19,58,20,60],[19,61,20,62],[19,66,20,67],[17,63,20,65],[16,66,18,67],[16,68,18,69],[16,70,18,71],[16,72,18,73],[16,74,18,75],[16,76,18,79],[17,35,20,36],[17,37,20,38],[17,39,20,40],[22,16,22,19],[22,20,22,23],[22,24,22,28],[22,29,22,31],[22,32,22,34],[22,35,22,36],[21,58,21,60],[21,61,21,62],[21,63,21,65],[21,66,22,73],[21,74,22,75],[21,76,21,79],[22,76,22,79],[21,43,21,44],[21,45,21,46],[21,47,21,49],[21,51,21,52],[21,53,21,54],[21,56,21,57],[23,0,23,89],[24,0,24,2],[24,3,24,5],[24,6,24,7],[24,8,24,9],[24,10,24,11],[24,12,24,14],[24,15,24,17],[24,18,24,20],[22,51,22,52],[22,53,22,54],[22,56,22,57],[22,58,22,60],[22,61,22,62],[22,63,22,65],[22,37,22,38],[22,39,22,40],[22,41,22,42],[22,43,22,44],[22,45,22,46],[22,47,22,49],[21,0,22,2],[24,88,25,89],[25,0,25,1],[25,3,25,4],[25,12,25,13],[25,15,25,16],[25,18,25,19],[25,21,25,22],[25,23,25,24],[25,27,25,28],[22,12,22,15],[24,68,24,71],[24,72,24,75],[24,76,24,79],[24,80,24,84],[24,85,25,85],[24,86,25,87],[25,76,25,78],[25,80,25,81],[25,82,25,84],[24,43,24,46],[24,47,24,50],[24,51,24,54],[24,55,24,59],[24,60,24,63],[24,64,24,67],[24,21,24,24],[24,25,24,26],[24,27,24,29],[24,30,24,35],[24,36,24,38],[24,39,24,42],[26,37,26,38],[26,39,26,40],[26,0,26,1],[26,3,26,4],[26,12,26,13],[26,15,26,16],[26,18,26,19],[26,21,26,22],[25,64,25,65],[25,66,25,67],[25,68,25,69],[25,70,25,71],[25,72,25,73],[25,74,25,75],[25,51,25,52],[25,53,25,54],[25,55,25,57],[25,58,25,59],[25,60,25,61],[25,62,25,63],[25,33,25,35],[25,37,25,38],[25,39,25,40],[25,41,25,42],[25,43,25,45],[25,47,25,49],[25,30,25,32],[26,85,27,85],[26,86,27,87],[26,88,27,89],[27,0,27,2],[27,3,27,5],[27,6,27,7],[27,8,27,9],[27,10,27,11],[27,12,27,14],[27,15,27,17],[26,70,26,71],[26,72,26,73],[26,74,26,75],[26,76,26,78],[26,80,26,81],[26,82,26,84],[26,58,26,59],[26,60,26,61],[26,62,26,63],[26,64,26,65],[26,66,26,67],[26,68,26,69],[26,41,26,42],[26,43,26,45],[26,47,26,49],[26,51,26,52],[26,53,26,54],[26,55,26,57],[26,23,26,24],[26,27,26,28],[26,30,26,32],[26,33,26,35],[27,64,27,67],[27,68,27,71],[27,72,27,75],[27,76,27,79],[27,80,27,84],[28,0,28,14],[28,15,28,20],[28,21,28,32],[27,39,27,42],[27,43,27,46],[27,47,27,50],[27,51,27,54],[27,55,27,59],[27,60,27,63],[27,18,27,20],[27,21,27,24],[27,25,27,26],[27,27,27,29],[27,30,27,35],[27,36,27,38],[30,21,30,26],[30,27,30,29],[30,30,30,32],[31,0,31,2],[31,3,31,4],[31,8,31,9],[31,10,31,11],[31,12,32,14],[31,15,32,17],[31,18,32,20],[29,30,29,32],[29,33,35,89],[30,0,30,2],[30,3,30,5],[30,6,30,7],[30,8,30,9],[30,10,30,11],[30,12,30,14],[30,15,30,17],[30,18,30,20],[29,0,29,2],[29,3,29,7],[29,8,29,14],[29,15,29,20],[29,21,29,26],[29,27,29,29],[33,0,33,2],[33,3,33,7],[33,8,33,11],[33,12,33,14],[33,15,35,17],[33,18,35,20],[34,0,35,2],[34,3,34,5],[34,6,34,7],[34,8,34,9],[31,21,31,26],[31,27,31,29],[31,30,31,32],[32,0,32,2],[32,3,32,4],[32,8,32,9],[32,10,32,11],[32,21,33,26],[32,27,33,29],[32,30,33,32],[38,4,39,7],[38,8,39,11],[38,12,38,19],[38,20,39,21],[38,22,39,23],[36,0,37,40],[36,41,36,68],[36,69,36,89],[37,41,37,46],[37,47,37,58],[37,59,37,68],[37,69,37,79],[37,80,39,81],[37,82,39,85],[37,86,39,89],[34,10,34,11],[34,12,35,14],[34,21,35,26],[34,27,35,32],[35,3,35,5],[35,6,35,7],[35,8,35,9],[35,10,35,11],[40,0,41,1],[40,2,41,3],[40,4,41,5],[40,6,41,7],[40,8,41,9],[40,10,41,11],[38,66,39,68],[38,69,39,71],[38,72,39,75],[38,76,39,79],[39,12,39,13],[39,14,39,15],[39,16,39,17],[39,18,39,19],[39,47,39,48],[39,49,39,50],[38,46,39,46],[38,47,38,52],[38,53,38,56],[38,57,39,58],[38,59,39,61],[38,62,39,65],[39,51,39,52],[39,53,39,54],[39,55,39,56],[38,24,39,27],[38,28,39,31],[38,32,39,35],[38,36,39,40],[38,41,39,42],[38,43,39,45],[38,0,39,3],[40,41,40,42],[40,43,40,45],[40,47,40,48],[40,49,40,50],[40,24,41,25],[40,26,41,27],[40,28,41,29],[40,30,41,31],[40,32,41,33],[40,34,41,35],[40,18,41,18],[40,19,41,19],[40,20,41,20],[40,21,41,21],[40,22,41,22],[40,23,41,23],[40,12,41,12],[40,13,41,13],[40,14,41,14],[40,15,41,15],[40,16,41,16],[40,17,41,17],[42,21,44,21],[42,22,44,22],[42,10,44,11],[42,12,44,12],[42,13,44,13],[42,14,44,14],[42,15,44,15],[42,16,44,16],[40,86,40,89],[41,41,41,52],[41,53,41,64],[41,65,41,76],[41,77,41,89],[42,0,44,1],[42,2,44,3],[42,4,44,5],[42,6,44,7],[42,8,44,9],[40,66,40,68],[40,69,40,71],[40,72,40,75],[40,76,40,79],[40,80,40,81],[40,82,40,85],[40,51,40,52],[40,53,40,54],[40,55,40,56],[40,57,40,58],[40,59,40,61],[40,62,40,65],[40,36,41,38],[40,39,41,40],[42,73,43,76],[42,77,43,84],[42,85,43,89],[44,41,44,45],[44,46,44,48],[44,49,44,50],[44,51,44,52],[44,53,44,55],[44,56,44,60],[44,61,44,64],[42,51,43,52],[42,53,43,55],[42,56,43,60],[42,61,43,64],[42,65,43,68],[42,69,43,72],[42,34,44,35],[42,36,44,38],[42,39,44,40],[42,41,43,45],[42,46,43,48],[42,49,43,50],[46,70,46,71],[46,72,46,74],[46,75,46,84],[46,85,46,86],[46,87,46,89],[47,0,47,5],[47,8,47,13],[47,15,47,16],[47,17,47,21],[47,22,47,23],[46,0,46,5],[46,8,46,13],[46,15,46,16],[46,17,46,33],[46,34,46,60],[46,61,46,69],[44,65,44,68],[44,69,44,72],[44,73,44,76],[44,77,44,84],[44,85,44,89],[45,0,45,89],[42,23,44,23],[42,24,44,25],[42,26,44,27],[42,28,44,29],[42,30,44,31],[42,32,44,33],[42,17,44,17],[42,18,44,18],[42,19,44,19],[42,20,44,20],[47,72,47,74],[47,75,47,84],[47,85,47,86],[47,87,47,89],[48,0,48,5],[48,8,48,13],[48,15,48,16],[48,17,48,21],[48,22,49,23],[48,27,48,28],[47,51,47,53],[47,55,47,56],[47,57,47,58],[47,59,47,60],[47,61,47,69],[47,70,47,71],[47,27,47,28],[47,30,47,31],[47,32,47,33],[47,34,47,43],[47,44,47,46],[47,47,47,49],[49,75,50,84],[49,85,50,86],[49,87,50,89],[50,0,50,6],[50,8,50,13],[50,15,50,16],[50,17,50,21],[50,22,54,23],[50,27,50,28],[48,75,48,84],[48,85,48,86],[48,87,48,89],[49,0,49,5],[49,8,49,13],[49,15,49,16],[49,17,49,21],[49,27,49,28],[49,30,49,31],[49,34,49,43],[48,55,48,56],[48,57,48,58],[48,59,50,60],[48,61,48,69],[48,70,48,71],[48,72,48,74],[49,55,49,56],[49,57,49,58],[49,61,49,69],[49,70,49,71],[48,30,48,31],[48,32,49,33],[48,34,48,43],[50,70,50,71],[50,72,50,74],[51,0,51,6],[51,8,51,13],[51,15,51,16],[51,17,51,21],[51,27,51,28],[51,30,51,31],[51,34,51,43],[51,47,51,49],[50,34,50,43],[50,47,50,49],[50,51,50,53],[50,55,50,56],[50,57,50,58],[50,61,50,69],[49,72,49,74],[48,44,51,46],[48,47,48,49],[48,51,48,53],[49,47,49,49],[49,51,49,53],[50,30,50,31],[50,32,54,33],[51,72,51,74],[53,0,53,6],[53,8,53,13],[53,15,53,16],[53,17,53,21],[53,27,53,28],[53,30,53,31],[51,75,51,84],[51,85,51,86],[51,87,51,89],[52,0,52,6],[52,8,52,13],[52,15,52,16],[52,17,52,21],[52,27,52,28],[52,30,52,31],[51,51,51,53],[51,55,51,56],[51,57,51,58],[51,59,52,60],[51,61,51,69],[51,70,51,71],[52,61,52,69],[52,70,52,71],[52,72,52,74],[52,75,52,84],[52,85,52,86],[52,87,52,89],[52,34,52,43],[52,44,53,46],[52,47,52,49],[52,51,52,53],[52,55,52,56],[52,57,52,58],[53,34,53,43],[53,47,53,49],[53,51,53,53],[53,55,53,56],[53,85,53,86],[53,87,53,89],[54,0,54,6],[54,8,54,13],[54,15,54,16],[54,17,54,21],[54,27,54,28],[54,30,54,31],[54,34,54,43],[54,44,54,46],[53,57,53,58],[53,59,54,60],[53,61,53,69],[53,70,53,71],[53,72,53,74],[53,75,53,84],[54,72,54,74],[54,75,54,84],[54,85,54,86],[54,87,54,89],[55,0,55,6],[55,8,55,13],[55,15,55,16],[55,17,55,21],[55,27,55,28],[55,30,55,31],[55,32,60,33],[54,47,54,49],[54,51,54,53],[54,55,54,56],[54,57,54,58],[54,61,54,69],[54,70,54,71],[56,87,56,89],[57,0,57,6],[57,8,57,13],[57,15,57,16],[57,17,57,21],[57,27,57,28],[57,30,57,31],[57,34,57,43],[56,51,56,53],[56,55,56,56],[56,57,56,58],[56,61,56,69],[56,70,56,71],[56,72,56,74],[55,87,55,89],[56,0,56,6],[56,8,56,13],[56,15,56,16],[58,61,58,69],[58,70,58,71],[58,72,58,74],[56,17,56,21],[56,27,56,28],[56,30,56,31],[56,34,56,43],[56,44,57,46],[56,47,56,49],[55,59,56,60],[55,61,55,69],[55,70,55,71],[55,72,55,74],[55,75,55,84],[55,85,55,86],[56,75,56,84],[56,85,56,86],[55,34,55,43],[55,44,55,46],[55,47,55,49],[55,51,55,53],[55,55,55,56],[55,57,55,58],[57,75,57,84],[57,85,57,86],[61,72,61,74],[61,75,61,84],[61,85,61,86],[57,87,57,89],[58,0,59,6],[58,7,59,7],[58,8,58,13],[58,15,58,16],[58,17,58,21],[58,27,58,28],[58,30,58,31],[57,55,57,56],[57,57,57,58],[57,59,57,60],[57,61,57,69],[57,70,57,71],[57,72,57,74],[59,85,59,86],[59,87,59,89],[57,47,57,49],[57,51,57,53],[58,87,58,89],[59,8,60,13],[59,14,60,14],[59,15,60,16],[59,17,59,21],[59,27,59,28],[59,30,59,31],[59,34,59,43],[59,47,59,49],[59,51,59,53],[58,59,59,60],[64,84,64,85],[61,87,61,89],[61,32,61,33],[61,34,61,43],[61,44,61,60],[62,44,62,60],[60,87,60,89],[61,0,61,6],[61,8,61,12],[61,13,61,14],[61,15,61,16],[60,0,60,6],[60,17,60,21],[60,27,60,28],[60,30,60,31],[60,34,60,43],[60,44,60,60],[60,75,60,84],[60,85,60,86],[62,61,62,89],[59,61,60,69],[59,70,60,71],[59,72,60,74],[59,75,59,84],[58,44,59,46],[58,47,58,49],[58,51,58,53],[58,55,58,56],[58,57,58,58],[59,55,59,56],[63,86,63,89],[64,0,64,6],[64,8,64,12],[64,13,64,14],[64,15,64,16],[64,17,66,19],[64,20,66,22],[64,23,64,26],[64,27,64,49],[64,50,66,54],[65,0,65,6],[65,8,65,12],[65,13,65,14],[66,86,67,88],[66,89,67,89],[67,0,67,6],[67,8,67,12],[67,13,67,14],[67,15,67,16],[67,17,67,19],[66,38,66,49],[66,61,66,64],[66,66,66,68],[63,0,63,6],[63,8,63,12],[63,13,63,14],[63,15,63,16],[63,17,63,60],[63,61,63,65],[63,66,63,70],[63,71,63,80],[63,81,63,85],[66,69,66,70],[66,71,66,73],[66,74,66,75],[65,76,65,79],[65,81,65,83],[65,84,65,85],[65,86,65,88],[66,0,66,6],[66,8,66,12],[66,13,66,14],[66,15,66,16],[66,23,66,26],[66,27,66,37],[65,15,65,16],[65,23,65,26],[65,27,65,37],[65,38,65,49],[64,55,66,60],[64,61,64,64],[64,66,64,68],[64,69,64,70],[64,74,64,75],[64,86,64,88],[64,76,64,79],[65,61,65,64],[65,66,65,68],[65,69,65,70],[65,74,65,75],[66,76,66,79],[66,81,66,83],[66,84,66,85],[64,81,64,83],[68,84,71,86],[67,81,67,83],[67,84,67,85],[68,0,68,6],[68,8,68,12],[68,13,68,14],[68,15,68,16],[68,17,68,60],[68,61,73,62],[68,63,71,65],[68,66,71,68],[67,61,67,64],[67,66,67,68],[67,69,67,70],[67,71,67,73],[67,74,67,75],[67,76,67,79],[67,20,67,22],[67,23,67,26],[67,27,67,37],[67,38,67,49],[67,50,67,54],[67,55,67,60],[70,38,70,41],[70,42,70,45],[70,46,70,55],[70,56,70,60],[71,17,71,23],[71,24,71,32],[71,33,71,37],[71,38,71,41],[71,42,71,45],[71,46,71,55],[69,46,69,55],[69,56,69,60],[70,0,71,6],[70,7,71,7],[70,8,71,12],[70,13,71,14],[70,15,71,16],[70,17,70,23],[70,24,70,32],[70,33,70,37],[69,0,69,6],[69,8,69,12],[69,13,69,14],[69,15,69,16],[69,17,69,23],[69,24,69,32],[69,33,69,37],[69,38,69,41],[69,42,69,45],[72,75,73,78],[72,79,73,80],[72,81,73,83],[72,84,73,86],[72,87,73,89],[73,0,73,6],[73,17,73,23],[73,24,73,32],[73,33,73,37],[73,38,73,41],[72,46,72,55],[72,56,72,60],[72,63,73,65],[72,66,73,68],[72,69,73,71],[72,72,73,74],[71,56,71,60],[72,0,72,6],[72,8,73,12],[72,13,73,14],[72,15,73,16],[72,17,72,23],[72,24,72,32],[72,33,72,37],[72,38,72,41],[72,42,72,45],[68,87,71,89],[68,69,71,71],[68,72,71,74],[68,75,71,78],[68,79,71,80],[68,81,71,83],[75,17,75,23],[75,24,75,32],[75,38,75,41],[75,42,75,45],[75,46,75,55],[87,0,87,2],[87,3,87,5],[87,6,87,7],[87,8,87,9],[87,10,87,11],[73,42,73,45],[73,46,73,55],[73,56,73,60],[74,17,74,23],[74,24,74,32],[74,38,74,41],[74,42,74,45],[74,46,74,55],[87,80,87,84],[87,85,88,85]],"merged_total":1135,"flags":["merged_cut"]}
[null,null,null,null,null,null,null,null,null,null,null,null,null,null,null,null,null,null,null,null,null,null,null,null,null,null,null,"DIRECCION - PROGRAMA  APS \nSUBSECRETARIA DE MEDICINA SOCIAL\nRONDA N°:189   AÑO: 2025",null,null,null,null,null,null,null,null,null,null,null,null,null,null,null,null,null,null,null,null,null,null,null,null,null,null,"1r","2r","3r",null,"4r",null,"T",null,null,null,null,null,null,null,null,null,null,null,null,null,null,null,null,null,null,null,"Informe y orden de Ronda: ",6,null,null,null,null,2]
[null,null,null,null,null,null,null,"Area Operativa N°: ",4,null,null,null,null,null,"Nombre: ","MORILLO",null,null,null,null,null,null,null,null,null,null,null,null,null,null,null,null,null,null,null,null,null,null,null,null,null,null,null,null,null,null,"Mort. Mater. Acum. Año",null,null,null,null,null,null,null,0,{"$f":"CE41","v":0},0,null,{"$f":"CE41","v":0},null,{"$f":"SUM(BC2:BG2)","v":0},null,null,null,null,"Sector:",null,"JUAN PABLO II",null,null,null,null,null,null,null,null,null,null,null,null,null,null,null,null,null,"N°",20]
[null,null,null,null,null,null,null,null,null,null,null,null,null,null,null,null,null,null,null,null,null,null,null,null,null,null,null,null,null,null,null,null,null,null,null,null,null,null,null,null,null,null,null,null,null,null,"Mort. 0-1 año Acum Año",null,null,null,null,null,null,null,0,{"$f":"BR41+BU41+BY41","v":0},0,null,{"$f":"BR41+BU41+BY41","v":0},null,{"$f":"SUM(BC3:BG3)","v":0},null,null,null,null,null,"Etnia: ","CRIOLLO-WICHI",null,null,null,null,null,null,null,null,null,null,null,null,null,null,null,null,null,"Sector Riesgo:"]
[null,null,null,null,null,null,null,"Establec. Base: ","HOSPITAL MORILLO",null,null,null,null,null,null,null,null,null,null,null,null,null,null,null,null,null,null,null,null,null,null,null,null,null,null,null,null,null,null,null,null,null,null,null,null,null,"Mort. 1-4 años Acum Año",null,null,null,null,null,null,null,0,{"$f":"CC41","v":0},0,null,{"$f":"CC41","v":0},null,{"$f":"SUM(BC4:BG4)","v":0},null,null,null,null,null,null,null,null,null,null,null,null,"Desde: ","07/03/2025",null,null,null,null,null,null,null,null,"Hasta: ","05/06/2026"]
[null,null,null,null,null,null,null,null,null,null,null,null,null,null,null,null,null,null,null,null,null,null,null,null,null,null,null,null,null,null,null,null,null,null,null,null,null,null,null,null,null,null,null,null,null,null,null,null,null,null,null,null,null,null,null,null,null,null,null,null,null,null,null,null,null,null,null,null,null,null,null,null,null,null,null,null,null,null,null,"Cobertura: ","CUBIERTO"]
[null,null,null,null,null,null,null,"Sup. Intermedio: ","Miguel Angel Correa",null,null,null,null,null,null,null,null,null,null,null,null,null,null,null,null,null,null,null,null,null,null,null,"Responsable A.P.S.: ","Dr. Abel Ibarra",null,null,null,null,null,null,null,null,null,null,null,null,null,null,null,null,null,null,null,null,null,null,"Agente Sanitario: ","Jose Suarez",null,null,null,null,null,null,null,null,null,null,null,null,null,null,null,null,"Sit. Revista: ","DESIG.TEMPORARIA",null,null,null,null,null,"Reg. Horario: ","30 HS."]
[]
["A) FAMILIAS VISITADAS EN LA RONDA",null,null,null,null,null,null,null,null,null,null,null,null,null,null,null,null,null,null,null,null,null,null,null,null,null,null,null,null,null,null,null,null,null,null,null,null,null,null,null,null,null,null,null,null,null,null,"B) FACTORES DE PRIORIZACION DE VISITAS"]
["ASIGNADAS",null,null,"VISITADAS",null,null,"TOTAL\nVISITAS",null,"NO VISITADAS",null,null,null,null,null,null,null,null,"FLIAS ORIG.",null,"FLIAS. URB.",null,"FLIAS. PERIURB",null,null,"FLIAS. RURALES",null,"GOLON\nMIGRANTES",null,null,null,null,"FLIAS. CON PL. SOCIALES",null,null,null,null,null,"PRODUCCION\nFAMILIAR",null,null,null,null,null,null,null,null,null,1,null,2,null,3,null,null,4,null,5,null,6,null,7,null,null,8,null,null,9,null,null,10,null,null,null,11,null,null,12,null,null,null,13,null,null,14,null,null,15]
[null,null,null,null,null,null,null,null,"RECHAZO TOTAL",null,"AUSEN\n-TE",null,"NO VISITADAS",null,"TOT NO VISIT.",null,null,null,null,null,null,null,null,null,null,null,"HACIA\nEL AO",null,"DESDE\nEL AO",null,null,null,null,null,null,null,null,"HUERTA",null,null,null,"GRANJA",null,null,null,null,null,0,null,0,null,0,null,null,0,null,0,null,0,null,0,null,null,0,null,null,0,null,null,"Total",null,null,null,"Tot",null,"Trat","Tot.",null,null,"Trat.","Tot.","Trat.",null,"Tot.",null,"Trat","Total"]
[null,null,null,null,null,null,null,null,null,null,0,null,null,null,null,null,null,null,null,null,null,null,null,null,null,null,null,null,null,null,null,null,null,null,null,null,null,null,null,null,null,null,null,null,null,null,null,null,null,null,null,null,null,null,null,null,null,null,null,null,null,null,null,null,null,null,null,null,null,0,null,null,null,0,null,0,0,null,null,0,0,0,null,0,null,0,0]
[0,null,null,0,null,null,0,null,0,null,0,null,0,null,{"$f":"M12+K12+I12","v":0},null,null,0,null,0,null,0,null,null,0,null,0,null,0,null,null,0,null,null,null,null,null,0,null,null,null,0,null,null,null,null,null,"C) VISITAS A FLIAS. PRIORIZADAS",null,null,null,null,null,null,null,null,null,null,null,null,null,null,null,null,null,null,null,null,null,"D) SUPERV. A FLIAS. "]
[null,null,null,null,null,null,null,null,null,null,null,null,null,null,null,null,null,null,null,null,null,null,null,null,null,null,null,null,null,null,null,null,null,null,null,null,null,null,null,null,null,null,null,null,null,null,null,"PRIORIDAD",null,null,null,null,null,1,null,null,2,null,null,null,3,null,null,"Total",null,null,null,null,null,"PRIORIDAD",null,null,null,null,null,3,null,null,null,2,null,1,null,null,null,"TOTAL"]
[null,null,null,null,null,null,null,null,null,null,null,null,null,null,null,null,null,null,null,null,null,null,null,null,null,null,null,null,null,null,null,null,null,null,null,null,null,null,null,null,null,null,null,null,null,null,null,"N° FAMILIAS",null,null,null,null,null,0,null,null,0,null,null,null,0,null,null,{"$f":"SUM(BB14:BI14)","v":0},null,null,null,null,null,"INTERMEDIA",null,null,null,null,null,0,null,null,null,0,null,0,null,null,null,{"$f":"SUM(BX14:CD14)","v":0}]
[null,null,null,null,null,null,null,null,null,null,null,null,null,null,null,null,null,null,null,null,null,null,null,null,null,null,null,null,null,null,null,null,null,null,null,null,null,null,null,null,null,null,null,null,null,null,null,"VISITAS",null,null,null,null,null,0,null,null,0,null,null,null,0,null,null,{"$f":"SUM(BB15:BI15)","v":0},null,null,null,null,null,"PROFESIONAL",null,null,null,null,null,0,null,null,null,0,null,0,null,null,null,{"$f":"SUM(BX15:CB15)","v":0}]
["E) EDAD FERTIL",null,null,null,null,"F) EMBARAZADAS",null,null,null,null,null,null,"G) PARTOS",null,null,null,null,null,null,null,"H) R.N. EN LA RONDA",null,null,null,null,null,null,null,null,"I) EVALUACION ANTROPOMETRICA",null,null,null,null,null,null,null,null,null,null,null,null,null,null,null,null,null,null,null,null,null,null,null,null,null,null,null,null,null,null,null,null,null,null,null,null,"NIÑ MBP/BP/RBP CTRL. INT.",null,null,null,null,null,null,null,null,null,"LACT. MATERNA"]
["PAP",null,null,0,null,"CAPT. 1er TRIMESTRE","ESP EN EL AÑO","ACUMULADAS","NUEVAS\nRONDA","TOTAL","DE RIESGO","<19 Años","TOTAL",null,"HOSPITALARIOS",null,"DOMIC.",null,"N° PUERPERAS",null,"NACIDOS VIVOS",null,"P AL NACER",null,null,null,null,null,null,"NIÑOS CONTROLADOS",null,null,null,null,null,null,null,null,null,null,null,null,null,null,null,null,null,null,null,null,null,null,null,null,null,null,null,null,null,null,null,null,null,null,null,null,"MELAN",null,"MED",null,"ENF.",null,"LAB",null,"NUTR",null,"< 6 M EN LA RONDA",null,null,null,{"$f":"CC20+CC22+CC23","v":0}]
[null,null,null,null,null,null,null,null,null,null,null,null,null,null,null,null,"DOM","ASIS",null,null,null,null,"ALTO PESO","ADEC",null,"BAJO PESO",null,"MB\nPESO",null,"EDAD",null,null,"A CONTROLAR",null,null,"ADECUADO",null,"BP\nBAJO PESO",null,"MBP\nMUY B. PESO",null,"ALTO PESO",null,"RIESGO",null,null,null,"RECUPERADOS",null,null,null,"TALLA / EDAD",null,null,null,null,"NUEVOS\nEPISODIOS",null,"PERDIDOS",null,null,null,null,"FALLECIDOS\nC/ANTEC. ANTROPOM."]
[]
["Antic.",null,null,0,null,0,{"$f":"IF(ISERROR(((CC92*1.8)/100)),0,(((CC92*1.8)/100)))","v":0},0,0,{"$f":"SUM(F23:L23)","v":0},0,0,{"$f":"O20+Q20+R20","v":0},null,0,null,0,0,0,null,{"$f":"W20+X20+Z20+AB20","v":0},null,0,0,null,0,null,0,null,null,null,null,null,null,null,null,null,null,null,null,null,null,null,"BP",null,"AP",null,"BP",null,null,"AP","BT",null,"MBT",null,"RGO\nBT",null,null,"BP\nMBP",null,null,"A.P.",null,null,null,null,0,null,0,null,0,null,0,null,0,null,"EXCLUSIVO",null,null,null,0]
[null,null,null,null,null,"CONTROLES",null,null,null,null,null,null," ",null,null,null,null,null,null,null,"PREMATUROS",null,null,null,"PESQUISA"]
["Aborto",null,null,0,null,"MELON",null,"MEL","MED","ENF","LAB","S/C","PUERP",null,null,null,"R.N.",null,null,null,null,null,null,null,null,null,null,null,null,"< 2 años",null,null,{"$f":"A27+C27+D27+F27+G27+H27","v":0},null,null,0,null,0,null,0,null,0,null,0,null,0,null,0,null,null,0,0,null,0,null,0,0,null,0,null,null,0,null,0,null,null,"CONTROLES EN DOMIC. NIÑO BP o MBP",null,null,null,null,null,null,null,0,null,"MIXTA",null,null,null,0]
[null,null,null,null,null,0,null,0,0,0,0,0,0,null,null,null,0,null,null,null,0,null,null,null,0,null,null,null,null,"2 a 6 años",null,null,{"$f":"I27+J27+K27+L27+M27+O27+P27+R27","v":0},null,null,0,null,0,null,0,null,0,null,0,null,0,null,0,null,null,0,0,null,0,null,0,0,null,0,null,null,0,null,0,null,null,null,null,null,null,null,null,null,null,null,null,"ARTIF",null,null,null,0]
["J) DATOS DE POBLACION"]
["0 a 5m",null,null,"6 a 11m",null,null,"1 AÑO",null,"2 AÑOS",null,"3 AÑOS",null,"4 AÑOS",null,null,"5 AÑOS",null,null,"6 AÑOS",null,null,"7 A 9 AÑOS",null,null,null,"10 AÑOS",null,"11 AÑOS",null,null,"12 A 14",null,null,null,null,null,"15 A 19",null,null,"20 A 24",null,null,null,"25 A 29",null,null,null,"30 A 34",null,null,null,"35 A 39",null,null,null,"40 A 44",null,null,null,null,"45 A 49",null,null,null,"50 A 54",null,null,null,"55 A 59",null,null,null,"60 A 64",null,null,null,"65 y +",null,null,null,"TOTAL",null,null,null,null,"MUJERES\n10 A 49","O. SOCIAL",null,"INDOCUM"]
["M",null,"F","M",null,"F","M","F","M","F","M","F","M",null,"F","M",null,"F","M",null,"F","M",null,"F",null,"M","F","M",null,"F","M",null,null,"F",null,null,"M","F",null,"M",null,"F",null,"M",null,null,"F","M",null,null,"F","M",null,"F",null,"M",null,null,"F",null,"M",null,"F",null,"M",null,"F",null,"M",null,"F",null,"M",null,"F",null,"M",null,null,"F","M",null,"F"]
[0,null,0,0,null,0,0,0,0,0,0,0,0,null,0,0,null,0,0,null,0,0,null,0,null,0,0,0,null,0,0,null,null,0,null,null,0,0,null,0,null,0,null,0,null,null,0,0,null,null,0,0,null,0,null,0,null,null,0,null,0,null,0,null,0,null,0,null,0,null,0,null,0,null,0,null,0,null,null,0,{"$f":"BY27+BU27+BQ27+BM27+BI27+BD27+AZ27+AV27+AR27+AN27+AK27+AE27+AB27+Z27+V27+S27+P27+M27+K27+I27+G27+D27+A27","v":0},null,{"$f":"CB27+BW27+BS27+BO27+BK27+BG27+BB27+AY27+AU27+AP27+AL27+AH27+AD27+AA27+X27+U27+R27+O27+L27+J27+H27+F27+C27","v":0},null,null,{"$f":"BK27+BG27+BB27+AY27+AU27+AP27+AL27+AH27+AD27+AA27","v":0},0,null,0]
[{"$f":"A27+C27","v":0},null,null,{"$f":"D27+F27","v":0},null,null,{"$f":"G27+H27","v":0},null,{"$f":"I27+J27","v":0},null,{"$f":"K27+L27","v":0},null,{"$f":"M27+O27","v":0},null,null,{"$f":"P27+R27","v":0},null,null,{"$f":"S27+U27","v":0},null,null,{"$f":"V27+X27","v":0},null,null,null,{"$f":"Z27+AA27","v":0},null,{"$f":"AB27+AD27","v":0},null,null,{"$f":"AE27+AH27","v":0},null,null,null,null,null,{"$f":"AL27+AK27","v":0},null,null,{"$f":"AN27+AP27","v":0},null,null,null,{"$f":"AR27+AU27","v":0},null,null,null,{"$f":"AV27+AY27","v":0},null,null,null,{"$f":"AZ27+BB27","v":0},null,null,null,{"$f":"BD27+BG27","v":0},null,null,null,null,{"$f":"BI27+BK27","v":0},null,null,null,{"$f":"BM27+BO27","v":0},null,null,null,{"$f":"BQ27+BS27","v":0},null,null,null,{"$f":"BU27+BW27","v":0},null,null,null,{"$f":"BY27+CB27","v":0},null,null,null,{"$f":"CC27+CE27","v":0}]
["K) TUBERCULOSIS ",null,null,null,null,null,null,null,null,null,null,null,null,null,null," CHAGAS ",null,null,null,null,null,"L) PERSONAS CON ENF. CRONICAS",null,null,null,null,null,null,null,null,null,null,null,"M) OBSERVACIONES"]
["Coef. Sint.Resp.: ",null,null,"MUESTRAS",null,null,null,null,"TRATAM. TBC",null,null,null,null,null,null,"TRATAMIENTOS CHAGAS",null,null,null,null,null,"PERSONAS CON",null,null,null,null,null,"TOTAL",null,null,"EN TRAT.",null,null," "]
[{"$f":"Control!H9","v":8},null,null,"DIAGNOSTICOS",null,null,"CONTROL",null,"Total",null,"TAES",null," ABANDONO",null,null,"INICIO ",null,null,0,null,null,"DIABETES",null,null,null,null,null,0,null,null,0]
["SINT. ESP..",null,null,"Tot",null,"(+)","Tot","(+)",0,null,0,null,0,null,null,"FINALIZACION ",null,null,0,null,null,"HIPERTENSION \nARTERIAL",null,null,null,null,null,0,null,null,0]
[{"$f":"IF(ISERROR(((AK91+AL91+AN91+AP91+AR91+AU91+AV91+AY91+AZ91+BB91+BD91+BG91+BI91+BK91+BM91+BO91+BQ91+BS91+BU91+BW91+BY91+CB91)*0.2)*A31/100),0,(((AK91+AL91+AN91+AP91+AR91+AU91+AV91+AY91+AZ91+BB91+BD91+BG91+BI91+BK91+BM91+BO91+BQ91+BS91+BU91+BW91+BY91+CB91)*0.2)*A31/100))","v":0},null,null,0,null,0,0,0,"QUIMIO Total",null,0,null,null,null,null,null,null,null,null,null,null,"PERSONAS CON OTRAS ENF. CRONICAS AL CUIDADO DE NIÑOS",null,null,null,null,null,0,null,null,0]
["SINT. DETEC.",null,null,"CONTACTO",null,null,null,null,"CTRL. MEDICO",null,null,null,"FINALIZAD0",null,null,"ABANDONO ",null,null,0]
[0,null,null,"< 14a",null,null,"> 15a",null,"Pcte/Rda",null,"A Cont",null,0,null,null,null,null,null,null,null,null,"ADULTOS MAYORES EN SITUACION DE RIESGO",null,null,null,null,null,0]
[null,null,null,0,null,null,0,null,0,null,0]
["N) DERIVACIONES",null,null,null,null,null,null,null,null,null,null,null,null,null,null,null,null,null,null,null,null,null,null,null,null,null,null,null,null,null,null,null,null,null,null,null,null,null,null,null,null,"Ñ) VIVIENDA Y SANEAMIENTO",null,null,null,null,null,null,null,null,null,null,null,null,null,null,null,null,null,null,null,null,null,null,null,null,null,null,null,"O) DEFUNCIONES EN LA RONDA"]
[null,null,null,null,null,null,null,null,null,null,null,null,null,null,null,null,null,null,null,null,null,null,null,null,null,null,null,null,null,null,null,null,null,null,null,null,null,null,null,null,null,"TRAT. AGUA",null,null,null,null,null,"DISP SANITARIA EXCRETAS",null,null,null,null,null,null,null,null,null,null,null,"TRATAM. SANIT BASURA",null,null,null,null,null,null,null,null,null,"MENORES 1 AÑO",null,null,null,null,null,null,null,null,null,null,"1 a 4 AÑOS",null,"MATERNA",null,null,null,"OTRAS"]
["EMB",null,null,null,"RN",null,null,null,"PUERP",null,null,null,"Menores de 6 años",null,null,null,null,null,null,null,"E.\nCRONICAS",null,"PAP",null,"CHAGAS",null,null,null,"TBC",null,null,null,"PSICOSOC",null,null,null,"TOTAL\nDERIVACIONES",null,null,null,null,"RED",null,"EN\nVIV",null,null,"S/T","ARRASTRE",null,null,null,null,null,"LETRINA",null,null,null,"S/T",null,"REC. DOMIC.",null,null,"POZO BASURA",null,null,null,"S/T",null,null,"<7d",null,null,"7 a 28d",null,null,null,"29d a 11 m"]
[null,null,null,null,null,null,null,null,null,null,null,null,"BP- MBP",null,"RGO BP",null,"Resp",null,"Diarr",null,null,null,null,null,null,null,null,null,null,null,null,null,null,null,null,null,null,null,null,null,null,null,null,null,null,null,null,"CLOACAS",null,"PC-CT",null,"PC-ST",null,"CT",null,"ST"]
["Env",null,"Rec",null,"Env",null,"Rec",null,"Env",null,"Rec",null,"Env","Rec","Env","Rec","Env","Rec","Env","Rec","Env","Rec","Env","Rec","Env",null,"Rec",null,"Env",null,"Rec",null,"Env",null,"Rec",null,"ENV",null,null,"Rec",null,0,null,0,null,null,0,0,null,0,null,0,null,0,null,0,null,0,null,0,null,null,0,null,null,null,0,null,null,0,null,null,0,null,null,null,0,null,null,null,0,null,0,null,null,null,0]
[null,null,null,null,null,null,null,null,null,null,null,null,null,null,null,null,null,null,null,null,null,null,null,null,null,null,null,null,null,null,null,null,null,null,null,null,null,null,null,null,null,"CASAS ",null,null,null,null,null,null,null,null,null,null,null,"CHAGAS",null,null,null,null,null,null,null,null,null,null,null,"DENGUE CHIKUNGUNYA",null,null,null,null,null,null,null,null,null,null,null,"P) PROM. SALUD"]
[0,null,0,null,0,null,0,null,0,null,0,null,0,0,0,0,0,0,0,0,0,0,0,0,0,null,0,null,0,null,0,null,0,null,0,null,{"$f":"AG43+AC43+Y43+W43+U43+S43+Q43+O43+M43+I43+E43+A43","v":0},null,null,{"$f":"AI43+AE43+AA43+X43+V43+T43+R43+P43+N43+K43+G43+C43","v":0},null,"ASIGNADAS",null,null,null,null,"VISITADAS",null,null,"VACIAS",null,"DESTRUIDAS",null,"EVALUADAS",null,null,"POSITIVAS",null,null,null,null,"TRATADAS",null,null,null,"EVALUADAS",null,null,null,"POSITIVAS",null,null,null,"TRATADAS",null,null,null,"PLANIFICADAS \nEN COMUNIDAD",null,null,null,null,null,null,null,0]
[]
[null,null,null,null,null,null,null,null,null,null,null,null,null,null,null,null,null,null,null,null,null,null,null,null,null,null,null,null,null,null,null,null,null,null,null,null,null,null,null,null,null,0,null,null,null,null,0,null,null,0,null,0,null,0,null,null,0,null,null,null,null,0,null,null,null,0,null,null,null,0,null,null,null,0,null,null,null,"REALIZADAS ",null,null,null,null,null,null,null,0]
["Q) INDICADORES"]
["DE ESTRUCTURA",null,null,null,null,null,"SI","NO","DE PRODUCCION",null,null,null,null,null,"%","META",null," DE INMUNIZACIONES",null,null,null,null,null,null,null,null,null,null,null,null,null,null,null,null," DE INMUNIZACIONES",null,null,null,null,null,null,null,null,null,null,null,null,null,null,null,null,null,null,null,null,null,null,null,null,null,null," DE RESULTADO",null,null,null,null,null,null,null,null,"%",null,"META",null,null," DE RESULTADO",null,null,null,null,null,null,null,null,null,"%",null,"META RDA"]
["Formularios",null,null,null,null,null,0,0,"Cobertura a Familias",null,null,null,null,null,{"$f":"IF(ISERROR(D12/A12),0,(D12/A12)*100)","v":0},100,null,"VACUNA",null,null,null,null,"P. REF",null,"1r","2r","3r","4r",null,"T","%",null,"META",null,"VACUNA",null,null,null,null,null,null,null,null,null,"P. REF",null,null,"1r",null,null,"2r","3r",null,null,"4r","T",null,"%",null,"META",null,"Ed Fértil c/Anticoncepción",null,null,null,null,null,null,null,null,{"$f":"IF(ISERROR(D20/CH27),0,(D20/CH27)*100)","v":0},null,null,null,null,"Niños 2 a 5 Recup BP",null,null,null,null,null,null,null,null,null,{"$f":"IF(ISERROR(AV23/K80),0,(AV23/K80)*100)","v":0},null,100]
["Equipo",null,null,null,null,null,0,0,"Niños < 2 años Controlados",null,null,null,null,null,{"$f":"IF(ISERROR(((AJ22+AL22+AN22+AP22)/(A28+D28+G28))),0,(((AJ22+AL22+AN22+AP22)/(A28+D28+G28)))*100)","v":0},100,null,"BCG RN",null,null,null,null,{"$f":"U20","v":0},null,0,0,0,0,null,{"$f":"SUM(Y49:AB49)","v":0},{"$f":"IF(ISERROR(Z49/W49),0,(Z49/W49)*100)","v":0},null,100,null,"2 Ref. Varicela Ingreso Esc",null,null,null,null,null,null,null,null,null,12,null,null,0,null,null,0,0,null,null,0,{"$f":"SUM(AV49:BC49)","v":0},null,{"$f":"IF(ISERROR(AY49/AS49),0,(AY49/AS49)*100)","v":0},null,25,null,"PAP",null,null,null,null,null,null,null,null,{"$f":"IF(ISERROR(D17/CH27),0,(D17/CH27)*100)","v":0},null,null,null,null,"Niños 2 a 5 Recup AP",null,null,null,null,null,null,null,null,null,{"$f":"IF(ISERROR(AY23/K82),0,(AY23/K82)*100)","v":0},null,100]
["Combustible",null,null,null,null,null,0,0,"Niños  (2 a 5 años) Controlados",null,null,null,null,null,{"$f":"IF(ISERROR(((AJ23+AL23+AN23+AP23)/(I28+K28+M28+P28))),0,(((AJ23+AL23+AN23+AP23)/(I28+K28+M28+P28)))*100)","v":0},100,null,"Hepatitis B RN","Hepatitis B RN",null,"Hepatitis B RN","Hepatitis B RN",null,null,0,0,0,0,null,{"$f":"SUM(Y50:AB50)","v":0},{"$f":"IF(ISERROR(Z50/W49),0,(Z50/W49)*100)","v":0},null,null,null,"2° Ref. Antipolio Ingreso Escolar",null,null,null,null,null,null,null,null,null,null,null,null,0,null,null,0,0,null,null,0,{"$f":"SUM(AV50:BC50)","v":0},null,{"$f":"IF(ISERROR(AY50/AS49),0,(AY50/AS49)*100)","v":0},null,null,null,"Embarazadas Con MELON",null,null,null,null,null,null,null,null,{"$f":"IF(ISERROR(F23/J20),0,(F23/J20)*100)","v":0},null,80,null,null,"Niños 6 meses con LME",null,null,null,null,null,null,null,null,null,{"$f":"IF(ISERROR(CC20/CC17),0,(CC20/CC17)*100)","v":0},null,80]
[" DE DIAGNOSTICO",null,null,null,null,null,null,"%","Conc. Vis. Flias Prio",null,null,null,null,null,{"$f":"IF(ISERROR((BB15+BE15)/(BB14+BE14)),0,((BB15+BE15)/(BB14+BE14)))","v":0},25,null,"2° Neumococo < 1a","3ª SOT/Salk < 1a",null,"3ª SOT/Salk < 1a","3ª SOT/Salk < 1a",{"$f":"A91+C91+D91+F91","v":0},null,0,0,0,0,null,{"$f":"SUM(Y51:AB51)","v":0},{"$f":"IF(ISERROR(Z51/W51),0,(Z51/W51)*100)","v":0},null,100,null,"2° Ref. DPT Ingreso Escolar",null,null,null,null,null,null,null,null,null,null,null,null,0,null,null,0,0,null,null,0,{"$f":"SUM(AV51:BC51)","v":0},null,{"$f":"IF(ISERROR(AY51/AS49),0,(AY51/AS49)*100)","v":0},null,null,null,"Partos Hospitalarios",null,null,null,null,null,null,null,null,{"$f":"IF(ISERROR(O20/M20),0,(O20/M20)*100)","v":0},null,100]
["Flias Priorizadas 3 + 2:",null,null,null,null,null,null,{"$f":"IF(ISERROR((BB14+BE14)/D12),0,(BB14+BE14)/D12*100)","v":0},"Conc.C.Dom Niños Bp/MBP",null,null,null,null,null,{"$f":"IF(ISERROR(BW22/(AL22+AN22+AL23+AN23)),0,(BW22/(AL22+AN22+AL23+AN23)))","v":0},3,null,"2° Rotavirus <1 a","3º Pentavalente <1 a",null,"3º Pentavalente <1 a","3º Pentavalente <1 a",null,null,0,0,0,0,null,{"$f":"SUM(Y52:AB52)","v":0},{"$f":"IF(ISERROR(Z52/W51),0,(Z52/W51)*100)","v":0},null,null,null,"2° TV Ingreso Escolar",null,null,null,null,null,null,null,null,null,null,null,null,0,null,null,0,0,null,null,0,{"$f":"SUM(AV52:BC52)","v":0},null,{"$f":"IF(ISERROR(AY52/AS49),0,(AY52/AS49)*100)","v":0},null,100,null,"Conc Control Médico a RN",null,null,null,null,null,null,null,null,{"$f":"IF(ISERROR(Q23/M20),0,(Q23/M20))","v":0},null,4,null,null,"% Niños BP MBP y RBP con MELaN",null,null,null,null,null,null,null,null,null,{"$f":"IF(ISERROR(BO20/(AL22+AN22+AR22+AL23+AN23+AR23)),0,(BO20/(AL22+AN22+AR22+AL23+AN23+AR23))*100)","v":0},null,100]
["Flias Urbanas",null,null,null,null,null,null,{"$f":"IF(ISERROR(T12/D12),0,(T12/D12)*100)","v":0},"Rel. Muestra/Sint Resp.",null,null,null,null,null,{"$f":"IF(ISERROR(D33/A35),0,(D33/A35))","v":0},2,null,"2° Meningococo < 1a",null,null,null,null,null,null,0,0,0,0,null,{"$f":"SUM(Y53:AB53)","v":0},{"$f":"IF(ISERROR(Z53/W51),0,(Z53/W51)*100)","v":0},null,null,null,"dTpa 11 años",null,null,null,null,null,null,null,null,null,12,null,null,0,null,null,0,0,null,null,0,{"$f":"SUM(AV53:BC53)","v":0},null,{"$f":"IF(ISERROR(AY53/AS53),0,(AY53/AS53)*100)","v":0},null,null,null,"Conc Control Méd. a puérpera",null,null,null,null,null,null,null,null,{"$f":"IF(ISERROR(M23/S20),0,(M23/S20))","v":0},null,4,null,null,"Sint Resp Detect. Seg zona",null,null,null,null,null,null,null,null,null,{"$f":"IF(ISERROR((A35*100)/(((20*(AK28+AN28+AR28+AV28+AZ28+BD28+BI28+BM28+BQ28+BU28+BY28))/100)*A31)),0,(A35*100)/((((20*(AK28+AN28+AR28+AV28+AZ28+BD28+BI28+BM28+BQ28+BU28+BY28))/100)*A31)/100))","v":0},null,"S/Z"]
["Flias Periurbanas",null,null,null,null,null,null,{"$f":"IF(ISERROR(V12/D12),0,(V12/D12)*100)","v":0},"Casas Evaluadas Chagas",null,null,null,null,null,{"$f":"IF(ISERROR(BB45/AU45),0,(BB45/AU45)*100)","v":0},100,null,"3° Antipolio < 1 año","2ª Rotavirus < 1 año",null,"2ª Rotavirus < 1 año","2ª Rotavirus < 1 año",null,null,0,0,0,0,null,{"$f":"SUM(Y54:AB54)","v":0},{"$f":"IF(ISERROR(Z54/W51),0,(Z54/W51)*100)","v":0},null,null,null,"U.D. Meningococo",null,null,null,null,null,null,null,null,null,null,null,null,0,null,null,0,0,null,null,0,{"$f":"SUM(AV54:BC54)","v":0},null,{"$f":"IF(ISERROR(AY54/AS53),0,(AY54/AS53)*100)","v":0},null,"95% AL 1° SEM",null,"RN con Pesquisa",null,null,null,null,null,null,null,null,{"$f":"IF(ISERROR(Y23/U20),0,(Y23/U20)*100)","v":0},null,100,null,null,"Pacientes TBC con Control Médico",null,null,null,null,null,null,null,null,null,{"$f":"IF(ISERROR(I36/I32),0,(I36/I32)*100)","v":0},null,100]
["Flias Rurales",null,null,null,null,null,null,{"$f":"IF(ISERROR(Y12/D12),0,(Y12/D12)*100)","v":0},"Casas Tratadas Chagas",null,null,null,null,null,{"$f":"IF(ISERROR(BJ45/BE45),0,(BJ45/BE45)*100)","v":0},100,null,"3° Pentavalente <1 año","TV 1 año",null,"TV 1 año","TV 1 año",null,null,0,0,0,0,null,{"$f":"SUM(Y55:AB55)","v":0},{"$f":"IF(ISERROR(Z55/W51),0,(Z55/W51)*100)","v":0},null,null,null,"1° HPV Niñas cumplen 11 a en año en curso",null,null,null,null,null,null,null,null,null,6,null,null,0,null,null,0,0,null,null,0,{"$f":"SUM(AV55:BC55)","v":0},null,{"$f":"IF(ISERROR(AY55/AS55),0,(AY55/AS55)*100)","v":0},null,null,null,"Derivaciones Enviadas/Recibidas",null,null,null,null,null,null,null,null,{"$f":"IF(ISERROR(AN43/AK43),0,(AN43/AK43)*100)","v":0},null,100,null,null,"Contactos TBC Controlados",null,null,null,null,null,null,null,null,null,{"$f":"IF(ISERROR(K36/(D36+G36)),0,(K36/(D36+G36)))*100","v":0},null,100]
["Flias Originarias",null,null,null,null,null,null,{"$f":"IF(ISERROR(R12/D12),0,(R12/D12)*100)","v":0},"Casas Evaluadas Dengue",null,null,null,null,null,{"$f":"IF(ISERROR(BN45/AU45),0,(BN45/AU45)*100)","v":0},100,null,"1° TV","A HA 1 año",null,"A HA 1 año","A HA 1 año",{"$f":"G91+H91","v":0},null,0,0,0,0,null,{"$f":"SUM(Y56:AB56)","v":0},{"$f":"IF(ISERROR(Z56/W56),0,(Z56/W56)*100)","v":0},null,100,null,"1° HPV Niños cumplen 11 a en año en curso",25,25,null,null,null,null,null,null,null,6,null,null,0,null,null,0,0,null,null,0,{"$f":"SUM(AV56:BC56)","v":0},null,{"$f":"IF(ISERROR(AY56/AS56),0,(AY56/AS56)*100)","v":0},null,"95% AL 1° SEM",null,"Niños < 2 a Riesgo BP",null,null,null,null,null,null,null,null,{"$f":"IF(ISERROR(AR22/AJ22),0,(AR22/AJ22)*100)","v":0},null,null,null,null,"TAES de TBC",null,null,null,null,null,null,null,null,null,{"$f":"IF(ISERROR(K32/I32),0,(K32/I32)*100)","v":0},null,100]
["Flias Migr. desde AO",null,null,null,null,null,null,{"$f":"IF(ISERROR(AC12/A12),0,(AC12/A12)*100)","v":0},"Casas Tratadas Dengue",null,null,null,null,null,{"$f":"IF(ISERROR(BV45/BR45),0,(BV45/BR45)*100)","v":0},100,null,"2° TV","A HA 1 año",null,"A HA 1 año","A HA 1 año",null,null,0,0,0,0,null,{"$f":"SUM(Y57:AB57)","v":0},{"$f":"IF(ISERROR(Z57/W56),0,(Z57/W56)*100)","v":0},null,null,null,"Emb. con dTpa",null,null,null,null,null,null,null,null,null,3,null,null,0,null,null,0,0,null,null,0,{"$f":"SUM(AV57:BC57)","v":0},null,{"$f":"IF(ISERROR(AY57/AS57),0,(AY57/AS57)*100)","v":0},null,null,null,"Niños < 2 a Riesgo AP",null,null,null,null,null,null,null,null,{"$f":"IF(ISERROR(AT22/AJ22),0,(AT22/AJ22)*100)","v":0},null,null,null,null,"Ptes. con tratamiento por Chagas",null,null,null,null,null,null,null,null,null,{"$f":"S31","v":0}]
["Flias Migr. hacia el AO",null,null,null,null,null,null,{"$f":"IF(ISERROR(AA12/A12),0,(AA12/A12)*100)","v":0},"Superv Int. a la Familia",null,null,null,null,null,{"$f":"IF(ISERROR((CH14*100)/BL14),0,((CH14*100)/BL14))","v":0},20,null,"Unica Dosis A HA",null,null,null,null,null,null,0,0,0,0,null,{"$f":"SUM(Y58:AB58)","v":0},{"$f":"IF(ISERROR(Z58/W56),0,(Z58/W56)*100)","v":0},null,null,null,"Emb. con Vac Sinsicial",null,null,null,null,null,null,null,null,null,null,null,null,0,null,null,0,0,null,null,0,{"$f":"SUM(AV58:BC58)","v":0},null,{"$f":"IF(ISERROR(AY58/AS57),0,(AY58/AS57)*100)","v":0},null,100,null,"Niños < 2 Recup BP",null,null,null,null,null,null,null,null,{"$f":"IF(ISERROR(AV22/K79),0,(AV22/K79)*100)","v":0},null,100,null,null,"Casas positivas Chagas",null,null,null,null,null,null,null,null,null,{"$f":"IF(ISERROR(BE45/BB45),0,(BE45/BB45)*100)","v":0},null,0]
["Flias con planes sociales",null,null,null,null,null,null,{"$f":"IF(ISERROR(AF12/D12),0,(AF12/D12)*100)","v":0},"Superv Prof. Flias Prio (3v)",null,null,null,null,null,{"$f":"IF(ISERROR(CH15/(BB14+BE14)),0,(CH15/(BB14+BE14))*100)","v":0},70,null,"Ref Neumococo 1 año","Ref Neumoc 1 año",null,"Ref Neumoc 1 año","Ref Neumoc 1 año",null,null,0,0,0,0,null,{"$f":"SUM(Y59:AB59)","v":0},{"$f":"IF(ISERROR(Z59/W56),0,(Z59/W56)*100)","v":0},null,null,null,"dT  Vigente > 65 a",null,null,null,null,null,null,null,null,null,{"$f":"BY91+CB91","v":0},null,null,0,null,null,0,0,null,null,0,{"$f":"SUM(AV59:BC59)","v":0},null,{"$f":"IF(ISERROR(AY59/AS59),0,(AY59/AS59)*100)","v":0},null,100,null,"Niños < 2 Recup AP",null,null,null,null,null,null,null,null,{"$f":"IF(ISERROR(AY22/K81),0,(AY22/K81)*100)","v":0},null,100,null,null,"Casas Positivas Aedes",null,null,null,null,null,null,null,null,null,{"$f":"IF(ISERROR(BR45/BN45),0,(BR45/BN45)*100)","v":0},null," "]
[null,null,null,null,null,null,null,null,"% Activ Prom.Salud Comunitarias",null,null,null,null,null,{"$f":"IF(ISERROR(CH45/CH43),0,(CH45/CH43)*100)","v":0},100,null,"Ref. Meningococo 1 año","Ref Cuádruple 1 año",null,"Ref Cuádruple 1 año","Ref Cuádruple 1 año",null,null,0,0,0,0,null,{"$f":"SUM(Y60:AB60)","v":0},{"$f":"IF(ISERROR(Z60/W56),0,(Z60/W56)*100)","v":0},null,null,null,"Neumo 20 > 65 años",null,null,null,null,null,null,null,null,null,null,null,null,0,null,null,0,0,null,null,0,{"$f":"SUM(AV60:BC60)","v":0},null,{"$f":"IF(ISERROR(AY60/AS59),0,(AY60/AS59)*100)","v":0},null,null,null,"Niños 2 a 5 Riesgo BP",null,null,null,null,null,null,null,null,{"$f":"IF(ISERROR(AR23/AJ23),0,(AR23/AJ23)*100)","v":0},null,null,null,null,"UROCS 1/SEC",null,null,null,null,null,null,null,null,null,0,null,"1/SEC"]
["Flias. c/Antec Mort Mat Inf",null,null,null,null,null,null,{"$f":"IF(ISERROR(AV10/D12),0,(AV10/D12)*100)","v":0},null,null,null,null,null,null,null,null,null,"Unica Dosis Varicela","Ref SOT 1 año",null,"Ref SOT 1 año","Ref SOT 1 año",null,null,0,0,0,0,null,{"$f":"SUM(Y61:AB61)","v":0},{"$f":"IF(ISERROR(Z61/W56),0,(Z61/W56)*100)","v":0},null,null,null,"Aplic. Cargadas a Nomivac",null,null,null,null,null,null,null,null,null,0,null,null,null,null,null,null,null,null,null,null,null,null,null,null,null,null,null,null,null,null,null,null,null,null,null,null,null,null,null,null,"Flias con Huerta",null,null,null,null,null,null,null,null,null,{"$f":"IF(ISERROR(AL12/D12),0,(AL12/D12)*100)","v":0}]
["F con 3 o más <6 años",null,null,null,null,null,null,{"$f":"IF(ISERROR(BI10/D12),0,(BI10/D12)*100)","v":0}," DE IMPACTO",null,null,null,null,"%",null,"META",null,"4° Dosis o 1° Ref. Pentavalente",null,null,null,null,null,null,0,0,0,0,null,{"$f":"SUM(Y62:AB62)","v":0},{"$f":"IF(ISERROR(Z62/W56),0,(Z62/W56)*100)","v":0},null,null,null,"Total Aplic /AS",null,null,null,null,null,null,null,null,null,0,null,null,null,null,null,null,null,null,null,null,null,null,null,null,null,null,"Niños 2 a 5 Riesgo AP",null,null,null,null,null,null,null,null,{"$f":"IF(ISERROR(AT23/AJ23),0,(AT23/AJ23)*100)","v":0},null,null,null,null,"Flias con Granja",null,null,null,null,null,null,null,null,null,{"$f":"IF(ISERROR(AP12/D12),0,(AP12/D12)*100)","v":0}]
["Flias con Hacinamiento",null,null,null,null,null,null,{"$f":"IF(ISERROR(BL10/D12),0,(BL10/D12)*100)","v":0},"Agua Seg (Trat Red + Viv)",null,null,null,null,{"$f":"IF(ISERROR((AP41+AR41)/D12),0,((AP41+AR41)/D12)*100)","v":0},null,100,null,"2° AG 6m a 24m",null,null,null,null,{"$f":"D91+F91+G91+H91","v":0},null,0,0,0,0,null,{"$f":"SUM(Y63:AB63)","v":0},{"$f":"IF(ISERROR(Z63/W63),0,(Z63/W63)*100)","v":0},null," ",null,"VAC COVID APLIC EN LA RONDA",null,null,null,null,null,null,null,null,null,0,null,null,null,null,null,null,null,null,null,null,null,null,null,null,null,null,"U) A llenar en 1° Ronda del Año"]
["Flias con Analfabet",null,null,null,null,null,null,{"$f":"IF(ISERROR(BO10/D12),0,(BO10/D12)*100)","v":0},"DSE (Arrastre y letrinas)",null,null,null,null,{"$f":"IF(ISERROR((AV41+AX41+AZ41+BB41+BD41)/D12),0,((AV41+AX41+AZ41+BB41+BD41)/D12)*100)","v":0},null,100,null,"R) PRODUCCION Y RENDIMIENTO",null,null,null,null,null,null,null,null,null,null,null,null,null,null,null,null,null,null,null,null,null,null,null,null,null,null,null,null,null,null,null,null,null,null,null,null,null,null,null,null,null,null,null,"Piso",null,null,null,null,"Techo",null,null,null,null,"Paredes",null,null,null,null,null,null,null,null,null,"Cocina",null,null,null,null,"Tenencia"]
["Flias con Suicidio",null,null,null,null,null,null,{"$f":"IF(ISERROR(BT11/D12),0,(BT11/D12)*100)","v":0},"TSB (Recolección + Pozo)",null,null,null,null,{"$f":"IF(ISERROR((BH41+BK41)/D12),0,((BH41+BK41)/D12)*100)","v":0},null,100,null,"DIAS A TRAB. /RONDA",null,null,"DIAS INCLEM CLIMAT.",null,null,"DIAS Y NROS DE ARTICULOS TOMADOS",null,null,null,"CAPACITACIONES Y OTRAS ACTIVIDADES",null,null,null,null,null,null,null,null,null,null,null,null,null,null,null,null,null,null,null,null,null,null,"DIAS TRABAJADOS\nEN TERRENO",null,null,null,null,"PROM. DIARIO DE FLIAS VISIT.",null,null,null,null,null,"Mosaico/B.",null,null,null,0,"Losa",null,null,0,null,"Ladrillo",null,null,0,null,"Madera",null,null,null,0,"Gas",null,null,0,null,"Segura",null,null,0]
["Flias c /tentativa suicidio",null,null,null,null,null,null,{"$f":"IF(ISERROR(BV11/D12),0,(BV11/D12)*100)","v":0},"Emb Adolescente",null,null,null,null,{"$f":"IF(ISERROR(L20/J20),0,(L20/J20)*100)","v":0},null,null,null,null,null,null,null,null,null,0,null,null,null,0,null,null,null,null,null,null,null,null,null,null,0,null,null,null,null,null,null,null,null,null,null,null,null,null,null,null,null,null,null,null,null,null,null,"Cemento",null,null,null,0,"Chapa\nZinc",null,null,0,null,"Bloque",null,null,0,null,"Quincho",null,null,null,0,"Leña/\nCarb",null,null,0,null,"Inseg.",null,null,0]
["Flias con Alcoholismo",null,null,null,null,null,null,{"$f":"IF(ISERROR(BY11/D12),0,(BY11/D12)*100)","v":0},"Niños <2 Bajo Peso/MBP",null,null,null,null,{"$f":"IF(ISERROR((AL22+AN22)/(AJ22+AP22+AL22+AN22)),0,((AL22+AN22)/(AJ22+AP22+AL22+AN22))*100)","v":0},null,null,null,null,null,null,null,null,null,0,null,null,null,0,null,null,null,null,null,null,null,null,null,null,0,null,null,null,null,null,null,null,null,null,null,null,null,null,null,null,null,null,null,null,null,null,null,"Tierra",null,null,null,0,"Paja/\nBarro",null,null,0,null,"Adobe",null,null,0,null,"Carton/Pl",null,null,null,0,"Otros",null,null,0,null,"Hac",null,null,0,null,null,null,5]
["Flias c/ otras Adicciones",null,null,null,null,null,null,{"$f":"IF(ISERROR(CC11/D12),0,(CC11/D12)*100)","v":0},"Niños <2 a AP",null,null,null,null,{"$f":"IF(ISERROR(AP22/(AJ22+AP22+AL22+AN22)),0,(AP22/(AJ22+AP22+AL22+AN22))*100)","v":0},null,null,null,0,null,null,0,null,null,0,null,null,null,0,null,null,null,null,null,null,null,null,null,null,0,null,null,null,null,null,null,null,null,null,null,null,0,null,null,null,null,{"$f":"IF(ISERROR(G12/AY68),0,(G12/AY68))","v":0},null,null,null,null,null,"Otros",null,null,null,0,"Otros",null,null,0,null,"Piedra",null,null,0,null,"Otro",null,null,null,0,"Helad.",null,null,0]
["Flias con VIF",null,null,null,null,null,null,{"$f":"IF(ISERROR(CF11/D12),0,(CF11/D12)*100)","v":0},"Niños < 2 baja y MBT",null,null,null,null,{"$f":"IF(ISERROR((AZ22+BB22)/(AJ22+AP22+AL22+AN22)),0,((AZ22+BB22)/(AJ22+AP22+AL22+AN22))*100)","v":0},null,null,null,"S) DETALLE DE LAS DEFUNCIONES (Todas las del Sector)",null,null,null,null,null,null,null,null,null,null,null,null,null,null,null,null,null,null,null,null,null,null,null,null,null,null,null,null,null,null,null,null,null,null,null,null,null,null,null,null,null,null,null,"Agua",null,"Corriente a Domic",null,null,"Grifo Terr",null,null,"Grifo Público",null,null,"Bomba",null,null,"Pozo",null,null,null,"Camión Aguatero / Cisterna",null,"Vertiente/Rio/Aceq",null,null,"Laguna",null,null,"Lluvia/Aljibe"]
["Flias con Diabetes",null,null,null,null,null,null,{"$f":"IF(ISERROR(AB31/D12),0,(AB31/D12)*100)","v":0},"Niños 2 a 5 Bajo Peso/MBP",null,null,null,null,{"$f":"IF(ISERROR((AL23+AN23)/(AJ23+AP23+AL23+AN23)),0,((AL23+AN23)/(AJ23+AP23+AL23+AN23))*100)","v":0},null,null,null,"APELLIDO Y NOMBRE",null,null,null,null,null,null,"DOMICILIO",null,null,null,null,null,null,null,null,"NACIMIENTO",null,null,null,null,"DEFUNCION",null,null,null,"PESO\nAL NACER",null,null,null,"CAUSA",null,null,null,null,null,null,null,null,null,"CLASIFICAC."]
["Flias con Hipertensión",null,null,null,null,null,null,{"$f":"IF(ISERROR(AB32/D12),0,(AB32/D12)*100)","v":0},"Niños 2 a 5 AP",null,null,null,null,{"$f":"IF(ISERROR(AP23/(AJ23+AP23+AL23+AN23)),0,(AP23/(AJ23+AP23+AL23+AN23))*100)","v":0}]
[]
["Personas con otras enfermedades crónicas al cuidado de niños",null,null,null,null,null,null,{"$f":"IF(ISERROR(AB33/D12),0,(AB33/D12)*100)","v":0},"Niños 2 a 5 baja y MBT",null,null,null,null,{"$f":"IF(ISERROR((AZ23+BB23)/(AJ23+AP23+AL23+AN23)),0,((AZ23+BB23)/(AJ23+AP23+AL23+AN23))*100)","v":0},null,null,null,null,null,null,null,null,null,null,null,null,null,null,null,null,null,null,null,null,null,null,null,null,null,null,null,null,null,null,null,null,null,null,null,null,null,null,null,null,null,null,null,null,null,null,null,null,null,0,null,null,0,null,null,0,null,null,0,null,null,0,null,null,null,0,null,0,null,null,0,null,null,0]
["Pers c/O Social/Pob total",null,null,null,null,null,null,{"$f":"IF(ISERROR(CI27/CC28),0,(CI27/CC28)*100)","v":0}]
[]
[]
[]
[]
["BP+MBP Ronda Anterior Men2a: ",null,null,null,null,null,null,null,null,null,0]
["BP+MBP Ronda Anterior 2 a 6a: ",null,null,null,null,null,null,null,null,null,0]
["AP Ronda Anterior Men2a: ",null,null,null,null,null,null,null,null,null,0]
["AP Ronda Anterior 2 a 6a: ",null,null,null,null,null,null,null,null,null,0]
[]
[]
[]
[]
[]
["0 a 5m",null,null,"6 a 11m",null,null,"1 AÑO",null,"2 AÑOS",null,"3 AÑOS",null,"4 AÑOS",null,null,"5 AÑOS",null,null,"6 AÑOS",null,null,"7 A 9 AÑOS",null,null,null,"10 AÑOS",null,"11 AÑOS",null,null,"12 A 14",null,null,null,null,null,"15 A 19",null,null,"20 A 24",null,null,null,"25 A 29",null,null,null,"30 A 34",null,null,null,"35 A 39",null,null,null,"40 A 44",null,null,null,null,"45 A 49",null,null,null,"50 A 54",null,null,null,"55 A 59",null,null,null,"60 A 64",null,null,null,"65 y +",null,null,null,"TOTAL",null,null,null,null,"MUJERES\n10 A 49"]
["M",null,"F","M",null,"F","M","F","M","F","M","F","M",null,"F","M",null,"F","M",null,"F","M",null,"F",null,"M","F","M",null,"F","M",null,null,"F",null,null,"M","F",null,"M",null,"F",null,"M",null,null,"F","M",null,null,"F","M",null,"F",null,"M",null,null,"F",null,"M",null,"F",null,"M",null,"F",null,"M",null,"F",null,"M",null,"F",null,"M",null,null,"F","M",null,"F"]
[0,null,0,0,null,0,0,0,0,0,0,0,0,null,0,0,null,0,0,null,0,0,null,0,null,0,0,0,null,0,0,null,null,0,null,null,0,0,null,0,null,0,null,0,null,null,0,0,null,null,0,0,null,0,null,0,null,null,0,null,0,null,0,null,0,null,0,null,0,null,0,null,0,null,0,null,0,null,null,0,{"$f":"SUM(A90,D90,G90,I90,K90,M90,P90,S90,V90,Z90,AB90,AE90,AK90,AN90,AR90,AV90,AZ90,BD90,BI90,BM90,BQ90,BU90,BY90)","v":0},null,{"$f":"SUM(C90,F90,H90,J90,L90,O90,R90,U90,X90,AA90,AD90,AH90,AL90,AP90,AU90,AY90,BB90,BG90,BK90,BO90,BS90,BW90,CB90)","v":0},null,null,{"$f":"SUM(AA90,AD90,AH90,AL90,AP90,AU90,AY90,BB90,BG90,BK90)","v":0}]
[{"$f":"SUM(A90:C90)","v":0},null,null,{"$f":"SUM(D90,F90)","v":0},null,null,{"$f":"SUM(G90,H90)","v":0},null,{"$f":"SUM(I90,J90)","v":0},null,{"$f":"SUM(K90,L90)","v":0},null,{"$f":"SUM(M90,O90)","v":0},null,null,{"$f":"SUM(P90,R90)","v":0},null,null,{"$f":"SUM(S90,U90)","v":0},null,null,{"$f":"SUM(V90,X90)","v":0},null,null,null,{"$f":"SUM(Z90,AA90)","v":0},null,{"$f":"SUM(AB90,AD90)","v":0},null,null,{"$f":"SUM(AE90,AH90)","v":0},null,null,null,null,null,{"$f":"SUM(AK90,AL90)","v":0},null,null,{"$f":"SUM(AN90,AP90)","v":0},null,null,null,{"$f":"SUM(AR90,AU90)","v":0},null,null,null,{"$f":"SUM(AV90,AY90)","v":0},null,null,null,{"$f":"SUM(AZ90,BB90)","v":0},null,null,null,{"$f":"SUM(BD90,BG90)","v":0},null,null,null,null,{"$f":"SUM(BI90,BK90)","v":0},null,null,null,{"$f":"SUM(BM90,BO90)","v":0},null,null,null,{"$f":"SUM(BQ90,BS90)","v":0},null,null,null,{"$f":"SUM(BU90,BW90)","v":0},null,null,null,{"$f":"SUM(BY90,CB90)","v":0},null,null,null,{"$f":"A91+D91+G91+I91+K91+M91+P91+S91+V91+Z91+AB91+AE91+AK91+AN91+AR91+AV91+AZ91+BD91+BI91+BM91+BQ91+BU91+BY91","v":0}]
["Mejor Población: 1° - 2019",null,null,null,null,null,null,null,null,null,null,null,null,null,null,null,null,null,null,null,null,null,null,null,null,null,null,null,null,null,null,null,null,null,null,null,null,null,null,null,null,null,null,null,null,null,null,null,null,null,null,null,null,null,null,null,null,null,null,null,null,null,null,null,null,null,null,null,null,null,null,null,null,null,null,null,null,null,null,null,{"$f":"SUM(CC91,CE91)","v":0}]
["Cobertura: 1%"]

{"sheet":"40 VIVIENDAS","index":29,"n_rows":93,"n_cols":94,"rows_kept":93,"cut":false,"hidden":false,"merged":[[61,30,61,31],[62,30,62,31],[0,86,0,87],[1,8,1,9],[1,15,1,25],[1,46,1,53],[1,56,1,57],[1,58,1,59],[1,60,1,61],[1,67,1,84],[1,86,1,87],[0,27,3,45],[0,46,0,52],[0,56,0,57],[0,58,0,59],[0,60,0,61],[0,81,0,84],[2,46,2,53],[2,56,2,57],[2,58,2,59],[2,60,2,61],[6,0,6,89],[7,0,7,46],[7,47,7,89],[8,0,10,2],[8,3,10,5],[8,6,10,7],[8,8,8,16],[8,17,10,18],[8,19,10,20],[8,21,10,23],[4,80,4,87],[5,8,5,24],[5,33,5,46],[5,57,5,67],[5,75,5,77],[5,82,5,87],[2,67,2,79],[2,86,2,87],[3,8,3,23],[3,46,3,53],[3,56,3,57],[3,58,3,59],[3,60,3,61],[3,74,3,79],[3,84,3,87],[8,86,8,89],[9,8,10,9],[9,10,10,11],[9,12,10,13],[9,14,10,16],[9,26,10,27],[9,28,10,30],[8,66,8,68],[8,69,8,72],[8,73,8,75],[8,76,8,79],[8,80,8,82],[8,83,8,85],[8,51,8,53],[8,54,8,55],[8,56,8,57],[8,58,8,59],[8,60,8,62],[8,63,8,65],[8,24,10,25],[8,26,8,30],[8,31,10,36],[8,37,8,46],[8,47,8,48],[8,49,8,50],[9,49,10,50],[11,0,14,2],[11,3,14,5],[11,6,14,7],[11,8,14,9],[11,10,14,11],[11,12,14,13],[9,86,9,89],[10,69,10,72],[10,73,10,74],[10,76,10,78],[10,81,10,82],[10,83,10,84],[10,86,10,89],[9,66,10,68],[9,69,9,72],[9,73,9,74],[9,76,9,78],[9,81,9,82],[9,83,9,84],[9,51,10,53],[9,54,10,55],[9,56,10,57],[9,58,10,59],[9,60,10,62],[9,63,10,65],[13,75,13,78],[13,79,13,80],[13,81,13,84],[9,37,10,40],[9,41,10,46],[9,47,10,48],[12,85,12,89],[13,47,13,52],[13,63,13,68],[13,69,13,74],[12,47,12,52],[12,63,12,68],[12,53,12,55],[12,56,12,59],[12,60,12,62],[13,53,13,55],[13,56,13,59],[13,60,13,62],[14,53,14,55],[14,56,14,59],[14,60,14,62],[11,19,14,20],[11,21,14,23],[11,24,14,25],[11,26,14,27],[16,0,18,2],[16,6,18,6],[16,7,18,7],[16,8,18,8],[16,9,18,9],[16,10,18,10],[16,11,18,11],[16,12,18,13],[14,79,14,80],[14,81,14,84],[14,85,14,89],[15,12,15,19],[15,20,15,28],[15,29,15,65],[15,66,15,75],[11,28,14,30],[11,31,14,36],[11,37,14,40],[11,41,14,46],[11,47,11,68],[11,69,11,89],[11,14,14,16],[11,17,14,18],[13,85,13,89],[14,47,14,52],[14,63,14,68],[14,69,14,74],[14,75,14,78],[12,69,12,74],[12,75,12,78],[12,79,12,80],[12,81,12,84],[19,0,20,2],[19,12,19,13],[19,14,19,15],[19,18,19,19],[19,20,19,21],[19,23,19,24],[19,25,19,26],[19,27,19,28],[17,41,20,42],[17,43,18,46],[17,47,18,50],[17,51,18,55],[17,56,20,57],[17,58,18,62],[19,43,20,44],[19,45,20,46],[19,47,20,49],[19,50,20,50],[17,16,18,16],[17,17,18,17],[17,22,18,22],[17,23,18,24],[17,25,18,26],[17,27,18,28],[17,29,20,31],[16,14,18,15],[16,16,16,17],[16,18,18,19],[16,20,18,21],[16,22,16,28],[16,29,16,65],[17,32,20,34],[21,12,21,15],[21,16,21,19],[21,29,21,31],[21,32,21,34],[20,12,20,19],[20,20,21,23],[20,24,21,28],[21,35,21,36],[21,37,21,38],[21,39,21,40],[21,41,21,42],[19,68,20,69],[19,70,20,71],[19,72,20,73],[19,74,20,75],[19,76,20,79],[19,51,20,52],[19,53,20,54],[19,55,20,55],[19,58,20,60],[19,61,20,62],[19,66,20,67],[17,63,20,65],[16,66,18,67],[16,68,18,69],[16,70,18,71],[16,72,18,73],[16,74,18,75],[16,76,18,79],[17,35,20,36],[17,37,20,38],[17,39,20,40],[22,16,22,19],[22,20,22,23],[22,24,22,28],[22,29,22,31],[22,32,22,34],[22,35,22,36],[21,58,21,60],[21,61,21,62],[21,63,21,65],[21,66,22,73],[21,74,22,75],[21,76,21,79],[22,76,22,79],[21,43,21,44],[21,45,21,46],[21,47,21,49],[21,51,21,52],[21,53,21,54],[21,56,21,57],[23,0,23,89],[24,0,24,2],[24,3,24,5],[24,6,24,7],[24,8,24,9],[24,10,24,11],[24,12,24,14],[24,15,24,17],[24,18,24,20],[22,51,22,52],[22,53,22,54],[22,56,22,57],[22,58,22,60],[22,61,22,62],[22,63,22,65],[22,37,22,38],[22,39,22,40],[22,41,22,42],[22,43,22,44],[22,45,22,46],[22,47,22,49],[21,0,22,2],[24,88,25,89],[25,0,25,1],[25,3,25,4],[25,12,25,13],[25,15,25,16],[25,18,25,19],[25,21,25,22],[25,23,25,24],[25,27,25,28],[22,12,22,15],[24,68,24,71],[24,72,24,75],[24,76,24,79],[24,80,24,84],[24,85,25,85],[24,86,25,87],[25,76,25,78],[25,80,25,81],[25,82,25,84],[24,43,24,46],[24,47,24,50],[24,51,24,54],[24,55,24,59],[24,60,24,63],[24,64,24,67],[24,21,24,24],[24,25,24,26],[24,27,24,29],[24,30,24,35],[24,36,24,38],[24,39,24,42],[26,37,26,38],[26,39,26,40],[26,0,26,1],[26,3,26,4],[26,12,26,13],[26,15,26,16],[26,18,26,19],[26,21,26,22],[25,64,25,65],[25,66,25,67],[25,68,25,69],[25,70,25,71],[25,72,25,73],[25,74,25,75],[25,51,25,52],[25,53,25,54],[25,55,25,57],[25,58,25,59],[25,60,25,61],[25,62,25,63],[25,33,25,35],[25,37,25,38],[25,39,25,40],[25,41,25,42],[25,43,25,45],[25,47,25,49],[25,30,25,32],[26,85,27,85],[26,86,27,87],[26,88,27,89],[27,0,27,2],[27,3,27,5],[27,6,27,7],[27,8,27,9],[27,10,27,11],[27,12,27,14],[27,15,27,17],[26,70,26,71],[26,72,26,73],[26,74,26,75],[26,76,26,78],[26,80,26,81],[26,82,26,84],[26,58,26,59],[26,60,26,61],[26,62,26,63],[26,64,26,65],[26,66,26,67],[26,68,26,69],[26,41,26,42],[26,43,26,45],[26,47,26,49],[26,51,26,52],[26,53,26,54],[26,55,26,57],[26,23,26,24],[26,27,26,28],[26,30,26,32],[26,33,26,35],[27,64,27,67],[27,68,27,71],[27,72,27,75],[27,76,27,79],[27,80,27,84],[28,0,28,14],[28,15,28,20],[28,21,28,32],[27,39,27,42],[27,43,27,46],[27,47,27,50],[27,51,27,54],[27,55,27,59],[27,60,27,63],[27,18,27,20],[27,21,27,24],[27,25,27,26],[27,27,27,29],[27,30,27,35],[27,36,27,38],[30,21,30,26],[30,27,30,29],[30,30,30,32],[31,0,31,2],[31,3,31,4],[31,8,31,9],[31,10,31,11],[31,12,32,14],[31,15,32,17],[31,18,32,20],[29,30,29,32],[29,33,35,89],[30,0,30,2],[30,3,30,5],[30,6,30,7],[30,8,30,9],[30,10,30,11],[30,12,30,14],[30,15,30,17],[30,18,30,20],[29,0,29,2],[29,3,29,7],[29,8,29,14],[29,15,29,20],[29,21,29,26],[29,27,29,29],[33,0,33,2],[33,3,33,7],[33,8,33,11],[33,12,33,14],[33,15,35,17],[33,18,35,20],[34,0,35,2],[34,3,34,5],[34,6,34,7],[34,8,34,9],[31,21,31,26],[31,27,31,29],[31,30,31,32],[32,0,32,2],[32,3,32,4],[32,8,32,9],[32,10,32,11],[32,21,33,26],[32,27,33,29],[32,30,33,32],[38,4,39,7],[38,8,39,11],[38,12,38,19],[38,20,39,21],[38,22,39,23],[36,0,37,40],[36,41,36,68],[36,69,36,89],[37,41,37,46],[37,47,37,58],[37,59,37,68],[37,69,37,79],[37,80,39,81],[37,82,39,85],[37,86,39,89],[34,10,34,11],[34,12,35,14],[34,21,35,26],[34,27,35,32],[35,3,35,5],[35,6,35,7],[35,8,35,9],[35,10,35,11],[40,0,41,1],[40,2,41,3],[40,4,41,5],[40,6,41,7],[40,8,41,9],[40,10,41,11],[38,66,39,68],[38,69,39,71],[38,72,39,75],[38,76,39,79],[39,12,39,13],[39,14,39,15],[39,16,39,17],[39,18,39,19],[39,47,39,48],[39,49,39,50],[38,46,39,46],[38,47,38,52],[38,53,38,56],[38,57,39,58],[38,59,39,61],[38,62,39,65],[39,51,39,52],[39,53,39,54],[39,55,39,56],[38,24,39,27],[38,28,39,31],[38,32,39,35],[38,36,39,40],[38,41,39,42],[38,43,39,45],[38,0,39,3],[40,41,40,42],[40,43,40,45],[40,47,40,48],[40,49,40,50],[40,24,41,25],[40,26,41,27],[40,28,41,29],[40,30,41,31],[40,32,41,33],[40,34,41,35],[40,18,41,18],[40,19,41,19],[40,20,41,20],[40,21,41,21],[40,22,41,22],[40,23,41,23],[40,12,41,12],[40,13,41,13],[40,14,41,14],[40,15,41,15],[40,16,41,16],[40,17,41,17],[42,21,44,21],[42,22,44,22],[42,10,44,11],[42,12,44,12],[42,13,44,13],[42,14,44,14],[42,15,44,15],[42,16,44,16],[40,86,40,89],[41,41,41,52],[41,53,41,64],[41,65,41,76],[41,77,41,89],[42,0,44,1],[42,2,44,3],[42,4,44,5],[42,6,44,7],[42,8,44,9],[40,66,40,68],[40,69,40,71],[40,72,40,75],[40,76,40,79],[40,80,40,81],[40,82,40,85],[40,51,40,52],[40,53,40,54],[40,55,40,56],[40,57,40,58],[40,59,40,61],[40,62,40,65],[40,36,41,38],[40,39,41,40],[42,73,43,76],[42,77,43,84],[42,85,43,89],[44,41,44,45],[44,46,44,48],[44,49,44,50],[44,51,44,52],[44,53,44,55],[44,56,44,60],[44,61,44,64],[42,51,43,52],[42,53,43,55],[42,56,43,60],[42,61,43,64],[42,65,43,68],[42,69,43,72],[42,34,44,35],[42,36,44,38],[42,39,44,40],[42,41,43,45],[42,46,43,48],[42,49,43,50],[46,70,46,71],[46,72,46,74],[46,75,46,84],[46,85,46,86],[46,87,46,89],[47,0,47,5],[47,8,47,13],[47,15,47,16],[47,17,47,21],[47,22,47,23],[46,0,46,5],[46,8,46,13],[46,15,46,16],[46,17,46,33],[46,34,46,60],[46,61,46,69],[44,65,44,68],[44,69,44,72],[44,73,44,76],[44,77,44,84],[44,85,44,89],[45,0,45,89],[42,23,44,23],[42,24,44,25],[42,26,44,27],[42,28,44,29],[42,30,44,31],[42,32,44,33],[42,17,44,17],[42,18,44,18],[42,19,44,19],[42,20,44,20],[47,72,47,74],[47,75,47,84],[47,85,47,86],[47,87,47,89],[48,0,48,5],[48,8,48,13],[48,15,48,16],[48,17,48,21],[48,22,49,23],[48,27,48,28],[47,51,47,53],[47,55,47,56],[47,57,47,58],[47,59,47,60],[47,61,47,69],[47,70,47,71],[47,27,47,28],[47,30,47,31],[47,32,47,33],[47,34,47,43],[47,44,47,46],[47,47,47,49],[49,75,50,84],[49,85,50,86],[49,87,50,89],[50,0,50,6],[50,8,50,13],[50,15,50,16],[50,17,50,21],[50,22,54,23],[50,27,50,28],[48,75,48,84],[48,85,48,86],[48,87,48,89],[49,0,49,5],[49,8,49,13],[49,15,49,16],[49,17,49,21],[49,27,49,28],[49,30,49,31],[49,34,49,43],[48,55,48,56],[48,57,48,58],[48,59,50,60],[48,61,48,69],[48,70,48,71],[48,72,48,74],[49,55,49,56],[49,57,49,58],[49,61,49,69],[49,70,49,71],[48,30,48,31],[48,32,49,33],[48,34,48,43],[50,70,50,71],[50,72,50,74],[51,0,51,6],[51,8,51,13],[51,15,51,16],[51,17,51,21],[51,27,51,28],[51,30,51,31],[51,34,51,43],[51,47,51,49],[50,34,50,43],[50,47,50,49],[50,51,50,53],[50,55,50,56],[50,57,50,58],[50,61,50,69],[49,72,49,74],[48,44,51,46],[48,47,48,49],[48,51,48,53],[49,47,49,49],[49,51,49,53],[50,30,50,31],[50,32,54,33],[51,72,51,74],[53,0,53,6],[53,8,53,13],[53,15,53,16],[53,17,53,21],[53,27,53,28],[53,30,53,31],[51,75,51,84],[51,85,51,86],[51,87,51,89],[52,0,52,6],[52,8,52,13],[52,15,52,16],[52,17,52,21],[52,27,52,28],[52,30,52,31],[51,51,51,53],[51,55,51,56],[51,57,51,58],[51,59,52,60],[51,61,51,69],[51,70,51,71],[52,61,52,69],[52,70,52,71],[52,72,52,74],[52,75,52,84],[52,85,52,86],[52,87,52,89],[52,34,52,43],[52,44,53,46],[52,47,52,49],[52,51,52,53],[52,55,52,56],[52,57,52,58],[53,34,53,43],[53,47,53,49],[53,51,53,53],[53,55,53,56],[53,85,53,86],[53,87,53,89],[54,0,54,6],[54,8,54,13],[54,15,54,16],[54,17,54,21],[54,27,54,28],[54,30,54,31],[54,34,54,43],[54,44,54,46],[53,57,53,58],[53,59,54,60],[53,61,53,69],[53,70,53,71],[53,72,53,74],[53,75,53,84],[54,72,54,74],[54,75,54,84],[54,85,54,86],[54,87,54,89],[55,0,55,6],[55,8,55,13],[55,15,55,16],[55,17,55,21],[55,27,55,28],[55,30,55,31],[55,32,60,33],[54,47,54,49],[54,51,54,53],[54,55,54,56],[54,57,54,58],[54,61,54,69],[54,70,54,71],[56,87,56,89],[57,0,57,6],[57,8,57,13],[57,15,57,16],[57,17,57,21],[57,27,57,28],[57,30,57,31],[57,34,57,43],[56,51,56,53],[56,55,56,56],[56,57,56,58],[56,61,56,69],[56,70,56,71],[56,72,56,74],[55,87,55,89],[56,0,56,6],[56,8,56,13],[56,15,56,16],[58,61,58,69],[58,70,58,71],[58,72,58,74],[56,17,56,21],[56,27,56,28],[56,30,56,31],[56,34,56,43],[56,44,57,46],[56,47,56,49],[55,59,56,60],[55,61,55,69],[55,70,55,71],[55,72,55,74],[55,75,55,84],[55,85,55,86],[56,75,56,84],[56,85,56,86],[55,34,55,43],[55,44,55,46],[55,47,55,49],[55,51,55,53],[55,55,55,56],[55,57,55,58],[57,75,57,84],[57,85,57,86],[61,72,61,74],[61,75,61,84],[61,85,61,86],[57,87,57,89],[58,0,59,6],[58,7,59,7],[58,8,58,13],[58,15,58,16],[58,17,58,21],[58,27,58,28],[58,30,58,31],[57,55,57,56],[57,57,57,58],[57,59,57,60],[57,61,57,69],[57,70,57,71],[57,72,57,74],[59,85,59,86],[59,87,59,89],[57,47,57,49],[57,51,57,53],[58,87,58,89],[59,8,60,13],[59,14,60,14],[59,15,60,16],[59,17,59,21],[59,27,59,28],[59,30,59,31],[59,34,59,43],[59,47,59,49],[59,51,59,53],[58,59,59,60],[64,84,64,85],[61,87,61,89],[61,32,61,33],[61,34,61,43],[61,44,61,60],[62,44,62,60],[60,87,60,89],[61,0,61,6],[61,8,61,12],[61,13,61,14],[61,15,61,16],[60,0,60,6],[60,17,60,21],[60,27,60,28],[60,30,60,31],[60,34,60,43],[60,44,60,60],[60,75,60,84],[60,85,60,86],[62,61,62,89],[59,61,60,69],[59,70,60,71],[59,72,60,74],[59,75,59,84],[58,44,59,46],[58,47,58,49],[58,51,58,53],[58,55,58,56],[58,57,58,58],[59,55,59,56],[63,86,63,89],[64,0,64,6],[64,8,64,12],[64,13,64,14],[64,15,64,16],[64,17,66,19],[64,20,66,22],[64,23,64,26],[64,27,64,49],[64,50,66,54],[65,0,65,6],[65,8,65,12],[65,13,65,14],[66,86,67,88],[66,89,67,89],[67,0,67,6],[67,8,67,12],[67,13,67,14],[67,15,67,16],[67,17,67,19],[66,38,66,49],[66,61,66,64],[66,66,66,68],[63,0,63,6],[63,8,63,12],[63,13,63,14],[63,15,63,16],[63,17,63,60],[63,61,63,65],[63,66,63,70],[63,71,63,80],[63,81,63,85],[66,69,66,70],[66,71,66,73],[66,74,66,75],[65,76,65,79],[65,81,65,83],[65,84,65,85],[65,86,65,88],[66,0,66,6],[66,8,66,12],[66,13,66,14],[66,15,66,16],[66,23,66,26],[66,27,66,37],[65,15,65,16],[65,23,65,26],[65,27,65,37],[65,38,65,49],[64,55,66,60],[64,61,64,64],[64,66,64,68],[64,69,64,70],[64,74,64,75],[64,86,64,88],[64,76,64,79],[65,61,65,64],[65,66,65,68],[65,69,65,70],[65,74,65,75],[66,76,66,79],[66,81,66,83],[66,84,66,85],[64,81,64,83],[68,84,71,86],[67,81,67,83],[67,84,67,85],[68,0,68,6],[68,8,68,12],[68,13,68,14],[68,15,68,16],[68,17,68,60],[68,61,73,62],[68,63,71,65],[68,66,71,68],[67,61,67,64],[67,66,67,68],[67,69,67,70],[67,71,67,73],[67,74,67,75],[67,76,67,79],[67,20,67,22],[67,23,67,26],[67,27,67,37],[67,38,67,49],[67,50,67,54],[67,55,67,60],[70,38,70,41],[70,42,70,45],[70,46,70,55],[70,56,70,60],[71,17,71,23],[71,24,71,32],[71,33,71,37],[71,38,71,41],[71,42,71,45],[71,46,71,55],[69,46,69,55],[69,56,69,60],[70,0,71,6],[70,7,71,7],[70,8,71,12],[70,13,71,14],[70,15,71,16],[70,17,70,23],[70,24,70,32],[70,33,70,37],[69,0,69,6],[69,8,69,12],[69,13,69,14],[69,15,69,16],[69,17,69,23],[69,24,69,32],[69,33,69,37],[69,38,69,41],[69,42,69,45],[72,75,73,78],[72,79,73,80],[72,81,73,83],[72,84,73,86],[72,87,73,89],[73,0,73,6],[73,17,73,23],[73,24,73,32],[73,33,73,37],[73,38,73,41],[72,46,72,55],[72,56,72,60],[72,63,73,65],[72,66,73,68],[72,69,73,71],[72,72,73,74],[71,56,71,60],[72,0,72,6],[72,8,73,12],[72,13,73,14],[72,15,73,16],[72,17,72,23],[72,24,72,32],[72,33,72,37],[72,38,72,41],[72,42,72,45],[68,87,71,89],[68,69,71,71],[68,72,71,74],[68,75,71,78],[68,79,71,80],[68,81,71,83],[75,17,75,23],[75,24,75,32],[75,38,75,41],[75,42,75,45],[75,46,75,55],[87,0,87,2],[87,3,87,5],[87,6,87,7],[87,8,87,9],[87,10,87,11],[73,42,73,45],[73,46,73,55],[73,56,73,60],[74,17,74,23],[74,24,74,32],[74,38,74,41],[74,42,74,45],[74,46,74,55],[87,80,87,84],[87,85,88,85]],"merged_total":1135,"flags":["merged_cut"]}
[null,null,null,null,null,null,null,null,null,null,null,null,null,null,null,null,null,null,null,null,null,null,null,null,null,null,null,"DIRECCION - PROGRAMA  APS \nSUBSECRETARIA DE MEDICINA SOCIAL\nRONDA N°: 192   AÑO: 2025",null,null,null,null,null,null,null,null,null,null,null,null,null,null,null,null,null,null,null,null,null,null,null,null,null,null,"1r","2r","3r",null,"4r",null,"T",null,null,null,null,null,null,null,null,null,null,null,null,null,null,null,null,null,null,null,"Informe y orden de Ronda: ",6,null,null,null,null,2]
[null,null,null,null,null,null,null,"Area Operativa N°: ",4,null,null,null,null,null,"Nombre: ","MORILLO",null,null,null,null,null,null,null,null,null,null,null,null,null,null,null,null,null,null,null,null,null,null,null,null,null,null,null,null,null,null,"Mort. Mater. Acum. Año",null,null,null,null,null,null,null,0,{"$f":"CE41","v":0},0,null,{"$f":"CE41","v":0},null,{"$f":"SUM(BC2:BG2)","v":0},null,null,null,null,"Sector:",null,"40 VIVIENDAS",null,null,null,null,null,null,null,null,null,null,null,null,null,null,null,null,null,"N°",21]
[null,null,null,null,null,null,null,null,null,null,null,null,null,null,null,null,null,null,null,null,null,null,null,null,null,null,null,null,null,null,null,null,null,null,null,null,null,null,null,null,null,null,null,null,null,null,"Mort. 0-1 año Acum Año",null,null,null,null,null,null,null,0,{"$f":"BR41+BU41+BY41","v":0},0,null,{"$f":"BR41+BU41+BY41","v":0},null,{"$f":"SUM(BC3:BG3)","v":0},null,null,null,null,null,"Etnia: ","CRIOLLO",null,null,null,null,null,null,null,null,null,null,null,null,null,null,null,null,null,"Sector Riesgo:"]
[null,null,null,null,null,null,null,"Establec. Base: ","HOSPITAL MORILLO",null,null,null,null,null,null,null,null,null,null,null,null,null,null,null,null,null,null,null,null,null,null,null,null,null,null,null,null,null,null,null,null,null,null,null,null,null,"Mort. 1-4 años Acum Año",null,null,null,null,null,null,null,0,{"$f":"CC41","v":0},0,null,{"$f":"CC41","v":0},null,{"$f":"SUM(BC4:BG4)","v":0},null,null,null,null,null,null,null,null,null,null,null,null,"Desde: ","07/03/2025",null,null,null,null,null,null,null,null,"Hasta: ","05/06/2026"]
[null,null,null,null,null,null,null,null,null,null,null,null,null,null,null,null,null,null,null,null,null,null,null,null,null,null,null,null,null,null,null,null,null,null,null,null,null,null,null,null,null,null,null,null,null,null,null,null,null,null,null,null,null,null,null,null,null,null,null,null,null,null,null,null,null,null,null,null,null,null,null,null,null,null,null,null,null,null,null,"Cobertura: ","CUBIERTO"]
[null,null,null,null,null,null,null,"Sup. Intermedio: ","MIGUEL ANGEL CORREA",null,null,null,null,null,null,null,null,null,null,null,null,null,null,null,null,null,null,null,null,null,null,null,"Responsable A.P.S.: ","Dr. Abel Ibarra",null,null,null,null,null,null,null,null,null,null,null,null,null,null,null,null,null,null,null,null,null,null,"Agente Sanitario: ","Miguel Bravo",null,null,null,null,null,null,null,null,null,null,null,null,null,null,null,null,"Sit. Revista: ","PLANTA PERMANENTE",null,null,null,null,null,"Reg. Horario: ","30 HS."]
[]
["A) FAMILIAS VISITADAS EN LA RONDA",null,null,null,null,null,null,null,null,null,null,null,null,null,null,null,null,null,null,null,null,null,null,null,null,null,null,null,null,null,null,null,null,null,null,null,null,null,null,null,null,null,null,null,null,null,null,"B) FACTORES DE PRIORIZACION DE VISITAS"]
["ASIGNADAS",null,null,"VISITADAS",null,null,"TOTAL\nVISITAS",null,"NO VISITADAS",null,null,null,null,null,null,null,null,"FLIAS ORIG.",null,"FLIAS. URB.",null,"FLIAS. PERIURB",null,null,"FLIAS. RURALES",null,"GOLON\nMIGRANTES",null,null,null,null,"FLIAS. CON PL. SOCIALES",null,null,null,null,null,"PRODUCCION\nFAMILIAR",null,null,null,null,null,null,null,null,null,1,null,2,null,3,null,null,4,null,5,null,6,null,7,null,null,8,null,null,9,null,null,10,null,null,null,11,null,null,12,null,null,null,13,null,null,14,null,null,15]
[null,null,null,null,null,null,null,null,"RECHAZO TOTAL",null,"AUSEN\n-TE",null,"NO VISITADAS",null,"TOT NO VISIT.",null,null,null,null,null,null,null,null,null,null,null,"HACIA\nEL AO",null,"DESDE\nEL AO",null,null,null,null,null,null,null,null,"HUERTA",null,null,null,"GRANJA",null,null,null,null,null,0,null,0,null,0,null,null,0,null,0,null,0,null,0,null,null,0,null,null,0,null,null,"Total",null,null,null,"Tot",null,"Trat","Tot.",null,null,"Trat.","Tot.","Trat.",null,"Tot.",null,"Trat","Total"]
[null,null,null,null,null,null,null,null,null,null,0,null,null,null,null,null,null,null,null,null,null,null,null,null,null,null,null,null,null,null,null,null,null,null,null,null,null,null,null,null,null,null,null,null,null,null,null,null,null,null,null,null,null,null,null,null,null,null,null,null,null,null,null,null,null,null,null,null,null,0,null,null,null,0,null,0,0,null,null,0,0,0,null,0,null,0,0]
[0,null,null,0,null,null,0,null,0,null,0,null,0,null,{"$f":"M12+K12+I12","v":0},null,null,0,null,0,null,0,null,null,0,null,0,null,0,null,null,0,null,null,null,null,null,0,null,null,null,0,null,null,null,null,null,"C) VISITAS A FLIAS. PRIORIZADAS",null,null,null,null,null,null,null,null,null,null,null,null,null,null,null,null,null,null,null,null,null,"D) SUPERV. A FLIAS. "]
[null,null,null,null,null,null,null,null,null,null,null,null,null,null,null,null,null,null,null,null,null,null,null,null,null,null,null,null,null,null,null,null,null,null,null,null,null,null,null,null,null,null,null,null,null,null,null,"PRIORIDAD",null,null,null,null,null,1,null,null,2,null,null,null,3,null,null,"Total",null,null,null,null,null,"PRIORIDAD",null,null,null,null,null,3,null,null,null,2,null,1,null,null,null,"TOTAL"]
[null,null,null,null,null,null,null,null,null,null,null,null,null,null,null,null,null,null,null,null,null,null,null,null,null,null,null,null,null,null,null,null,null,null,null,null,null,null,null,null,null,null,null,null,null,null,null,"N° FAMILIAS",null,null,null,null,null,0,null,null,0,null,null,null,0,null,null,{"$f":"SUM(BB14:BI14)","v":0},null,null,null,null,null,"INTERMEDIA",null,null,null,null,null,0,null,null,null,0,null,0,null,null,null,{"$f":"SUM(BX14:CD14)","v":0}]
[null,null,null,null,null,null,null,null,null,null,null,null,null,null,null,null,null,null,null,null,null,null,null,null,null,null,null,null,null,null,null,null,null,null,null,null,null,null,null,null,null,null,null,null,null,null,null,"VISITAS",null,null,null,null,null,0,null,null,0,null,null,null,0,null,null,{"$f":"SUM(BB15:BI15)","v":0},null,null,null,null,null,"PROFESIONAL",null,null,null,null,null,0,null,null,null,0,null,0,null,null,null,{"$f":"SUM(BX15:CB15)","v":0}]
["E) EDAD FERTIL",null,null,null,null,"F) EMBARAZADAS",null,null,null,null,null,null,"G) PARTOS",null,null,null,null,null,null,null,"H) R.N. EN LA RONDA",null,null,null,null,null,null,null,null,"I) EVALUACION ANTROPOMETRICA",null,null,null,null,null,null,null,null,null,null,null,null,null,null,null,null,null,null,null,null,null,null,null,null,null,null,null,null,null,null,null,null,null,null,null,null,"NIÑ MBP/BP/RBP CTRL. INT.",null,null,null,null,null,null,null,null,null,"LACT. MATERNA"]
["PAP",null,null,0,null,"CAPT. 1er TRIMESTRE","ESP EN EL AÑO","ACUMULADAS","NUEVAS\nRONDA","TOTAL","DE RIESGO","<19 Años","TOTAL",null,"HOSPITALARIOS",null,"DOMIC.",null,"N° PUERPERAS",null,"NACIDOS VIVOS",null,"P AL NACER",null,null,null,null,null,null,"NIÑOS CONTROLADOS",null,null,null,null,null,null,null,null,null,null,null,null,null,null,null,null,null,null,null,null,null,null,null,null,null,null,null,null,null,null,null,null,null,null,null,null,"MELAN",null,"MED",null,"ENF.",null,"LAB",null,"NUTR",null,"< 6 M EN LA RONDA",null,null,null,{"$f":"CC20+CC22+CC23","v":0}]
[null,null,null,null,null,null,null,null,null,null,null,null,null,null,null,null,"DOM","ASIS",null,null,null,null,"ALTO PESO","ADEC",null,"BAJO PESO",null,"MB\nPESO",null,"EDAD",null,null,"A CONTROLAR",null,null,"ADECUADO",null,"BP\nBAJO PESO",null,"MBP\nMUY B. PESO",null,"ALTO PESO",null,"RIESGO",null,null,null,"RECUPERADOS",null,null,null,"TALLA / EDAD",null,null,null,null,"NUEVOS\nEPISODIOS",null,"PERDIDOS",null,null,null,null,"FALLECIDOS\nC/ANTEC. ANTROPOM."]
[]
["Antic.",null,null,0,null,0,{"$f":"IF(ISERROR(((CC92*1.8)/100)),0,(((CC92*1.8)/100)))","v":0},0,0,{"$f":"SUM(F23:L23)","v":0},0,0,{"$f":"O20+Q20+R20","v":0},null,0,null,0,0,0,null,{"$f":"W20+X20+Z20+AB20","v":0},null,0,0,null,0,null,0,null,null,null,null,null,null,null,null,null,null,null,null,null,null,null,"BP",null,"AP",null,"BP",null,null,"AP","BT",null,"MBT",null,"RGO\nBT",null,null,"BP\nMBP",null,null,"A.P.",null,null,null,null,0,null,0,null,0,null,0,null,0,null,"EXCLUSIVO",null,null,null,0]
[null,null,null,null,null,"CONTROLES",null,null,null,null,null,null," ",null,null,null,null,null,null,null,"PREMATUROS",null,null,null,"PESQUISA"]
["Aborto",null,null,0,null,"MELON",null,"MEL","MED","ENF","LAB","S/C","PUERP",null,null,null,"R.N.",null,null,null,null,null,null,null,null,null,null,null,null,"< 2 años",null,null,{"$f":"A27+C27+D27+F27+G27+H27","v":0},null,null,0,null,0,null,0,null,0,null,0,null,0,null,0,null,null,0,0,null,0,null,0,0,null,0,null,null,0,null,0,null,null,"CONTROLES EN DOMIC. NIÑO BP o MBP",null,null,null,null,null,null,null,0,null,"MIXTA",null,null,null,0]
[null,null,null,null,null,0,null,0,0,0,0,0,0,null,null,null,0,null,null,null,0,null,null,null,0,null,null,null,null,"2 a 6 años",null,null,{"$f":"I27+J27+K27+L27+M27+O27+P27+R27","v":0},null,null,0,null,0,null,0,null,0,null,0,null,0,null,0,null,null,0,0,null,0,null,0,0,null,0,null,null,0,null,0,null,null,null,null,null,null,null,null,null,null,null,null,"ARTIF",null,null,null,0]
["J) DATOS DE POBLACION"]
["0 a 5m",null,null,"6 a 11m",null,null,"1 AÑO",null,"2 AÑOS",null,"3 AÑOS",null,"4 AÑOS",null,null,"5 AÑOS",null,null,"6 AÑOS",null,null,"7 A 9 AÑOS",null,null,null,"10 AÑOS",null,"11 AÑOS",null,null,"12 A 14",null,null,null,null,null,"15 A 19",null,null,"20 A 24",null,null,null,"25 A 29",null,null,null,"30 A 34",null,null,null,"35 A 39",null,null,null,"40 A 44",null,null,null,null,"45 A 49",null,null,null,"50 A 54",null,null,null,"55 A 59",null,null,null,"60 A 64",null,null,null,"65 y +",null,null,null,"TOTAL",null,null,null,null,"MUJERES\n10 A 49","O. SOCIAL",null,"INDOCUM"]
["M",null,"F","M",null,"F","M","F","M","F","M","F","M",null,"F","M",null,"F","M",null,"F","M",null,"F",null,"M","F","M",null,"F","M",null,null,"F",null,null,"M","F",null,"M",null,"F",null,"M",null,null,"F","M",null,null,"F","M",null,"F",null,"M",null,null,"F",null,"M",null,"F",null,"M",null,"F",null,"M",null,"F",null,"M",null,"F",null,"M",null,null,"F","M",null,"F"]
[0,null,0,0,null,0,0,0,0,0,0,0,0,null,0,0,null,0,0,null,0,0,null,0,null,0,0,0,null,0,0,null,null,0,null,null,0,0,null,0,null,0,null,0,null,null,0,0,null,null,0,0,null,0,null,0,null,null,0,null,0,null,0,null,0,null,0,null,0,null,0,null,0,null,0,null,0,null,null,0,{"$f":"BY27+BU27+BQ27+BM27+BI27+BD27+AZ27+AV27+AR27+AN27+AK27+AE27+AB27+Z27+V27+S27+P27+M27+K27+I27+G27+D27+A27","v":0},null,{"$f":"CB27+BW27+BS27+BO27+BK27+BG27+BB27+AY27+AU27+AP27+AL27+AH27+AD27+AA27+X27+U27+R27+O27+L27+J27+H27+F27+C27","v":0},null,null,{"$f":"BK27+BG27+BB27+AY27+AU27+AP27+AL27+AH27+AD27+AA27","v":0},0,null,0]
[{"$f":"A27+C27","v":0},null,null,{"$f":"D27+F27","v":0},null,null,{"$f":"G27+H27","v":0},null,{"$f":"I27+J27","v":0},null,{"$f":"K27+L27","v":0},null,{"$f":"M27+O27","v":0},null,null,{"$f":"P27+R27","v":0},null,null,{"$f":"S27+U27","v":0},null,null,{"$f":"V27+X27","v":0},null,null,null,{"$f":"Z27+AA27","v":0},null,{"$f":"AB27+AD27","v":0},null,null,{"$f":"AE27+AH27","v":0},null,null,null,null,null,{"$f":"AL27+AK27","v":0},null,null,{"$f":"AN27+AP27","v":0},null,null,null,{"$f":"AR27+AU27","v":0},null,null,null,{"$f":"AV27+AY27","v":0},null,null,null,{"$f":"AZ27+BB27","v":0},null,null,null,{"$f":"BD27+BG27","v":0},null,null,null,null,{"$f":"BI27+BK27","v":0},null,null,null,{"$f":"BM27+BO27","v":0},null,null,null,{"$f":"BQ27+BS27","v":0},null,null,null,{"$f":"BU27+BW27","v":0},null,null,null,{"$f":"BY27+CB27","v":0},null,null,null,{"$f":"CC27+CE27","v":0}]
["K) TUBERCULOSIS ",null,null,null,null,null,null,null,null,null,null,null,null,null,null," CHAGAS ",null,null,null,null,null,"L) PERSONAS CON ENF. CRONICAS",null,null,null,null,null,null,null,null,null,null,null,"M) OBSERVACIONES"]
["Coef. Sint.Resp.: ",null,null,"MUESTRAS",null,null,null,null,"TRATAM. TBC",null,null,null,null,null,null,"TRATAMIENTOS CHAGAS",null,null,null,null,null,"PERSONAS CON",null,null,null,null,null,"TOTAL",null,null,"EN TRAT.",null,null," "]
[{"$f":"Control!H9","v":8},null,null,"DIAGNOSTICOS",null,null,"CONTROL",null,"Total",null,"TAES",null," ABANDONO",null,null,"INICIO ",null,null,0,null,null,"DIABETES",null,null,null,null,null,0,null,null,0]
["SINT. ESP..",null,null,"Tot",null,"(+)","Tot","(+)",0,null,0,null,0,null,null,"FINALIZACION ",null,null,0,null,null,"HIPERTENSION \nARTERIAL",null,null,null,null,null,0,null,null,0]
[{"$f":"IF(ISERROR(((AK91+AL91+AN91+AP91+AR91+AU91+AV91+AY91+AZ91+BB91+BD91+BG91+BI91+BK91+BM91+BO91+BQ91+BS91+BU91+BW91+BY91+CB91)*0.2)*A31/100),0,(((AK91+AL91+AN91+AP91+AR91+AU91+AV91+AY91+AZ91+BB91+BD91+BG91+BI91+BK91+BM91+BO91+BQ91+BS91+BU91+BW91+BY91+CB91)*0.2)*A31/100))","v":0},null,null,0,null,0,0,0,"QUIMIO Total",null,0,null,null,null,null,null,null,null,null,null,null,"PERSONAS CON OTRAS ENF. CRONICAS AL CUIDADO DE NIÑOS",null,null,null,null,null,0,null,null,0]
["SINT. DETEC.",null,null,"CONTACTO",null,null,null,null,"CTRL. MEDICO",null,null,null,"FINALIZAD0",null,null,"ABANDONO ",null,null,0]
[0,null,null,"< 14a",null,null,"> 15a",null,"Pcte/Rda",null,"A Cont",null,0,null,null,null,null,null,null,null,null,"ADULTOS MAYORES EN SITUACION DE RIESGO",null,null,null,null,null,0]
[null,null,null,0,null,null,0,null,0,null,0]
["N) DERIVACIONES",null,null,null,null,null,null,null,null,null,null,null,null,null,null,null,null,null,null,null,null,null,null,null,null,null,null,null,null,null,null,null,null,null,null,null,null,null,null,null,null,"Ñ) VIVIENDA Y SANEAMIENTO",null,null,null,null,null,null,null,null,null,null,null,null,null,null,null,null,null,null,null,null,null,null,null,null,null,null,null,"O) DEFUNCIONES EN LA RONDA"]
[null,null,null,null,null,null,null,null,null,null,null,null,null,null,null,null,null,null,null,null,null,null,null,null,null,null,null,null,null,null,null,null,null,null,null,null,null,null,null,null,null,"TRAT. AGUA",null,null,null,null,null,"DISP SANITARIA EXCRETAS",null,null,null,null,null,null,null,null,null,null,null,"TRATAM. SANIT BASURA",null,null,null,null,null,null,null,null,null,"MENORES 1 AÑO",null,null,null,null,null,null,null,null,null,null,"1 a 4 AÑOS",null,"MATERNA",null,null,null,"OTRAS"]
["EMB",null,null,null,"RN",null,null,null,"PUERP",null,null,null,"Menores de 6 años",null,null,null,null,null,null,null,"E.\nCRONICAS",null,"PAP",null,"CHAGAS",null,null,null,"TBC",null,null,null,"PSICOSOC",null,null,null,"TOTAL\nDERIVACIONES",null,null,null,null,"RED",null,"EN\nVIV",null,null,"S/T","ARRASTRE",null,null,null,null,null,"LETRINA",null,null,null,"S/T",null,"REC. DOMIC.",null,null,"POZO BASURA",null,null,null,"S/T",null,null,"<7d",null,null,"7 a 28d",null,null,null,"29d a 11 m"]
[null,null,null,null,null,null,null,null,null,null,null,null,"BP- MBP",null,"RGO BP",null,"Resp",null,"Diarr",null,null,null,null,null,null,null,null,null,null,null,null,null,null,null,null,null,null,null,null,null,null,null,null,null,null,null,null,"CLOACAS",null,"PC-CT",null,"PC-ST",null,"CT",null,"ST"]
["Env",null,"Rec",null,"Env",null,"Rec",null,"Env",null,"Rec",null,"Env","Rec","Env","Rec","Env","Rec","Env","Rec","Env","Rec","Env","Rec","Env",null,"Rec",null,"Env",null,"Rec",null,"Env",null,"Rec",null,"ENV",null,null,"Rec",null,0,null,0,null,null,0,0,null,0,null,0,null,0,null,0,null,0,null,0,null,null,0,null,null,null,0,null,null,0,null,null,0,null,null,null,0,null,null,null,0,null,0,null,null,null,0]
[null,null,null,null,null,null,null,null,null,null,null,null,null,null,null,null,null,null,null,null,null,null,null,null,null,null,null,null,null,null,null,null,null,null,null,null,null,null,null,null,null,"CASAS ",null,null,null,null,null,null,null,null,null,null,null,"CHAGAS",null,null,null,null,null,null,null,null,null,null,null,"DENGUE CHIKUNGUNYA",null,null,null,null,null,null,null,null,null,null,null,"P) PROM. SALUD"]
[0,null,0,null,0,null,0,null,0,null,0,null,0,0,0,0,0,0,0,0,0,0,0,0,0,null,0,null,0,null,0,null,0,null,0,null,{"$f":"AG43+AC43+Y43+W43+U43+S43+Q43+O43+M43+I43+E43+A43","v":0},null,null,{"$f":"AI43+AE43+AA43+X43+V43+T43+R43+P43+N43+K43+G43+C43","v":0},null,"ASIGNADAS",null,null,null,null,"VISITADAS",null,null,"VACIAS",null,"DESTRUIDAS",null,"EVALUADAS",null,null,"POSITIVAS",null,null,null,null,"TRATADAS",null,null,null,"EVALUADAS",null,null,null,"POSITIVAS",null,null,null,"TRATADAS",null,null,null,"PLANIFICADAS \nEN COMUNIDAD",null,null,null,null,null,null,null,0]
[]
[null,null,null,null,null,null,null,null,null,null,null,null,null,null,null,null,null,null,null,null,null,null,null,null,null,null,null,null,null,null,null,null,null,null,null,null,null,null,null,null,null,0,null,null,null,null,0,null,null,0,null,0,null,0,null,null,0,null,null,null,null,0,null,null,null,0,null,null,null,0,null,null,null,0,null,null,null,"REALIZADAS ",null,null,null,null,null,null,null,0]
["Q) INDICADORES"]
["DE ESTRUCTURA",null,null,null,null,null,"SI","NO","DE PRODUCCION",null,null,null,null,null,"%","META",null," DE INMUNIZACIONES",null,null,null,null,null,null,null,null,null,null,null,null,null,null,null,null," DE INMUNIZACIONES",null,null,null,null,null,null,null,null,null,null,null,null,null,null,null,null,null,null,null,null,null,null,null,null,null,null," DE RESULTADO",null,null,null,null,null,null,null,null,"%",null,"META",null,null," DE RESULTADO",null,null,null,null,null,null,null,null,null,"%",null,"META RDA"]
["Formularios",null,null,null,null,null,0,0,"Cobertura a Familias",null,null,null,null,null,{"$f":"IF(ISERROR(D12/A12),0,(D12/A12)*100)","v":0},100,null,"VACUNA",null,null,null,null,"P. REF",null,"1r","2r","3r","4r",null,"T","%",null,"META",null,"VACUNA",null,null,null,null,null,null,null,null,null,"P. REF",null,null,"1r",null,null,"2r","3r",null,null,"4r","T",null,"%",null,"META",null,"Ed Fértil c/Anticoncepción",null,null,null,null,null,null,null,null,{"$f":"IF(ISERROR(D20/CH27),0,(D20/CH27)*100)","v":0},null,null,null,null,"Niños 2 a 5 Recup BP",null,null,null,null,null,null,null,null,null,{"$f":"IF(ISERROR(AV23/K80),0,(AV23/K80)*100)","v":0},null,100]
["Equipo",null,null,null,null,null,0,0,"Niños < 2 años Controlados",null,null,null,null,null,{"$f":"IF(ISERROR(((AJ22+AL22+AN22+AP22)/(A28+D28+G28))),0,(((AJ22+AL22+AN22+AP22)/(A28+D28+G28)))*100)","v":0},100,null,"BCG RN",null,null,null,null,{"$f":"U20","v":0},null,1,0,0,0,null,{"$f":"SUM(Y49:AB49)","v":1},{"$f":"IF(ISERROR(Z49/W49),0,(Z49/W49)*100)","v":0},null,100,null,"2 Ref. Varicela Ingreso Esc",null,null,null,null,null,null,null,null,null,4,null,null,4,null,null,0,0,null,null,0,{"$f":"SUM(AV49:BC49)","v":4},null,{"$f":"IF(ISERROR(AY49/AS49),0,(AY49/AS49)*100)","v":0},null,25,null,"PAP",null,null,null,null,null,null,null,null,{"$f":"IF(ISERROR(D17/CH27),0,(D17/CH27)*100)","v":0},null,null,null,null,"Niños 2 a 5 Recup AP",null,null,null,null,null,null,null,null,null,{"$f":"IF(ISERROR(AY23/K82),0,(AY23/K82)*100)","v":0},null,100]
["Combustible",null,null,null,null,null,0,0,"Niños  (2 a 5 años) Controlados",null,null,null,null,null,{"$f":"IF(ISERROR(((AJ23+AL23+AN23+AP23)/(I28+K28+M28+P28))),0,(((AJ23+AL23+AN23+AP23)/(I28+K28+M28+P28)))*100)","v":0},100,null,"Hepatitis B RN","Hepatitis B RN",null,"Hepatitis B RN","Hepatitis B RN",null,null,1,0,0,0,null,{"$f":"SUM(Y50:AB50)","v":1},{"$f":"IF(ISERROR(Z50/W49),0,(Z50/W49)*100)","v":0},null,null,null,"2° Ref. Antipolio Ingreso Escolar",null,null,null,null,null,null,null,null,null,null,null,null,4,null,null,0,0,null,null,0,{"$f":"SUM(AV50:BC50)","v":4},null,{"$f":"IF(ISERROR(AY50/AS49),0,(AY50/AS49)*100)","v":0},null,null,null,"Embarazadas Con MELON",null,null,null,null,null,null,null,null,{"$f":"IF(ISERROR(F23/J20),0,(F23/J20)*100)","v":0},null,80,null,null,"Niños 6 meses con LME",null,null,null,null,null,null,null,null,null,{"$f":"IF(ISERROR(CC20/CC17),0,(CC20/CC17)*100)","v":0},null,80]
[" DE DIAGNOSTICO",null,null,null,null,null,null,"%","Conc. Vis. Flias Prio",null,null,null,null,null,{"$f":"IF(ISERROR((BB15+BE15)/(BB14+BE14)),0,((BB15+BE15)/(BB14+BE14)))","v":0},25,null,"2° Neumococo < 1a","3ª SOT/Salk < 1a",null,"3ª SOT/Salk < 1a","3ª SOT/Salk < 1a",{"$f":"A91+C91+D91+F91","v":0},null,0,0,0,0,null,{"$f":"SUM(Y51:AB51)","v":0},{"$f":"IF(ISERROR(Z51/W51),0,(Z51/W51)*100)","v":0},null,100,null,"2° Ref. DPT Ingreso Escolar",null,null,null,null,null,null,null,null,null,null,null,null,4,null,null,0,0,null,null,0,{"$f":"SUM(AV51:BC51)","v":4},null,{"$f":"IF(ISERROR(AY51/AS49),0,(AY51/AS49)*100)","v":0},null,null,null,"Partos Hospitalarios",null,null,null,null,null,null,null,null,{"$f":"IF(ISERROR(O20/M20),0,(O20/M20)*100)","v":0},null,100]
["Flias Priorizadas 3 + 2:",null,null,null,null,null,null,{"$f":"IF(ISERROR((BB14+BE14)/D12),0,(BB14+BE14)/D12*100)","v":0},"Conc.C.Dom Niños Bp/MBP",null,null,null,null,null,{"$f":"IF(ISERROR(BW22/(AL22+AN22+AL23+AN23)),0,(BW22/(AL22+AN22+AL23+AN23)))","v":0},3,null,"2° Rotavirus <1 a","3º Pentavalente <1 a",null,"3º Pentavalente <1 a","3º Pentavalente <1 a",null,null,0,0,0,0,null,{"$f":"SUM(Y52:AB52)","v":0},{"$f":"IF(ISERROR(Z52/W51),0,(Z52/W51)*100)","v":0},null,null,null,"2° TV Ingreso Escolar",null,null,null,null,null,null,null,null,null,null,null,null,4,null,null,0,0,null,null,0,{"$f":"SUM(AV52:BC52)","v":4},null,{"$f":"IF(ISERROR(AY52/AS49),0,(AY52/AS49)*100)","v":0},null,100,null,"Conc Control Médico a RN",null,null,null,null,null,null,null,null,{"$f":"IF(ISERROR(Q23/M20),0,(Q23/M20))","v":0},null,4,null,null,"% Niños BP MBP y RBP con MELaN",null,null,null,null,null,null,null,null,null,{"$f":"IF(ISERROR(BO20/(AL22+AN22+AR22+AL23+AN23+AR23)),0,(BO20/(AL22+AN22+AR22+AL23+AN23+AR23))*100)","v":0},null,100]
["Flias Urbanas",null,null,null,null,null,null,{"$f":"IF(ISERROR(T12/D12),0,(T12/D12)*100)","v":0},"Rel. Muestra/Sint Resp.",null,null,null,null,null,{"$f":"IF(ISERROR(D33/A35),0,(D33/A35))","v":0},2,null,"2° Meningococo < 1a",null,null,null,null,null,null,0,0,0,0,null,{"$f":"SUM(Y53:AB53)","v":0},{"$f":"IF(ISERROR(Z53/W51),0,(Z53/W51)*100)","v":0},null,null,null,"dTpa 11 años",null,null,null,null,null,null,null,null,null,6,null,null,6,null,null,0,0,null,null,0,{"$f":"SUM(AV53:BC53)","v":6},null,{"$f":"IF(ISERROR(AY53/AS53),0,(AY53/AS53)*100)","v":0},null,null,null,"Conc Control Méd. a puérpera",null,null,null,null,null,null,null,null,{"$f":"IF(ISERROR(M23/S20),0,(M23/S20))","v":0},null,4,null,null,"Sint Resp Detect. Seg zona",null,null,null,null,null,null,null,null,null,{"$f":"IF(ISERROR((A35*100)/(((20*(AK28+AN28+AR28+AV28+AZ28+BD28+BI28+BM28+BQ28+BU28+BY28))/100)*A31)),0,(A35*100)/((((20*(AK28+AN28+AR28+AV28+AZ28+BD28+BI28+BM28+BQ28+BU28+BY28))/100)*A31)/100))","v":0},null,"S/Z"]
["Flias Periurbanas",null,null,null,null,null,null,{"$f":"IF(ISERROR(V12/D12),0,(V12/D12)*100)","v":0},"Casas Evaluadas Chagas",null,null,null,null,null,{"$f":"IF(ISERROR(BB45/AU45),0,(BB45/AU45)*100)","v":0},100,null,"3° Antipolio < 1 año","2ª Rotavirus < 1 año",null,"2ª Rotavirus < 1 año","2ª Rotavirus < 1 año",null,null,0,0,0,0,null,{"$f":"SUM(Y54:AB54)","v":0},{"$f":"IF(ISERROR(Z54/W51),0,(Z54/W51)*100)","v":0},null,null,null,"U.D. Meningococo",null,null,null,null,null,null,null,null,null,null,null,null,6,null,null,0,0,null,null,0,{"$f":"SUM(AV54:BC54)","v":6},null,{"$f":"IF(ISERROR(AY54/AS53),0,(AY54/AS53)*100)","v":0},null,"95% AL 1° SEM",null,"RN con Pesquisa",null,null,null,null,null,null,null,null,{"$f":"IF(ISERROR(Y23/U20),0,(Y23/U20)*100)","v":0},null,100,null,null,"Pacientes TBC con Control Médico",null,null,null,null,null,null,null,null,null,{"$f":"IF(ISERROR(I36/I32),0,(I36/I32)*100)","v":0},null,100]
["Flias Rurales",null,null,null,null,null,null,{"$f":"IF(ISERROR(Y12/D12),0,(Y12/D12)*100)","v":0},"Casas Tratadas Chagas",null,null,null,null,null,{"$f":"IF(ISERROR(BJ45/BE45),0,(BJ45/BE45)*100)","v":0},100,null,"3° Pentavalente <1 año","TV 1 año",null,"TV 1 año","TV 1 año",null,null,0,0,0,0,null,{"$f":"SUM(Y55:AB55)","v":0},{"$f":"IF(ISERROR(Z55/W51),0,(Z55/W51)*100)","v":0},null,null,null,"1° HPV Niñas cumplen 11 a en año en curso",null,null,null,null,null,null,null,null,null,2,null,null,2,null,null,0,0,null,null,0,{"$f":"SUM(AV55:BC55)","v":2},null,{"$f":"IF(ISERROR(AY55/AS55),0,(AY55/AS55)*100)","v":0},null,null,null,"Derivaciones Enviadas/Recibidas",null,null,null,null,null,null,null,null,{"$f":"IF(ISERROR(AN43/AK43),0,(AN43/AK43)*100)","v":0},null,100,null,null,"Contactos TBC Controlados",null,null,null,null,null,null,null,null,null,{"$f":"IF(ISERROR(K36/(D36+G36)),0,(K36/(D36+G36)))*100","v":0},null,100]
["Flias Originarias",null,null,null,null,null,null,{"$f":"IF(ISERROR(R12/D12),0,(R12/D12)*100)","v":0},"Casas Evaluadas Dengue",null,null,null,null,null,{"$f":"IF(ISERROR(BN45/AU45),0,(BN45/AU45)*100)","v":0},100,null,"1° TV","A HA 1 año",null,"A HA 1 año","A HA 1 año",{"$f":"G91+H91","v":0},null,0,0,0,0,null,{"$f":"SUM(Y56:AB56)","v":0},{"$f":"IF(ISERROR(Z56/W56),0,(Z56/W56)*100)","v":0},null,100,null,"1° HPV Niños cumplen 11 a en año en curso",25,25,null,null,null,null,null,null,null,4,null,null,4,null,null,0,0,null,null,0,{"$f":"SUM(AV56:BC56)","v":4},null,{"$f":"IF(ISERROR(AY56/AS56),0,(AY56/AS56)*100)","v":0},null,"95% AL 1° SEM",null,"Niños < 2 a Riesgo BP",null,null,null,null,null,null,null,null,{"$f":"IF(ISERROR(AR22/AJ22),0,(AR22/AJ22)*100)","v":0},null,null,null,null,"TAES de TBC",null,null,null,null,null,null,null,null,null,{"$f":"IF(ISERROR(K32/I32),0,(K32/I32)*100)","v":0},null,100]
["Flias Migr. desde AO",null,null,null,null,null,null,{"$f":"IF(ISERROR(AC12/A12),0,(AC12/A12)*100)","v":0},"Casas Tratadas Dengue",null,null,null,null,null,{"$f":"IF(ISERROR(BV45/BR45),0,(BV45/BR45)*100)","v":0},100,null,"2° TV","A HA 1 año",null,"A HA 1 año","A HA 1 año",null,null,0,0,0,0,null,{"$f":"SUM(Y57:AB57)","v":0},{"$f":"IF(ISERROR(Z57/W56),0,(Z57/W56)*100)","v":0},null,null,null,"Emb. con dTpa",null,null,null,null,null,null,null,null,null,4,null,null,1,null,null,0,0,null,null,0,{"$f":"SUM(AV57:BC57)","v":1},null,{"$f":"IF(ISERROR(AY57/AS57),0,(AY57/AS57)*100)","v":0},null,null,null,"Niños < 2 a Riesgo AP",null,null,null,null,null,null,null,null,{"$f":"IF(ISERROR(AT22/AJ22),0,(AT22/AJ22)*100)","v":0},null,null,null,null,"Ptes. con tratamiento por Chagas",null,null,null,null,null,null,null,null,null,{"$f":"S31","v":0}]
["Flias Migr. hacia el AO",null,null,null,null,null,null,{"$f":"IF(ISERROR(AA12/A12),0,(AA12/A12)*100)","v":0},"Superv Int. a la Familia",null,null,null,null,null,{"$f":"IF(ISERROR((CH14*100)/BL14),0,((CH14*100)/BL14))","v":0},20,null,"Unica Dosis A HA",null,null,null,null,null,null,0,0,0,0,null,{"$f":"SUM(Y58:AB58)","v":0},{"$f":"IF(ISERROR(Z58/W56),0,(Z58/W56)*100)","v":0},null,null,null,"Emb. con Vac Sinsicial",null,null,null,null,null,null,null,null,null,null,null,null,0,null,null,0,0,null,null,0,{"$f":"SUM(AV58:BC58)","v":0},null,{"$f":"IF(ISERROR(AY58/AS57),0,(AY58/AS57)*100)","v":0},null,100,null,"Niños < 2 Recup BP",null,null,null,null,null,null,null,null,{"$f":"IF(ISERROR(AV22/K79),0,(AV22/K79)*100)","v":0},null,100,null,null,"Casas positivas Chagas",null,null,null,null,null,null,null,null,null,{"$f":"IF(ISERROR(BE45/BB45),0,(BE45/BB45)*100)","v":0},null,0]
["Flias con planes sociales",null,null,null,null,null,null,{"$f":"IF(ISERROR(AF12/D12),0,(AF12/D12)*100)","v":0},"Superv Prof. Flias Prio (3v)",null,null,null,null,null,{"$f":"IF(ISERROR(CH15/(BB14+BE14)),0,(CH15/(BB14+BE14))*100)","v":0},70,null,"Ref Neumococo 1 año","Ref Neumoc 1 año",null,"Ref Neumoc 1 año","Ref Neumoc 1 año",null,null,0,0,0,0,null,{"$f":"SUM(Y59:AB59)","v":0},{"$f":"IF(ISERROR(Z59/W56),0,(Z59/W56)*100)","v":0},null,null,null,"dT  Vigente > 65 a",null,null,null,null,null,null,null,null,null,54,null,null,0,null,null,0,0,null,null,0,{"$f":"SUM(AV59:BC59)","v":0},null,{"$f":"IF(ISERROR(AY59/AS59),0,(AY59/AS59)*100)","v":0},null,100,null,"Niños < 2 Recup AP",null,null,null,null,null,null,null,null,{"$f":"IF(ISERROR(AY22/K81),0,(AY22/K81)*100)","v":0},null,100,null,null,"Casas Positivas Aedes",null,null,null,null,null,null,null,null,null,{"$f":"IF(ISERROR(BR45/BN45),0,(BR45/BN45)*100)","v":0},null," "]
[null,null,null,null,null,null,null,null,"% Activ Prom.Salud Comunitarias",null,null,null,null,null,{"$f":"IF(ISERROR(CH45/CH43),0,(CH45/CH43)*100)","v":0},100,null,"Ref. Meningococo 1 año","Ref Cuádruple 1 año",null,"Ref Cuádruple 1 año","Ref Cuádruple 1 año",null,null,0,0,0,0,null,{"$f":"SUM(Y60:AB60)","v":0},{"$f":"IF(ISERROR(Z60/W56),0,(Z60/W56)*100)","v":0},null,null,null,"Neumo 20 > 65 años",null,null,null,null,null,null,null,null,null,null,null,null,0,null,null,0,0,null,null,0,{"$f":"SUM(AV60:BC60)","v":0},null,{"$f":"IF(ISERROR(AY60/AS59),0,(AY60/AS59)*100)","v":0},null,null,null,"Niños 2 a 5 Riesgo BP",null,null,null,null,null,null,null,null,{"$f":"IF(ISERROR(AR23/AJ23),0,(AR23/AJ23)*100)","v":0},null,null,null,null,"UROCS 1/SEC",null,null,null,null,null,null,null,null,null,0,null,"1/SEC"]
["Flias. c/Antec Mort Mat Inf",null,null,null,null,null,null,{"$f":"IF(ISERROR(AV10/D12),0,(AV10/D12)*100)","v":0},null,null,null,null,null,null,null,null,null,"Unica Dosis Varicela","Ref SOT 1 año",null,"Ref SOT 1 año","Ref SOT 1 año",null,null,0,0,0,0,null,{"$f":"SUM(Y61:AB61)","v":0},{"$f":"IF(ISERROR(Z61/W56),0,(Z61/W56)*100)","v":0},null,null,null,"Aplic. Cargadas a Nomivac",null,null,null,null,null,null,null,null,null,0,null,null,null,null,null,null,null,null,null,null,null,null,null,null,null,null,null,null,null,null,null,null,null,null,null,null,null,null,null,null,"Flias con Huerta",null,null,null,null,null,null,null,null,null,{"$f":"IF(ISERROR(AL12/D12),0,(AL12/D12)*100)","v":0}]
["F con 3 o más <6 años",null,null,null,null,null,null,{"$f":"IF(ISERROR(BI10/D12),0,(BI10/D12)*100)","v":0}," DE IMPACTO",null,null,null,null,"%",null,"META",null,"4° Dosis o 1° Ref. Pentavalente",null,null,null,null,null,null,0,0,0,0,null,{"$f":"SUM(Y62:AB62)","v":0},{"$f":"IF(ISERROR(Z62/W56),0,(Z62/W56)*100)","v":0},null,null,null,"Total Aplic /AS",null,null,null,null,null,null,null,null,null,0,null,null,null,null,null,null,null,null,null,null,null,null,null,null,null,null,"Niños 2 a 5 Riesgo AP",null,null,null,null,null,null,null,null,{"$f":"IF(ISERROR(AT23/AJ23),0,(AT23/AJ23)*100)","v":0},null,null,null,null,"Flias con Granja",null,null,null,null,null,null,null,null,null,{"$f":"IF(ISERROR(AP12/D12),0,(AP12/D12)*100)","v":0}]
["Flias con Hacinamiento",null,null,null,null,null,null,{"$f":"IF(ISERROR(BL10/D12),0,(BL10/D12)*100)","v":0},"Agua Seg (Trat Red + Viv)",null,null,null,null,{"$f":"IF(ISERROR((AP41+AR41)/D12),0,((AP41+AR41)/D12)*100)","v":0},null,100,null,"2° AG 6m a 24m",null,null,null,null,6,null,0,0,0,0,null,{"$f":"SUM(Y63:AB63)","v":0},{"$f":"IF(ISERROR(Z63/W63),0,(Z63/W63)*100)","v":0},null," ",null,"VAC COVID APLIC EN LA RONDA",null,null,null,null,null,null,null,null,null,0,null,null,null,null,null,null,null,null,null,null,null,null,null,null,null,null,"U) A llenar en 1° Ronda del Año"]
["Flias con Analfabet",null,null,null,null,null,null,{"$f":"IF(ISERROR(BO10/D12),0,(BO10/D12)*100)","v":0},"DSE (Arrastre y letrinas)",null,null,null,null,{"$f":"IF(ISERROR((AV41+AX41+AZ41+BB41+BD41)/D12),0,((AV41+AX41+AZ41+BB41+BD41)/D12)*100)","v":0},null,100,null,"R) PRODUCCION Y RENDIMIENTO",null,null,null,null,null,null,null,null,null,null,null,null,null,null,null,null,null,null,null,null,null,null,null,null,null,null,null,null,null,null,null,null,null,null,null,null,null,null,null,null,null,null,null,"Piso",null,null,null,null,"Techo",null,null,null,null,"Paredes",null,null,null,null,null,null,null,null,null,"Cocina",null,null,null,null,"Tenencia"]
["Flias con Suicidio",null,null,null,null,null,null,{"$f":"IF(ISERROR(BT11/D12),0,(BT11/D12)*100)","v":0},"TSB (Recolección + Pozo)",null,null,null,null,{"$f":"IF(ISERROR((BH41+BK41)/D12),0,((BH41+BK41)/D12)*100)","v":0},null,100,null,"DIAS A TRAB. /RONDA",null,null,"DIAS INCLEM CLIMAT.",null,null,"DIAS Y NROS DE ARTICULOS TOMADOS",null,null,null,"CAPACITACIONES Y OTRAS ACTIVIDADES",null,null,null,null,null,null,null,null,null,null,null,null,null,null,null,null,null,null,null,null,null,null,"DIAS TRABAJADOS\nEN TERRENO",null,null,null,null,"PROM. DIARIO DE FLIAS VISIT.",null,null,null,null,null,"Mosaico/B.",null,null,null,0,"Losa",null,null,0,null,"Ladrillo",null,null,0,null,"Madera",null,null,null,0,"Gas",null,null,0,null,"Segura",null,null,0]
["Flias c /tentativa suicidio",null,null,null,null,null,null,{"$f":"IF(ISERROR(BV11/D12),0,(BV11/D12)*100)","v":0},"Emb Adolescente",null,null,null,null,{"$f":"IF(ISERROR(L20/J20),0,(L20/J20)*100)","v":0},null,null,null,null,null,null,null,null,null,0,null,null,null,0,null,null,null,null,null,null,null,null,null,null,0,null,null,null,null,null,null,null,null,null,null,null,null,null,null,null,null,null,null,null,null,null,null,"Cemento",null,null,null,0,"Chapa\nZinc",null,null,0,null,"Bloque",null,null,0,null,"Quincho",null,null,null,0,"Leña/\nCarb",null,null,0,null,"Inseg.",null,null,0]
["Flias con Alcoholismo",null,null,null,null,null,null,{"$f":"IF(ISERROR(BY11/D12),0,(BY11/D12)*100)","v":0},"Niños <2 Bajo Peso/MBP",null,null,null,null,{"$f":"IF(ISERROR((AL22+AN22)/(AJ22+AP22+AL22+AN22)),0,((AL22+AN22)/(AJ22+AP22+AL22+AN22))*100)","v":0},null,null,null,null,null,null,null,null,null,0,null,null,null,0,null,null,null,null,null,null,null,null,null,null,0,null,null,null,null,null,null,null,null,null,null,null,null,null,null,null,null,null,null,null,null,null,null,"Tierra",null,null,null,0,"Paja/\nBarro",null,null,0,null,"Adobe",null,null,0,null,"Carton/Pl",null,null,null,0,"Otros",null,null,0,null,"Hac",null,null,0,null,null,null,5]
["Flias c/ otras Adicciones",null,null,null,null,null,null,{"$f":"IF(ISERROR(CC11/D12),0,(CC11/D12)*100)","v":0},"Niños <2 a AP",null,null,null,null,{"$f":"IF(ISERROR(AP22/(AJ22+AP22+AL22+AN22)),0,(AP22/(AJ22+AP22+AL22+AN22))*100)","v":0},null,null,null,0,null,null,0,null,null,0,null,null,null,0,null,null,null,null,null,null,null,null,null,null,0,null,null,null,null,null,null,null,null,null,null,null,0,null,null,null,null,{"$f":"IF(ISERROR(G12/AY68),0,(G12/AY68))","v":0},null,null,null,null,null,"Otros",null,null,null,0,"Otros",null,null,0,null,"Piedra",null,null,0,null,"Otro",null,null,null,0,"Helad.",null,null,0]
["Flias con VIF",null,null,null,null,null,null,{"$f":"IF(ISERROR(CF11/D12),0,(CF11/D12)*100)","v":0},"Niños < 2 baja y MBT",null,null,null,null,{"$f":"IF(ISERROR((AZ22+BB22)/(AJ22+AP22+AL22+AN22)),0,((AZ22+BB22)/(AJ22+AP22+AL22+AN22))*100)","v":0},null,null,null,"S) DETALLE DE LAS DEFUNCIONES (Todas las del Sector)",null,null,null,null,null,null,null,null,null,null,null,null,null,null,null,null,null,null,null,null,null,null,null,null,null,null,null,null,null,null,null,null,null,null,null,null,null,null,null,null,null,null,null,"Agua",null,"Corriente a Domic",null,null,"Grifo Terr",null,null,"Grifo Público",null,null,"Bomba",null,null,"Pozo",null,null,null,"Camión Aguatero / Cisterna",null,"Vertiente/Rio/Aceq",null,null,"Laguna",null,null,"Lluvia/Aljibe"]
["Flias con Diabetes",null,null,null,null,null,null,{"$f":"IF(ISERROR(AB31/D12),0,(AB31/D12)*100)","v":0},"Niños 2 a 5 Bajo Peso/MBP",null,null,null,null,{"$f":"IF(ISERROR((AL23+AN23)/(AJ23+AP23+AL23+AN23)),0,((AL23+AN23)/(AJ23+AP23+AL23+AN23))*100)","v":0},null,null,null,"APELLIDO Y NOMBRE",null,null,null,null,null,null,"DOMICILIO",null,null,null,null,null,null,null,null,"NACIMIENTO",null,null,null,null,"DEFUNCION",null,null,null,"PESO\nAL NACER",null,null,null,"CAUSA",null,null,null,null,null,null,null,null,null,"CLASIFICAC."]
["Flias con Hipertensión",null,null,null,null,null,null,{"$f":"IF(ISERROR(AB32/D12),0,(AB32/D12)*100)","v":0},"Niños 2 a 5 AP",null,null,null,null,{"$f":"IF(ISERROR(AP23/(AJ23+AP23+AL23+AN23)),0,(AP23/(AJ23+AP23+AL23+AN23))*100)","v":0}]
[]
["Personas con otras enfermedades crónicas al cuidado de niños",null,null,null,null,null,null,{"$f":"IF(ISERROR(AB33/D12),0,(AB33/D12)*100)","v":0},"Niños 2 a 5 baja y MBT",null,null,null,null,{"$f":"IF(ISERROR((AZ23+BB23)/(AJ23+AP23+AL23+AN23)),0,((AZ23+BB23)/(AJ23+AP23+AL23+AN23))*100)","v":0},null,null,null,null,null,null,null,null,null,null,null,null,null,null,null,null,null,null,null,null,null,null,null,null,null,null,null,null,null,null,null,null,null,null,null,null,null,null,null,null,null,null,null,null,null,null,null,null,null,0,null,null,0,null,null,0,null,null,0,null,null,0,null,null,null,0,null,0,null,null,0,null,null,0]
["Pers c/O Social/Pob total",null,null,null,null,null,null,{"$f":"IF(ISERROR(CI27/CC28),0,(CI27/CC28)*100)","v":0}]
[]
[]
[]
[]
["BP+MBP Ronda Anterior Men2a: ",null,null,null,null,null,null,null,null,null,2]
["BP+MBP Ronda Anterior 2 a 6a: ",null,null,null,null,null,null,null,null,null,0]
["AP Ronda Anterior Men2a: ",null,null,null,null,null,null,null,null,null,1]
["AP Ronda Anterior 2 a 6a: ",null,null,null,null,null,null,null,null,null,2]
[]
[]
[]
[]
[]
["0 a 5m",null,null,"6 a 11m",null,null,"1 AÑO",null,"2 AÑOS",null,"3 AÑOS",null,"4 AÑOS",null,null,"5 AÑOS",null,null,"6 AÑOS",null,null,"7 A 9 AÑOS",null,null,null,"10 AÑOS",null,"11 AÑOS",null,null,"12 A 14",null,null,null,null,null,"15 A 19",null,null,"20 A 24",null,null,null,"25 A 29",null,null,null,"30 A 34",null,null,null,"35 A 39",null,null,null,"40 A 44",null,null,null,null,"45 A 49",null,null,null,"50 A 54",null,null,null,"55 A 59",null,null,null,"60 A 64",null,null,null,"65 y +",null,null,null,"TOTAL",null,null,null,null,"MUJERES\n10 A 49"]
["M",null,"F","M",null,"F","M","F","M","F","M","F","M",null,"F","M",null,"F","M",null,"F","M",null,"F",null,"M","F","M",null,"F","M",null,null,"F",null,null,"M","F",null,"M",null,"F",null,"M",null,null,"F","M",null,null,"F","M",null,"F",null,"M",null,null,"F",null,"M",null,"F",null,"M",null,"F",null,"M",null,"F",null,"M",null,"F",null,"M",null,null,"F","M",null,"F"]
[0,null,0,0,null,0,0,0,0,0,0,0,0,null,0,0,null,0,0,null,0,0,null,0,null,0,0,0,null,0,0,null,null,0,null,null,0,0,null,0,null,0,null,0,null,null,0,0,null,null,0,0,null,0,null,0,null,null,0,null,0,null,0,null,0,null,0,null,0,null,0,null,0,null,0,null,0,null,null,0,{"$f":"SUM(A90,D90,G90,I90,K90,M90,P90,S90,V90,Z90,AB90,AE90,AK90,AN90,AR90,AV90,AZ90,BD90,BI90,BM90,BQ90,BU90,BY90)","v":0},null,{"$f":"SUM(C90,F90,H90,J90,L90,O90,R90,U90,X90,AA90,AD90,AH90,AL90,AP90,AU90,AY90,BB90,BG90,BK90,BO90,BS90,BW90,CB90)","v":0},null,null,{"$f":"SUM(AA90,AD90,AH90,AL90,AP90,AU90,AY90,BB90,BG90,BK90)","v":0}]
[{"$f":"SUM(A90:C90)","v":0},null,null,{"$f":"SUM(D90,F90)","v":0},null,null,{"$f":"SUM(G90,H90)","v":0},null,{"$f":"SUM(I90,J90)","v":0},null,{"$f":"SUM(K90,L90)","v":0},null,{"$f":"SUM(M90,O90)","v":0},null,null,{"$f":"SUM(P90,R90)","v":0},null,null,{"$f":"SUM(S90,U90)","v":0},null,null,{"$f":"SUM(V90,X90)","v":0},null,null,null,{"$f":"SUM(Z90,AA90)","v":0},null,{"$f":"SUM(AB90,AD90)","v":0},null,null,{"$f":"SUM(AE90,AH90)","v":0},null,null,null,null,null,{"$f":"SUM(AK90,AL90)","v":0},null,null,{"$f":"SUM(AN90,AP90)","v":0},null,null,null,{"$f":"SUM(AR90,AU90)","v":0},null,null,null,{"$f":"SUM(AV90,AY90)","v":0},null,null,null,{"$f":"SUM(AZ90,BB90)","v":0},null,null,null,{"$f":"SUM(BD90,BG90)","v":0},null,null,null,null,{"$f":"SUM(BI90,BK90)","v":0},null,null,null,{"$f":"SUM(BM90,BO90)","v":0},null,null,null,{"$f":"SUM(BQ90,BS90)","v":0},null,null,null,{"$f":"SUM(BU90,BW90)","v":0},null,null,null,{"$f":"SUM(BY90,CB90)","v":0},null,null,null,{"$f":"A91+D91+G91+I91+K91+M91+P91+S91+V91+Z91+AB91+AE91+AK91+AN91+AR91+AV91+AZ91+BD91+BI91+BM91+BQ91+BU91+BY91","v":0}]
["Mejor Población: 1° - 2019",null,null,null,null,null,null,null,null,null,null,null,null,null,null,null,null,null,null,null,null,null,null,null,null,null,null,null,null,null,null,null,null,null,null,null,null,null,null,null,null,null,null,null,null,null,null,null,null,null,null,null,null,null,null,null,null,null,null,null,null,null,null,null,null,null,null,null,null,null,null,null,null,null,null,null,null,null,null,null,{"$f":"SUM(CC91,CE91)","v":0}]
["Cobertura: 1%"]

{"sheet":"LA REPRESA","index":30,"n_rows":93,"n_cols":94,"rows_kept":93,"cut":false,"hidden":false,"merged":[[61,30,61,31],[62,30,62,31],[0,86,0,87],[1,8,1,9],[1,15,1,25],[1,46,1,53],[1,56,1,57],[1,58,1,59],[1,60,1,61],[1,67,1,84],[1,86,1,87],[0,27,3,45],[0,46,0,52],[0,56,0,57],[0,58,0,59],[0,60,0,61],[0,81,0,84],[2,46,2,53],[2,56,2,57],[2,58,2,59],[2,60,2,61],[6,0,6,89],[7,0,7,46],[7,47,7,89],[8,0,10,2],[8,3,10,5],[8,6,10,7],[8,8,8,16],[8,17,10,18],[8,19,10,20],[8,21,10,23],[4,80,4,87],[5,8,5,24],[5,33,5,46],[5,57,5,67],[5,75,5,77],[5,82,5,87],[2,67,2,79],[2,86,2,87],[3,8,3,23],[3,46,3,53],[3,56,3,57],[3,58,3,59],[3,60,3,61],[3,74,3,79],[3,84,3,87],[8,86,8,89],[9,8,10,9],[9,10,10,11],[9,12,10,13],[9,14,10,16],[9,26,10,27],[9,28,10,30],[8,66,8,68],[8,69,8,72],[8,73,8,75],[8,76,8,79],[8,80,8,82],[8,83,8,85],[8,51,8,53],[8,54,8,55],[8,56,8,57],[8,58,8,59],[8,60,8,62],[8,63,8,65],[8,24,10,25],[8,26,8,30],[8,31,10,36],[8,37,8,46],[8,47,8,48],[8,49,8,50],[9,49,10,50],[11,0,14,2],[11,3,14,5],[11,6,14,7],[11,8,14,9],[11,10,14,11],[11,12,14,13],[9,86,9,89],[10,69,10,72],[10,73,10,74],[10,76,10,78],[10,81,10,82],[10,83,10,84],[10,86,10,89],[9,66,10,68],[9,69,9,72],[9,73,9,74],[9,76,9,78],[9,81,9,82],[9,83,9,84],[9,51,10,53],[9,54,10,55],[9,56,10,57],[9,58,10,59],[9,60,10,62],[9,63,10,65],[13,75,13,78],[13,79,13,80],[13,81,13,84],[9,37,10,40],[9,41,10,46],[9,47,10,48],[12,85,12,89],[13,47,13,52],[13,63,13,68],[13,69,13,74],[12,47,12,52],[12,63,12,68],[12,53,12,55],[12,56,12,59],[12,60,12,62],[13,53,13,55],[13,56,13,59],[13,60,13,62],[14,53,14,55],[14,56,14,59],[14,60,14,62],[11,19,14,20],[11,21,14,23],[11,24,14,25],[11,26,14,27],[16,0,18,2],[16,6,18,6],[16,7,18,7],[16,8,18,8],[16,9,18,9],[16,10,18,10],[16,11,18,11],[16,12,18,13],[14,79,14,80],[14,81,14,84],[14,85,14,89],[15,12,15,19],[15,20,15,28],[15,29,15,65],[15,66,15,75],[11,28,14,30],[11,31,14,36],[11,37,14,40],[11,41,14,46],[11,47,11,68],[11,69,11,89],[11,14,14,16],[11,17,14,18],[13,85,13,89],[14,47,14,52],[14,63,14,68],[14,69,14,74],[14,75,14,78],[12,69,12,74],[12,75,12,78],[12,79,12,80],[12,81,12,84],[19,0,20,2],[19,12,19,13],[19,14,19,15],[19,18,19,19],[19,20,19,21],[19,23,19,24],[19,25,19,26],[19,27,19,28],[17,41,20,42],[17,43,18,46],[17,47,18,50],[17,51,18,55],[17,56,20,57],[17,58,18,62],[19,43,20,44],[19,45,20,46],[19,47,20,49],[19,50,20,50],[17,16,18,16],[17,17,18,17],[17,22,18,22],[17,23,18,24],[17,25,18,26],[17,27,18,28],[17,29,20,31],[16,14,18,15],[16,16,16,17],[16,18,18,19],[16,20,18,21],[16,22,16,28],[16,29,16,65],[17,32,20,34],[21,12,21,15],[21,16,21,19],[21,29,21,31],[21,32,21,34],[20,12,20,19],[20,20,21,23],[20,24,21,28],[21,35,21,36],[21,37,21,38],[21,39,21,40],[21,41,21,42],[19,68,20,69],[19,70,20,71],[19,72,20,73],[19,74,20,75],[19,76,20,79],[19,51,20,52],[19,53,20,54],[19,55,20,55],[19,58,20,60],[19,61,20,62],[19,66,20,67],[17,63,20,65],[16,66,18,67],[16,68,18,69],[16,70,18,71],[16,72,18,73],[16,74,18,75],[16,76,18,79],[17,35,20,36],[17,37,20,38],[17,39,20,40],[22,16,22,19],[22,20,22,23],[22,24,22,28],[22,29,22,31],[22,32,22,34],[22,35,22,36],[21,58,21,60],[21,61,21,62],[21,63,21,65],[21,66,22,73],[21,74,22,75],[21,76,21,79],[22,76,22,79],[21,43,21,44],[21,45,21,46],[21,47,21,49],[21,51,21,52],[21,53,21,54],[21,56,21,57],[23,0,23,89],[24,0,24,2],[24,3,24,5],[24,6,24,7],[24,8,24,9],[24,10,24,11],[24,12,24,14],[24,15,24,17],[24,18,24,20],[22,51,22,52],[22,53,22,54],[22,56,22,57],[22,58,22,60],[22,61,22,62],[22,63,22,65],[22,37,22,38],[22,39,22,40],[22,41,22,42],[22,43,22,44],[22,45,22,46],[22,47,22,49],[21,0,22,2],[24,88,25,89],[25,0,25,1],[25,3,25,4],[25,12,25,13],[25,15,25,16],[25,18,25,19],[25,21,25,22],[25,23,25,24],[25,27,25,28],[22,12,22,15],[24,68,24,71],[24,72,24,75],[24,76,24,79],[24,80,24,84],[24,85,25,85],[24,86,25,87],[25,76,25,78],[25,80,25,81],[25,82,25,84],[24,43,24,46],[24,47,24,50],[24,51,24,54],[24,55,24,59],[24,60,24,63],[24,64,24,67],[24,21,24,24],[24,25,24,26],[24,27,24,29],[24,30,24,35],[24,36,24,38],[24,39,24,42],[26,37,26,38],[26,39,26,40],[26,0,26,1],[26,3,26,4],[26,12,26,13],[26,15,26,16],[26,18,26,19],[26,21,26,22],[25,64,25,65],[25,66,25,67],[25,68,25,69],[25,70,25,71],[25,72,25,73],[25,74,25,75],[25,51,25,52],[25,53,25,54],[25,55,25,57],[25,58,25,59],[25,60,25,61],[25,62,25,63],[25,33,25,35],[25,37,25,38],[25,39,25,40],[25,41,25,42],[25,43,25,45],[25,47,25,49],[25,30,25,32],[26,85,27,85],[26,86,27,87],[26,88,27,89],[27,0,27,2],[27,3,27,5],[27,6,27,7],[27,8,27,9],[27,10,27,11],[27,12,27,14],[27,15,27,17],[26,70,26,71],[26,72,26,73],[26,74,26,75],[26,76,26,78],[26,80,26,81],[26,82,26,84],[26,58,26,59],[26,60,26,61],[26,62,26,63],[26,64,26,65],[26,66,26,67],[26,68,26,69],[26,41,26,42],[26,43,26,45],[26,47,26,49],[26,51,26,52],[26,53,26,54],[26,55,26,57],[26,23,26,24],[26,27,26,28],[26,30,26,32],[26,33,26,35],[27,64,27,67],[27,68,27,71],[27,72,27,75],[27,76,27,79],[27,80,27,84],[28,0,28,14],[28,15,28,20],[28,21,28,32],[27,39,27,42],[27,43,27,46],[27,47,27,50],[27,51,27,54],[27,55,27,59],[27,60,27,63],[27,18,27,20],[27,21,27,24],[27,25,27,26],[27,27,27,29],[27,30,27,35],[27,36,27,38],[30,21,30,26],[30,27,30,29],[30,30,30,32],[31,0,31,2],[31,3,31,4],[31,8,31,9],[31,10,31,11],[31,12,32,14],[31,15,32,17],[31,18,32,20],[29,30,29,32],[29,33,35,89],[30,0,30,2],[30,3,30,5],[30,6,30,7],[30,8,30,9],[30,10,30,11],[30,12,30,14],[30,15,30,17],[30,18,30,20],[29,0,29,2],[29,3,29,7],[29,8,29,14],[29,15,29,20],[29,21,29,26],[29,27,29,29],[33,0,33,2],[33,3,33,7],[33,8,33,11],[33,12,33,14],[33,15,35,17],[33,18,35,20],[34,0,35,2],[34,3,34,5],[34,6,34,7],[34,8,34,9],[31,21,31,26],[31,27,31,29],[31,30,31,32],[32,0,32,2],[32,3,32,4],[32,8,32,9],[32,10,32,11],[32,21,33,26],[32,27,33,29],[32,30,33,32],[38,4,39,7],[38,8,39,11],[38,12,38,19],[38,20,39,21],[38,22,39,23],[36,0,37,40],[36,41,36,68],[36,69,36,89],[37,41,37,46],[37,47,37,58],[37,59,37,68],[37,69,37,79],[37,80,39,81],[37,82,39,85],[37,86,39,89],[34,10,34,11],[34,12,35,14],[34,21,35,26],[34,27,35,32],[35,3,35,5],[35,6,35,7],[35,8,35,9],[35,10,35,11],[40,0,41,1],[40,2,41,3],[40,4,41,5],[40,6,41,7],[40,8,41,9],[40,10,41,11],[38,66,39,68],[38,69,39,71],[38,72,39,75],[38,76,39,79],[39,12,39,13],[39,14,39,15],[39,16,39,17],[39,18,39,19],[39,47,39,48],[39,49,39,50],[38,46,39,46],[38,47,38,52],[38,53,38,56],[38,57,39,58],[38,59,39,61],[38,62,39,65],[39,51,39,52],[39,53,39,54],[39,55,39,56],[38,24,39,27],[38,28,39,31],[38,32,39,35],[38,36,39,40],[38,41,39,42],[38,43,39,45],[38,0,39,3],[40,41,40,42],[40,43,40,45],[40,47,40,48],[40,49,40,50],[40,24,41,25],[40,26,41,27],[40,28,41,29],[40,30,41,31],[40,32,41,33],[40,34,41,35],[40,18,41,18],[40,19,41,19],[40,20,41,20],[40,21,41,21],[40,22,41,22],[40,23,41,23],[40,12,41,12],[40,13,41,13],[40,14,41,14],[40,15,41,15],[40,16,41,16],[40,17,41,17],[42,21,44,21],[42,22,44,22],[42,10,44,11],[42,12,44,12],[42,13,44,13],[42,14,44,14],[42,15,44,15],[42,16,44,16],[40,86,40,89],[41,41,41,52],[41,53,41,64],[41,65,41,76],[41,77,41,89],[42,0,44,1],[42,2,44,3],[42,4,44,5],[42,6,44,7],[42,8,44,9],[40,66,40,68],[40,69,40,71],[40,72,40,75],[40,76,40,79],[40,80,40,81],[40,82,40,85],[40,51,40,52],[40,53,40,54],[40,55,40,56],[40,57,40,58],[40,59,40,61],[40,62,40,65],[40,36,41,38],[40,39,41,40],[42,73,43,76],[42,77,43,84],[42,85,43,89],[44,41,44,45],[44,46,44,48],[44,49,44,50],[44,51,44,52],[44,53,44,55],[44,56,44,60],[44,61,44,64],[42,51,43,52],[42,53,43,55],[42,56,43,60],[42,61,43,64],[42,65,43,68],[42,69,43,72],[42,34,44,35],[42,36,44,38],[42,39,44,40],[42,41,43,45],[42,46,43,48],[42,49,43,50],[46,70,46,71],[46,72,46,74],[46,75,46,84],[46,85,46,86],[46,87,46,89],[47,0,47,5],[47,8,47,13],[47,15,47,16],[47,17,47,21],[47,22,47,23],[46,0,46,5],[46,8,46,13],[46,15,46,16],[46,17,46,33],[46,34,46,60],[46,61,46,69],[44,65,44,68],[44,69,44,72],[44,73,44,76],[44,77,44,84],[44,85,44,89],[45,0,45,89],[42,23,44,23],[42,24,44,25],[42,26,44,27],[42,28,44,29],[42,30,44,31],[42,32,44,33],[42,17,44,17],[42,18,44,18],[42,19,44,19],[42,20,44,20],[47,72,47,74],[47,75,47,84],[47,85,47,86],[47,87,47,89],[48,0,48,5],[48,8,48,13],[48,15,48,16],[48,17,48,21],[48,22,49,23],[48,27,48,28],[47,51,47,53],[47,55,47,56],[47,57,47,58],[47,59,47,60],[47,61,47,69],[47,70,47,71],[47,27,47,28],[47,30,47,31],[47,32,47,33],[47,34,47,43],[47,44,47,46],[47,47,47,49],[49,75,50,84],[49,85,50,86],[49,87,50,89],[50,0,50,6],[50,8,50,13],[50,15,50,16],[50,17,50,21],[50,22,54,23],[50,27,50,28],[48,75,48,84],[48,85,48,86],[48,87,48,89],[49,0,49,5],[49,8,49,13],[49,15,49,16],[49,17,49,21],[49,27,49,28],[49,30,49,31],[49,34,49,43],[48,55,48,56],[48,57,48,58],[48,59,50,60],[48,61,48,69],[48,70,48,71],[48,72,48,74],[49,55,49,56],[49,57,49,58],[49,61,49,69],[49,70,49,71],[48,30,48,31],[48,32,49,33],[48,34,48,43],[50,70,50,71],[50,72,50,74],[51,0,51,6],[51,8,51,13],[51,15,51,16],[51,17,51,21],[51,27,51,28],[51,30,51,31],[51,34,51,43],[51,47,51,49],[50,34,50,43],[50,47,50,49],[50,51,50,53],[50,55,50,56],[50,57,50,58],[50,61,50,69],[49,72,49,74],[48,44,51,46],[48,47,48,49],[48,51,48,53],[49,47,49,49],[49,51,49,53],[50,30,50,31],[50,32,54,33],[51,72,51,74],[53,0,53,6],[53,8,53,13],[53,15,53,16],[53,17,53,21],[53,27,53,28],[53,30,53,31],[51,75,51,84],[51,85,51,86],[51,87,51,89],[52,0,52,6],[52,8,52,13],[52,15,52,16],[52,17,52,21],[52,27,52,28],[52,30,52,31],[51,51,51,53],[51,55,51,56],[51,57,51,58],[51,59,52,60],[51,61,51,69],[51,70,51,71],[52,61,52,69],[52,70,52,71],[52,72,52,74],[52,75,52,84],[52,85,52,86],[52,87,52,89],[52,34,52,43],[52,44,53,46],[52,47,52,49],[52,51,52,53],[52,55,52,56],[52,57,52,58],[53,34,53,43],[53,47,53,49],[53,51,53,53],[53,55,53,56],[53,85,53,86],[53,87,53,89],[54,0,54,6],[54,8,54,13],[54,15,54,16],[54,17,54,21],[54,27,54,28],[54,30,54,31],[54,34,54,43],[54,44,54,46],[53,57,53,58],[53,59,54,60],[53,61,53,69],[53,70,53,71],[53,72,53,74],[53,75,53,84],[54,72,54,74],[54,75,54,84],[54,85,54,86],[54,87,54,89],[55,0,55,6],[55,8,55,13],[55,15,55,16],[55,17,55,21],[55,27,55,28],[55,30,55,31],[55,32,60,33],[54,47,54,49],[54,51,54,53],[54,55,54,56],[54,57,54,58],[54,61,54,69],[54,70,54,71],[56,87,56,89],[57,0,57,6],[57,8,57,13],[57,15,57,16],[57,17,57,21],[57,27,57,28],[57,30,57,31],[57,34,57,43],[56,51,56,53],[56,55,56,56],[56,57,56,58],[56,61,56,69],[56,70,56,71],[56,72,56,74],[55,87,55,89],[56,0,56,6],[56,8,56,13],[56,15,56,16],[58,61,58,69],[58,70,58,71],[58,72,58,74],[56,17,56,21],[56,27,56,28],[56,30,56,31],[56,34,56,43],[56,44,57,46],[56,47,56,49],[55,59,56,60],[55,61,55,69],[55,70,55,71],[55,72,55,74],[55,75,55,84],[55,85,55,86],[56,75,56,84],[56,85,56,86],[55,34,55,43],[55,44,55,46],[55,47,55,49],[55,51,55,53],[55,55,55,56],[55,57,55,58],[57,75,57,84],[57,85,57,86],[61,72,61,74],[61,75,61,84],[61,85,61,86],[57,87,57,89],[58,0,59,6],[58,7,59,7],[58,8,58,13],[58,15,58,16],[58,17,58,21],[58,27,58,28],[58,30,58,31],[57,55,57,56],[57,57,57,58],[57,59,57,60],[57,61,57,69],[57,70,57,71],[57,72,57,74],[59,85,59,86],[59,87,59,89],[57,47,57,49],[57,51,57,53],[58,87,58,89],[59,8,60,13],[59,14,60,14],[59,15,60,16],[59,17,59,21],[59,27,59,28],[59,30,59,31],[59,34,59,43],[59,47,59,49],[59,51,59,53],[58,59,59,60],[64,84,64,85],[61,87,61,89],[61,32,61,33],[61,34,61,43],[61,44,61,60],[62,44,62,60],[60,87,60,89],[61,0,61,6],[61,8,61,12],[61,13,61,14],[61,15,61,16],[60,0,60,6],[60,17,60,21],[60,27,60,28],[60,30,60,31],[60,34,60,43],[60,44,60,60],[60,75,60,84],[60,85,60,86],[62,61,62,89],[59,61,60,69],[59,70,60,71],[59,72,60,74],[59,75,59,84],[58,44,59,46],[58,47,58,49],[58,51,58,53],[58,55,58,56],[58,57,58,58],[59,55,59,56],[63,86,63,89],[64,0,64,6],[64,8,64,12],[64,13,64,14],[64,15,64,16],[64,17,66,19],[64,20,66,22],[64,23,64,26],[64,27,64,49],[64,50,66,54],[65,0,65,6],[65,8,65,12],[65,13,65,14],[66,86,67,88],[66,89,67,89],[67,0,67,6],[67,8,67,12],[67,13,67,14],[67,15,67,16],[67,17,67,19],[66,38,66,49],[66,61,66,64],[66,66,66,68],[63,0,63,6],[63,8,63,12],[63,13,63,14],[63,15,63,16],[63,17,63,60],[63,61,63,65],[63,66,63,70],[63,71,63,80],[63,81,63,85],[66,69,66,70],[66,71,66,73],[66,74,66,75],[65,76,65,79],[65,81,65,83],[65,84,65,85],[65,86,65,88],[66,0,66,6],[66,8,66,12],[66,13,66,14],[66,15,66,16],[66,23,66,26],[66,27,66,37],[65,15,65,16],[65,23,65,26],[65,27,65,37],[65,38,65,49],[64,55,66,60],[64,61,64,64],[64,66,64,68],[64,69,64,70],[64,74,64,75],[64,86,64,88],[64,76,64,79],[65,61,65,64],[65,66,65,68],[65,69,65,70],[65,74,65,75],[66,76,66,79],[66,81,66,83],[66,84,66,85],[64,81,64,83],[68,84,71,86],[67,81,67,83],[67,84,67,85],[68,0,68,6],[68,8,68,12],[68,13,68,14],[68,15,68,16],[68,17,68,60],[68,61,73,62],[68,63,71,65],[68,66,71,68],[67,61,67,64],[67,66,67,68],[67,69,67,70],[67,71,67,73],[67,74,67,75],[67,76,67,79],[67,20,67,22],[67,23,67,26],[67,27,67,37],[67,38,67,49],[67,50,67,54],[67,55,67,60],[70,38,70,41],[70,42,70,45],[70,46,70,55],[70,56,70,60],[71,17,71,23],[71,24,71,32],[71,33,71,37],[71,38,71,41],[71,42,71,45],[71,46,71,55],[69,46,69,55],[69,56,69,60],[70,0,71,6],[70,7,71,7],[70,8,71,12],[70,13,71,14],[70,15,71,16],[70,17,70,23],[70,24,70,32],[70,33,70,37],[69,0,69,6],[69,8,69,12],[69,13,69,14],[69,15,69,16],[69,17,69,23],[69,24,69,32],[69,33,69,37],[69,38,69,41],[69,42,69,45],[72,75,73,78],[72,79,73,80],[72,81,73,83],[72,84,73,86],[72,87,73,89],[73,0,73,6],[73,17,73,23],[73,24,73,32],[73,33,73,37],[73,38,73,41],[72,46,72,55],[72,56,72,60],[72,63,73,65],[72,66,73,68],[72,69,73,71],[72,72,73,74],[71,56,71,60],[72,0,72,6],[72,8,73,12],[72,13,73,14],[72,15,73,16],[72,17,72,23],[72,24,72,32],[72,33,72,37],[72,38,72,41],[72,42,72,45],[68,87,71,89],[68,69,71,71],[68,72,71,74],[68,75,71,78],[68,79,71,80],[68,81,71,83],[75,17,75,23],[75,24,75,32],[75,38,75,41],[75,42,75,45],[75,46,75,55],[87,0,87,2],[87,3,87,5],[87,6,87,7],[87,8,87,9],[87,10,87,11],[73,42,73,45],[73,46,73,55],[73,56,73,60],[74,17,74,23],[74,24,74,32],[74,38,74,41],[74,42,74,45],[74,46,74,55],[87,80,87,84],[87,85,88,85]],"merged_total":1135,"flags":["merged_cut"]}
[null,null,null,null,null,null,null,null,null,null,null,null,null,null,null,null,null,null,null,null,null,null,null,null,null,null,null,"DIRECCION - PROGRAMA  APS \nSUBSECRETARIA DE MEDICINA SOCIAL\nRONDA N°:192   AÑO: 2025",null,null,null,null,null,null,null,null,null,null,null,null,null,null,null,null,null,null,null,null,null,null,null,null,null,null,"1r","2r","3r",null,"4r",null,"T",null,null,null,null,null,null,null,null,null,null,null,null,null,null,null,null,null,null,null,"Informe y orden de Ronda: ",6,null,null,null,null,2]
[null,null,null,null,null,null,null,"Area Operativa N°: ",4,null,null,null,null,null,"Nombre: ","MORILLO",null,null,null,null,null,null,null,null,null,null,null,null,null,null,null,null,null,null,null,null,null,null,null,null,null,null,null,null,null,null,"Mort. Mater. Acum. Año",null,null,null,null,null,null,null,0,{"$f":"CE41","v":0},0,null,{"$f":"CE41","v":0},null,{"$f":"SUM(BC2:BG2)","v":0},null,null,null,null,"Sector:",null,"LA REPRESA",null,null,null,null,null,null,null,null,null,null,null,null,null,null,null,null,null,"N°",22]
[null,null,null,null,null,null,null,null,null,null,null,null,null,null,null,null,null,null,null,null,null,null,null,null,null,null,null,null,null,null,null,null,null,null,null,null,null,null,null,null,null,null,null,null,null,null,"Mort. 0-1 año Acum Año",null,null,null,null,null,null,null,0,{"$f":"BR41+BU41+BY41","v":0},0,null,{"$f":"BR41+BU41+BY41","v":0},null,{"$f":"SUM(BC3:BG3)","v":0},null,null,null,null,null,"Etnia: ","CRIOLLO-WICHI",null,null,null,null,null,null,null,null,null,null,null,null,null,null,null,null,null,"Sector Riesgo:","SI"]
[null,null,null,null,null,null,null,"Establec. Base: ","HOSPITAL MORILLO",null,null,null,null,null,null,null,null,null,null,null,null,null,null,null,null,null,null,null,null,null,null,null,null,null,null,null,null,null,null,null,null,null,null,null,null,null,"Mort. 1-4 años Acum Año",null,null,null,null,null,null,null,0,{"$f":"CC41","v":0},0,null,{"$f":"CC41","v":0},null,{"$f":"SUM(BC4:BG4)","v":0},null,null,null,null,null,null,null,null,null,null,null,null,"Desde: ","07/03/2025",null,null,null,null,null,null,null,null,"Hasta: ","05/06/2026"]
[null,null,null,null,null,null,null,null,null,null,null,null,null,null,null,null,null,null,null,null,null,null,null,null,null,null,null,null,null,null,null,null,null,null,null,null,null,null,null,null,null,null,null,null,null,null,null,null,null,null,null,null,null,null,null,null,null,null,null,null,null,null,null,null,null,null,null,null,null,null,null,null,null,null,null,null,null,null,null,"Cobertura: ","CUBIERTO"]
[null,null,null,null,null,null,null,"Sup. Intermedio: "," Correa, Miguel Angel",null,null,null,null,null,null,null,null,null,null,null,null,null,null,null,null,null,null,null,null,null,null,null,"Responsable A.P.S.: ","Dr. Abel Ibarra",null,null,null,null,null,null,null,null,null,null,null,null,null,null,null,null,null,null,null,null,null,null,"Agente Sanitario: ","GUERRA, BASILIA",null,null,null,null,null,null,null,null,null,null,null,null,null,null,null,null,"Sit. Revista: ","PLANTA PERMANENTE",null,null,null,null,null,"Reg. Horario: ","30 HS."]
[]
["A) FAMILIAS VISITADAS EN LA RONDA",null,null,null,null,null,null,null,null,null,null,null,null,null,null,null,null,null,null,null,null,null,null,null,null,null,null,null,null,null,null,null,null,null,null,null,null,null,null,null,null,null,null,null,null,null,null,"B) FACTORES DE PRIORIZACION DE VISITAS"]
["ASIGNADAS",null,null,"VISITADAS",null,null,"TOTAL\nVISITAS",null,"NO VISITADAS",null,null,null,null,null,null,null,null,"FLIAS ORIG.",null,"FLIAS. URB.",null,"FLIAS. PERIURB",null,null,"FLIAS. RURALES",null,"GOLON\nMIGRANTES",null,null,null,null,"FLIAS. CON PL. SOCIALES",null,null,null,null,null,"PRODUCCION\nFAMILIAR",null,null,null,null,null,null,null,null,null,1,null,2,null,3,null,null,4,null,5,null,6,null,7,null,null,8,null,null,9,null,null,10,null,null,null,11,null,null,12,null,null,null,13,null,null,14,null,null,15]
[null,null,null,null,null,null,null,null,"RECHAZO TOTAL",null,"AUSEN\n-TE",null,"NO VISITADAS",null,"TOT NO VISIT.",null,null,null,null,null,null,null,null,null,null,null,"HACIA\nEL AO",null,"DESDE\nEL AO",null,null,null,null,null,null,null,null,"HUERTA",null,null,null,"GRANJA",null,null,null,null,null,0,null,0,null,0,null,null,0,null,0,null,0,null,0,null,null,0,null,null,0,null,null,"Total",null,null,null,"Tot",null,"Trat","Tot.",null,null,"Trat.","Tot.","Trat.",null,"Tot.",null,"Trat","Total"]
[null,null,null,null,null,null,null,null,null,null,0,null,null,null,null,null,null,null,null,null,null,null,null,null,null,null,null,null,null,null,null,null,null,null,null,null,null,null,null,null,null,null,null,null,null,null,null,null,null,null,null,null,null,null,null,null,null,null,null,null,null,null,null,null,null,null,null,null,null,0,null,null,null,0,null,0,0,null,null,0,0,0,null,0,null,0,0]
[0,null,null,0,null,null,0,null,0,null,0,null,0,null,{"$f":"M12+K12+I12","v":0},null,null,0,null,0,null,0,null,null,0,null,0,null,0,null,null,0,null,null,null,null,null,0,null,null,null,0,null,null,null,null,null,"C) VISITAS A FLIAS. PRIORIZADAS",null,null,null,null,null,null,null,null,null,null,null,null,null,null,null,null,null,null,null,null,null,"D) SUPERV. A FLIAS. "]
[null,null,null,null,null,null,null,null,null,null,null,null,null,null,null,null,null,null,null,null,null,null,null,null,null,null,null,null,null,null,null,null,null,null,null,null,null,null,null,null,null,null,null,null,null,null,null,"PRIORIDAD",null,null,null,null,null,1,null,null,2,null,null,null,3,null,null,"Total",null,null,null,null,null,"PRIORIDAD",null,null,null,null,null,3,null,null,null,2,null,1,null,null,null,"TOTAL"]
[null,null,null,null,null,null,null,null,null,null,null,null,null,null,null,null,null,null,null,null,null,null,null,null,null,null,null,null,null,null,null,null,null,null,null,null,null,null,null,null,null,null,null,null,null,null,null,"N° FAMILIAS",null,null,null,null,null,0,null,null,0,null,null,null,0,null,null,{"$f":"SUM(BB14:BI14)","v":0},null,null,null,null,null,"INTERMEDIA",null,null,null,null,null,0,null,null,null,0,null,0,null,null,null,{"$f":"SUM(BX14:CD14)","v":0}]
[null,null,null,null,null,null,null,null,null,null,null,null,null,null,null,null,null,null,null,null,null,null,null,null,null,null,null,null,null,null,null,null,null,null,null,null,null,null,null,null,null,null,null,null,null,null,null,"VISITAS",null,null,null,null,null,0,null,null,0,null,null,null,0,null,null,{"$f":"SUM(BB15:BI15)","v":0},null,null,null,null,null,"PROFESIONAL",null,null,null,null,null,0,null,null,null,0,null,0,null,null,null,{"$f":"SUM(BX15:CB15)","v":0}]
["E) EDAD FERTIL",null,null,null,null,"F) EMBARAZADAS",null,null,null,null,null,null,"G) PARTOS",null,null,null,null,null,null,null,"H) R.N. EN LA RONDA",null,null,null,null,null,null,null,null,"I) EVALUACION ANTROPOMETRICA",null,null,null,null,null,null,null,null,null,null,null,null,null,null,null,null,null,null,null,null,null,null,null,null,null,null,null,null,null,null,null,null,null,null,null,null,"NIÑ MBP/BP/RBP CTRL. INT.",null,null,null,null,null,null,null,null,null,"LACT. MATERNA"]
["PAP",null,null,0,null,"CAPT. 1er TRIMESTRE","ESP EN EL AÑO","ACUMULADAS","NUEVAS\nRONDA","TOTAL","DE RIESGO","<19 Años","TOTAL",null,"HOSPITALARIOS",null,"DOMIC.",null,"N° PUERPERAS",null,"NACIDOS VIVOS",null,"P AL NACER",null,null,null,null,null,null,"NIÑOS CONTROLADOS",null,null,null,null,null,null,null,null,null,null,null,null,null,null,null,null,null,null,null,null,null,null,null,null,null,null,null,null,null,null,null,null,null,null,null,null,"MELAN",null,"MED",null,"ENF.",null,"LAB",null,"NUTR",null,"< 6 M EN LA RONDA",null,null,null,{"$f":"CC20+CC22+CC23","v":0}]
[null,null,null,null,null,null,null,null,null,null,null,null,null,null,null,null,"DOM","ASIS",null,null,null,null,"ALTO PESO","ADEC",null,"BAJO PESO",null,"MB\nPESO",null,"EDAD",null,null,"A CONTROLAR",null,null,"ADECUADO",null,"BP\nBAJO PESO",null,"MBP\nMUY B. PESO",null,"ALTO PESO",null,"RIESGO",null,null,null,"RECUPERADOS",null,null,null,"TALLA / EDAD",null,null,null,null,"NUEVOS\nEPISODIOS",null,"PERDIDOS",null,null,null,null,"FALLECIDOS\nC/ANTEC. ANTROPOM."]
[]
["Antic.",null,null,0,null,0,{"$f":"IF(ISERROR(((CC92*1.8)/100)),0,(((CC92*1.8)/100)))","v":0},0,0,{"$f":"SUM(F23:L23)","v":0},0,0,{"$f":"O20+Q20+R20","v":0},null,0,null,0,0,0,null,{"$f":"W20+X20+Z20+AB20","v":0},null,0,0,null,0,null,0,null,null,null,null,null,null,null,null,null,null,null,null,null,null,null,"BP",null,"AP",null,"BP",null,null,"AP","BT",null,"MBT",null,"RGO\nBT",null,null,"BP\nMBP",null,null,"A.P.",null,null,null,null,0,null,0,null,0,null,0,null,0,null,"EXCLUSIVO",null,null,null,0]
[null,null,null,null,null,"CONTROLES",null,null,null,null,null,null," ",null,null,null,null,null,null,null,"PREMATUROS",null,null,null,"PESQUISA"]
["Aborto",null,null,0,null,"MELON",null,"MEL","MED","ENF","LAB","S/C","PUERP",null,null,null,"R.N.",null,null,null,null,null,null,null,null,null,null,null,null,"< 2 años",null,null,{"$f":"A27+C27+D27+F27+G27+H27","v":0},null,null,0,null,0,null,0,null,0,null,0,null,0,null,0,null,null,0,0,null,0,null,0,0,null,0,null,null,0,null,0,null,null,"CONTROLES EN DOMIC. NIÑO BP o MBP",null,null,null,null,null,null,null,0,null,"MIXTA",null,null,null,0]
[null,null,null,null,null,0,null,0,0,0,0,0,0,null,null,null,0,null,null,null,0,null,null,null,0,null,null,null,null,"2 a 6 años",null,null,{"$f":"I27+J27+K27+L27+M27+O27+P27+R27","v":0},null,null,0,null,0,null,0,null,0,null,0,null,0,null,0,null,null,0,0,null,0,null,0,0,null,0,null,null,0,null,0,null,null,null,null,null,null,null,null,null,null,null,null,"ARTIF",null,null,null,0]
["J) DATOS DE POBLACION"]
["0 a 5m",null,null,"6 a 11m",null,null,"1 AÑO",null,"2 AÑOS",null,"3 AÑOS",null,"4 AÑOS",null,null,"5 AÑOS",null,null,"6 AÑOS",null,null,"7 A 9 AÑOS",null,null,null,"10 AÑOS",null,"11 AÑOS",null,null,"12 A 14",null,null,null,null,null,"15 A 19",null,null,"20 A 24",null,null,null,"25 A 29",null,null,null,"30 A 34",null,null,null,"35 A 39",null,null,null,"40 A 44",null,null,null,null,"45 A 49",null,null,null,"50 A 54",null,null,null,"55 A 59",null,null,null,"60 A 64",null,null,null,"65 y +",null,null,null,"TOTAL",null,null,null,null,"MUJERES\n10 A 49","O. SOCIAL",null,"INDOCUM"]
["M",null,"F","M",null,"F","M","F","M","F","M","F","M",null,"F","M",null,"F","M",null,"F","M",null,"F",null,"M","F","M",null,"F","M",null,null,"F",null,null,"M","F",null,"M",null,"F",null,"M",null,null,"F","M",null,null,"F","M",null,"F",null,"M",null,null,"F",null,"M",null,"F",null,"M",null,"F",null,"M",null,"F",null,"M",null,"F",null,"M",null,null,"F","M",null,"F"]
[0,null,0,0,null,0,0,0,0,0,0,0,0,null,0,0,null,0,0,null,0,0,null,0,null,0,0,0,null,0,0,null,null,0,null,null,0,0,null,0,null,0,null,0,null,null,0,0,null,null,0,0,null,0,null,0,null,null,0,null,0,null,0,null,0,null,0,null,0,null,0,null,0,null,0,null,0,null,null,0,{"$f":"BY27+BU27+BQ27+BM27+BI27+BD27+AZ27+AV27+AR27+AN27+AK27+AE27+AB27+Z27+V27+S27+P27+M27+K27+I27+G27+D27+A27","v":0},null,{"$f":"CB27+BW27+BS27+BO27+BK27+BG27+BB27+AY27+AU27+AP27+AL27+AH27+AD27+AA27+X27+U27+R27+O27+L27+J27+H27+F27+C27","v":0},null,null,{"$f":"BK27+BG27+BB27+AY27+AU27+AP27+AL27+AH27+AD27+AA27","v":0},0,null,0]
[{"$f":"A27+C27","v":0},null,null,{"$f":"D27+F27","v":0},null,null,{"$f":"G27+H27","v":0},null,{"$f":"I27+J27","v":0},null,{"$f":"K27+L27","v":0},null,{"$f":"M27+O27","v":0},null,null,{"$f":"P27+R27","v":0},null,null,{"$f":"S27+U27","v":0},null,null,{"$f":"V27+X27","v":0},null,null,null,{"$f":"Z27+AA27","v":0},null,{"$f":"AB27+AD27","v":0},null,null,{"$f":"AE27+AH27","v":0},null,null,null,null,null,{"$f":"AL27+AK27","v":0},null,null,{"$f":"AN27+AP27","v":0},null,null,null,{"$f":"AR27+AU27","v":0},null,null,null,{"$f":"AV27+AY27","v":0},null,null,null,{"$f":"AZ27+BB27","v":0},null,null,null,{"$f":"BD27+BG27","v":0},null,null,null,null,{"$f":"BI27+BK27","v":0},null,null,null,{"$f":"BM27+BO27","v":0},null,null,null,{"$f":"BQ27+BS27","v":0},null,null,null,{"$f":"BU27+BW27","v":0},null,null,null,{"$f":"BY27+CB27","v":0},null,null,null,{"$f":"CC27+CE27","v":0}]
["K) TUBERCULOSIS ",null,null,null,null,null,null,null,null,null,null,null,null,null,null," CHAGAS ",null,null,null,null,null,"L) PERSONAS CON ENF. CRONICAS",null,null,null,null,null,null,null,null,null,null,null,"M) OBSERVACIONES"]
["Coef. Sint.Resp.: ",null,null,"MUESTRAS",null,null,null,null,"TRATAM. TBC",null,null,null,null,null,null,"TRATAMIENTOS CHAGAS",null,null,null,null,null,"PERSONAS CON",null,null,null,null,null,"TOTAL",null,null,"EN TRAT.",null,null," "]
[{"$f":"Control!H9","v":8},null,null,"DIAGNOSTICOS",null,null,"CONTROL",null,"Total",null,"TAES",null," ABANDONO",null,null,"INICIO ",null,null,0,null,null,"DIABETES",null,null,null,null,null,0,null,null,0]
["SINT. ESP..",null,null,"Tot",null,"(+)","Tot","(+)",0,null,0,null,0,null,null,"FINALIZACION ",null,null,0,null,null,"HIPERTENSION \nARTERIAL",null,null,null,null,null,0,null,null,0]
[{"$f":"IF(ISERROR(((AK91+AL91+AN91+AP91+AR91+AU91+AV91+AY91+AZ91+BB91+BD91+BG91+BI91+BK91+BM91+BO91+BQ91+BS91+BU91+BW91+BY91+CB91)*0.2)*A31/100),0,(((AK91+AL91+AN91+AP91+AR91+AU91+AV91+AY91+AZ91+BB91+BD91+BG91+BI91+BK91+BM91+BO91+BQ91+BS91+BU91+BW91+BY91+CB91)*0.2)*A31/100))","v":0},null,null,0,null,0,0,0,"QUIMIO Total",null,0,null,null,null,null,null,null,null,null,null,null,"PERSONAS CON OTRAS ENF. CRONICAS AL CUIDADO DE NIÑOS",null,null,null,null,null,0,null,null,0]
["SINT. DETEC.",null,null,"CONTACTO",null,null,null,null,"CTRL. MEDICO",null,null,null,"FINALIZAD0",null,null,"ABANDONO ",null,null,0]
[0,null,null,"< 14a",null,null,"> 15a",null,"Pcte/Rda",null,"A Cont",null,0,null,null,null,null,null,null,null,null,"ADULTOS MAYORES EN SITUACION DE RIESGO",null,null,null,null,null,0]
[null,null,null,0,null,null,0,null,0,null,0]
["N) DERIVACIONES",null,null,null,null,null,null,null,null,null,null,null,null,null,null,null,null,null,null,null,null,null,null,null,null,null,null,null,null,null,null,null,null,null,null,null,null,null,null,null,null,"Ñ) VIVIENDA Y SANEAMIENTO",null,null,null,null,null,null,null,null,null,null,null,null,null,null,null,null,null,null,null,null,null,null,null,null,null,null,null,"O) DEFUNCIONES EN LA RONDA"]
[null,null,null,null,null,null,null,null,null,null,null,null,null,null,null,null,null,null,null,null,null,null,null,null,null,null,null,null,null,null,null,null,null,null,null,null,null,null,null,null,null,"TRAT. AGUA",null,null,null,null,null,"DISP SANITARIA EXCRETAS",null,null,null,null,null,null,null,null,null,null,null,"TRATAM. SANIT BASURA",null,null,null,null,null,null,null,null,null,"MENORES 1 AÑO",null,null,null,null,null,null,null,null,null,null,"1 a 4 AÑOS",null,"MATERNA",null,null,null,"OTRAS"]
["EMB",null,null,null,"RN",null,null,null,"PUERP",null,null,null,"Menores de 6 años",null,null,null,null,null,null,null,"E.\nCRONICAS",null,"PAP",null,"CHAGAS",null,null,null,"TBC",null,null,null,"PSICOSOC",null,null,null,"TOTAL\nDERIVACIONES",null,null,null,null,"RED",null,"EN\nVIV",null,null,"S/T","ARRASTRE",null,null,null,null,null,"LETRINA",null,null,null,"S/T",null,"REC. DOMIC.",null,null,"POZO BASURA",null,null,null,"S/T",null,null,"<7d",null,null,"7 a 28d",null,null,null,"29d a 11 m"]
[null,null,null,null,null,null,null,null,null,null,null,null,"BP- MBP",null,"RGO BP",null,"Resp",null,"Diarr",null,null,null,null,null,null,null,null,null,null,null,null,null,null,null,null,null,null,null,null,null,null,null,null,null,null,null,null,"CLOACAS",null,"PC-CT",null,"PC-ST",null,"CT",null,"ST"]
["Env",null,"Rec",null,"Env",null,"Rec",null,"Env",null,"Rec",null,"Env","Rec","Env","Rec","Env","Rec","Env","Rec","Env","Rec","Env","Rec","Env",null,"Rec",null,"Env",null,"Rec",null,"Env",null,"Rec",null,"ENV",null,null,"Rec",null,0,null,0,null,null,0,0,null,0,null,0,null,0,null,0,null,0,null,0,null,null,0,null,null,null,0,null,null,0,null,null,0,null,null,null,0,null,null,null,0,null,0,null,null,null,0]
[null,null,null,null,null,null,null,null,null,null,null,null,null,null,null,null,null,null,null,null,null,null,null,null,null,null,null,null,null,null,null,null,null,null,null,null,null,null,null,null,null,"CASAS ",null,null,null,null,null,null,null,null,null,null,null,"CHAGAS",null,null,null,null,null,null,null,null,null,null,null,"DENGUE CHIKUNGUNYA",null,null,null,null,null,null,null,null,null,null,null,"P) PROM. SALUD"]
[0,null,0,null,0,null,0,null,0,null,0,null,0,0,0,0,0,0,0,0,0,0,0,0,0,null,0,null,0,null,0,null,0,null,0,null,{"$f":"AG43+AC43+Y43+W43+U43+S43+Q43+O43+M43+I43+E43+A43","v":0},null,null,{"$f":"AI43+AE43+AA43+X43+V43+T43+R43+P43+N43+K43+G43+C43","v":0},null,"ASIGNADAS",null,null,null,null,"VISITADAS",null,null,"VACIAS",null,"DESTRUIDAS",null,"EVALUADAS",null,null,"POSITIVAS",null,null,null,null,"TRATADAS",null,null,null,"EVALUADAS",null,null,null,"POSITIVAS",null,null,null,"TRATADAS",null,null,null,"PLANIFICADAS \nEN COMUNIDAD",null,null,null,null,null,null,null,0]
[]
[null,null,null,null,null,null,null,null,null,null,null,null,null,null,null,null,null,null,null,null,null,null,null,null,null,null,null,null,null,null,null,null,null,null,null,null,null,null,null,null,null,0,null,null,null,null,0,null,null,0,null,0,null,0,null,null,0,null,null,null,null,0,null,null,null,0,null,null,null,0,null,null,null,0,null,null,null,"REALIZADAS ",null,null,null,null,null,null,null,0]
["Q) INDICADORES"]
["DE ESTRUCTURA",null,null,null,null,null,"SI","NO","DE PRODUCCION",null,null,null,null,null,"%","META",null," DE INMUNIZACIONES",null,null,null,null,null,null,null,null,null,null,null,null,null,null,null,null," DE INMUNIZACIONES",null,null,null,null,null,null,null,null,null,null,null,null,null,null,null,null,null,null,null,null,null,null,null,null,null,null," DE RESULTADO",null,null,null,null,null,null,null,null,"%",null,"META",null,null," DE RESULTADO",null,null,null,null,null,null,null,null,null,"%",null,"META RDA"]
["Formularios",null,null,null,null,null,0,0,"Cobertura a Familias",null,null,null,null,null,{"$f":"IF(ISERROR(D12/A12),0,(D12/A12)*100)","v":0},100,null,"VACUNA",null,null,null,null,"P. REF",null,"1r","2r","3r","4r",null,"T","%",null,"META",null,"VACUNA",null,null,null,null,null,null,null,null,null,"P. REF",null,null,"1r",null,null,"2r","3r",null,null,"4r","T",null,"%",null,"META",null,"Ed Fértil c/Anticoncepción",null,null,null,null,null,null,null,null,{"$f":"IF(ISERROR(D20/CH27),0,(D20/CH27)*100)","v":0},null,null,null,null,"Niños 2 a 5 Recup BP",null,null,null,null,null,null,null,null,null,{"$f":"IF(ISERROR(AV23/K80),0,(AV23/K80)*100)","v":0},null,100]
["Equipo",null,null,null,null,null,0,0,"Niños < 2 años Controlados",null,null,null,null,null,{"$f":"IF(ISERROR(((AJ22+AL22+AN22+AP22)/(A28+D28+G28))),0,(((AJ22+AL22+AN22+AP22)/(A28+D28+G28)))*100)","v":0},100,null,"BCG RN",null,null,null,null,{"$f":"U20","v":0},null,0,0,0,0,null,{"$f":"SUM(Y49:AB49)","v":0},{"$f":"IF(ISERROR(Z49/W49),0,(Z49/W49)*100)","v":0},null,100,null,"2 Ref. Varicela Ingreso Esc",null,null,null,null,null,null,null,null,null,16,null,null,13,null,null,0,0,null,null,0,{"$f":"SUM(AV49:BC49)","v":13},null,{"$f":"IF(ISERROR(AY49/AS49),0,(AY49/AS49)*100)","v":0},null,25,null,"PAP",null,null,null,null,null,null,null,null,{"$f":"IF(ISERROR(D17/CH27),0,(D17/CH27)*100)","v":0},null,null,null,null,"Niños 2 a 5 Recup AP",null,null,null,null,null,null,null,null,null,{"$f":"IF(ISERROR(AY23/K82),0,(AY23/K82)*100)","v":0},null,100]
["Combustible",null,null,null,null,null,0,0,"Niños  (2 a 5 años) Controlados",null,null,null,null,null,{"$f":"IF(ISERROR(((AJ23+AL23+AN23+AP23)/(I28+K28+M28+P28))),0,(((AJ23+AL23+AN23+AP23)/(I28+K28+M28+P28)))*100)","v":0},100,null,"Hepatitis B RN","Hepatitis B RN",null,"Hepatitis B RN","Hepatitis B RN",null,null,0,0,0,0,null,{"$f":"SUM(Y50:AB50)","v":0},{"$f":"IF(ISERROR(Z50/W49),0,(Z50/W49)*100)","v":0},null,null,null,"2° Ref. Antipolio Ingreso Escolar",null,null,null,null,null,null,null,null,null,null,null,null,13,null,null,0,0,null,null,0,{"$f":"SUM(AV50:BC50)","v":13},null,{"$f":"IF(ISERROR(AY50/AS49),0,(AY50/AS49)*100)","v":0},null,null,null,"Embarazadas Con MELON",null,null,null,null,null,null,null,null,{"$f":"IF(ISERROR(F23/J20),0,(F23/J20)*100)","v":0},null,80,null,null,"Niños 6 meses con LME",null,null,null,null,null,null,null,null,null,{"$f":"IF(ISERROR(CC20/CC17),0,(CC20/CC17)*100)","v":0},null,80]
[" DE DIAGNOSTICO",null,null,null,null,null,null,null,"Conc. Vis. Flias Prio",null,null,null,null,null,{"$f":"IF(ISERROR((BB15+BE15)/(BB14+BE14)),0,((BB15+BE15)/(BB14+BE14)))","v":0},25,null,"2° Neumococo < 1a","3ª SOT/Salk < 1a",null,"3ª SOT/Salk < 1a","3ª SOT/Salk < 1a",{"$f":"A91+C91+D91+F91","v":0},null,0,0,0,0,null,{"$f":"SUM(Y51:AB51)","v":0},{"$f":"IF(ISERROR(Z51/W51),0,(Z51/W51)*100)","v":0},null,100,null,"2° Ref. DPT Ingreso Escolar",null,null,null,null,null,null,null,null,null,null,null,null,13,null,null,0,0,null,null,0,{"$f":"SUM(AV51:BC51)","v":13},null,{"$f":"IF(ISERROR(AY51/AS49),0,(AY51/AS49)*100)","v":0},null,null,null,"Partos Hospitalarios",null,null,null,null,null,null,null,null,{"$f":"IF(ISERROR(O20/M20),0,(O20/M20)*100)","v":0},null,100]
["Flias Priorizadas 3 + 2:",null,null,null,null,null,null,{"$f":"IF(ISERROR((BB14+BE14)/D12),0,(BB14+BE14)/D12*100)","v":0},"Conc.C.Dom Niños Bp/MBP",null,null,null,null,null,{"$f":"IF(ISERROR(BW22/(AL22+AN22+AL23+AN23)),0,(BW22/(AL22+AN22+AL23+AN23)))","v":0},3,null,"2° Rotavirus <1 a","3º Pentavalente <1 a",null,"3º Pentavalente <1 a","3º Pentavalente <1 a",null,null,0,0,0,0,null,{"$f":"SUM(Y52:AB52)","v":0},{"$f":"IF(ISERROR(Z52/W51),0,(Z52/W51)*100)","v":0},null,null,null,"2° TV Ingreso Escolar",null,null,null,null,null,null,null,null,null,null,null,null,13,null,null,0,0,null,null,0,{"$f":"SUM(AV52:BC52)","v":13},null,{"$f":"IF(ISERROR(AY52/AS49),0,(AY52/AS49)*100)","v":0},null,100,null,"Conc Control Médico a RN",null,null,null,null,null,null,null,null,{"$f":"IF(ISERROR(Q23/M20),0,(Q23/M20))","v":0},null,4,null,null,"% Niños BP MBP y RBP con MELaN",null,null,null,null,null,null,null,null,null,{"$f":"IF(ISERROR(BO20/(AL22+AN22+AR22+AL23+AN23+AR23)),0,(BO20/(AL22+AN22+AR22+AL23+AN23+AR23))*100)","v":0},null,100]
["Flias Urbanas",null,null,null,null,null,null,{"$f":"IF(ISERROR(T12/D12),0,(T12/D12)*100)","v":0},"Rel. Muestra/Sint Resp.",null,null,null,null,null,{"$f":"IF(ISERROR(D33/A35),0,(D33/A35))","v":0},2,null,"2° Meningococo < 1a",null,null,null,null,null,null,0,0,0,0,null,{"$f":"SUM(Y53:AB53)","v":0},{"$f":"IF(ISERROR(Z53/W51),0,(Z53/W51)*100)","v":0},null,null,null,"dTpa 11 años",null,null,null,null,null,null,null,null,null,20,null,null,16,null,null,0,0,null,null,0,{"$f":"SUM(AV53:BC53)","v":16},null,{"$f":"IF(ISERROR(AY53/AS53),0,(AY53/AS53)*100)","v":0},null,null,null,"Conc Control Méd. a puérpera",null,null,null,null,null,null,null,null,{"$f":"IF(ISERROR(M23/S20),0,(M23/S20))","v":0},null,4,null,null,"Sint Resp Detect. Seg zona",null,null,null,null,null,null,null,null,null,{"$f":"IF(ISERROR((A35*100)/(((20*(AK28+AN28+AR28+AV28+AZ28+BD28+BI28+BM28+BQ28+BU28+BY28))/100)*A31)),0,(A35*100)/((((20*(AK28+AN28+AR28+AV28+AZ28+BD28+BI28+BM28+BQ28+BU28+BY28))/100)*A31)/100))","v":0},null,"S/Z"]
["Flias Periurbanas",null,null,null,null,null,null,{"$f":"IF(ISERROR(V12/D12),0,(V12/D12)*100)","v":0},"Casas Evaluadas Chagas",null,null,null,null,null,{"$f":"IF(ISERROR(BB45/AU45),0,(BB45/AU45)*100)","v":0},100,null,"3° Antipolio < 1 año","2ª Rotavirus < 1 año",null,"2ª Rotavirus < 1 año","2ª Rotavirus < 1 año",null,null,1,0,0,0,null,{"$f":"SUM(Y54:AB54)","v":1},{"$f":"IF(ISERROR(Z54/W51),0,(Z54/W51)*100)","v":0},null,null,null,"U.D. Meningococo",null,null,null,null,null,null,null,null,null,null,null,null,16,null,null,0,0,null,null,0,{"$f":"SUM(AV54:BC54)","v":16},null,{"$f":"IF(ISERROR(AY54/AS53),0,(AY54/AS53)*100)","v":0},null,"95% AL 1° SEM",null,"RN con Pesquisa",null,null,null,null,null,null,null,null,{"$f":"IF(ISERROR(Y23/U20),0,(Y23/U20)*100)","v":0},null,100,null,null,"Pacientes TBC con Control Médico",null,null,null,null,null,null,null,null,null,{"$f":"IF(ISERROR(I36/I32),0,(I36/I32)*100)","v":0},null,100]
["Flias Rurales",null,null,null,null,null,null,{"$f":"IF(ISERROR(Y12/D12),0,(Y12/D12)*100)","v":0},"Casas Tratadas Chagas",null,null,null,null,null,{"$f":"IF(ISERROR(BJ45/BE45),0,(BJ45/BE45)*100)","v":0},100,null,"3° Pentavalente <1 año","TV 1 año",null,"TV 1 año","TV 1 año",null,null,1,0,0,0,null,{"$f":"SUM(Y55:AB55)","v":1},{"$f":"IF(ISERROR(Z55/W51),0,(Z55/W51)*100)","v":0},null,null,null,"1° HPV Niñas cumplen 11 a en año en curso",null,null,null,null,null,null,null,null,null,6,null,null,5,null,null,0,0,null,null,0,{"$f":"SUM(AV55:BC55)","v":5},null,{"$f":"IF(ISERROR(AY55/AS55),0,(AY55/AS55)*100)","v":0},null,null,null,"Derivaciones Enviadas/Recibidas",null,null,null,null,null,null,null,null,{"$f":"IF(ISERROR(AN43/AK43),0,(AN43/AK43)*100)","v":0},null,100,null,null,"Contactos TBC Controlados",null,null,null,null,null,null,null,null,null,{"$f":"IF(ISERROR(K36/(D36+G36)),0,(K36/(D36+G36)))*100","v":0},null,100]
["Flias Originarias",null,null,null,null,null,null,{"$f":"IF(ISERROR(R12/D12),0,(R12/D12)*100)","v":0},"Casas Evaluadas Dengue",null,null,null,null,null,{"$f":"IF(ISERROR(BN45/AU45),0,(BN45/AU45)*100)","v":0},100,null,"1° TV","A HA 1 año",null,"A HA 1 año","A HA 1 año",{"$f":"G91+H91","v":0},null,1,0,0,0,null,{"$f":"SUM(Y56:AB56)","v":1},{"$f":"IF(ISERROR(Z56/W56),0,(Z56/W56)*100)","v":0},null,100,null,"1° HPV Niños cumplen 11 a en año en curso",25,25,null,null,null,null,null,null,null,14,null,null,11,null,null,0,0,null,null,0,{"$f":"SUM(AV56:BC56)","v":11},null,{"$f":"IF(ISERROR(AY56/AS56),0,(AY56/AS56)*100)","v":0},null,"95% AL 1° SEM",null,"Niños < 2 a Riesgo BP",null,null,null,null,null,null,null,null,{"$f":"IF(ISERROR(AR22/AJ22),0,(AR22/AJ22)*100)","v":0},null,null,null,null,"TAES de TBC",null,null,null,null,null,null,null,null,null,{"$f":"IF(ISERROR(K32/I32),0,(K32/I32)*100)","v":0},null,100]
["Flias Migr. desde AO",null,null,null,null,null,null,{"$f":"IF(ISERROR(AC12/A12),0,(AC12/A12)*100)","v":0},"Casas Tratadas Dengue",null,null,null,null,null,{"$f":"IF(ISERROR(BV45/BR45),0,(BV45/BR45)*100)","v":0},100,null,"2° TV","A HA 1 año",null,"A HA 1 año","A HA 1 año",null,null,1,0,0,0,null,{"$f":"SUM(Y57:AB57)","v":1},{"$f":"IF(ISERROR(Z57/W56),0,(Z57/W56)*100)","v":0},null,null,null,"Emb. con dTpa",null,null,null,null,null,null,null,null,null,3,null,null,1,null,null,0,0,null,null,0,{"$f":"SUM(AV57:BC57)","v":1},null,{"$f":"IF(ISERROR(AY57/AS57),0,(AY57/AS57)*100)","v":0},null,null,null,"Niños < 2 a Riesgo AP",null,null,null,null,null,null,null,null,{"$f":"IF(ISERROR(AT22/AJ22),0,(AT22/AJ22)*100)","v":0},null,null,null,null,"Ptes. con tratamiento por Chagas",null,null,null,null,null,null,null,null,null,{"$f":"S31","v":0}]
["Flias Migr. hacia el AO",null,null,null,null,null,null,{"$f":"IF(ISERROR(AA12/A12),0,(AA12/A12)*100)","v":0},"Superv Int. a la Familia",null,null,null,null,null,{"$f":"IF(ISERROR((CH14*100)/BL14),0,((CH14*100)/BL14))","v":0},20,null,"Unica Dosis A HA",null,null,null,null,null,null,1,0,0,0,null,{"$f":"SUM(Y58:AB58)","v":1},{"$f":"IF(ISERROR(Z58/W56),0,(Z58/W56)*100)","v":0},null,null,null,"Emb. con Vac Sinsicial",null,null,null,null,null,null,null,null,null,null,null,null,1,null,null,0,0,null,null,0,{"$f":"SUM(AV58:BC58)","v":1},null,{"$f":"IF(ISERROR(AY58/AS57),0,(AY58/AS57)*100)","v":0},null,100,null,"Niños < 2 Recup BP",null,null,null,null,null,null,null,null,{"$f":"IF(ISERROR(AV22/K79),0,(AV22/K79)*100)","v":0},null,100,null,null,"Casas positivas Chagas",null,null,null,null,null,null,null,null,null,{"$f":"IF(ISERROR(BE45/BB45),0,(BE45/BB45)*100)","v":0},null,0]
["Flias con planes sociales",null,null,null,null,null,null,{"$f":"IF(ISERROR(AF12/D12),0,(AF12/D12)*100)","v":0},"Superv Prof. Flias Prio (3v)",null,null,null,null,null,{"$f":"IF(ISERROR(CH15/(BB14+BE14)),0,(CH15/(BB14+BE14))*100)","v":0},70,null,"Ref Neumococo 1 año","Ref Neumoc 1 año",null,"Ref Neumoc 1 año","Ref Neumoc 1 año",null,null,1,0,0,0,null,{"$f":"SUM(Y59:AB59)","v":1},{"$f":"IF(ISERROR(Z59/W56),0,(Z59/W56)*100)","v":0},null,null,null,"dT  Vigente > 65 a",null,null,null,null,null,null,null,null,null,21,null,null,0,null,null,0,0,null,null,0,{"$f":"SUM(AV59:BC59)","v":0},null,{"$f":"IF(ISERROR(AY59/AS59),0,(AY59/AS59)*100)","v":0},null,100,null,"Niños < 2 Recup AP",null,null,null,null,null,null,null,null,{"$f":"IF(ISERROR(AY22/K81),0,(AY22/K81)*100)","v":0},null,100,null,null,"Casas Positivas Aedes",null,null,null,null,null,null,null,null,null,{"$f":"IF(ISERROR(BR45/BN45),0,(BR45/BN45)*100)","v":0},null," "]
[null,null,null,null,null,null,null,null,"% Activ Prom.Salud Comunitarias",null,null,null,null,null,{"$f":"IF(ISERROR(CH45/CH43),0,(CH45/CH43)*100)","v":0},100,null,"Ref. Meningococo 1 año","Ref Cuádruple 1 año",null,"Ref Cuádruple 1 año","Ref Cuádruple 1 año",null,null,1,0,0,0,null,{"$f":"SUM(Y60:AB60)","v":1},{"$f":"IF(ISERROR(Z60/W56),0,(Z60/W56)*100)","v":0},null,null,null,"Neumo 20 > 65 años",null,null,null,null,null,null,null,null,null,null,null,null,0,null,null,0,0,null,null,0,{"$f":"SUM(AV60:BC60)","v":0},null,{"$f":"IF(ISERROR(AY60/AS59),0,(AY60/AS59)*100)","v":0},null,null,null,"Niños 2 a 5 Riesgo BP",null,null,null,null,null,null,null,null,{"$f":"IF(ISERROR(AR23/AJ23),0,(AR23/AJ23)*100)","v":0},null,null,null,null,"UROCS 1/SEC",null,null,null,null,null,null,null,null,null,0,null,"1/SEC"]
["Flias. c/Antec Mort Mat Inf",null,null,null,null,null,null,{"$f":"IF(ISERROR(AV10/D12),0,(AV10/D12)*100)","v":0},null,null,null,null,null,null,null,null,null,"Unica Dosis Varicela","Ref SOT 1 año",null,"Ref SOT 1 año","Ref SOT 1 año",null,null,1,0,0,0,null,{"$f":"SUM(Y61:AB61)","v":1},{"$f":"IF(ISERROR(Z61/W56),0,(Z61/W56)*100)","v":0},null,null,null,"Aplic. Cargadas a Nomivac",null,null,null,null,null,null,null,null,null,0,null,null,null,null,null,null,null,null,null,null,null,null,null,null,null,null,null,null,null,null,null,null,null,null,null,null,null,null,null,null,"Flias con Huerta",null,null,null,null,null,null,null,null,null,{"$f":"IF(ISERROR(AL12/D12),0,(AL12/D12)*100)","v":0}]
["F con 3 o más <6 años",null,null,null,null,null,null,{"$f":"IF(ISERROR(BI10/D12),0,(BI10/D12)*100)","v":0}," DE IMPACTO",null,null,null,null,"%",null,"META",null,"4° Dosis o 1° Ref. Pentavalente",null,null,null,null,null,null,1,0,0,0,null,{"$f":"SUM(Y62:AB62)","v":1},{"$f":"IF(ISERROR(Z62/W56),0,(Z62/W56)*100)","v":0},null,null,null,"Total Aplic /AS",null,null,null,null,null,null,null,null,null,0,null,null,null,null,null,null,null,null,null,null,null,null,null,null,null,null,"Niños 2 a 5 Riesgo AP",null,null,null,null,null,null,null,null,{"$f":"IF(ISERROR(AT23/AJ23),0,(AT23/AJ23)*100)","v":0},null,null,null,null,"Flias con Granja",null,null,null,null,null,null,null,null,null,{"$f":"IF(ISERROR(AP12/D12),0,(AP12/D12)*100)","v":0}]
["Flias con Hacinamiento",null,null,null,null,null,null,{"$f":"IF(ISERROR(BL10/D12),0,(BL10/D12)*100)","v":0},"Agua Seg (Trat Red + Viv)",null,null,null,null,{"$f":"IF(ISERROR((AP41+AR41)/D12),0,((AP41+AR41)/D12)*100)","v":0},null,100,null,"2° AG 6m a 24m",null,null,null,null,29,null,0,0,0,0,null,{"$f":"SUM(Y63:AB63)","v":0},{"$f":"IF(ISERROR(Z63/W63),0,(Z63/W63)*100)","v":0},null," ",null,"VAC COVID APLIC EN LA RONDA",null,null,null,null,null,null,null,null,null,0,null,null,null,null,null,null,null,null,null,null,null,null,null,null,null,null,"U) A llenar en 1° Ronda del Año"]
["Flias con Analfabet",null,null,null,null,null,null,{"$f":"IF(ISERROR(BO10/D12),0,(BO10/D12)*100)","v":0},"DSE (Arrastre y letrinas)",null,null,null,null,{"$f":"IF(ISERROR((AV41+AX41+AZ41+BB41+BD41)/D12),0,((AV41+AX41+AZ41+BB41+BD41)/D12)*100)","v":0},null,100,null,"R) PRODUCCION Y RENDIMIENTO",null,null,null,null,null,null,null,null,null,null,null,null,null,null,null,null,null,null,null,null,null,null,null,null,null,null,null,null,null,null,null,null,null,null,null,null,null,null,null,null,null,null,null,"Piso",null,null,null,null,"Techo",null,null,null,null,"Paredes",null,null,null,null,null,null,null,null,null,"Cocina",null,null,null,null,"Tenencia"]
["Flias con Suicidio",null,null,null,null,null,null,{"$f":"IF(ISERROR(BT11/D12),0,(BT11/D12)*100)","v":0},"TSB (Recolección + Pozo)",null,null,null,null,{"$f":"IF(ISERROR((BH41+BK41)/D12),0,((BH41+BK41)/D12)*100)","v":0},null,100,null,"DIAS A TRAB. /RONDA",null,null,"DIAS INCLEM CLIMAT.",null,null,"DIAS Y NROS DE ARTICULOS TOMADOS",null,null,null,"CAPACITACIONES Y OTRAS ACTIVIDADES",null,null,null,null,null,null,null,null,null,null,null,null,null,null,null,null,null,null,null,null,null,null,"DIAS TRABAJADOS\nEN TERRENO",null,null,null,null,"PROM. DIARIO DE FLIAS VISIT.",null,null,null,null,null,"Mosaico/B.",null,null,null,0,"Losa",null,null,0,null,"Ladrillo",null,null,0,null,"Madera",null,null,null,0,"Gas",null,null,0,null,"Segura",null,null,0]
["Flias c /tentativa suicidio",null,null,null,null,null,null,{"$f":"IF(ISERROR(BV11/D12),0,(BV11/D12)*100)","v":0},"Emb Adolescente",null,null,null,null,{"$f":"IF(ISERROR(L20/J20),0,(L20/J20)*100)","v":0},null,null,null,null,null,null,null,null,null,0,null,null,null,0,null,null,null,null,null,null,null,null,null,null,0,null,null,null,null,null,null,null,null,null,null,null,null,null,null,null,null,null,null,null,null,null,null,"Cemento",null,null,null,0,"Chapa\nZinc",null,null,0,null,"Bloque",null,null,0,null,"Quincho",null,null,null,0,"Leña/\nCarb",null,null,0,null,"Inseg.",null,null,0]
["Flias con Alcoholismo",null,null,null,null,null,null,{"$f":"IF(ISERROR(BY11/D12),0,(BY11/D12)*100)","v":0},"Niños <2 Bajo Peso/MBP",null,null,null,null,{"$f":"IF(ISERROR((AL22+AN22)/(AJ22+AP22+AL22+AN22)),0,((AL22+AN22)/(AJ22+AP22+AL22+AN22))*100)","v":0},null,null,null,null,null,null,null,null,null,0,null,null,null,0,null,null,null,null,null,null,null,null,null,null,0,null,null,null,null,null,null,null,null,null,null,null,null,null,null,null,null,null,null,null,null,null,null,"Tierra",null,null,null,0,"Paja/\nBarro",null,null,0,null,"Adobe",null,null,0,null,"Carton/Pl",null,null,null,0,"Otros",null,null,0,null,"Hac",null,null,0,null,null,null,5]
["Flias c/ otras Adicciones",null,null,null,null,null,null,{"$f":"IF(ISERROR(CC11/D12),0,(CC11/D12)*100)","v":0},"Niños <2 a AP",null,null,null,null,{"$f":"IF(ISERROR(AP22/(AJ22+AP22+AL22+AN22)),0,(AP22/(AJ22+AP22+AL22+AN22))*100)","v":0},null,null,null,0,null,null,0,null,null,0,null,null,null,0,null,null,null,null,null,null,null,null,null,null,0,null,null,null,null,null,null,null,null,null,null,null,0,null,null,null,null,{"$f":"IF(ISERROR(G12/AY68),0,(G12/AY68))","v":0},null,null,null,null,null,"Otros",null,null,null,0,"Otros",null,null,0,null,"Piedra",null,null,0,null,"Otro",null,null,null,0,"Helad.",null,null,0]
["Flias con VIF",null,null,null,null,null,null,{"$f":"IF(ISERROR(CF11/D12),0,(CF11/D12)*100)","v":0},"Niños < 2 baja y MBT",null,null,null,null,{"$f":"IF(ISERROR((AZ22+BB22)/(AJ22+AP22+AL22+AN22)),0,((AZ22+BB22)/(AJ22+AP22+AL22+AN22))*100)","v":0},null,null,null,"S) DETALLE DE LAS DEFUNCIONES (Todas las del Sector)",null,null,null,null,null,null,null,null,null,null,null,null,null,null,null,null,null,null,null,null,null,null,null,null,null,null,null,null,null,null,null,null,null,null,null,null,null,null,null,null,null,null,null,"Agua",null,"Corriente a Domic",null,null,"Grifo Terr",null,null,"Grifo Público",null,null,"Bomba",null,null,"Pozo",null,null,null,"Camión Aguatero / Cisterna",null,"Vertiente/Rio/Aceq",null,null,"Laguna",null,null,"Lluvia/Aljibe"]
["Flias con Diabetes",null,null,null,null,null,null,{"$f":"IF(ISERROR(AB31/D12),0,(AB31/D12)*100)","v":0},"Niños 2 a 5 Bajo Peso/MBP",null,null,null,null,{"$f":"IF(ISERROR((AL23+AN23)/(AJ23+AP23+AL23+AN23)),0,((AL23+AN23)/(AJ23+AP23+AL23+AN23))*100)","v":0},null,null,null,"APELLIDO Y NOMBRE",null,null,null,null,null,null,"DOMICILIO",null,null,null,null,null,null,null,null,"NACIMIENTO",null,null,null,null,"DEFUNCION",null,null,null,"PESO\nAL NACER",null,null,null,"CAUSA",null,null,null,null,null,null,null,null,null,"CLASIFICAC."]
["Flias con Hipertensión",null,null,null,null,null,null,{"$f":"IF(ISERROR(AB32/D12),0,(AB32/D12)*100)","v":0},"Niños 2 a 5 AP",null,null,null,null,{"$f":"IF(ISERROR(AP23/(AJ23+AP23+AL23+AN23)),0,(AP23/(AJ23+AP23+AL23+AN23))*100)","v":0}]
[]
["Personas con otras enfermedades crónicas al cuidado de niños",null,null,null,null,null,null,{"$f":"IF(ISERROR(AB33/D12),0,(AB33/D12)*100)","v":0},"Niños 2 a 5 baja y MBT",null,null,null,null,{"$f":"IF(ISERROR((AZ23+BB23)/(AJ23+AP23+AL23+AN23)),0,((AZ23+BB23)/(AJ23+AP23+AL23+AN23))*100)","v":0},null,null,null,null,null,null,null,null,null,null,null,null,null,null,null,null,null,null,null,null,null,null,null,null,null,null,null,null,null,null,null,null,null,null,null,null,null,null,null,null,null,null,null,null,null,null,null,null,null,0,null,null,0,null,null,0,null,null,0,null,null,0,null,null,null,0,null,0,null,null,0,null,null,0]
["Pers c/O Social/Pob total",null,null,null,null,null,null,{"$f":"IF(ISERROR(CI27/CC28),0,(CI27/CC28)*100)","v":0}]
[]
[]
[]
[]
["BP+MBP Ronda Anterior Men2a: ",null,null,null,null,null,null,null,null,null,2]
["BP+MBP Ronda Anterior 2 a 6a: ",null,null,null,null,null,null,null,null,null,3]
["AP Ronda Anterior Men2a: ",null,null,null,null,null,null,null,null,null,4]
["AP Ronda Anterior 2 a 6a: ",null,null,null,null,null,null,null,null,null,4]
[]
[]
[]
[]
[]
["0 a 5m",null,null,"6 a 11m",null,null,"1 AÑO",null,"2 AÑOS",null,"3 AÑOS",null,"4 AÑOS",null,null,"5 AÑOS",null,null,"6 AÑOS",null,null,"7 A 9 AÑOS",null,null,null,"10 AÑOS",null,"11 AÑOS",null,null,"12 A 14",null,null,null,null,null,"15 A 19",null,null,"20 A 24",null,null,null,"25 A 29",null,null,null,"30 A 34",null,null,null,"35 A 39",null,null,null,"40 A 44",null,null,null,null,"45 A 49",null,null,null,"50 A 54",null,null,null,"55 A 59",null,null,null,"60 A 64",null,null,null,"65 y +",null,null,null,"TOTAL",null,null,null,null,"MUJERES\n10 A 49"]
["M",null,"F","M",null,"F","M","F","M","F","M","F","M",null,"F","M",null,"F","M",null,"F","M",null,"F",null,"M","F","M",null,"F","M",null,null,"F",null,null,"M","F",null,"M",null,"F",null,"M",null,null,"F","M",null,null,"F","M",null,"F",null,"M",null,null,"F",null,"M",null,"F",null,"M",null,"F",null,"M",null,"F",null,"M",null,"F",null,"M",null,null,"F","M",null,"F"]
[0,null,0,0,null,0,0,0,0,0,0,0,0,null,0,0,null,0,0,null,0,0,null,0,null,0,0,0,null,0,0,null,null,0,null,null,0,0,null,0,null,0,null,0,null,null,0,0,null,null,0,0,null,0,null,0,null,null,0,null,0,null,0,null,0,null,0,null,0,null,0,null,0,null,0,null,0,null,null,0,{"$f":"SUM(A90,D90,G90,I90,K90,M90,P90,S90,V90,Z90,AB90,AE90,AK90,AN90,AR90,AV90,AZ90,BD90,BI90,BM90,BQ90,BU90,BY90)","v":0},null,{"$f":"SUM(C90,F90,H90,J90,L90,O90,R90,U90,X90,AA90,AD90,AH90,AL90,AP90,AU90,AY90,BB90,BG90,BK90,BO90,BS90,BW90,CB90)","v":0},null,null,{"$f":"SUM(AA90,AD90,AH90,AL90,AP90,AU90,AY90,BB90,BG90,BK90)","v":0}]
[{"$f":"SUM(A90:C90)","v":0},null,null,{"$f":"SUM(D90,F90)","v":0},null,null,{"$f":"SUM(G90,H90)","v":0},null,{"$f":"SUM(I90,J90)","v":0},null,{"$f":"SUM(K90,L90)","v":0},null,{"$f":"SUM(M90,O90)","v":0},null,null,{"$f":"SUM(P90,R90)","v":0},null,null,{"$f":"SUM(S90,U90)","v":0},null,null,{"$f":"SUM(V90,X90)","v":0},null,null,null,{"$f":"SUM(Z90,AA90)","v":0},null,{"$f":"SUM(AB90,AD90)","v":0},null,null,{"$f":"SUM(AE90,AH90)","v":0},null,null,null,null,null,{"$f":"SUM(AK90,AL90)","v":0},null,null,{"$f":"SUM(AN90,AP90)","v":0},null,null,null,{"$f":"SUM(AR90,AU90)","v":0},null,null,null,{"$f":"SUM(AV90,AY90)","v":0},null,null,null,{"$f":"SUM(AZ90,BB90)","v":0},null,null,null,{"$f":"SUM(BD90,BG90)","v":0},null,null,null,null,{"$f":"SUM(BI90,BK90)","v":0},null,null,null,{"$f":"SUM(BM90,BO90)","v":0},null,null,null,{"$f":"SUM(BQ90,BS90)","v":0},null,null,null,{"$f":"SUM(BU90,BW90)","v":0},null,null,null,{"$f":"SUM(BY90,CB90)","v":0},null,null,null,{"$f":"A91+D91+G91+I91+K91+M91+P91+S91+V91+Z91+AB91+AE91+AK91+AN91+AR91+AV91+AZ91+BD91+BI91+BM91+BQ91+BU91+BY91","v":0}]
["Mejor Población: 1° - 2019",null,null,null,null,null,null,null,null,null,null,null,null,null,null,null,null,null,null,null,null,null,null,null,null,null,null,null,null,null,null,null,null,null,null,null,null,null,null,null,null,null,null,null,null,null,null,null,null,null,null,null,null,null,null,null,null,null,null,null,null,null,null,null,null,null,null,null,null,null,null,null,null,null,null,null,null,null,null,null,{"$f":"SUM(CC91,CE91)","v":0}]
["Cobertura: 1%"]

{"sheet":"SAN PANTALEON","index":31,"n_rows":93,"n_cols":94,"rows_kept":93,"cut":false,"hidden":false,"merged":[[61,30,61,31],[62,30,62,31],[0,86,0,87],[1,8,1,9],[1,15,1,25],[1,46,1,53],[1,56,1,57],[1,58,1,59],[1,60,1,61],[1,67,1,84],[1,86,1,87],[0,27,3,45],[0,46,0,52],[0,56,0,57],[0,58,0,59],[0,60,0,61],[0,81,0,84],[2,46,2,53],[2,56,2,57],[2,58,2,59],[2,60,2,61],[6,0,6,89],[7,0,7,46],[7,47,7,89],[8,0,10,2],[8,3,10,5],[8,6,10,7],[8,8,8,16],[8,17,10,18],[8,19,10,20],[8,21,10,23],[4,80,4,87],[5,8,5,24],[5,33,5,46],[5,57,5,67],[5,75,5,77],[5,82,5,87],[2,67,2,79],[2,86,2,87],[3,8,3,23],[3,46,3,53],[3,56,3,57],[3,58,3,59],[3,60,3,61],[3,74,3,79],[3,84,3,87],[8,86,8,89],[9,8,10,9],[9,10,10,11],[9,12,10,13],[9,14,10,16],[9,26,10,27],[9,28,10,30],[8,66,8,68],[8,69,8,72],[8,73,8,75],[8,76,8,79],[8,80,8,82],[8,83,8,85],[8,51,8,53],[8,54,8,55],[8,56,8,57],[8,58,8,59],[8,60,8,62],[8,63,8,65],[8,24,10,25],[8,26,8,30],[8,31,10,36],[8,37,8,46],[8,47,8,48],[8,49,8,50],[9,49,10,50],[11,0,14,2],[11,3,14,5],[11,6,14,7],[11,8,14,9],[11,10,14,11],[11,12,14,13],[9,86,9,89],[10,69,10,72],[10,73,10,74],[10,76,10,78],[10,81,10,82],[10,83,10,84],[10,86,10,89],[9,66,10,68],[9,69,9,72],[9,73,9,74],[9,76,9,78],[9,81,9,82],[9,83,9,84],[9,51,10,53],[9,54,10,55],[9,56,10,57],[9,58,10,59],[9,60,10,62],[9,63,10,65],[13,75,13,78],[13,79,13,80],[13,81,13,84],[9,37,10,40],[9,41,10,46],[9,47,10,48],[12,85,12,89],[13,47,13,52],[13,63,13,68],[13,69,13,74],[12,47,12,52],[12,63,12,68],[12,53,12,55],[12,56,12,59],[12,60,12,62],[13,53,13,55],[13,56,13,59],[13,60,13,62],[14,53,14,55],[14,56,14,59],[14,60,14,62],[11,19,14,20],[11,21,14,23],[11,24,14,25],[11,26,14,27],[16,0,18,2],[16,6,18,6],[16,7,18,7],[16,8,18,8],[16,9,18,9],[16,10,18,10],[16,11,18,11],[16,12,18,13],[14,79,14,80],[14,81,14,84],[14,85,14,89],[15,12,15,19],[15,20,15,28],[15,29,15,65],[15,66,15,75],[11,28,14,30],[11,31,14,36],[11,37,14,40],[11,41,14,46],[11,47,11,68],[11,69,11,89],[11,14,14,16],[11,17,14,18],[13,85,13,89],[14,47,14,52],[14,63,14,68],[14,69,14,74],[14,75,14,78],[12,69,12,74],[12,75,12,78],[12,79,12,80],[12,81,12,84],[19,0,20,2],[19,12,19,13],[19,14,19,15],[19,18,19,19],[19,20,19,21],[19,23,19,24],[19,25,19,26],[19,27,19,28],[17,41,20,42],[17,43,18,46],[17,47,18,50],[17,51,18,55],[17,56,20,57],[17,58,18,62],[19,43,20,44],[19,45,20,46],[19,47,20,49],[19,50,20,50],[17,16,18,16],[17,17,18,17],[17,22,18,22],[17,23,18,24],[17,25,18,26],[17,27,18,28],[17,29,20,31],[16,14,18,15],[16,16,16,17],[16,18,18,19],[16,20,18,21],[16,22,16,28],[16,29,16,65],[17,32,20,34],[21,12,21,15],[21,16,21,19],[21,29,21,31],[21,32,21,34],[20,12,20,19],[20,20,21,23],[20,24,21,28],[21,35,21,36],[21,37,21,38],[21,39,21,40],[21,41,21,42],[19,68,20,69],[19,70,20,71],[19,72,20,73],[19,74,20,75],[19,76,20,79],[19,51,20,52],[19,53,20,54],[19,55,20,55],[19,58,20,60],[19,61,20,62],[19,66,20,67],[17,63,20,65],[16,66,18,67],[16,68,18,69],[16,70,18,71],[16,72,18,73],[16,74,18,75],[16,76,18,79],[17,35,20,36],[17,37,20,38],[17,39,20,40],[22,16,22,19],[22,20,22,23],[22,24,22,28],[22,29,22,31],[22,32,22,34],[22,35,22,36],[21,58,21,60],[21,61,21,62],[21,63,21,65],[21,66,22,73],[21,74,22,75],[21,76,21,79],[22,76,22,79],[21,43,21,44],[21,45,21,46],[21,47,21,49],[21,51,21,52],[21,53,21,54],[21,56,21,57],[23,0,23,89],[24,0,24,2],[24,3,24,5],[24,6,24,7],[24,8,24,9],[24,10,24,11],[24,12,24,14],[24,15,24,17],[24,18,24,20],[22,51,22,52],[22,53,22,54],[22,56,22,57],[22,58,22,60],[22,61,22,62],[22,63,22,65],[22,37,22,38],[22,39,22,40],[22,41,22,42],[22,43,22,44],[22,45,22,46],[22,47,22,49],[21,0,22,2],[24,88,25,89],[25,0,25,1],[25,3,25,4],[25,12,25,13],[25,15,25,16],[25,18,25,19],[25,21,25,22],[25,23,25,24],[25,27,25,28],[22,12,22,15],[24,68,24,71],[24,72,24,75],[24,76,24,79],[24,80,24,84],[24,85,25,85],[24,86,25,87],[25,76,25,78],[25,80,25,81],[25,82,25,84],[24,43,24,46],[24,47,24,50],[24,51,24,54],[24,55,24,59],[24,60,24,63],[24,64,24,67],[24,21,24,24],[24,25,24,26],[24,27,24,29],[24,30,24,35],[24,36,24,38],[24,39,24,42],[26,37,26,38],[26,39,26,40],[26,0,26,1],[26,3,26,4],[26,12,26,13],[26,15,26,16],[26,18,26,19],[26,21,26,22],[25,64,25,65],[25,66,25,67],[25,68,25,69],[25,70,25,71],[25,72,25,73],[25,74,25,75],[25,51,25,52],[25,53,25,54],[25,55,25,57],[25,58,25,59],[25,60,25,61],[25,62,25,63],[25,33,25,35],[25,37,25,38],[25,39,25,40],[25,41,25,42],[25,43,25,45],[25,47,25,49],[25,30,25,32],[26,85,27,85],[26,86,27,87],[26,88,27,89],[27,0,27,2],[27,3,27,5],[27,6,27,7],[27,8,27,9],[27,10,27,11],[27,12,27,14],[27,15,27,17],[26,70,26,71],[26,72,26,73],[26,74,26,75],[26,76,26,78],[26,80,26,81],[26,82,26,84],[26,58,26,59],[26,60,26,61],[26,62,26,63],[26,64,26,65],[26,66,26,67],[26,68,26,69],[26,41,26,42],[26,43,26,45],[26,47,26,49],[26,51,26,52],[26,53,26,54],[26,55,26,57],[26,23,26,24],[26,27,26,28],[26,30,26,32],[26,33,26,35],[27,64,27,67],[27,68,27,71],[27,72,27,75],[27,76,27,79],[27,80,27,84],[28,0,28,14],[28,15,28,20],[28,21,28,32],[27,39,27,42],[27,43,27,46],[27,47,27,50],[27,51,27,54],[27,55,27,59],[27,60,27,63],[27,18,27,20],[27,21,27,24],[27,25,27,26],[27,27,27,29],[27,30,27,35],[27,36,27,38],[30,21,30,26],[30,27,30,29],[30,30,30,32],[31,0,31,2],[31,3,31,4],[31,8,31,9],[31,10,31,11],[31,12,32,14],[31,15,32,17],[31,18,32,20],[29,30,29,32],[29,33,35,89],[30,0,30,2],[30,3,30,5],[30,6,30,7],[30,8,30,9],[30,10,30,11],[30,12,30,14],[30,15,30,17],[30,18,30,20],[29,0,29,2],[29,3,29,7],[29,8,29,14],[29,15,29,20],[29,21,29,26],[29,27,29,29],[33,0,33,2],[33,3,33,7],[33,8,33,11],[33,12,33,14],[33,15,35,17],[33,18,35,20],[34,0,35,2],[34,3,34,5],[34,6,34,7],[34,8,34,9],[31,21,31,26],[31,27,31,29],[31,30,31,32],[32,0,32,2],[32,3,32,4],[32,8,32,9],[32,10,32,11],[32,21,33,26],[32,27,33,29],[32,30,33,32],[38,4,39,7],[38,8,39,11],[38,12,38,19],[38,20,39,21],[38,22,39,23],[36,0,37,40],[36,41,36,68],[36,69,36,89],[37,41,37,46],[37,47,37,58],[37,59,37,68],[37,69,37,79],[37,80,39,81],[37,82,39,85],[37,86,39,89],[34,10,34,11],[34,12,35,14],[34,21,35,26],[34,27,35,32],[35,3,35,5],[35,6,35,7],[35,8,35,9],[35,10,35,11],[40,0,41,1],[40,2,41,3],[40,4,41,5],[40,6,41,7],[40,8,41,9],[40,10,41,11],[38,66,39,68],[38,69,39,71],[38,72,39,75],[38,76,39,79],[39,12,39,13],[39,14,39,15],[39,16,39,17],[39,18,39,19],[39,47,39,48],[39,49,39,50],[38,46,39,46],[38,47,38,52],[38,53,38,56],[38,57,39,58],[38,59,39,61],[38,62,39,65],[39,51,39,52],[39,53,39,54],[39,55,39,56],[38,24,39,27],[38,28,39,31],[38,32,39,35],[38,36,39,40],[38,41,39,42],[38,43,39,45],[38,0,39,3],[40,41,40,42],[40,43,40,45],[40,47,40,48],[40,49,40,50],[40,24,41,25],[40,26,41,27],[40,28,41,29],[40,30,41,31],[40,32,41,33],[40,34,41,35],[40,18,41,18],[40,19,41,19],[40,20,41,20],[40,21,41,21],[40,22,41,22],[40,23,41,23],[40,12,41,12],[40,13,41,13],[40,14,41,14],[40,15,41,15],[40,16,41,16],[40,17,41,17],[42,21,44,21],[42,22,44,22],[42,10,44,11],[42,12,44,12],[42,13,44,13],[42,14,44,14],[42,15,44,15],[42,16,44,16],[40,86,40,89],[41,41,41,52],[41,53,41,64],[41,65,41,76],[41,77,41,89],[42,0,44,1],[42,2,44,3],[42,4,44,5],[42,6,44,7],[42,8,44,9],[40,66,40,68],[40,69,40,71],[40,72,40,75],[40,76,40,79],[40,80,40,81],[40,82,40,85],[40,51,40,52],[40,53,40,54],[40,55,40,56],[40,57,40,58],[40,59,40,61],[40,62,40,65],[40,36,41,38],[40,39,41,40],[42,73,43,76],[42,77,43,84],[42,85,43,89],[44,41,44,45],[44,46,44,48],[44,49,44,50],[44,51,44,52],[44,53,44,55],[44,56,44,60],[44,61,44,64],[42,51,43,52],[42,53,43,55],[42,56,43,60],[42,61,43,64],[42,65,43,68],[42,69,43,72],[42,34,44,35],[42,36,44,38],[42,39,44,40],[42,41,43,45],[42,46,43,48],[42,49,43,50],[46,70,46,71],[46,72,46,74],[46,75,46,84],[46,85,46,86],[46,87,46,89],[47,0,47,5],[47,8,47,13],[47,15,47,16],[47,17,47,21],[47,22,47,23],[46,0,46,5],[46,8,46,13],[46,15,46,16],[46,17,46,33],[46,34,46,60],[46,61,46,69],[44,65,44,68],[44,69,44,72],[44,73,44,76],[44,77,44,84],[44,85,44,89],[45,0,45,89],[42,23,44,23],[42,24,44,25],[42,26,44,27],[42,28,44,29],[42,30,44,31],[42,32,44,33],[42,17,44,17],[42,18,44,18],[42,19,44,19],[42,20,44,20],[47,72,47,74],[47,75,47,84],[47,85,47,86],[47,87,47,89],[48,0,48,5],[48,8,48,13],[48,15,48,16],[48,17,48,21],[48,22,49,23],[48,27,48,28],[47,51,47,53],[47,55,47,56],[47,57,47,58],[47,59,47,60],[47,61,47,69],[47,70,47,71],[47,27,47,28],[47,30,47,31],[47,32,47,33],[47,34,47,43],[47,44,47,46],[47,47,47,49],[49,75,50,84],[49,85,50,86],[49,87,50,89],[50,0,50,6],[50,8,50,13],[50,15,50,16],[50,17,50,21],[50,22,54,23],[50,27,50,28],[48,75,48,84],[48,85,48,86],[48,87,48,89],[49,0,49,5],[49,8,49,13],[49,15,49,16],[49,17,49,21],[49,27,49,28],[49,30,49,31],[49,34,49,43],[48,55,48,56],[48,57,48,58],[48,59,50,60],[48,61,48,69],[48,70,48,71],[48,72,48,74],[49,55,49,56],[49,57,49,58],[49,61,49,69],[49,70,49,71],[48,30,48,31],[48,32,49,33],[48,34,48,43],[50,70,50,71],[50,72,50,74],[51,0,51,6],[51,8,51,13],[51,15,51,16],[51,17,51,21],[51,27,51,28],[51,30,51,31],[51,34,51,43],[51,47,51,49],[50,34,50,43],[50,47,50,49],[50,51,50,53],[50,55,50,56],[50,57,50,58],[50,61,50,69],[49,72,49,74],[48,44,51,46],[48,47,48,49],[48,51,48,53],[49,47,49,49],[49,51,49,53],[50,30,50,31],[50,32,54,33],[51,72,51,74],[53,0,53,6],[53,8,53,13],[53,15,53,16],[53,17,53,21],[53,27,53,28],[53,30,53,31],[51,75,51,84],[51,85,51,86],[51,87,51,89],[52,0,52,6],[52,8,52,13],[52,15,52,16],[52,17,52,21],[52,27,52,28],[52,30,52,31],[51,51,51,53],[51,55,51,56],[51,57,51,58],[51,59,52,60],[51,61,51,69],[51,70,51,71],[52,61,52,69],[52,70,52,71],[52,72,52,74],[52,75,52,84],[52,85,52,86],[52,87,52,89],[52,34,52,43],[52,44,53,46],[52,47,52,49],[52,51,52,53],[52,55,52,56],[52,57,52,58],[53,34,53,43],[53,47,53,49],[53,51,53,53],[53,55,53,56],[53,85,53,86],[53,87,53,89],[54,0,54,6],[54,8,54,13],[54,15,54,16],[54,17,54,21],[54,27,54,28],[54,30,54,31],[54,34,54,43],[54,44,54,46],[53,57,53,58],[53,59,54,60],[53,61,53,69],[53,70,53,71],[53,72,53,74],[53,75,53,84],[54,72,54,74],[54,75,54,84],[54,85,54,86],[54,87,54,89],[55,0,55,6],[55,8,55,13],[55,15,55,16],[55,17,55,21],[55,27,55,28],[55,30,55,31],[55,32,60,33],[54,47,54,49],[54,51,54,53],[54,55,54,56],[54,57,54,58],[54,61,54,69],[54,70,54,71],[56,87,56,89],[57,0,57,6],[57,8,57,13],[57,15,57,16],[57,17,57,21],[57,27,57,28],[57,30,57,31],[57,34,57,43],[56,51,56,53],[56,55,56,56],[56,57,56,58],[56,61,56,69],[56,70,56,71],[56,72,56,74],[55,87,55,89],[56,0,56,6],[56,8,56,13],[56,15,56,16],[58,61,58,69],[58,70,58,71],[58,72,58,74],[56,17,56,21],[56,27,56,28],[56,30,56,31],[56,34,56,43],[56,44,57,46],[56,47,56,49],[55,59,56,60],[55,61,55,69],[55,70,55,71],[55,72,55,74],[55,75,55,84],[55,85,55,86],[56,75,56,84],[56,85,56,86],[55,34,55,43],[55,44,55,46],[55,47,55,49],[55,51,55,53],[55,55,55,56],[55,57,55,58],[57,75,57,84],[57,85,57,86],[61,72,61,74],[61,75,61,84],[61,85,61,86],[57,87,57,89],[58,0,59,6],[58,7,59,7],[58,8,58,13],[58,15,58,16],[58,17,58,21],[58,27,58,28],[58,30,58,31],[57,55,57,56],[57,57,57,58],[57,59,57,60],[57,61,57,69],[57,70,57,71],[57,72,57,74],[59,85,59,86],[59,87,59,89],[57,47,57,49],[57,51,57,53],[58,87,58,89],[59,8,60,13],[59,14,60,14],[59,15,60,16],[59,17,59,21],[59,27,59,28],[59,30,59,31],[59,34,59,43],[59,47,59,49],[59,51,59,53],[58,59,59,60],[64,84,64,85],[61,87,61,89],[61,32,61,33],[61,34,61,43],[61,44,61,60],[62,44,62,60],[60,87,60,89],[61,0,61,6],[61,8,61,12],[61,13,61,14],[61,15,61,16],[60,0,60,6],[60,17,60,21],[60,27,60,28],[60,30,60,31],[60,34,60,43],[60,44,60,60],[60,75,60,84],[60,85,60,86],[62,61,62,89],[59,61,60,69],[59,70,60,71],[59,72,60,74],[59,75,59,84],[58,44,59,46],[58,47,58,49],[58,51,58,53],[58,55,58,56],[58,57,58,58],[59,55,59,56],[63,86,63,89],[64,0,64,6],[64,8,64,12],[64,13,64,14],[64,15,64,16],[64,17,66,19],[64,20,66,22],[64,23,64,26],[64,27,64,49],[64,50,66,54],[65,0,65,6],[65,8,65,12],[65,13,65,14],[66,86,67,88],[66,89,67,89],[67,0,67,6],[67,8,67,12],[67,13,67,14],[67,15,67,16],[67,17,67,19],[66,38,66,49],[66,61,66,64],[66,66,66,68],[63,0,63,6],[63,8,63,12],[63,13,63,14],[63,15,63,16],[63,17,63,60],[63,61,63,65],[63,66,63,70],[63,71,63,80],[63,81,63,85],[66,69,66,70],[66,71,66,73],[66,74,66,75],[65,76,65,79],[65,81,65,83],[65,84,65,85],[65,86,65,88],[66,0,66,6],[66,8,66,12],[66,13,66,14],[66,15,66,16],[66,23,66,26],[66,27,66,37],[65,15,65,16],[65,23,65,26],[65,27,65,37],[65,38,65,49],[64,55,66,60],[64,61,64,64],[64,66,64,68],[64,69,64,70],[64,74,64,75],[64,86,64,88],[64,76,64,79],[65,61,65,64],[65,66,65,68],[65,69,65,70],[65,74,65,75],[66,76,66,79],[66,81,66,83],[66,84,66,85],[64,81,64,83],[68,84,71,86],[67,81,67,83],[67,84,67,85],[68,0,68,6],[68,8,68,12],[68,13,68,14],[68,15,68,16],[68,17,68,60],[68,61,73,62],[68,63,71,65],[68,66,71,68],[67,61,67,64],[67,66,67,68],[67,69,67,70],[67,71,67,73],[67,74,67,75],[67,76,67,79],[67,20,67,22],[67,23,67,26],[67,27,67,37],[67,38,67,49],[67,50,67,54],[67,55,67,60],[70,38,70,41],[70,42,70,45],[70,46,70,55],[70,56,70,60],[71,17,71,23],[71,24,71,32],[71,33,71,37],[71,38,71,41],[71,42,71,45],[71,46,71,55],[69,46,69,55],[69,56,69,60],[70,0,71,6],[70,7,71,7],[70,8,71,12],[70,13,71,14],[70,15,71,16],[70,17,70,23],[70,24,70,32],[70,33,70,37],[69,0,69,6],[69,8,69,12],[69,13,69,14],[69,15,69,16],[69,17,69,23],[69,24,69,32],[69,33,69,37],[69,38,69,41],[69,42,69,45],[72,75,73,78],[72,79,73,80],[72,81,73,83],[72,84,73,86],[72,87,73,89],[73,0,73,6],[73,17,73,23],[73,24,73,32],[73,33,73,37],[73,38,73,41],[72,46,72,55],[72,56,72,60],[72,63,73,65],[72,66,73,68],[72,69,73,71],[72,72,73,74],[71,56,71,60],[72,0,72,6],[72,8,73,12],[72,13,73,14],[72,15,73,16],[72,17,72,23],[72,24,72,32],[72,33,72,37],[72,38,72,41],[72,42,72,45],[68,87,71,89],[68,69,71,71],[68,72,71,74],[68,75,71,78],[68,79,71,80],[68,81,71,83],[75,17,75,23],[75,24,75,32],[75,38,75,41],[75,42,75,45],[75,46,75,55],[87,0,87,2],[87,3,87,5],[87,6,87,7],[87,8,87,9],[87,10,87,11],[73,42,73,45],[73,46,73,55],[73,56,73,60],[74,17,74,23],[74,24,74,32],[74,38,74,41],[74,42,74,45],[74,46,74,55],[87,80,87,84],[87,85,88,85]],"merged_total":1135,"flags":["merged_cut"]}
[null,null,null,null,null,null,null,null,null,null,null,null,null,null,null,null,null,null,null,null,null,null,null,null,null,null,null,"DIRECCION - PROGRAMA  APS \nSUBSECRETARIA DE MEDICINA SOCIAL\nRONDA N°: 192   AÑO: 2025",null,null,null,null,null,null,null,null,null,null,null,null,null,null,null,null,null,null,null,null,null,null,null,null,null,null,"1r","2r","3r",null,"4r",null,"T",null,null,null,null,null,null,null,null,null,null,null,null,null,null,null,null,null,null,null,"Informe y orden de Ronda: ",6,null,null,null,null,2]
[null,null,null,null,null,null,null,"Area Operativa N°: ",4,null,null,null,null,null,"Nombre: ","MORILLO",null,null,null,null,null,null,null,null,null,null,null,null,null,null,null,null,null,null,null,null,null,null,null,null,null,null,null,null,null,null,"Mort. Mater. Acum. Año",null,null,null,null,null,null,null,0,{"$f":"CE41","v":0},0,null,{"$f":"CE41","v":0},null,{"$f":"SUM(BC2:BG2)","v":0},null,null,null,null,"Sector:",null,"SAN PANTALEON",null,null,null,null,null,null,null,null,null,null,null,null,null,null,null,null,null,"N°",23]
[null,null,null,null,null,null,null,null,null,null,null,null,null,null,null,null,null,null,null,null,null,null,null,null,null,null,null,null,null,null,null,null,null,null,null,null,null,null,null,null,null,null,null,null,null,null,"Mort. 0-1 año Acum Año",null,null,null,null,null,null,null,1,{"$f":"BR41+BU41+BY41","v":0},0,null,{"$f":"BR41+BU41+BY41","v":0},null,{"$f":"SUM(BC3:BG3)","v":1},null,null,null,null,null,"Etnia: ","CRIOLLO-WICHI",null,null,null,null,null,null,null,null,null,null,null,null,null,null,null,null,null,"Sector Riesgo:","NO"]
[null,null,null,null,null,null,null,"Establec. Base: ","HOSPITAL MORILLO",null,null,null,null,null,null,null,null,null,null,null,null,null,null,null,null,null,null,null,null,null,null,null,null,null,null,null,null,null,null,null,null,null,null,null,null,null,"Mort. 1-4 años Acum Año",null,null,null,null,null,null,null,0,{"$f":"CC41","v":0},0,null,{"$f":"CC41","v":0},null,{"$f":"SUM(BC4:BG4)","v":0},null,null,null,null,null,null,null,null,null,null,null,null,"Desde: ","07/03/2025",null,null,null,null,null,null,null,null,"Hasta: ","05/06/2026"]
[null,null,null,null,null,null,null,null,null,null,null,null,null,null,null,null,null,null,null,null,null,null,null,null,null,null,null,null,null,null,null,null,null,null,null,null,null,null,null,null,null,null,null,null,null,null,null,null,null,null,null,null,null,null,null,null,null,null,null,null,null,null,null,null,null,null,null,null,null,null,null,null,null,null,null,null,null,null,null,"Cobertura: ","CUBIERTO"]
[null,null,null,null,null,null,null,"Sup. Intermedio: ","MIGUEL CORREA",null,null,null,null,null,null,null,null,null,null,null,null,null,null,null,null,null,null,null,null,null,null,null,"Responsable A.P.S.: ","Dr. Abel Ibarra",null,null,null,null,null,null,null,null,null,null,null,null,null,null,null,null,null,null,null,null,null,null,"Agente Sanitario: ","Catalino Torres",null,null,null,null,null,null,null,null,null,null,null,null,null,null,null,null,"Sit. Revista: ","PLANTA PERMANENTE",null,null,null,null,null,"Reg. Horario: ","30 HS."]
[]
["A) FAMILIAS VISITADAS EN LA RONDA",null,null,null,null,null,null,null,null,null,null,null,null,null,null,null,null,null,null,null,null,null,null,null,null,null,null,null,null,null,null,null,null,null,null,null,null,null,null,null,null,null,null,null,null,null,null,"B) FACTORES DE PRIORIZACION DE VISITAS"]
["ASIGNADAS",null,null,"VISITADAS",null,null,"TOTAL\nVISITAS",null,"NO VISITADAS",null,null,null,null,null,null,null,null,"FLIAS ORIG.",null,"FLIAS. URB.",null,"FLIAS. PERIURB",null,null,"FLIAS. RURALES",null,"GOLON\nMIGRANTES",null,null,null,null,"FLIAS. CON PL. SOCIALES",null,null,null,null,null,"PRODUCCION\nFAMILIAR",null,null,null,null,null,null,null,null,null,1,null,2,null,3,null,null,4,null,5,null,6,null,7,null,null,8,null,null,9,null,null,10,null,null,null,11,null,null,12,null,null,null,13,null,null,14,null,null,15]
[null,null,null,null,null,null,null,null,"RECHAZO TOTAL",null,"AUSEN\n-TE",null,"NO VISITADAS",null,"TOT NO VISIT.",null,null,null,null,null,null,null,null,null,null,null,"HACIA\nEL AO",null,"DESDE\nEL AO",null,null,null,null,null,null,null,null,"HUERTA",null,null,null,"GRANJA",null,null,null,null,null,0,null,0,null,0,null,null,0,null,0,null,0,null,0,null,null,0,null,null,0,null,null,"Total",null,null,null,"Tot",null,"Trat","Tot.",null,null,"Trat.","Tot.","Trat.",null,"Tot.",null,"Trat","Total"]
[null,null,null,null,null,null,null,null,null,null,0,null,null,null,null,null,null,null,null,null,null,null,null,null,null,null,null,null,null,null,null,null,null,null,null,null,null,null,null,null,null,null,null,null,null,null,null,null,null,null,null,null,null,null,null,null,null,null,null,null,null,null,null,null,null,null,null,null,null,0,null,null,null,0,null,0,0,null,null,0,0,0,null,0,null,0,0]
[0,null,null,0,null,null,0,null,0,null,0,null,0,null,{"$f":"M12+K12+I12","v":0},null,null,0,null,0,null,0,null,null,0,null,0,null,0,null,null,0,null,null,null,null,null,0,null,null,null,0,null,null,null,null,null,"C) VISITAS A FLIAS. PRIORIZADAS",null,null,null,null,null,null,null,null,null,null,null,null,null,null,null,null,null,null,null,null,null,"D) SUPERV. A FLIAS. "]
[null,null,null,null,null,null,null,null,null,null,null,null,null,null,null,null,null,null,null,null,null,null,null,null,null,null,null,null,null,null,null,null,null,null,null,null,null,null,null,null,null,null,null,null,null,null,null,"PRIORIDAD",null,null,null,null,null,1,null,null,2,null,null,null,3,null,null,"Total",null,null,null,null,null,"PRIORIDAD",null,null,null,null,null,1,null,null,null,2,null,3,null,null,null,"TOTAL"]
[null,null,null,null,null,null,null,null,null,null,null,null,null,null,null,null,null,null,null,null,null,null,null,null,null,null,null,null,null,null,null,null,null,null,null,null,null,null,null,null,null,null,null,null,null,null,null,"N° FAMILIAS",null,null,null,null,null,0,null,null,0,null,null,null,0,null,null,{"$f":"SUM(BB14:BI14)","v":0},null,null,null,null,null,"INTERMEDIA",null,null,null,null,null,0,null,null,null,0,null,0,null,null,null,{"$f":"SUM(BX14:CD14)","v":0}]
[null,null,null,null,null,null,null,null,null,null,null,null,null,null,null,null,null,null,null,null,null,null,null,null,null,null,null,null,null,null,null,null,null,null,null,null,null,null,null,null,null,null,null,null,null,null,null,"VISITAS",null,null,null,null,null,0,null,null,0,null,null,null,0,null,null,{"$f":"SUM(BB15:BI15)","v":0},null,null,null,null,null,"PROFESIONAL",null,null,null,null,null,0,null,null,null,0,null,0,null,null,null,{"$f":"SUM(BX15:CB15)","v":0}]
["E) EDAD FERTIL",null,null,null,null,"F) EMBARAZADAS",null,null,null,null,null,null,"G) PARTOS",null,null,null,null,null,null,null,"H) R.N. EN LA RONDA",null,null,null,null,null,null,null,null,"I) EVALUACION ANTROPOMETRICA",null,null,null,null,null,null,null,null,null,null,null,null,null,null,null,null,null,null,null,null,null,null,null,null,null,null,null,null,null,null,null,null,null,null,null,null,"NIÑ MBP/BP/RBP CTRL. INT.",null,null,null,null,null,null,null,null,null,"LACT. MATERNA"]
["PAP",null,null,0,null,"CAPT. 1er TRIMESTRE","ESP EN EL AÑO","ACUMULADAS","NUEVAS\nRONDA","TOTAL","DE RIESGO","<19 Años","TOTAL",null,"HOSPITALARIOS",null,"DOMIC.",null,"N° PUERPERAS",null,"NACIDOS VIVOS",null,"P AL NACER",null,null,null,null,null,null,"NIÑOS CONTROLADOS",null,null,null,null,null,null,null,null,null,null,null,null,null,null,null,null,null,null,null,null,null,null,null,null,null,null,null,null,null,null,null,null,null,null,null,null,"MELAN",null,"MED",null,"ENF.",null,"LAB",null,"NUTR",null,"< 6 M EN LA RONDA",null,null,null,{"$f":"CC20+CC22+CC23","v":0}]
[null,null,null,null,null,null,null,null,null,null,null,null,null,null,null,null,"DOM","ASIS",null,null,null,null,"ALTO PESO","ADEC",null,"BAJO PESO",null,"MB\nPESO",null,"EDAD",null,null,"A CONTROLAR",null,null,"ADECUADO",null,"BP\nBAJO PESO",null,"MBP\nMUY B. PESO",null,"ALTO PESO",null,"RIESGO",null,null,null,"RECUPERADOS",null,null,null,"TALLA / EDAD",null,null,null,null,"NUEVOS\nEPISODIOS",null,"PERDIDOS",null,null,null,null,"FALLECIDOS\nC/ANTEC. ANTROPOM."]
[]
["Antic.",null,null,0,null,0,{"$f":"IF(ISERROR(((CC92*1.8)/100)),0,(((CC92*1.8)/100)))","v":0},0,0,{"$f":"SUM(F23:L23)","v":0},0,0,{"$f":"O20+Q20+R20","v":0},null,0,null,0,0,0,null,{"$f":"W20+X20+Z20+AB20","v":0},null,0,0,null,0,null,0,null,null,null,null,null,null,null,null,null,null,null,null,null,null,null,"BP",null,"AP",null,"BP",null,null,"AP","BT",null,"MBT",null,"RGO\nBT",null,null,"BP\nMBP",null,null,"A.P.",null,null,null,null,0,null,0,null,0,null,0,null,0,null,"EXCLUSIVO",null,null,null,0]
[null,null,null,null,null,"CONTROLES",null,null,null,null,null,null," ",null,null,null,null,null,null,null,"PREMATUROS",null,null,null,"PESQUISA"]
["Aborto",null,null,0,null,"MELON",null,"MEL","MED","ENF","LAB","S/C","PUERP",null,null,null,"R.N.",null,null,null,null,null,null,null,null,null,null,null,null,"< 2 años",null,null,{"$f":"A27+C27+D27+F27+G27+H27","v":0},null,null,0,null,0,null,0,null,0,null,0,null,0,null,0,null,null,0,0,null,0,null,0,0,null,0,null,null,0,null,0,null,null,"CONTROLES EN DOMIC. NIÑO BP o MBP",null,null,null,null,null,null,null,0,null,"MIXTA",null,null,null,0]
[null,null,null,null,null,0,null,0,0,0,0,0,0,null,null,null,0,null,null,null,0,null,null,null,0,null,null,null,null,"2 a 6 años",null,null,{"$f":"I27+J27+K27+L27+M27+O27+P27+R27","v":0},null,null,0,null,0,null,0,null,0,null,0,null,0,null,0,null,null,0,0,null,0,null,0,0,null,0,null,null,0,null,0,null,null,null,null,null,null,null,null,null,null,null,null,"ARTIF",null,null,null,0]
["J) DATOS DE POBLACION"]
["0 a 5m",null,null,"6 a 11m",null,null,"1 AÑO",null,"2 AÑOS",null,"3 AÑOS",null,"4 AÑOS",null,null,"5 AÑOS",null,null,"6 AÑOS",null,null,"7 A 9 AÑOS",null,null,null,"10 AÑOS",null,"11 AÑOS",null,null,"12 A 14",null,null,null,null,null,"15 A 19",null,null,"20 A 24",null,null,null,"25 A 29",null,null,null,"30 A 34",null,null,null,"35 A 39",null,null,null,"40 A 44",null,null,null,null,"45 A 49",null,null,null,"50 A 54",null,null,null,"55 A 59",null,null,null,"60 A 64",null,null,null,"65 y +",null,null,null,"TOTAL",null,null,null,null,"MUJERES\n10 A 49","O. SOCIAL",null,"INDOCUM"]
["M",null,"F","M",null,"F","M","F","M","F","M","F","M",null,"F","M",null,"F","M",null,"F","M",null,"F",null,"M","F","M",null,"F","M",null,null,"F",null,null,"M","F",null,"M",null,"F",null,"M",null,null,"F","M",null,null,"F","M",null,"F",null,"M",null,null,"F",null,"M",null,"F",null,"M",null,"F",null,"M",null,"F",null,"M",null,"F",null,"M",null,null,"F","M",null,"F"]
[0,null,0,0,null,0,0,0,0,0,0,0,0,null,0,0,null,0,0,null,0,0,null,0,null,0,0,0,null,0,0,null,null,0,null,null,0,0,null,0,null,0,null,0,null,null,0,0,null,null,0,0,null,0,null,0,null,null,0,null,0,null,0,null,0,null,0,null,0,null,0,null,0,null,0,null,0,null,null,0,{"$f":"BY27+BU27+BQ27+BM27+BI27+BD27+AZ27+AV27+AR27+AN27+AK27+AE27+AB27+Z27+V27+S27+P27+M27+K27+I27+G27+D27+A27","v":0},null,{"$f":"CB27+BW27+BS27+BO27+BK27+BG27+BB27+AY27+AU27+AP27+AL27+AH27+AD27+AA27+X27+U27+R27+O27+L27+J27+H27+F27+C27","v":0},null,null,{"$f":"BK27+BG27+BB27+AY27+AU27+AP27+AL27+AH27+AD27+AA27","v":0},0,null,0]
[{"$f":"A27+C27","v":0},null,null,{"$f":"D27+F27","v":0},null,null,{"$f":"G27+H27","v":0},null,{"$f":"I27+J27","v":0},null,{"$f":"K27+L27","v":0},null,{"$f":"M27+O27","v":0},null,null,{"$f":"P27+R27","v":0},null,null,{"$f":"S27+U27","v":0},null,null,{"$f":"V27+X27","v":0},null,null,null,{"$f":"Z27+AA27","v":0},null,{"$f":"AB27+AD27","v":0},null,null,{"$f":"AE27+AH27","v":0},null,null,null,null,null,{"$f":"AL27+AK27","v":0},null,null,{"$f":"AN27+AP27","v":0},null,null,null,{"$f":"AR27+AU27","v":0},null,null,null,{"$f":"AV27+AY27","v":0},null,null,null,{"$f":"AZ27+BB27","v":0},null,null,null,{"$f":"BD27+BG27","v":0},null,null,null,null,{"$f":"BI27+BK27","v":0},null,null,null,{"$f":"BM27+BO27","v":0},null,null,null,{"$f":"BQ27+BS27","v":0},null,null,null,{"$f":"BU27+BW27","v":0},null,null,null,{"$f":"BY27+CB27","v":0},null,null,null,{"$f":"CC27+CE27","v":0}]
["K) TUBERCULOSIS ",null,null,null,null,null,null,null,null,null,null,null,null,null,null," CHAGAS ",null,null,null,null,null,"L) PERSONAS CON ENF. CRONICAS",null,null,null,null,null,null,null,null,null,null,null,"M) OBSERVACIONES"]
["Coef. Sint.Resp.: ",null,null,"MUESTRAS",null,null,null,null,"TRATAM. TBC",null,null,null,null,null,null,"TRATAMIENTOS CHAGAS",null,null,null,null,null,"PERSONAS CON",null,null,null,null,null,"TOTAL",null,null,"EN TRAT.",null,null," "]
[{"$f":"Control!H9","v":8},null,null,"DIAGNOSTICOS",null,null,"CONTROL",null,"Total",null,"TAES",null," ABANDONO",null,null,"INICIO ",null,null,0,null,null,"DIABETES",null,null,null,null,null,0,null,null,0]
["SINT. ESP..",null,null,"Tot",null,"(+)","Tot","(+)",0,null,0,null,0,null,null,"FINALIZACION ",null,null,0,null,null,"HIPERTENSION \nARTERIAL",null,null,null,null,null,0,null,null,0]
[{"$f":"IF(ISERROR(((AK91+AL91+AN91+AP91+AR91+AU91+AV91+AY91+AZ91+BB91+BD91+BG91+BI91+BK91+BM91+BO91+BQ91+BS91+BU91+BW91+BY91+CB91)*0.2)*A31/100),0,(((AK91+AL91+AN91+AP91+AR91+AU91+AV91+AY91+AZ91+BB91+BD91+BG91+BI91+BK91+BM91+BO91+BQ91+BS91+BU91+BW91+BY91+CB91)*0.2)*A31/100))","v":0},null,null,0,null,0,0,0,"QUIMIO Total",null,0,null,null,null,null,null,null,null,null,null,null,"PERSONAS CON OTRAS ENF. CRONICAS AL CUIDADO DE NIÑOS",null,null,null,null,null,0,null,null,0]
[null,null,null,"CONTACTO",null,null,null,null,"CTRL. MEDICO",null,null,null,"FINALIZAD0",null,null,"ABANDONO ",null,null,0]
[0,null,null,"< 14a",null,null,"> 15a",null,"Pcte/Rda",null,"A Cont",null,0,null,null,null,null,null,null,null,null,"ADULTOS MAYORES EN SITUACION DE RIESGO",null,null,null,null,null,0]
[null,null,null,0,null,null,0,null,0,null,0]
["N) DERIVACIONES",null,null,null,null,null,null,null,null,null,null,null,null,null,null,null,null,null,null,null,null,null,null,null,null,null,null,null,null,null,null,null,null,null,null,null,null,null,null,null,null,"Ñ) VIVIENDA Y SANEAMIENTO",null,null,null,null,null,null,null,null,null,null,null,null,null,null,null,null,null,null,null,null,null,null,null,null,null,null,null,"O) DEFUNCIONES EN LA RONDA"]
[null,null,null,null,null,null,null,null,null,null,null,null,null,null,null,null,null,null,null,null,null,null,null,null,null,null,null,null,null,null,null,null,null,null,null,null,null,null,null,null,null,"TRAT. AGUA",null,null,null,null,null,"DISP SANITARIA EXCRETAS",null,null,null,null,null,null,null,null,null,null,null,"TRATAM. SANIT BASURA",null,null,null,null,null,null,null,null,null,"MENORES 1 AÑO",null,null,null,null,null,null,null,null,null,null,"1 a 4 AÑOS",null,"MATERNA",null,null,null,"OTRAS"]
["EMB",null,null,null,"RN",null,null,null,"PUERP",null,null,null,"Menores de 6 años",null,null,null,null,null,null,null,"E.\nCRONICAS",null,"PAP",null,"CHAGAS",null,null,null,"TBC",null,null,null,"PSICOSOC",null,null,null,"TOTAL\nDERIVACIONES",null,null,null,null,"RED",null,"EN\nVIV",null,null,"S/T","ARRASTRE",null,null,null,null,null,"LETRINA",null,null,null,"S/T",null,"REC. DOMIC.",null,null,"POZO BASURA",null,null,null,"S/T",null,null,"<7d",null,null,"7 a 28d",null,null,null,"29d a 11 m"]
[null,null,null,null,null,null,null,null,null,null,null,null,"BP- MBP",null,"RGO BP",null,"Resp",null,"Diarr",null,null,null,null,null,null,null,null,null,null,null,null,null,null,null,null,null,null,null,null,null,null,null,null,null,null,null,null,"CLOACAS",null,"PC-CT",null,"PC-ST",null,"CT",null,"ST"]
["Env",null,"Rec",null,"Env",null,"Rec",null,"Env",null,"Rec",null,"Env","Rec","Env","Rec","Env","Rec","Env","Rec","Env","Rec","Env","Rec","Env",null,"Rec",null,"Env",null,"Rec",null,"Env",null,"Rec",null,"ENV",null,null,"Rec",null,0,null,0,null,null,0,0,null,0,null,0,null,0,null,0,null,0,null,0,null,null,0,null,null,null,0,null,null,0,null,null,0,null,null,null,0,null,null,null,0,null,0,null,null,null,0]
[null,null,null,null,null,null,null,null,null,null,null,null,null,null,null,null,null,null,null,null,null,null,null,null,null,null,null,null,null,null,null,null,null,null,null,null,null,null,null,null,null,"CASAS ",null,null,null,null,null,null,null,null,null,null,null,"CHAGAS",null,null,null,null,null,null,null,null,null,null,null,"DENGUE CHIKUNGUNYA",null,null,null,null,null,null,null,null,null,null,null,"P) PROM. SALUD"]
[0,null,0,null,0,null,0,null,0,null,0,null,0,0,0,0,0,0,0,0,0,0,0,0,0,null,0,null,0,null,0,null,0,null,0,null,{"$f":"AG43+AC43+Y43+W43+U43+S43+Q43+O43+M43+I43+E43+A43","v":0},null,null,{"$f":"AI43+AE43+AA43+X43+V43+T43+R43+P43+N43+K43+G43+C43","v":0},null,"ASIGNADAS",null,null,null,null,"VISITADAS",null,null,"VACIAS",null,"DESTRUIDAS",null,"EVALUADAS",null,null,"POSITIVAS",null,null,null,null,"TRATADAS",null,null,null,"EVALUADAS",null,null,null,"POSITIVAS",null,null,null,"TRATADAS",null,null,null,"PLANIFICADAS \nEN COMUNIDAD",null,null,null,null,null,null,null,0]
[]
[null,null,null,null,null,null,null,null,null,null,null,null,null,null,null,null,null,null,null,null,null,null,null,null,null,null,null,null,null,null,null,null,null,null,null,null,null,null,null,null,null,0,null,null,null,null,0,null,null,0,null,0,null,0,null,null,0,null,null,null,null,0,null,null,null,0,null,null,null,0,null,null,null,0,null,null,null,"REALIZADAS ",null,null,null,null,null,null,null,0]
["Q) INDICADORES"]
["DE ESTRUCTURA",null,null,null,null,null,"SI","NO","DE PRODUCCION",null,null,null,null,null,"%","META",null," DE INMUNIZACIONES",null,null,null,null,null,null,null,null,null,null,null,null,null,null,null,null," DE INMUNIZACIONES",null,null,null,null,null,null,null,null,null,null,null,null,null,null,null,null,null,null,null,null,null,null,null,null,null,null," DE RESULTADO",null,null,null,null,null,null,null,null,"%",null,"META",null,null," DE RESULTADO",null,null,null,null,null,null,null,null,null,"%",null,"META RDA"]
["Formularios",null,null,null,null,null,0,0,"Cobertura a Familias",null,null,null,null,null,{"$f":"IF(ISERROR(D12/A12),0,(D12/A12)*100)","v":0},100,null,"VACUNA",null,null,null,null,"P. REF",null,"1r","2r","3r","4r",null,"T","%",null,"META",null,"VACUNA",null,null,null,null,null,null,null,null,null,"P. REF",null,null,"1r",null,null,"2r","3r",null,null,"4r","T",null,"%",null,"META",null,"Ed Fértil c/Anticoncepción",null,null,null,null,null,null,null,null,{"$f":"IF(ISERROR(D20/CH27),0,(D20/CH27)*100)","v":0},null,null,null,null,"Niños 2 a 5 Recup BP",null,null,null,null,null,null,null,null,null,{"$f":"IF(ISERROR(AV23/K80),0,(AV23/K80)*100)","v":0},null,100]
["Equipo",null,null,null,null,null,0,0,"Niños < 2 años Controlados",null,null,null,null,null,{"$f":"IF(ISERROR(((AJ22+AL22+AN22+AP22)/(A28+D28+G28))),0,(((AJ22+AL22+AN22+AP22)/(A28+D28+G28)))*100)","v":0},100,null,"BCG RN",null,null,null,null,{"$f":"U20","v":0},null,0,0,0,0,null,{"$f":"SUM(Y49:AB49)","v":0},{"$f":"IF(ISERROR(Z49/W49),0,(Z49/W49)*100)","v":0},null,100,null,"2 Ref. Varicela Ingreso Esc",null,null,null,null,null,null,null,null,null,6,null,null,0,null,null,0,0,null,null,0,{"$f":"SUM(AV49:BC49)","v":0},null,{"$f":"IF(ISERROR(AY49/AS49),0,(AY49/AS49)*100)","v":0},null,25,null,"PAP",null,null,null,null,null,null,null,null,{"$f":"IF(ISERROR(D17/CH27),0,(D17/CH27)*100)","v":0},null,null,null,null,"Niños 2 a 5 Recup AP",null,null,null,null,null,null,null,null,null,{"$f":"IF(ISERROR(AY23/K82),0,(AY23/K82)*100)","v":0},null,100]
["Combustible",null,null,null,null,null,0,0,"Niños  (2 a 5 años) Controlados",null,null,null,null,null,{"$f":"IF(ISERROR(((AJ23+AL23+AN23+AP23)/(I28+K28+M28+P28))),0,(((AJ23+AL23+AN23+AP23)/(I28+K28+M28+P28)))*100)","v":0},100,null,"Hepatitis B RN","Hepatitis B RN",null,"Hepatitis B RN","Hepatitis B RN",null,null,0,0,0,0,null,{"$f":"SUM(Y50:AB50)","v":0},{"$f":"IF(ISERROR(Z50/W49),0,(Z50/W49)*100)","v":0},null,null,null,"2° Ref. Antipolio Ingreso Escolar",null,null,null,null,null,null,null,null,null,null,null,null,0,null,null,0,0,null,null,0,{"$f":"SUM(AV50:BC50)","v":0},null,{"$f":"IF(ISERROR(AY50/AS49),0,(AY50/AS49)*100)","v":0},null,null,null,"Embarazadas Con MELON",null,null,null,null,null,null,null,null,{"$f":"IF(ISERROR(F23/J20),0,(F23/J20)*100)","v":0},null,80,null,null,"Niños 6 meses con LME",null,null,null,null,null,null,null,null,null,{"$f":"IF(ISERROR(CC20/CC17),0,(CC20/CC17)*100)","v":0},null,80]
[" DE DIAGNOSTICO",null,null,null,null,null,null,"%","Conc. Vis. Flias Prio",null,null,null,null,null,{"$f":"IF(ISERROR((BB15+BE15)/(BB14+BE14)),0,((BB15+BE15)/(BB14+BE14)))","v":0},25,null,"2° Neumococo < 1a","3ª SOT/Salk < 1a",null,"3ª SOT/Salk < 1a","3ª SOT/Salk < 1a",{"$f":"A91+C91+D91+F91","v":0},null,0,0,0,0,null,{"$f":"SUM(Y51:AB51)","v":0},{"$f":"IF(ISERROR(Z51/W51),0,(Z51/W51)*100)","v":0},null,100,null,"2° Ref. DPT Ingreso Escolar",null,null,null,null,null,null,null,null,null,null,null,null,0,null,null,0,0,null,null,0,{"$f":"SUM(AV51:BC51)","v":0},null,{"$f":"IF(ISERROR(AY51/AS49),0,(AY51/AS49)*100)","v":0},null,null,null,"Partos Hospitalarios",null,null,null,null,null,null,null,null,{"$f":"IF(ISERROR(O20/M20),0,(O20/M20)*100)","v":0},null,100]
["Flias Priorizadas 3 + 2:",null,null,null,null,null,null,{"$f":"IF(ISERROR((BB14+BE14)/D12),0,(BB14+BE14)/D12*100)","v":0},"Conc.C.Dom Niños Bp/MBP",null,null,null,null,null,{"$f":"IF(ISERROR(BW22/(AL22+AN22+AL23+AN23)),0,(BW22/(AL22+AN22+AL23+AN23)))","v":0},3,null,"2° Rotavirus <1 a","3º Pentavalente <1 a",null,"3º Pentavalente <1 a","3º Pentavalente <1 a",null,null,0,0,0,0,null,{"$f":"SUM(Y52:AB52)","v":0},{"$f":"IF(ISERROR(Z52/W51),0,(Z52/W51)*100)","v":0},null,null,null,"2° TV Ingreso Escolar",null,null,null,null,null,null,null,null,null,null,null,null,0,null,null,0,0,null,null,0,{"$f":"SUM(AV52:BC52)","v":0},null,{"$f":"IF(ISERROR(AY52/AS49),0,(AY52/AS49)*100)","v":0},null,100,null,"Conc Control Médico a RN",null,null,null,null,null,null,null,null,{"$f":"IF(ISERROR(Q23/M20),0,(Q23/M20))","v":0},null,4,null,null,"% Niños BP MBP y RBP con MELaN",null,null,null,null,null,null,null,null,null,{"$f":"IF(ISERROR(BO20/(AL22+AN22+AR22+AL23+AN23+AR23)),0,(BO20/(AL22+AN22+AR22+AL23+AN23+AR23))*100)","v":0},null,100]
["Flias Urbanas",null,null,null,null,null,null,{"$f":"IF(ISERROR(T12/D12),0,(T12/D12)*100)","v":0},"Rel. Muestra/Sint Resp.",null,null,null,null,null,{"$f":"IF(ISERROR(D33/A35),0,(D33/A35))","v":0},2,null,"2° Meningococo < 1a",null,null,null,null,null,null,0,0,0,0,null,{"$f":"SUM(Y53:AB53)","v":0},{"$f":"IF(ISERROR(Z53/W51),0,(Z53/W51)*100)","v":0},null,null,null,"dTpa 11 años",null,null,null,null,null,null,null,null,null,14,null,null,13,null,null,0,0,null,null,0,{"$f":"SUM(AV53:BC53)","v":13},null,{"$f":"IF(ISERROR(AY53/AS53),0,(AY53/AS53)*100)","v":0},null,null,null,"Conc Control Méd. a puérpera",null,null,null,null,null,null,null,null,{"$f":"IF(ISERROR(M23/S20),0,(M23/S20))","v":0},null,4,null,null,"Sint Resp Detect. Seg zona",null,null,null,null,null,null,null,null,null,{"$f":"IF(ISERROR((A35*100)/(((20*(AK28+AN28+AR28+AV28+AZ28+BD28+BI28+BM28+BQ28+BU28+BY28))/100)*A31)),0,(A35*100)/((((20*(AK28+AN28+AR28+AV28+AZ28+BD28+BI28+BM28+BQ28+BU28+BY28))/100)*A31)/100))","v":0},null,"S/Z"]
["Flias Periurbanas",null,null,null,null,null,null,{"$f":"IF(ISERROR(V12/D12),0,(V12/D12)*100)","v":0},"Casas Evaluadas Chagas",null,null,null,null,null,{"$f":"IF(ISERROR(BB45/AU45),0,(BB45/AU45)*100)","v":0},100,null,"3° Antipolio < 1 año","2ª Rotavirus < 1 año",null,"2ª Rotavirus < 1 año","2ª Rotavirus < 1 año",null,null,0,0,0,0,null,{"$f":"SUM(Y54:AB54)","v":0},{"$f":"IF(ISERROR(Z54/W51),0,(Z54/W51)*100)","v":0},null,null,null,"U.D. Meningococo",null,null,null,null,null,null,null,null,null,null,null,null,13,null,null,0,0,null,null,0,{"$f":"SUM(AV54:BC54)","v":13},null,{"$f":"IF(ISERROR(AY54/AS53),0,(AY54/AS53)*100)","v":0},null,"95% AL 1° SEM",null,"RN con Pesquisa",null,null,null,null,null,null,null,null,{"$f":"IF(ISERROR(Y23/U20),0,(Y23/U20)*100)","v":0},null,100,null,null,"Pacientes TBC con Control Médico",null,null,null,null,null,null,null,null,null,{"$f":"IF(ISERROR(I36/I32),0,(I36/I32)*100)","v":0},null,100]
["Flias Rurales",null,null,null,null,null,null,{"$f":"IF(ISERROR(Y12/D12),0,(Y12/D12)*100)","v":0},"Casas Tratadas Chagas",null,null,null,null,null,{"$f":"IF(ISERROR(BJ45/BE45),0,(BJ45/BE45)*100)","v":0},100,null,"3° Pentavalente <1 año","TV 1 año",null,"TV 1 año","TV 1 año",null,null,0,0,0,0,null,{"$f":"SUM(Y55:AB55)","v":0},{"$f":"IF(ISERROR(Z55/W51),0,(Z55/W51)*100)","v":0},null,null,null,"1° HPV Niñas cumplen 11 a en año en curso",null,null,null,null,null,null,null,null,null,9,null,null,8,null,null,0,0,null,null,0,{"$f":"SUM(AV55:BC55)","v":8},null,{"$f":"IF(ISERROR(AY55/AS55),0,(AY55/AS55)*100)","v":0},null,null,null,"Derivaciones Enviadas/Recibidas",null,null,null,null,null,null,null,null,{"$f":"IF(ISERROR(AN43/AK43),0,(AN43/AK43)*100)","v":0},null,100,null,null,"Contactos TBC Controlados",null,null,null,null,null,null,null,null,null,{"$f":"IF(ISERROR(K36/(D36+G36)),0,(K36/(D36+G36)))*100","v":0},null,100]
["Flias Originarias",null,null,null,null,null,null,{"$f":"IF(ISERROR(R12/D12),0,(R12/D12)*100)","v":0},"Casas Evaluadas Dengue",null,null,null,null,null,{"$f":"IF(ISERROR(BN45/AU45),0,(BN45/AU45)*100)","v":0},100,null,"1° TV","A HA 1 año",null,"A HA 1 año","A HA 1 año",{"$f":"G91+H91","v":0},null,1,0,0,0,null,{"$f":"SUM(Y56:AB56)","v":1},{"$f":"IF(ISERROR(Z56/W56),0,(Z56/W56)*100)","v":0},null,100,null,"1° HPV Niños cumplen 11 a en año en curso",25,25,null,null,null,null,null,null,null,5,null,null,5,null,null,0,0,null,null,0,{"$f":"SUM(AV56:BC56)","v":5},null,{"$f":"IF(ISERROR(AY56/AS56),0,(AY56/AS56)*100)","v":0},null,"95% AL 1° SEM",null,"Niños < 2 a Riesgo BP",null,null,null,null,null,null,null,null,{"$f":"IF(ISERROR(AR22/AJ22),0,(AR22/AJ22)*100)","v":0},null,null,null,null,"TAES de TBC",null,null,null,null,null,null,null,null,null,{"$f":"IF(ISERROR(K32/I32),0,(K32/I32)*100)","v":0},null,100]
["Flias Migr. desde AO",null,null,null,null,null,null,{"$f":"IF(ISERROR(AC12/A12),0,(AC12/A12)*100)","v":0},"Casas Tratadas Dengue",null,null,null,null,null,{"$f":"IF(ISERROR(BV45/BR45),0,(BV45/BR45)*100)","v":0},100,null,"2° TV","A HA 1 año",null,"A HA 1 año","A HA 1 año",null,null,1,0,0,0,null,{"$f":"SUM(Y57:AB57)","v":1},{"$f":"IF(ISERROR(Z57/W56),0,(Z57/W56)*100)","v":0},null,null,null,"Emb. con dTpa",null,null,null,null,null,null,null,null,null,6,null,null,1,null,null,0,0,null,null,0,{"$f":"SUM(AV57:BC57)","v":1},null,{"$f":"IF(ISERROR(AY57/AS57),0,(AY57/AS57)*100)","v":0},null,null,null,"Niños < 2 a Riesgo AP",null,null,null,null,null,null,null,null,{"$f":"IF(ISERROR(AT22/AJ22),0,(AT22/AJ22)*100)","v":0},null,null,null,null,"Ptes. con tratamiento por Chagas",null,null,null,null,null,null,null,null,null,{"$f":"S31","v":0}]
["Flias Migr. hacia el AO",null,null,null,null,null,null,{"$f":"IF(ISERROR(AA12/A12),0,(AA12/A12)*100)","v":0},"Superv Int. a la Familia",null,null,null,null,null,{"$f":"IF(ISERROR((CH14*100)/BL14),0,((CH14*100)/BL14))","v":0},20,null,"Unica Dosis A HA",null,null,null,null,null,null,1,0,0,0,null,{"$f":"SUM(Y58:AB58)","v":1},{"$f":"IF(ISERROR(Z58/W56),0,(Z58/W56)*100)","v":0},null,null,null,"Emb. con Vac Sinsicial",null,null,null,null,null,null,null,null,null,null,null,null,0,null,null,0,0,null,null,0,{"$f":"SUM(AV58:BC58)","v":0},null,{"$f":"IF(ISERROR(AY58/AS57),0,(AY58/AS57)*100)","v":0},null,100,null,"Niños < 2 Recup BP",null,null,null,null,null,null,null,null,{"$f":"IF(ISERROR(AV22/K79),0,(AV22/K79)*100)","v":0},null,100,null,null,"Casas positivas Chagas",null,null,null,null,null,null,null,null,null,{"$f":"IF(ISERROR(BE45/BB45),0,(BE45/BB45)*100)","v":0},null,0]
["Flias con planes sociales",null,null,null,null,null,null,{"$f":"IF(ISERROR(AF12/D12),0,(AF12/D12)*100)","v":0},"Superv Prof. Flias Prio (3v)",null,null,null,null,null,{"$f":"IF(ISERROR(CH15/(BB14+BE14)),0,(CH15/(BB14+BE14))*100)","v":0},70,null,"Ref Neumococo 1 año","Ref Neumoc 1 año",null,"Ref Neumoc 1 año","Ref Neumoc 1 año",null,null,1,0,0,0,null,{"$f":"SUM(Y59:AB59)","v":1},{"$f":"IF(ISERROR(Z59/W56),0,(Z59/W56)*100)","v":0},null,null,null,"dT  Vigente > 65 a",null,null,null,null,null,null,null,null,null,17,null,null,0,null,null,0,0,null,null,0,{"$f":"SUM(AV59:BC59)","v":0},null,{"$f":"IF(ISERROR(AY59/AS59),0,(AY59/AS59)*100)","v":0},null,100,null,"Niños < 2 Recup AP",null,null,null,null,null,null,null,null,{"$f":"IF(ISERROR(AY22/K81),0,(AY22/K81)*100)","v":0},null,100,null,null,"Casas Positivas Aedes",null,null,null,null,null,null,null,null,null,{"$f":"IF(ISERROR(BR45/BN45),0,(BR45/BN45)*100)","v":0},null," "]
[null,null,null,null,null,null,null,null,"% Activ Prom.Salud Comunitarias",null,null,null,null,null,{"$f":"IF(ISERROR(CH45/CH43),0,(CH45/CH43)*100)","v":0},100,null,"Ref. Meningococo 1 año","Ref Cuádruple 1 año",null,"Ref Cuádruple 1 año","Ref Cuádruple 1 año",null,null,1,0,0,0,null,{"$f":"SUM(Y60:AB60)","v":1},{"$f":"IF(ISERROR(Z60/W56),0,(Z60/W56)*100)","v":0},null,null,null,"Neumo 20 > 65 años",null,null,null,null,null,null,null,null,null,null,null,null,0,null,null,0,0,null,null,0,{"$f":"SUM(AV60:BC60)","v":0},null,{"$f":"IF(ISERROR(AY60/AS59),0,(AY60/AS59)*100)","v":0},null,null,null,"Niños 2 a 5 Riesgo BP",null,null,null,null,null,null,null,null,{"$f":"IF(ISERROR(AR23/AJ23),0,(AR23/AJ23)*100)","v":0},null,null,null,null,"UROCS 1/SEC",null,null,null,null,null,null,null,null,null,0,null,"1/SEC"]
["Flias. c/Antec Mort Mat Inf",null,null,null,null,null,null,{"$f":"IF(ISERROR(AV10/D12),0,(AV10/D12)*100)","v":0},null,null,null,null,null,null,null,null,null,"Unica Dosis Varicela","Ref SOT 1 año",null,"Ref SOT 1 año","Ref SOT 1 año",null,null,1,0,0,0,null,{"$f":"SUM(Y61:AB61)","v":1},{"$f":"IF(ISERROR(Z61/W56),0,(Z61/W56)*100)","v":0},null,null,null,"Aplic. Cargadas a Nomivac",null,null,null,null,null,null,null,null,null,0,null,null,null,null,null,null,null,null,null,null,null,null,null,null,null,null,null,null,null,null,null,null,null,null,null,null,null,null,null,null,"Flias con Huerta",null,null,null,null,null,null,null,null,null,{"$f":"IF(ISERROR(AL12/D12),0,(AL12/D12)*100)","v":0}]
["F con 3 o más <6 años",null,null,null,null,null,null,{"$f":"IF(ISERROR(BI10/D12),0,(BI10/D12)*100)","v":0}," DE IMPACTO",null,null,null,null,"%",null,"META",null,"4° Dosis o 1° Ref. Pentavalente",null,null,null,null,null,null,1,0,0,0,null,{"$f":"SUM(Y62:AB62)","v":1},{"$f":"IF(ISERROR(Z62/W56),0,(Z62/W56)*100)","v":0},null,null,null,"Total Aplic /AS",null,null,null,null,null,null,null,null,null,0,null,null,null,null,null,null,null,null,null,null,null,null,null,null,null,null,"Niños 2 a 5 Riesgo AP",null,null,null,null,null,null,null,null,{"$f":"IF(ISERROR(AT23/AJ23),0,(AT23/AJ23)*100)","v":0},null,null,null,null,"Flias con Granja",null,null,null,null,null,null,null,null,null,{"$f":"IF(ISERROR(AP12/D12),0,(AP12/D12)*100)","v":0}]
["Flias con Hacinamiento",null,null,null,null,null,null,{"$f":"IF(ISERROR(BL10/D12),0,(BL10/D12)*100)","v":0},"Agua Seg (Trat Red + Viv)",null,null,null,null,{"$f":"IF(ISERROR((AP41+AR41)/D12),0,((AP41+AR41)/D12)*100)","v":0},null,100,null,"2° AG 6m a 24m",null,null,null,null,{"$f":"D91+F91+G91+H91","v":0},null,0,0,0,0,null,{"$f":"SUM(Y63:AB63)","v":0},{"$f":"IF(ISERROR(Z63/W63),0,(Z63/W63)*100)","v":0},null," ",null,"VAC COVID APLIC EN LA RONDA",null,null,null,null,null,null,null,null,null,0,null,null,null,null,null,null,null,null,null,null,null,null,null,null,null,null,"U) A llenar en 1° Ronda del Año"]
["Flias con Analfabet",null,null,null,null,null,null,{"$f":"IF(ISERROR(BO10/D12),0,(BO10/D12)*100)","v":0},"DSE (Arrastre y letrinas)",null,null,null,null,{"$f":"IF(ISERROR((AV41+AX41+AZ41+BB41+BD41)/D12),0,((AV41+AX41+AZ41+BB41+BD41)/D12)*100)","v":0},null,100,null,"R) PRODUCCION Y RENDIMIENTO",null,null,null,null,null,null,null,null,null,null,null,null,null,null,null,null,null,null,null,null,null,null,null,null,null,null,null,null,null,null,null,null,null,null,null,null,null,null,null,null,null,null,null,"Piso",null,null,null,null,"Techo",null,null,null,null,"Paredes",null,null,null,null,null,null,null,null,null,"Cocina",null,null,null,null,"Tenencia"]
["Flias con Suicidio",null,null,null,null,null,null,{"$f":"IF(ISERROR(BT11/D12),0,(BT11/D12)*100)","v":0},"TSB (Recolección + Pozo)",null,null,null,null,{"$f":"IF(ISERROR((BH41+BK41)/D12),0,((BH41+BK41)/D12)*100)","v":0},null,100,null,"DIAS A TRAB. /RONDA",null,null,"DIAS INCLEM CLIMAT.",null,null,"DIAS Y NROS DE ARTICULOS TOMADOS",null,null,null,"CAPACITACIONES Y OTRAS ACTIVIDADES",null,null,null,null,null,null,null,null,null,null,null,null,null,null,null,null,null,null,null,null,null,null,"DIAS TRABAJADOS\nEN TERRENO",null,null,null,null,"PROM. DIARIO DE FLIAS VISIT.",null,null,null,null,null,"Mosaico/B.",null,null,null,0,"Losa",null,null,0,null,"Ladrillo",null,null,0,null,"Madera",null,null,null,0,"Gas",null,null,0,null,"Segura",null,null,0]
["Flias c /tentativa suicidio",null,null,null,null,null,null,{"$f":"IF(ISERROR(BV11/D12),0,(BV11/D12)*100)","v":0},"Emb Adolescente",null,null,null,null,{"$f":"IF(ISERROR(L20/J20),0,(L20/J20)*100)","v":0},null,null,null,null,null,null,null,null,null,0,null,null,null,0,null,null,null,null,null,null,null,null,null,null,0,null,null,null,null,null,null,null,null,null,null,null,null,null,null,null,null,null,null,null,null,null,null,"Cemento",null,null,null,0,"Chapa\nZinc",null,null,0,null,"Bloque",null,null,0,null,"Quincho",null,null,null,0,"Leña/\nCarb",null,null,0,null,"Inseg.",null,null,0]
["Flias con Alcoholismo",null,null,null,null,null,null,{"$f":"IF(ISERROR(BY11/D12),0,(BY11/D12)*100)","v":0},"Niños <2 Bajo Peso/MBP",null,null,null,null,{"$f":"IF(ISERROR((AL22+AN22)/(AJ22+AP22+AL22+AN22)),0,((AL22+AN22)/(AJ22+AP22+AL22+AN22))*100)","v":0},null,null,null,null,null,null,null,null,null,0,null,null,null,0,null,null,null,null,null,null,null,null,null,null,0,null,null,null,null,null,null,null,null,null,null,null,null,null,null,null,null,null,null,null,null,null,null,"Tierra",null,null,null,0,"Paja/\nBarro",null,null,0,null,"Adobe",null,null,0,null,"Carton/Pl",null,null,null,0,"Otros",null,null,0,null,"Hac",null,null,0,null,null,null,5]
["Flias c/ otras Adicciones",null,null,null,null,null,null,{"$f":"IF(ISERROR(CC11/D12),0,(CC11/D12)*100)","v":0},"Niños <2 a AP",null,null,null,null,{"$f":"IF(ISERROR(AP22/(AJ22+AP22+AL22+AN22)),0,(AP22/(AJ22+AP22+AL22+AN22))*100)","v":0},null,null,null,0,null,null,0,null,null,0,null,null,null,0,null,null,null,null,null,null,null,null,null,null,0,null,null,null,null,null,null,null,null,null,null,null,0,null,null,null,null,{"$f":"IF(ISERROR(G12/AY68),0,(G12/AY68))","v":0},null,null,null,null,null,"Otros",null,null,null,0,"Otros",null,null,0,null,"Piedra",null,null,0,null,"Otro",null,null,null,0,"Helad.",null,null,0]
["Flias con VIF",null,null,null,null,null,null,{"$f":"IF(ISERROR(CF11/D12),0,(CF11/D12)*100)","v":0},"Niños < 2 baja y MBT",null,null,null,null,{"$f":"IF(ISERROR((AZ22+BB22)/(AJ22+AP22+AL22+AN22)),0,((AZ22+BB22)/(AJ22+AP22+AL22+AN22))*100)","v":0},null,null,null,"S) DETALLE DE LAS DEFUNCIONES (Todas las del Sector)",null,null,null,null,null,null,null,null,null,null,null,null,null,null,null,null,null,null,null,null,null,null,null,null,null,null,null,null,null,null,null,null,null,null,null,null,null,null,null,null,null,null,null,"Agua",null,"Corriente a Domic",null,null,"Grifo Terr",null,null,"Grifo Público",null,null,"Bomba",null,null,"Pozo",null,null,null,"Camión Aguatero / Cisterna",null,"Vertiente/Rio/Aceq",null,null,"Laguna",null,null,"Lluvia/Aljibe"]
["Flias con Diabetes",null,null,null,null,null,null,{"$f":"IF(ISERROR(AB31/D12),0,(AB31/D12)*100)","v":0},"Niños 2 a 5 Bajo Peso/MBP",null,null,null,null,{"$f":"IF(ISERROR((AL23+AN23)/(AJ23+AP23+AL23+AN23)),0,((AL23+AN23)/(AJ23+AP23+AL23+AN23))*100)","v":0},null,null,null,"APELLIDO Y NOMBRE",null,null,null,null,null,null,"DOMICILIO",null,null,null,null,null,null,null,null,"NACIMIENTO",null,null,null,null,"DEFUNCION",null,null,null,"PESO\nAL NACER",null,null,null,"CAUSA",null,null,null,null,null,null,null,null,null,"CLASIFICAC."]
["Flias con Hipertensión",null,null,null,null,null,null,{"$f":"IF(ISERROR(AB32/D12),0,(AB32/D12)*100)","v":0},"Niños 2 a 5 AP",null,null,null,null,{"$f":"IF(ISERROR(AP23/(AJ23+AP23+AL23+AN23)),0,(AP23/(AJ23+AP23+AL23+AN23))*100)","v":0}]
[]
["Personas con otras enfermedades crónicas al cuidado de niños",null,null,null,null,null,null,{"$f":"IF(ISERROR(AB33/D12),0,(AB33/D12)*100)","v":0},"Niños 2 a 5 baja y MBT",null,null,null,null,{"$f":"IF(ISERROR((AZ23+BB23)/(AJ23+AP23+AL23+AN23)),0,((AZ23+BB23)/(AJ23+AP23+AL23+AN23))*100)","v":0},null,null,null,null,null,null,null,null,null,null,null,null,null,null,null,null,null,null,null,null,null,null,null,null,null,null,null,null,null,null,null,null,null,null,null,null,null,null,null,null,null,null,null,null,null,null,null,null,null,0,null,null,0,null,null,0,null,null,0,null,null,0,null,null,null,0,null,0,null,null,0,null,null,0]
["Pers c/O Social/Pob total",null,null,null,null,null,null,{"$f":"IF(ISERROR(CI27/CC28),0,(CI27/CC28)*100)","v":0}]
[]
[]
[]
[]
["BP+MBP Ronda Anterior Men2a: ",null,null,null,null,null,null,null,null,null,2]
["BP+MBP Ronda Anterior 2 a 6a: ",null,null,null,null,null,null,null,null,null,1]
["AP Ronda Anterior Men2a: ",null,null,null,null,null,null,null,null,null,0]
["AP Ronda Anterior 2 a 6a: ",null,null,null,null,null,null,null,null,null,1]
[]
[]
[]
[]
[]
["0 a 5m",null,null,"6 a 11m",null,null,"1 AÑO",null,"2 AÑOS",null,"3 AÑOS",null,"4 AÑOS",null,null,"5 AÑOS",null,null,"6 AÑOS",null,null,"7 A 9 AÑOS",null,null,null,"10 AÑOS",null,"11 AÑOS",null,null,"12 A 14",null,null,null,null,null,"15 A 19",null,null,"20 A 24",null,null,null,"25 A 29",null,null,null,"30 A 34",null,null,null,"35 A 39",null,null,null,"40 A 44",null,null,null,null,"45 A 49",null,null,null,"50 A 54",null,null,null,"55 A 59",null,null,null,"60 A 64",null,null,null,"65 y +",null,null,null,"TOTAL",null,null,null,null,"MUJERES\n10 A 49"]
["M",null,"F","M",null,"F","M","F","M","F","M","F","M",null,"F","M",null,"F","M",null,"F","M",null,"F",null,"M","F","M",null,"F","M",null,null,"F",null,null,"M","F",null,"M",null,"F",null,"M",null,null,"F","M",null,null,"F","M",null,"F",null,"M",null,null,"F",null,"M",null,"F",null,"M",null,"F",null,"M",null,"F",null,"M",null,"F",null,"M",null,null,"F","M",null,"F"]
[0,null,0,0,null,0,0,0,0,0,0,0,0,null,0,0,null,0,0,null,0,0,null,0,null,0,0,0,null,0,0,null,null,0,null,null,0,0,null,0,null,0,null,0,null,null,0,0,null,null,0,0,null,0,null,0,null,null,0,null,0,null,0,null,0,null,0,null,0,null,0,null,0,null,0,null,0,null,null,0,{"$f":"SUM(A90,D90,G90,I90,K90,M90,P90,S90,V90,Z90,AB90,AE90,AK90,AN90,AR90,AV90,AZ90,BD90,BI90,BM90,BQ90,BU90,BY90)","v":0},null,{"$f":"SUM(C90,F90,H90,J90,L90,O90,R90,U90,X90,AA90,AD90,AH90,AL90,AP90,AU90,AY90,BB90,BG90,BK90,BO90,BS90,BW90,CB90)","v":0},null,null,{"$f":"SUM(AA90,AD90,AH90,AL90,AP90,AU90,AY90,BB90,BG90,BK90)","v":0}]
[{"$f":"SUM(A90:C90)","v":0},null,null,{"$f":"SUM(D90,F90)","v":0},null,null,{"$f":"SUM(G90,H90)","v":0},null,{"$f":"SUM(I90,J90)","v":0},null,{"$f":"SUM(K90,L90)","v":0},null,{"$f":"SUM(M90,O90)","v":0},null,null,{"$f":"SUM(P90,R90)","v":0},null,null,{"$f":"SUM(S90,U90)","v":0},null,null,{"$f":"SUM(V90,X90)","v":0},null,null,null,{"$f":"SUM(Z90,AA90)","v":0},null,{"$f":"SUM(AB90,AD90)","v":0},null,null,{"$f":"SUM(AE90,AH90)","v":0},null,null,null,null,null,{"$f":"SUM(AK90,AL90)","v":0},null,null,{"$f":"SUM(AN90,AP90)","v":0},null,null,null,{"$f":"SUM(AR90,AU90)","v":0},null,null,null,{"$f":"SUM(AV90,AY90)","v":0},null,null,null,{"$f":"SUM(AZ90,BB90)","v":0},null,null,null,{"$f":"SUM(BD90,BG90)","v":0},null,null,null,null,{"$f":"SUM(BI90,BK90)","v":0},null,null,null,{"$f":"SUM(BM90,BO90)","v":0},null,null,null,{"$f":"SUM(BQ90,BS90)","v":0},null,null,null,{"$f":"SUM(BU90,BW90)","v":0},null,null,null,{"$f":"SUM(BY90,CB90)","v":0},null,null,null,{"$f":"A91+D91+G91+I91+K91+M91+P91+S91+V91+Z91+AB91+AE91+AK91+AN91+AR91+AV91+AZ91+BD91+BI91+BM91+BQ91+BU91+BY91","v":0}]
["Mejor Población: 1° - 2019",null,null,null,null,null,null,null,null,null,null,null,null,null,null,null,null,null,null,null,null,null,null,null,null,null,null,null,null,null,null,null,null,null,null,null,null,null,null,null,null,null,null,null,null,null,null,null,null,null,null,null,null,null,null,null,null,null,null,null,null,null,null,null,null,null,null,null,null,null,null,null,null,null,null,null,null,null,null,null,{"$f":"SUM(CC91,CE91)","v":0}]
["Cobertura: 1%"]

{"sheet":"ROBERTO ROMERO","index":32,"n_rows":93,"n_cols":94,"rows_kept":93,"cut":false,"hidden":false,"merged":[[61,30,61,31],[62,30,62,31],[89,85,90,85],[90,0,90,2],[90,3,90,5],[90,6,90,7],[90,8,90,9],[90,10,90,11],[90,12,90,14],[90,15,90,17],[90,18,90,20],[90,21,90,24],[89,70,89,71],[89,72,89,73],[89,74,89,75],[89,76,89,78],[89,80,89,81],[89,82,89,84],[89,58,89,59],[89,51,89,52],[89,53,89,54],[89,55,89,57],[89,23,89,24],[89,27,89,28],[89,30,89,32],[89,33,89,35],[89,37,89,38],[89,39,89,40],[90,72,90,75],[90,76,90,79],[90,80,90,84],[90,47,90,50],[90,51,90,54],[90,55,90,59],[90,60,90,63],[90,64,90,67],[90,68,90,71],[90,25,90,26],[90,27,90,29],[90,30,90,35],[90,36,90,38],[90,39,90,42],[90,43,90,46],[89,0,89,1],[89,3,89,4],[89,12,89,13],[89,15,89,16],[89,18,89,19],[89,21,89,22],[88,62,88,63],[88,64,88,65],[88,66,88,67],[88,68,88,69],[88,70,88,71],[88,72,88,73],[88,47,88,49],[88,51,88,52],[88,53,88,54],[88,55,88,57],[88,58,88,59],[88,60,88,61],[88,30,88,32],[88,33,88,35],[88,37,88,38],[88,39,88,40],[88,41,88,42],[88,43,88,45],[89,60,89,61],[89,62,89,63],[89,64,89,65],[89,66,89,67],[89,68,89,69],[89,41,89,42],[89,43,89,45],[89,47,89,49],[87,80,87,84],[87,85,88,85],[88,0,88,1],[88,3,88,4],[88,12,88,13],[88,15,88,16],[88,18,88,19],[88,21,88,22],[88,23,88,24],[88,27,88,28],[87,55,87,59],[87,60,87,63],[87,64,87,67],[87,68,87,71],[87,72,87,75],[87,76,87,79],[87,30,87,35],[87,36,87,38],[87,39,87,42],[87,43,87,46],[87,47,87,50],[87,51,87,54],[87,12,87,14],[87,15,87,17],[87,18,87,20],[87,21,87,24],[87,25,87,26],[87,27,87,29],[88,74,88,75],[88,76,88,78],[88,80,88,81],[88,82,88,84],[75,17,75,23],[75,24,75,32],[75,38,75,41],[75,42,75,45],[75,46,75,55],[87,0,87,2],[87,3,87,5],[87,6,87,7],[87,8,87,9],[87,10,87,11],[73,42,73,45],[73,46,73,55],[73,56,73,60],[74,17,74,23],[74,24,74,32],[74,38,74,41],[74,42,74,45],[74,46,74,55],[72,75,73,78],[72,79,73,80],[72,81,73,83],[72,84,73,86],[72,87,73,89],[73,0,73,6],[73,17,73,23],[73,24,73,32],[73,33,73,37],[73,38,73,41],[72,46,72,55],[72,56,72,60],[72,63,73,65],[72,66,73,68],[72,69,73,71],[72,72,73,74],[71,56,71,60],[72,0,72,6],[72,8,73,12],[72,13,73,14],[72,15,73,16],[72,17,72,23],[72,24,72,32],[72,33,72,37],[72,38,72,41],[72,42,72,45],[68,87,71,89],[68,69,71,71],[68,72,71,74],[68,75,71,78],[68,79,71,80],[68,81,71,83],[71,46,71,55],[69,46,69,55],[69,56,69,60],[70,0,71,6],[70,7,71,7],[70,8,71,12],[70,13,71,14],[70,15,71,16],[70,17,70,23],[70,24,70,32],[70,33,70,37],[69,0,69,6],[69,8,69,12],[69,13,69,14],[69,15,69,16],[69,17,69,23],[69,24,69,32],[69,33,69,37],[69,38,69,41],[69,42,69,45],[68,84,71,86],[67,81,67,83],[67,84,67,85],[68,0,68,6],[68,8,68,12],[68,13,68,14],[68,15,68,16],[68,17,68,60],[68,61,73,62],[68,63,71,65],[68,66,71,68],[67,61,67,64],[67,66,67,68],[67,69,67,70],[67,71,67,73],[67,74,67,75],[67,76,67,79],[67,20,67,22],[67,23,67,26],[67,27,67,37],[67,38,67,49],[67,50,67,54],[67,55,67,60],[70,38,70,41],[70,42,70,45],[70,46,70,55],[70,56,70,60],[71,17,71,23],[71,24,71,32],[71,33,71,37],[71,38,71,41],[71,42,71,45],[63,0,63,6],[63,8,63,12],[63,13,63,14],[63,15,63,16],[63,17,63,60],[63,61,63,65],[63,66,63,70],[63,71,63,80],[63,81,63,85],[66,69,66,70],[66,71,66,73],[66,74,66,75],[65,76,65,79],[65,81,65,83],[65,84,65,85],[65,86,65,88],[66,0,66,6],[66,8,66,12],[66,13,66,14],[66,15,66,16],[66,23,66,26],[66,27,66,37],[65,15,65,16],[65,23,65,26],[65,27,65,37],[65,38,65,49],[64,55,66,60],[64,61,64,64],[64,66,64,68],[64,69,64,70],[64,74,64,75],[64,86,64,88],[64,20,66,22],[64,23,64,26],[64,27,64,49],[64,50,66,54],[65,0,65,6],[65,8,65,12],[65,13,65,14],[66,86,67,88],[66,89,67,89],[67,0,67,6],[67,8,67,12],[67,13,67,14],[67,15,67,16],[67,17,67,19],[66,38,66,49],[66,61,66,64],[66,66,66,68],[64,76,64,79],[65,61,65,64],[65,66,65,68],[65,69,65,70],[65,74,65,75],[66,76,66,79],[66,81,66,83],[66,84,66,85],[62,0,62,6],[62,8,62,12],[62,13,62,14],[62,15,62,16],[62,32,62,33],[62,34,62,43],[64,81,64,83],[64,84,64,85],[61,87,61,89],[61,32,61,33],[61,34,61,43],[61,44,61,60],[62,44,62,60],[60,87,60,89],[61,0,61,6],[61,8,61,12],[61,13,61,14],[61,15,61,16],[60,0,60,6],[60,17,60,21],[60,27,60,28],[60,30,60,31],[60,34,60,43],[60,44,60,60],[63,86,63,89],[64,0,64,6],[64,8,64,12],[64,13,64,14],[64,15,64,16],[64,17,66,19],[60,75,60,84],[60,85,60,86],[62,61,62,89],[58,75,58,84],[58,85,58,86],[59,61,60,69],[59,70,60,71],[59,72,60,74],[59,75,59,84],[58,34,58,43],[58,44,59,46],[58,47,58,49],[58,51,58,53],[58,55,58,56],[58,57,58,58],[59,55,59,56],[59,57,59,58],[61,61,61,69],[61,70,61,71],[61,72,61,74],[61,75,61,84],[61,85,61,86],[57,87,57,89],[58,0,59,6],[58,7,59,7],[58,8,58,13],[58,15,58,16],[58,17,58,21],[58,27,58,28],[58,30,58,31],[57,55,57,56],[57,57,57,58],[57,59,57,60],[57,61,57,69],[57,70,57,71],[57,72,57,74],[59,85,59,86],[59,87,59,89],[57,47,57,49],[57,51,57,53],[58,87,58,89],[59,8,60,13],[59,14,60,14],[59,15,60,16],[59,17,59,21],[59,27,59,28],[59,30,59,31],[59,34,59,43],[59,47,59,49],[59,51,59,53],[58,59,59,60],[58,61,58,69],[58,70,58,71],[58,72,58,74],[56,27,56,28],[56,30,56,31],[56,34,56,43],[56,44,57,46],[56,47,56,49],[55,59,56,60],[55,61,55,69],[55,70,55,71],[55,72,55,74],[55,75,55,84],[55,85,55,86],[56,75,56,84],[56,85,56,86],[55,34,55,43],[55,44,55,46],[55,47,55,49],[55,51,55,53],[55,55,55,56],[55,57,55,58],[57,75,57,84],[57,85,57,86],[55,0,55,6],[55,8,55,13],[55,15,55,16],[55,17,55,21],[55,27,55,28],[55,30,55,31],[55,32,60,33],[54,47,54,49],[54,51,54,53],[54,55,54,56],[54,57,54,58],[54,61,54,69],[54,70,54,71],[56,87,56,89],[57,0,57,6],[57,8,57,13],[57,15,57,16],[57,17,57,21],[57,27,57,28],[57,30,57,31],[57,34,57,43],[56,51,56,53],[56,55,56,56],[56,57,56,58],[56,61,56,69],[56,70,56,71],[56,72,56,74],[55,87,55,89],[56,0,56,6],[56,8,56,13],[56,15,56,16],[56,17,56,21],[53,87,53,89],[54,0,54,6],[54,8,54,13],[54,15,54,16],[54,17,54,21],[54,27,54,28],[54,30,54,31],[54,34,54,43],[54,44,54,46],[53,57,53,58],[53,59,54,60],[53,61,53,69],[53,70,53,71],[53,72,53,74],[53,75,53,84],[54,72,54,74],[54,75,54,84],[54,85,54,86],[54,87,54,89],[51,75,51,84],[51,85,51,86],[51,87,51,89],[52,0,52,6],[52,8,52,13],[52,15,52,16],[52,17,52,21],[52,27,52,28],[52,30,52,31],[51,51,51,53],[51,55,51,56],[51,57,51,58],[51,59,52,60],[51,61,51,69],[51,70,51,71],[52,61,52,69],[52,70,52,71],[52,72,52,74],[52,75,52,84],[52,85,52,86],[52,87,52,89],[52,34,52,43],[52,44,53,46],[52,47,52,49],[52,51,52,53],[52,55,52,56],[52,57,52,58],[53,34,53,43],[53,47,53,49],[53,51,53,53],[53,55,53,56],[53,85,53,86],[51,0,51,6],[51,8,51,13],[51,15,51,16],[51,17,51,21],[51,27,51,28],[51,30,51,31],[51,34,51,43],[51,47,51,49],[50,34,50,43],[50,47,50,49],[50,51,50,53],[50,55,50,56],[50,57,50,58],[50,61,50,69],[49,72,49,74],[48,44,51,46],[48,47,48,49],[48,51,48,53],[49,47,49,49],[49,51,49,53],[50,30,50,31],[50,32,54,33],[51,72,51,74],[53,0,53,6],[53,8,53,13],[53,15,53,16],[53,17,53,21],[53,27,53,28],[53,30,53,31],[48,85,48,86],[48,87,48,89],[49,0,49,5],[49,8,49,13],[49,15,49,16],[49,17,49,21],[49,27,49,28],[49,30,49,31],[49,34,49,43],[48,55,48,56],[48,57,48,58],[48,59,50,60],[48,61,48,69],[48,70,48,71],[48,72,48,74],[49,55,49,56],[49,57,49,58],[49,61,49,69],[49,70,49,71],[48,30,48,31],[48,32,49,33],[48,34,48,43],[50,70,50,71],[50,72,50,74],[47,72,47,74],[47,75,47,84],[47,85,47,86],[47,87,47,89],[48,0,48,5],[48,8,48,13],[48,15,48,16],[48,17,48,21],[48,22,49,23],[48,27,48,28],[47,51,47,53],[47,55,47,56],[47,57,47,58],[47,59,47,60],[47,61,47,69],[47,70,47,71],[47,27,47,28],[47,30,47,31],[47,32,47,33],[47,34,47,43],[47,44,47,46],[47,47,47,49],[49,75,50,84],[49,85,50,86],[49,87,50,89],[50,0,50,6],[50,8,50,13],[50,15,50,16],[50,17,50,21],[50,22,54,23],[50,27,50,28],[48,75,48,84],[46,70,46,71],[46,72,46,74],[46,75,46,84],[46,85,46,86],[46,87,46,89],[47,0,47,5],[47,8,47,13],[47,15,47,16],[47,17,47,21],[47,22,47,23],[46,0,46,5],[46,8,46,13],[46,15,46,16],[46,17,46,33],[46,34,46,60],[46,61,46,69],[44,65,44,68],[44,69,44,72],[44,73,44,76],[44,77,44,84],[44,85,44,89],[45,0,45,89],[42,23,44,23],[42,24,44,25],[42,26,44,27],[42,28,44,29],[42,30,44,31],[42,32,44,33],[42,17,44,17],[42,18,44,18],[42,19,44,19],[42,20,44,20],[42,73,43,76],[42,77,43,84],[42,85,43,89],[44,41,44,45],[44,46,44,48],[44,49,44,50],[44,51,44,52],[44,53,44,55],[44,56,44,60],[44,61,44,64],[42,51,43,52],[42,53,43,55],[42,56,43,60],[42,61,43,64],[42,65,43,68],[42,69,43,72],[42,34,44,35],[42,36,44,38],[42,39,44,40],[42,41,43,45],[42,46,43,48],[42,49,43,50],[42,21,44,21],[42,22,44,22],[42,10,44,11],[42,12,44,12],[42,13,44,13],[42,14,44,14],[42,15,44,15],[42,16,44,16],[40,86,40,89],[41,41,41,52],[41,53,41,64],[41,65,41,76],[41,77,41,89],[42,0,44,1],[42,2,44,3],[42,4,44,5],[42,6,44,7],[42,8,44,9],[40,66,40,68],[40,69,40,71],[40,72,40,75],[40,76,40,79],[40,80,40,81],[40,82,40,85],[40,51,40,52],[40,53,40,54],[40,55,40,56],[40,57,40,58],[40,59,40,61],[40,62,40,65],[40,36,41,38],[40,39,41,40],[40,41,40,42],[40,43,40,45],[40,47,40,48],[40,49,40,50],[40,24,41,25],[40,26,41,27],[40,28,41,29],[40,30,41,31],[40,32,41,33],[40,34,41,35],[40,18,41,18],[40,19,41,19],[40,20,41,20],[40,21,41,21],[40,22,41,22],[40,23,41,23],[40,12,41,12],[40,13,41,13],[40,14,41,14],[40,15,41,15],[40,16,41,16],[40,17,41,17],[40,0,41,1],[40,2,41,3],[40,4,41,5],[40,6,41,7],[40,8,41,9],[40,10,41,11],[38,66,39,68],[38,69,39,71],[38,72,39,75],[38,76,39,79],[39,12,39,13],[39,14,39,15],[39,16,39,17],[39,18,39,19],[39,47,39,48],[39,49,39,50],[38,46,39,46],[38,47,38,52],[38,53,38,56],[38,57,39,58],[38,59,39,61],[38,62,39,65],[39,51,39,52],[39,53,39,54],[39,55,39,56],[38,24,39,27],[38,28,39,31],[38,32,39,35],[38,36,39,40],[38,41,39,42],[38,43,39,45],[38,0,39,3],[36,41,36,68],[36,69,36,89],[37,41,37,46],[37,47,37,58],[37,59,37,68],[37,69,37,79],[37,80,39,81],[37,82,39,85],[37,86,39,89],[34,10,34,11],[34,12,35,14],[34,21,35,26],[34,27,35,32],[35,3,35,5],[35,6,35,7],[35,8,35,9],[35,10,35,11],[34,0,35,2],[34,3,34,5],[34,6,34,7],[34,8,34,9],[31,21,31,26],[31,27,31,29],[31,30,31,32],[32,0,32,2],[32,3,32,4],[32,8,32,9],[32,10,32,11],[32,21,33,26],[32,27,33,29],[32,30,33,32],[38,4,39,7],[38,8,39,11],[38,12,38,19],[38,20,39,21],[38,22,39,23],[36,0,37,40],[30,21,30,26],[30,27,30,29],[30,30,30,32],[31,0,31,2],[31,3,31,4],[31,8,31,9],[31,10,31,11],[31,12,32,14],[31,15,32,17],[31,18,32,20],[29,30,29,32],[29,33,35,89],[30,0,30,2],[30,3,30,5],[30,6,30,7],[30,8,30,9],[30,10,30,11],[30,12,30,14],[30,15,30,17],[30,18,30,20],[29,0,29,2],[29,3,29,7],[29,8,29,14],[29,15,29,20],[29,21,29,26],[29,27,29,29],[33,0,33,2],[33,3,33,7],[33,8,33,11],[33,12,33,14],[33,15,35,17],[33,18,35,20],[27,64,27,67],[27,68,27,71],[27,72,27,75],[27,76,27,79],[27,80,27,84],[28,0,28,14],[28,15,28,20],[28,21,28,32],[27,39,27,42],[27,43,27,46],[27,47,27,50],[27,51,27,54],[27,55,27,59],[27,60,27,63],[27,18,27,20],[27,21,27,24],[27,25,27,26],[27,27,27,29],[27,30,27,35],[27,36,27,38],[22,12,22,15],[22,16,22,19],[22,20,22,23],[22,24,22,28],[26,85,27,85],[26,86,27,87],[26,88,27,89],[27,0,27,2],[27,3,27,5],[27,6,27,7],[27,8,27,9],[27,10,27,11],[27,12,27,14],[27,15,27,17],[26,70,26,71],[26,72,26,73],[26,74,26,75],[26,76,26,78],[26,80,26,81],[26,82,26,84],[26,58,26,59],[26,60,26,61],[26,62,26,63],[26,64,26,65],[26,66,26,67],[26,68,26,69],[26,41,26,42],[26,43,26,45],[26,47,26,49],[26,51,26,52],[26,53,26,54],[26,55,26,57],[26,37,26,38],[26,39,26,40],[26,0,26,1],[26,3,26,4],[26,12,26,13],[26,15,26,16],[26,18,26,19],[26,21,26,22],[25,64,25,65],[25,66,25,67],[25,68,25,69],[25,70,25,71],[25,72,25,73],[25,74,25,75],[25,51,25,52],[25,53,25,54],[25,55,25,57],[25,58,25,59],[25,60,25,61],[25,62,25,63],[25,33,25,35],[25,37,25,38],[25,39,25,40],[25,41,25,42],[25,43,25,45],[25,47,25,49],[25,30,25,32],[26,23,26,24],[26,27,26,28],[26,30,26,32],[26,33,26,35],[24,88,25,89],[25,0,25,1],[25,3,25,4],[25,12,25,13],[25,15,25,16],[25,18,25,19],[25,21,25,22],[25,23,25,24],[25,27,25,28],[24,68,24,71],[24,72,24,75],[24,76,24,79],[24,80,24,84],[24,85,25,85],[24,86,25,87],[25,76,25,78],[25,80,25,81],[25,82,25,84],[24,43,24,46],[24,47,24,50],[24,51,24,54],[24,55,24,59],[24,60,24,63],[24,64,24,67],[24,21,24,24],[24,25,24,26],[24,27,24,29],[24,30,24,35],[24,36,24,38],[24,39,24,42],[21,76,21,79],[22,76,22,79],[21,43,21,44],[21,45,21,46],[21,47,21,49],[21,51,21,52],[21,53,21,54],[21,56,21,57],[21,12,21,15],[21,16,21,19],[21,29,21,31],[21,32,21,34],[21,41,21,42],[23,0,23,89],[24,0,24,2],[24,3,24,5],[24,6,24,7],[24,8,24,9],[24,10,24,11],[24,12,24,14],[24,15,24,17],[24,18,24,20],[22,51,22,52],[22,53,22,54],[22,56,22,57],[22,58,22,60],[22,61,22,62],[22,63,22,65],[22,37,22,38],[22,39,22,40],[22,41,22,42],[21,0,22,2],[22,29,22,31],[22,32,22,34],[22,35,22,36],[21,58,21,60],[21,61,21,62],[21,63,21,65],[21,66,22,73],[22,43,22,44],[22,45,22,46],[22,47,22,49],[19,68,20,69],[19,70,20,71],[19,72,20,73],[17,29,20,31],[17,32,20,34],[17,35,20,36],[19,74,20,75],[17,37,20,38],[17,39,20,40],[17,41,20,42],[21,74,22,75],[19,76,20,79],[19,51,20,52],[19,53,20,54],[19,55,20,55],[19,58,20,60],[19,61,20,62],[19,66,20,67],[17,63,20,65],[16,66,18,67],[16,68,18,69],[16,70,18,71],[16,72,18,73],[16,74,18,75],[16,76,18,79],[19,45,20,46],[19,47,20,49],[19,50,20,50],[17,43,18,46],[17,47,18,50],[17,51,18,55],[17,56,20,57],[17,58,18,62],[19,43,20,44],[11,0,14,2],[16,0,18,2],[16,6,18,6],[16,7,18,7],[16,8,18,8],[16,9,18,9],[16,10,18,10],[16,11,18,11],[16,12,18,13],[16,14,18,15],[16,16,16,17],[16,18,18,19],[19,18,19,19],[19,20,19,21],[19,23,19,24],[19,25,19,26],[19,27,19,28],[17,16,18,16],[17,17,18,17],[17,22,18,22],[17,23,18,24],[17,25,18,26],[17,27,18,28],[14,85,14,89],[15,12,15,19],[15,20,15,28],[15,29,15,65],[15,66,15,75],[11,28,14,30],[11,31,14,36],[11,37,14,40],[11,41,14,46],[11,47,11,68],[11,69,11,89],[11,14,14,16],[11,17,14,18],[11,3,14,5],[11,6,14,7],[11,8,14,9],[11,10,14,11],[11,12,14,13],[13,75,13,78],[13,79,13,80],[12,85,12,89],[13,47,13,52],[13,63,13,68],[13,69,13,74],[12,47,12,52],[12,63,12,68],[12,53,12,55],[12,56,12,59],[12,60,12,62],[13,53,13,55],[14,53,14,55],[14,56,14,59],[14,60,14,62],[11,19,14,20],[11,21,14,23],[11,24,14,25],[11,26,14,27],[9,69,9,72],[9,73,9,74],[9,76,9,78]],"merged_total":1135,"flags":["merged_cut"]}
[null,null,null,null,null,null,null,null,null,null,null,null,null,null,null,null,null,null,null,null,null,null,null,null,null,null,null,"DIRECCION - PROGRAMA  APS \nSUBSECRETARIA DE MEDICINA SOCIAL\nRONDA N°: 192   AÑO: 2025",null,null,null,null,null,null,null,null,null,null,null,null,null,null,null,null,null,null,null,null,null,null,null,null,null,null,"1r","2r","3r",null,"4r",null,"T",null,null,null,null,null,null,null,null,null,null,null,null,null,null,null,null,null,null,null,"Informe y orden de Ronda: ",6,null,null,null,null,2]
[null,null,null,null,null,null,null,"Area Operativa N°: ",4,null,null,null,null,null,"Nombre: ","MORILLO",null,null,null,null,null,null,null,null,null,null,null,null,null,null,null,null,null,null,null,null,null,null,null,null,null,null,null,null,null,null,"Mort. Mater. Acum. Año",null,null,null,null,null,null,null,0,{"$f":"CE41","v":0},0,null,{"$f":"CE41","v":0},null,{"$f":"SUM(BC2:BG2)","v":0},null,null,null,null,"Sector:",null,"ROBERTO ROMERO",null,null,null,null,null,null,null,null,null,null,null,null,null,null,null,null,null,"N°",24]
[null,null,null,null,null,null,null,null,null,null,null,null,null,null,null,null,null,null,null,null,null,null,null,null,null,null,null,null,null,null,null,null,null,null,null,null,null,null,null,null,null,null,null,null,null,null,"Mort. 0-1 año Acum Año",null,null,null,null,null,null,null,0,{"$f":"BR41+BU41+BY41","v":0},0,null,{"$f":"BR41+BU41+BY41","v":0},null,{"$f":"SUM(BC3:BG3)","v":0},null,null,null,null,null,"Etnia: ","CRIOLLO",null,null,null,null,null,null,null,null,null,null,null,null,null,null,null,null,null,"Sector Riesgo:"]
[null,null,null,null,null,null,null,"Establec. Base: ","HOSPITAL MORILLO",null,null,null,null,null,null,null,null,null,null,null,null,null,null,null,null,null,null,null,null,null,null,null,null,null,null,null,null,null,null,null,null,null,null,null,null,null,"Mort. 1-4 años Acum Año",null,null,null,null,null,null,null,0,{"$f":"CC41","v":0},0,null,{"$f":"CC41","v":0},null,{"$f":"SUM(BC4:BG4)","v":0},null,null,null,null,null,null,null,null,null,null,null,null,"Desde: ","07/03/2025",null,null,null,null,null,null,null,null,"Hasta: ","05/06/2026"]
[null,null,null,null,null,null,null,null,null,null,null,null,null,null,null,null,null,null,null,null,null,null,null,null,null,null,null,null,null,null,null,null,null,null,null,null,null,null,null,null,null,null,null,null,null,null,null,null,null,null,null,null,null,null,null,null,null,null,null,null,null,null,null,null,null,null,null,null,null,null,null,null,null,null,null,null,null,null,null,"Cobertura: ","CUBIERTO"]
[null,null,null,null,null,null,null,"Sup. Intermedio: ","MIGUEL CORREA",null,null,null,null,null,null,null,null,null,null,null,null,null,null,null,null,null,null,null,null,null,null,null,"Responsable A.P.S.: ","Dr. Abel Ibarra",null,null,null,null,null,null,null,null,null,null,null,null,null,null,null,null,null,null,null,null,null,null,"Agente Sanitario: ","Villagra, Mirna B.",null,null,null,null,null,null,null,null,null,null,null,null,null,null,null,null,"Sit. Revista: ","PLANTA PERMANENTE",null,null,null,null,null,"Reg. Horario: ","30 HS."]
[]
["A) FAMILIAS VISITADAS EN LA RONDA",null,null,null,null,null,null,null,null,null,null,null,null,null,null,null,null,null,null,null,null,null,null,null,null,null,null,null,null,null,null,null,null,null,null,null,null,null,null,null,null,null,null,null,null,null,null,"B) FACTORES DE PRIORIZACION DE VISITAS"]
["ASIGNADAS",null,null,"VISITADAS",null,null,"TOTAL\nVISITAS",null,"NO VISITADAS",null,null,null,null,null,null,null,null,"FLIAS ORIG.",null,"FLIAS. URB.",null,"FLIAS. PERIURB",null,null,"FLIAS. RURALES",null,"GOLON\nMIGRANTES",null,null,null,null,"FLIAS. CON PL. SOCIALES",null,null,null,null,null,"PRODUCCION\nFAMILIAR",null,null,null,null,null,null,null,null,null,1,null,2,null,3,null,null,4,null,5,null,6,null,7,null,null,8,null,null,9,null,null,10,null,null,null,11,null,null,12,null,null,null,13,null,null,14,null,null,15]
[null,null,null,null,null,null,null,null,"RECHAZO TOTAL",null,"AUSEN\n-TE",null,"NO VISITADAS",null,"TOT NO VISIT.",null,null,null,null,null,null,null,null,null,null,null,"HACIA\nEL AO",null,"DESDE\nEL AO",null,null,null,null,null,null,null,null,"HUERTA",null,null,null,"GRANJA",null,null,null,null,null,0,null,0,null,0,null,null,0,null,0,null,0,null,0,null,null,0,null,null,0,null,null,"Total",null,null,null,"Tot",null,"Trat","Tot.",null,null,"Trat.","Tot.","Trat.",null,"Tot.",null,"Trat","Total"]
[null,null,null,null,null,null,null,null,null,null,0,null,null,null,null,null,null,null,null,null,null,null,null,null,null,null,null,null,null,null,null,null,null,null,null,null,null,null,null,null,null,null,null,null,null,null,null,null,null,null,null,null,null,null,null,null,null,null,null,null,null,null,null,null,null,null,null,null,null,0,null,null,null,0,null,0,0,null,null,0,0,0,null,0,null,0,0]
[0,null,null,0,null,null,0,null,0,null,0,null,0,null,{"$f":"M12+K12+I12","v":0},null,null,0,null,0,null,0,null,null,0,null,0,null,0,null,null,0,null,null,null,null,null,0,null,null,null,0,null,null,null,null,null,"C) VISITAS A FLIAS. PRIORIZADAS",null,null,null,null,null,null,null,null,null,null,null,null,null,null,null,null,null,null,null,null,null,"D) SUPERV. A FLIAS. "]
[null,null,null,null,null,null,null,null,null,null,null,null,null,null,null,null,null,null,null,null,null,null,null,null,null,null,null,null,null,null,null,null,null,null,null,null,null,null,null,null,null,null,null,null,null,null,null,"PRIORIDAD",null,null,null,null,null,1,null,null,2,null,null,null,3,null,null,"Total",null,null,null,null,null,"PRIORIDAD",null,null,null,null,null,1,null,null,null,2,null,3,null,null,null,"TOTAL"]
[null,null,null,null,null,null,null,null,null,null,null,null,null,null,null,null,null,null,null,null,null,null,null,null,null,null,null,null,null,null,null,null,null,null,null,null,null,null,null,null,null,null,null,null,null,null,null,"N° FAMILIAS",null,null,null,null,null,0,null,null,0,null,null,null,0,null,null,{"$f":"SUM(BB14:BI14)","v":0},null,null,null,null,null,"INTERMEDIA",null,null,null,null,null,0,null,null,null,0,null,0,null,null,null,{"$f":"SUM(BX14:CD14)","v":0}]
[null,null,null,null,null,null,null,null,null,null,null,null,null,null,null,null,null,null,null,null,null,null,null,null,null,null,null,null,null,null,null,null,null,null,null,null,null,null,null,null,null,null,null,null,null,null,null,"VISITAS",null,null,null,null,null,0,null,null,0,null,null,null,0,null,null,{"$f":"SUM(BB15:BI15)","v":0},null,null,null,null,null,"PROFESIONAL",null,null,null,null,null,0,null,null,null,0,null,0,null,null,null,{"$f":"SUM(BX15:CB15)","v":0}]
[null,null,null,null,null,"F) EMBARAZADAS",null,null,null,null,null,null,"G) PARTOS",null,null,null,null,null,null,null,"H) R.N. EN LA RONDA",null,null,null,null,null,null,null,null,"I) EVALUACION ANTROPOMETRICA",null,null,null,null,null,null,null,null,null,null,null,null,null,null,null,null,null,null,null,null,null,null,null,null,null,null,null,null,null,null,null,null,null,null,null,null,"NIÑ MBP/BP/RBP CTRL. INT.",null,null,null,null,null,null,null,null,null,"LACT. MATERNA"]
["PAP",null,null,0,null,"CAPT. 1er TRIMESTRE","ESP EN EL AÑO","ACUMULADAS","NUEVAS\nRONDA","TOTAL","DE RIESGO","<19 Años","TOTAL",null,"HOSPITALARIOS",null,"DOMIC.",null,"N° PUERPERAS",null,"NACIDOS VIVOS",null,"P AL NACER",null,null,null,null,null,null,"NIÑOS CONTROLADOS",null,null,null,null,null,null,null,null,null,null,null,null,null,null,null,null,null,null,null,null,null,null,null,null,null,null,null,null,null,null,null,null,null,null,null,null,"MELAN",null,"MED",null,"ENF.",null,"LAB",null,"NUTR",null,"< 6 M EN LA RONDA",null,null,null,{"$f":"CC20+CC22+CC23","v":0}]
[null,null,null,null,null,null,null,null,null,null,null,null,null,null,null,null,"DOM","ASIS",null,null,null,null,"ALTO PESO","ADEC",null,"BAJO PESO",null,"MB\nPESO",null,"EDAD",null,null,"A CONTROLAR",null,null,"ADECUADO",null,"BP\nBAJO PESO",null,"MBP\nMUY B. PESO",null,"ALTO PESO",null,"RIESGO",null,null,null,"RECUPERADOS",null,null,null,"TALLA / EDAD",null,null,null,null,"NUEVOS\nEPISODIOS",null,"PERDIDOS",null,null,null,null,"FALLECIDOS\nC/ANTEC. ANTROPOM."]
[]
["Antic.",null,null,0,null,0,{"$f":"IF(ISERROR(((CC92*1.8)/100)),0,(((CC92*1.8)/100)))","v":0},0,0,{"$f":"SUM(F23:L23)","v":0},0,0,{"$f":"O20+Q20+R20","v":0},null,0,null,0,0,0,null,{"$f":"W20+X20+Z20+AB20","v":0},null,0,0,null,0,null,0,null,null,null,null,null,null,null,null,null,null,null,null,null,null,null,"BP",null,"AP",null,"BP",null,null,"AP","BT",null,"MBT",null,"RGO\nBT",null,null,"BP\nMBP",null,null,"A.P.",null,null,null,null,0,null,0,null,0,null,0,null,0,null,"EXCLUSIVO",null,null,null,0]
[null,null,null,null,null,"CONTROLES",null,null,null,null,null,null," ",null,null,null,null,null,null,null,"PREMATUROS",null,null,null,"PESQUISA"]
["Aborto",null,null,0,null,"MELON",null,"MEL","MED","ENF","LAB","S/C","PUERP",null,null,null,"R.N.",null,null,null,null,null,null,null,null,null,null,null,null,"< 2 años",null,null,{"$f":"A27+C27+D27+F27+G27+H27","v":0},null,null,0,null,0,null,0,null,0,null,0,null,0,null,0,null,null,0,0,null,0,null,0,0,null,0,null,null,0,null,0,null,null,"CONTROLES EN DOMIC. NIÑO BP o MBP",null,null,null,null,null,null,null,0,null,"MIXTA",null,null,null,0]
[null,null,null,null,null,0,null,0,0,0,0,0,0,null,null,null,0,null,null,null,0,null,null,null,0,null,null,null,null,"2 a 6 años",null,null,{"$f":"I27+J27+K27+L27+M27+O27+P27+R27","v":0},null,null,0,null,0,null,0,null,0,null,0,null,0,null,0,null,null,0,0,null,0,null,0,0,null,0,null,null,0,null,0,null,null,null,null,null,null,null,null,null,null,null,null,"ARTIF",null,null,null,0]
["J) DATOS DE POBLACION"]
["0 a 5m",null,null,"6 a 11m",null,null,"1 AÑO",null,"2 AÑOS",null,"3 AÑOS",null,"4 AÑOS",null,null,"5 AÑOS",null,null,"6 AÑOS",null,null,"7 A 9 AÑOS",null,null,null,"10 AÑOS",null,"11 AÑOS",null,null,"12 A 14",null,null,null,null,null,"15 A 19",null,null,"20 A 24",null,null,null,"25 A 29",null,null,null,"30 A 34",null,null,null,"35 A 39",null,null,null,"40 A 44",null,null,null,null,"45 A 49",null,null,null,"50 A 54",null,null,null,"55 A 59",null,null,null,"60 A 64",null,null,null,"65 y +",null,null,null,"TOTAL",null,null,null,null,"MUJERES\n10 A 49","O. SOCIAL",null,"INDOCUM"]
["M",null,"F","M",null,"F","M","F","M","F","M","F","M",null,"F","M",null,"F","M",null,"F","M",null,"F",null,"M","F","M",null,"F","M",null,null,"F",null,null,"M","F",null,"M",null,"F",null,"M",null,null,"F","M",null,null,"F","M",null,"F",null,"M",null,null,"F",null,"M",null,"F",null,"M",null,"F",null,"M",null,"F",null,"M",null,"F",null,"M",null,null,"F","M",null,"F"]
[0,null,0,0,null,0,0,0,0,0,0,0,0,null,0,0,null,0,0,null,0,0,null,0,null,0,0,0,null,0,0,null,null,0,null,null,0,0,null,0,null,0,null,0,null,null,0,0,null,null,0,0,null,0,null,0,null,null,0,null,0,null,0,null,0,null,0,null,0,null,0,null,0,null,0,null,0,null,null,0,{"$f":"BY27+BU27+BQ27+BM27+BI27+BD27+AZ27+AV27+AR27+AN27+AK27+AE27+AB27+Z27+V27+S27+P27+M27+K27+I27+G27+D27+A27","v":0},null,{"$f":"CB27+BW27+BS27+BO27+BK27+BG27+BB27+AY27+AU27+AP27+AL27+AH27+AD27+AA27+X27+U27+R27+O27+L27+J27+H27+F27+C27","v":0},null,null,{"$f":"BK27+BG27+BB27+AY27+AU27+AP27+AL27+AH27+AD27+AA27","v":0},0,null,0]
[{"$f":"A27+C27","v":0},null,null,{"$f":"D27+F27","v":0},null,null,{"$f":"G27+H27","v":0},null,{"$f":"I27+J27","v":0},null,{"$f":"K27+L27","v":0},null,{"$f":"M27+O27","v":0},null,null,{"$f":"P27+R27","v":0},null,null,{"$f":"S27+U27","v":0},null,null,{"$f":"V27+X27","v":0},null,null,null,{"$f":"Z27+AA27","v":0},null,{"$f":"AB27+AD27","v":0},null,null,{"$f":"AE27+AH27","v":0},null,null,null,null,null,{"$f":"AL27+AK27","v":0},null,null,{"$f":"AN27+AP27","v":0},null,null,null,{"$f":"AR27+AU27","v":0},null,null,null,{"$f":"AV27+AY27","v":0},null,null,null,{"$f":"AZ27+BB27","v":0},null,null,null,{"$f":"BD27+BG27","v":0},null,null,null,null,{"$f":"BI27+BK27","v":0},null,null,null,{"$f":"BM27+BO27","v":0},null,null,null,{"$f":"BQ27+BS27","v":0},null,null,null,{"$f":"BU27+BW27","v":0},null,null,null,{"$f":"BY27+CB27","v":0},null,null,null,{"$f":"CC27+CE27","v":0}]
["K) TUBERCULOSIS ",null,null,null,null,null,null,null,null,null,null,null,null,null,null," CHAGAS ",null,null,null,null,null,"L) PERSONAS CON ENF. CRONICAS",null,null,null,null,null,null,null,null,null,null,null,"M) OBSERVACIONES"]
["Coef. Sint.Resp.: ",null,null,"MUESTRAS",null,null,null,null,"TRATAM. TBC",null,null,null,null,null,null,"TRATAMIENTOS CHAGAS",null,null,null,null,null,"PERSONAS CON",null,null,null,null,null,"TOTAL",null,null,"EN TRAT.",null,null," "]
[{"$f":"Control!H9","v":8},null,null,"DIAGNOSTICOS",null,null,"CONTROL",null,"Total",null,"TAES",null," ABANDONO",null,null,"INICIO ",null,null,0,null,null,"DIABETES",null,null,null,null,null,0,null,null,0]
["SINT. ESP..",null,null,"Tot",null,"(+)","Tot","(+)",0,null,0,null,0,null,null,"FINALIZACION ",null,null,0,null,null,"HIPERTENSION \nARTERIAL",null,null,null,null,null,0,null,null,0]
[{"$f":"IF(ISERROR(((AK91+AL91+AN91+AP91+AR91+AU91+AV91+AY91+AZ91+BB91+BD91+BG91+BI91+BK91+BM91+BO91+BQ91+BS91+BU91+BW91+BY91+CB91)*0.2)*A31/100),0,(((AK91+AL91+AN91+AP91+AR91+AU91+AV91+AY91+AZ91+BB91+BD91+BG91+BI91+BK91+BM91+BO91+BQ91+BS91+BU91+BW91+BY91+CB91)*0.2)*A31/100))","v":0},null,null,0,null,0,0,0,"QUIMIO Total",null,0,null,null,null,null,null,null,null,null,null,null,"PERSONAS CON OTRAS ENF. CRONICAS AL CUIDADO DE NIÑOS",null,null,null,null,null,0,null,null,0]
["SINT. DETEC.",null,null,"CONTACTO",null,null,null,null,"CTRL. MEDICO",null,null,null,"FINALIZAD0",null,null,"ABANDONO ",null,null,0]
[0,null,null,"< 14a",null,null,"> 15a",null,"Pcte/Rda",null,"A Cont",null,0,null,null,null,null,null,null,null,null,"ADULTOS MAYORES EN SITUACION DE RIESGO",null,null,null,null,null,0]
[null,null,null,0,null,null,0,null,0,null,0]
["N) DERIVACIONES",null,null,null,null,null,null,null,null,null,null,null,null,null,null,null,null,null,null,null,null,null,null,null,null,null,null,null,null,null,null,null,null,null,null,null,null,null,null,null,null,"Ñ) VIVIENDA Y SANEAMIENTO",null,null,null,null,null,null,null,null,null,null,null,null,null,null,null,null,null,null,null,null,null,null,null,null,null,null,null,"O) DEFUNCIONES EN LA RONDA"]
[null,null,null,null,null,null,null,null,null,null,null,null,null,null,null,null,null,null,null,null,null,null,null,null,null,null,null,null,null,null,null,null,null,null,null,null,null,null,null,null,null,"TRAT. AGUA",null,null,null,null,null,"DISP SANITARIA EXCRETAS",null,null,null,null,null,null,null,null,null,null,null,"TRATAM. SANIT BASURA",null,null,null,null,null,null,null,null,null,"MENORES 1 AÑO",null,null,null,null,null,null,null,null,null,null,"1 a 4 AÑOS",null,"MATERNA",null,null,null,"OTRAS"]
["EMB",null,null,null,"RN",null,null,null,"PUERP",null,null,null,"Menores de 6 años",null,null,null,null,null,null,null,"E.\nCRONICAS",null,"PAP",null,"CHAGAS",null,null,null,"TBC",null,null,null,"PSICOSOC",null,null,null,"TOTAL\nDERIVACIONES",null,null,null,null,"RED",null,"EN\nVIV",null,null,"S/T","ARRASTRE",null,null,null,null,null,"LETRINA",null,null,null,"S/T",null,"REC. DOMIC.",null,null,"POZO BASURA",null,null,null,"S/T",null,null,"<7d",null,null,"7 a 28d",null,null,null,"29d a 11 m"]
[null,null,null,null,null,null,null,null,null,null,null,null,"BP- MBP",null,"RGO BP",null,"Resp",null,"Diarr",null,null,null,null,null,null,null,null,null,null,null,null,null,null,null,null,null,null,null,null,null,null,null,null,null,null,null,null,"CLOACAS",null,"PC-CT",null,"PC-ST",null,"CT",null,"ST"]
["Env",null,"Rec",null,"Env",null,"Rec",null,"Env",null,"Rec",null,"Env","Rec","Env","Rec","Env","Rec","Env","Rec","Env","Rec","Env","Rec","Env",null,"Rec",null,"Env",null,"Rec",null,"Env",null,"Rec",null,"ENV",null,null,"Rec",null,0,null,0,null,null,0,0,null,0,null,0,null,0,null,0,null,0,null,0,null,null,0,null,null,null,0,null,null,0,null,null,0,null,null,null,0,null,null,null,0,null,0,null,null,null,0]
[null,null,null,null,null,null,null,null,null,null,null,null,null,null,null,null,null,null,null,null,null,null,null,null,null,null,null,null,null,null,null,null,null,null,null,null,null,null,null,null,null,"CASAS ",null,null,null,null,null,null,null,null,null,null,null,"CHAGAS",null,null,null,null,null,null,null,null,null,null,null,"DENGUE CHIKUNGUNYA",null,null,null,null,null,null,null,null,null,null,null,"P) PROM. SALUD"]
[0,null,0,null,0,null,0,null,0,null,0,null,0,0,0,0,0,0,0,0,0,0,0,0,0,null,0,null,0,null,0,null,0,null,0,null,{"$f":"AG43+AC43+Y43+W43+U43+S43+Q43+O43+M43+I43+E43+A43","v":0},null,null,{"$f":"AI43+AE43+AA43+X43+V43+T43+R43+P43+N43+K43+G43+C43","v":0},null,"ASIGNADAS",null,null,null,null,"VISITADAS",null,null,"VACIAS",null,"DESTRUIDAS",null,"EVALUADAS",null,null,"POSITIVAS",null,null,null,null,"TRATADAS",null,null,null,"EVALUADAS",null,null,null,"POSITIVAS",null,null,null,"TRATADAS",null,null,null,"PLANIFICADAS \nEN COMUNIDAD",null,null,null,null,null,null,null,0]
[]
[null,null,null,null,null,null,null,null,null,null,null,null,null,null,null,null,null,null,null,null,null,null,null,null,null,null,null,null,null,null,null,null,null,null,null,null,null,null,null,null,null,0,null,null,null,null,0,null,null,0,null,0,null,0,null,null,0,null,null,null,null,0,null,null,null,0,null,null,null,0,null,null,null,0,null,null,null,"REALIZADAS ",null,null,null,null,null,null,null,0]
["Q) INDICADORES"]
["DE ESTRUCTURA",null,null,null,null,null,"SI","NO","DE PRODUCCION",null,null,null,null,null,"%","META",null," DE INMUNIZACIONES",null,null,null,null,null,null,null,null,null,null,null,null,null,null,null,null," DE INMUNIZACIONES",null,null,null,null,null,null,null,null,null,null,null,null,null,null,null,null,null,null,null,null,null,null,null,null,null,null," DE RESULTADO",null,null,null,null,null,null,null,null,"%",null,"META",null,null," DE RESULTADO",null,null,null,null,null,null,null,null,null,"%",null,"META RDA"]
["Formularios",null,null,null,null,null,0,0,"Cobertura a Familias",null,null,null,null,null,{"$f":"IF(ISERROR(D12/A12),0,(D12/A12)*100)","v":0},100,null,"VACUNA",null,null,null,null,"P. REF",null,"1r","2r","3r","4r",null,"T","%",null,"META",null,"VACUNA",null,null,null,null,null,null,null,null,null,"P. REF",null,null,"1r",null,null,"2r","3r",null,null,"4r","T",null,"%",null,"META",null,"Ed Fértil c/Anticoncepción",null,null,null,null,null,null,null,null,{"$f":"IF(ISERROR(D20/CH27),0,(D20/CH27)*100)","v":0},null,null,null,null,"Niños 2 a 5 Recup BP",null,null,null,null,null,null,null,null,null,{"$f":"IF(ISERROR(AV23/K80),0,(AV23/K80)*100)","v":0},null,100]
["Equipo",null,null,null,null,null,0,0,"Niños < 2 años Controlados",null,null,null,null,null,{"$f":"IF(ISERROR(((AJ22+AL22+AN22+AP22)/(A28+D28+G28))),0,(((AJ22+AL22+AN22+AP22)/(A28+D28+G28)))*100)","v":0},100,null,"BCG RN",null,null,null,null,{"$f":"U20","v":0},null,0,0,0,0,null,{"$f":"SUM(Y49:AB49)","v":0},{"$f":"IF(ISERROR(Z49/W49),0,(Z49/W49)*100)","v":0},null,100,null,"2 Ref. Varicela Ingreso Esc",null,null,null,null,null,null,null,null,null,7,null,null,6,null,null,0,0,null,null,0,{"$f":"SUM(AV49:BC49)","v":6},null,{"$f":"IF(ISERROR(AY49/AS49),0,(AY49/AS49)*100)","v":0},null,25,null,"PAP",null,null,null,null,null,null,null,null,{"$f":"IF(ISERROR(D17/CH27),0,(D17/CH27)*100)","v":0},null,null,null,null,"Niños 2 a 5 Recup AP",null,null,null,null,null,null,null,null,null,{"$f":"IF(ISERROR(AY23/K82),0,(AY23/K82)*100)","v":0},null,100]
["Combustible",null,null,null,null,null,0,0,"Niños  (2 a 5 años) Controlados",null,null,null,null,null,{"$f":"IF(ISERROR(((AJ23+AL23+AN23+AP23)/(I28+K28+M28+P28))),0,(((AJ23+AL23+AN23+AP23)/(I28+K28+M28+P28)))*100)","v":0},100,null,"Hepatitis B RN","Hepatitis B RN",null,"Hepatitis B RN","Hepatitis B RN",null,null,0,0,0,0,null,{"$f":"SUM(Y50:AB50)","v":0},{"$f":"IF(ISERROR(Z50/W49),0,(Z50/W49)*100)","v":0},null,null,null,"2° Ref. Antipolio Ingreso Escolar",null,null,null,null,null,null,null,null,null,null,null,null,6,null,null,0,0,null,null,0,{"$f":"SUM(AV50:BC50)","v":6},null,{"$f":"IF(ISERROR(AY50/AS49),0,(AY50/AS49)*100)","v":0},null,null,null,"Embarazadas Con MELON",null,null,null,null,null,null,null,null,{"$f":"IF(ISERROR(F23/J20),0,(F23/J20)*100)","v":0},null,80,null,null,"Niños 6 meses con LME",null,null,null,null,null,null,null,null,null,{"$f":"IF(ISERROR(CC20/CC17),0,(CC20/CC17)*100)","v":0},null,80]
[" DE DIAGNOSTICO",null,null,null,null,null,null,"%","Conc. Vis. Flias Prio",null,null,null,null,null,{"$f":"IF(ISERROR((BB15+BE15)/(BB14+BE14)),0,((BB15+BE15)/(BB14+BE14)))","v":0},25,null,"2° Neumococo < 1a","3ª SOT/Salk < 1a",null,"3ª SOT/Salk < 1a","3ª SOT/Salk < 1a",{"$f":"A91+C91+D91+F91","v":0},null,0,0,0,0,null,{"$f":"SUM(Y51:AB51)","v":0},{"$f":"IF(ISERROR(Z51/W51),0,(Z51/W51)*100)","v":0},null,100,null,"2° Ref. DPT Ingreso Escolar",null,null,null,null,null,null,null,null,null,null,null,null,6,null,null,0,0,null,null,0,{"$f":"SUM(AV51:BC51)","v":6},null,{"$f":"IF(ISERROR(AY51/AS49),0,(AY51/AS49)*100)","v":0},null,null,null,"Partos Hospitalarios",null,null,null,null,null,null,null,null,{"$f":"IF(ISERROR(O20/M20),0,(O20/M20)*100)","v":0},null,100]
["Flias Priorizadas 3 + 2:",null,null,null,null,null,null,{"$f":"IF(ISERROR((BB14+BE14)/D12),0,(BB14+BE14)/D12*100)","v":0},"Conc.C.Dom Niños Bp/MBP",null,null,null,null,null,{"$f":"IF(ISERROR(BW22/(AL22+AN22+AL23+AN23)),0,(BW22/(AL22+AN22+AL23+AN23)))","v":0},3,null,"2° Rotavirus <1 a","3º Pentavalente <1 a",null,"3º Pentavalente <1 a","3º Pentavalente <1 a",null,null,0,0,0,0,null,{"$f":"SUM(Y52:AB52)","v":0},{"$f":"IF(ISERROR(Z52/W51),0,(Z52/W51)*100)","v":0},null,null,null,"2° TV Ingreso Escolar",null,null,null,null,null,null,null,null,null,null,null,null,6,null,null,0,0,null,null,0,{"$f":"SUM(AV52:BC52)","v":6},null,{"$f":"IF(ISERROR(AY52/AS49),0,(AY52/AS49)*100)","v":0},null,100,null,"Conc Control Médico a RN",null,null,null,null,null,null,null,null,{"$f":"IF(ISERROR(Q23/M20),0,(Q23/M20))","v":0},null,4,null,null,"% Niños BP MBP y RBP con MELaN",null,null,null,null,null,null,null,null,null,{"$f":"IF(ISERROR(BO20/(AL22+AN22+AR22+AL23+AN23+AR23)),0,(BO20/(AL22+AN22+AR22+AL23+AN23+AR23))*100)","v":0},null,100]
["Flias Urbanas",null,null,null,null,null,null,{"$f":"IF(ISERROR(T12/D12),0,(T12/D12)*100)","v":0},"Rel. Muestra/Sint Resp.",null,null,null,null,null,{"$f":"IF(ISERROR(D33/A35),0,(D33/A35))","v":0},2,null,"2° Meningococo < 1a",null,null,null,null,null,null,1,0,0,0,null,{"$f":"SUM(Y53:AB53)","v":1},{"$f":"IF(ISERROR(Z53/W51),0,(Z53/W51)*100)","v":0},null,null,null,"dTpa 11 años",null,null,null,null,null,null,null,null,null,9,null,null,9,null,null,0,0,null,null,0,{"$f":"SUM(AV53:BC53)","v":9},null,{"$f":"IF(ISERROR(AY53/AS53),0,(AY53/AS53)*100)","v":0},null,null,null,"Conc Control Méd. a puérpera",null,null,null,null,null,null,null,null,{"$f":"IF(ISERROR(M23/S20),0,(M23/S20))","v":0},null,4,null,null,"Sint Resp Detect. Seg zona",null,null,null,null,null,null,null,null,null,{"$f":"IF(ISERROR((A35*100)/(((20*(AK28+AN28+AR28+AV28+AZ28+BD28+BI28+BM28+BQ28+BU28+BY28))/100)*A31)),0,(A35*100)/((((20*(AK28+AN28+AR28+AV28+AZ28+BD28+BI28+BM28+BQ28+BU28+BY28))/100)*A31)/100))","v":0},null,"S/Z"]
["Flias Periurbanas",null,null,null,null,null,null,{"$f":"IF(ISERROR(V12/D12),0,(V12/D12)*100)","v":0},"Casas Evaluadas Chagas",null,null,null,null,null,{"$f":"IF(ISERROR(BB45/AU45),0,(BB45/AU45)*100)","v":0},100,null,"3° Antipolio < 1 año","2ª Rotavirus < 1 año",null,"2ª Rotavirus < 1 año","2ª Rotavirus < 1 año",null,null,2,0,0,0,null,{"$f":"SUM(Y54:AB54)","v":2},{"$f":"IF(ISERROR(Z54/W51),0,(Z54/W51)*100)","v":0},null,null,null,"U.D. Meningococo",null,null,null,null,null,null,null,null,null,null,null,null,9,null,null,0,0,null,null,0,{"$f":"SUM(AV54:BC54)","v":9},null,{"$f":"IF(ISERROR(AY54/AS53),0,(AY54/AS53)*100)","v":0},null,"95% AL 1° SEM",null,"RN con Pesquisa",null,null,null,null,null,null,null,null,{"$f":"IF(ISERROR(Y23/U20),0,(Y23/U20)*100)","v":0},null,100,null,null,"Pacientes TBC con Control Médico",null,null,null,null,null,null,null,null,null,{"$f":"IF(ISERROR(I36/I32),0,(I36/I32)*100)","v":0},null,100]
["Flias Rurales",null,null,null,null,null,null,{"$f":"IF(ISERROR(Y12/D12),0,(Y12/D12)*100)","v":0},"Casas Tratadas Chagas",null,null,null,null,null,{"$f":"IF(ISERROR(BJ45/BE45),0,(BJ45/BE45)*100)","v":0},100,null,"3° Pentavalente <1 año","TV 1 año",null,"TV 1 año","TV 1 año",null,null,2,0,0,0,null,{"$f":"SUM(Y55:AB55)","v":2},{"$f":"IF(ISERROR(Z55/W51),0,(Z55/W51)*100)","v":0},null,null,null,"1° HPV Niñas cumplen 11 a en año en curso",null,null,null,null,null,null,null,null,null,6,null,null,6,null,null,0,0,null,null,0,{"$f":"SUM(AV55:BC55)","v":6},null,{"$f":"IF(ISERROR(AY55/AS55),0,(AY55/AS55)*100)","v":0},null,null,null,"Derivaciones Enviadas/Recibidas",null,null,null,null,null,null,null,null,{"$f":"IF(ISERROR(AN43/AK43),0,(AN43/AK43)*100)","v":0},null,100,null,null,"Contactos TBC Controlados",null,null,null,null,null,null,null,null,null,{"$f":"IF(ISERROR(K36/(D36+G36)),0,(K36/(D36+G36)))*100","v":0},null,100]
["Flias Originarias",null,null,null,null,null,null,{"$f":"IF(ISERROR(R12/D12),0,(R12/D12)*100)","v":0},"Casas Evaluadas Dengue",null,null,null,null,null,{"$f":"IF(ISERROR(BN45/AU45),0,(BN45/AU45)*100)","v":0},100,null,"1° TV","A HA 1 año",null,"A HA 1 año","A HA 1 año",{"$f":"G91+H91","v":0},null,1,0,0,0,null,{"$f":"SUM(Y56:AB56)","v":1},{"$f":"IF(ISERROR(Z56/W56),0,(Z56/W56)*100)","v":0},null,100,null,"1° HPV Niños cumplen 11 a en año en curso",25,25,null,null,null,null,null,null,null,3,null,null,3,null,null,0,0,null,null,0,{"$f":"SUM(AV56:BC56)","v":3},null,{"$f":"IF(ISERROR(AY56/AS56),0,(AY56/AS56)*100)","v":0},null,"95% AL 1° SEM",null,"Niños < 2 a Riesgo BP",null,null,null,null,null,null,null,null,{"$f":"IF(ISERROR(AR22/AJ22),0,(AR22/AJ22)*100)","v":0},null,null,null,null,"TAES de TBC",null,null,null,null,null,null,null,null,null,{"$f":"IF(ISERROR(K32/I32),0,(K32/I32)*100)","v":0},null,100]
["Flias Migr. desde AO",null,null,null,null,null,null,{"$f":"IF(ISERROR(AC12/A12),0,(AC12/A12)*100)","v":0},"Casas Tratadas Dengue",null,null,null,null,null,{"$f":"IF(ISERROR(BV45/BR45),0,(BV45/BR45)*100)","v":0},100,null,"2° TV","A HA 1 año",null,"A HA 1 año","A HA 1 año",null,null,1,0,0,0,null,{"$f":"SUM(Y57:AB57)","v":1},{"$f":"IF(ISERROR(Z57/W56),0,(Z57/W56)*100)","v":0},null,null,null,"Emb. con dTpa",null,null,null,null,null,null,null,null,null,4,null,null,2,null,null,0,0,null,null,0,{"$f":"SUM(AV57:BC57)","v":2},null,{"$f":"IF(ISERROR(AY57/AS57),0,(AY57/AS57)*100)","v":0},null,null,null,"Niños < 2 a Riesgo AP",null,null,null,null,null,null,null,null,{"$f":"IF(ISERROR(AT22/AJ22),0,(AT22/AJ22)*100)","v":0},null,null,null,null,"Ptes. con tratamiento por Chagas",null,null,null,null,null,null,null,null,null,{"$f":"S31","v":0}]
["Flias Migr. hacia el AO",null,null,null,null,null,null,{"$f":"IF(ISERROR(AA12/A12),0,(AA12/A12)*100)","v":0},"Superv Int. a la Familia",null,null,null,null,null,{"$f":"IF(ISERROR((CH14*100)/BL14),0,((CH14*100)/BL14))","v":0},20,null,"Unica Dosis A HA",null,null,null,null,null,null,1,0,0,0,null,{"$f":"SUM(Y58:AB58)","v":1},{"$f":"IF(ISERROR(Z58/W56),0,(Z58/W56)*100)","v":0},null,null,null,"Emb. con Vac Sinsicial",null,null,null,null,null,null,null,null,null,null,null,null,1,null,null,0,0,null,null,0,{"$f":"SUM(AV58:BC58)","v":1},null,{"$f":"IF(ISERROR(AY58/AS57),0,(AY58/AS57)*100)","v":0},null,100,null,"Niños < 2 Recup BP",null,null,null,null,null,null,null,null,{"$f":"IF(ISERROR(AV22/K79),0,(AV22/K79)*100)","v":0},null,100,null,null,"Casas positivas Chagas",null,null,null,null,null,null,null,null,null,{"$f":"IF(ISERROR(BE45/BB45),0,(BE45/BB45)*100)","v":0},null,0]
["Flias con planes sociales",null,null,null,null,null,null,{"$f":"IF(ISERROR(AF12/D12),0,(AF12/D12)*100)","v":0},"Superv Prof. Flias Prio (3v)",null,null,null,null,null,{"$f":"IF(ISERROR(CH15/(BB14+BE14)),0,(CH15/(BB14+BE14))*100)","v":0},70,null,"Ref Neumococo 1 año","Ref Neumoc 1 año",null,"Ref Neumoc 1 año","Ref Neumoc 1 año",null,null,1,0,0,0,null,{"$f":"SUM(Y59:AB59)","v":1},{"$f":"IF(ISERROR(Z59/W56),0,(Z59/W56)*100)","v":0},null,null,null,"dT  Vigente > 65 a",null,null,null,null,null,null,null,null,null,39,null,null,0,null,null,0,0,null,null,0,{"$f":"SUM(AV59:BC59)","v":0},null,{"$f":"IF(ISERROR(AY59/AS59),0,(AY59/AS59)*100)","v":0},null,100,null,"Niños < 2 Recup AP",null,null,null,null,null,null,null,null,{"$f":"IF(ISERROR(AY22/K81),0,(AY22/K81)*100)","v":0},null,100,null,null,"Casas Positivas Aedes",null,null,null,null,null,null,null,null,null,{"$f":"IF(ISERROR(BR45/BN45),0,(BR45/BN45)*100)","v":0},null," "]
[null,null,null,null,null,null,null,null,"% Activ Prom.Salud Comunitarias",null,null,null,null,null,{"$f":"IF(ISERROR(CH45/CH43),0,(CH45/CH43)*100)","v":0},100,null,"Ref. Meningococo 1 año","Ref Cuádruple 1 año",null,"Ref Cuádruple 1 año","Ref Cuádruple 1 año",null,null,1,0,0,0,null,{"$f":"SUM(Y60:AB60)","v":1},{"$f":"IF(ISERROR(Z60/W56),0,(Z60/W56)*100)","v":0},null,null,null,"Neumo 20 > 65 años",null,null,null,null,null,null,null,null,null,null,null,null,0,null,null,0,0,null,null,0,{"$f":"SUM(AV60:BC60)","v":0},null,{"$f":"IF(ISERROR(AY60/AS59),0,(AY60/AS59)*100)","v":0},null,null,null,"Niños 2 a 5 Riesgo BP",null,null,null,null,null,null,null,null,{"$f":"IF(ISERROR(AR23/AJ23),0,(AR23/AJ23)*100)","v":0},null,null,null,null,"UROCS 1/SEC",null,null,null,null,null,null,null,null,null,0,null,"1/SEC"]
["Flias. c/Antec Mort Mat Inf",null,null,null,null,null,null,{"$f":"IF(ISERROR(AV10/D12),0,(AV10/D12)*100)","v":0},null,null,null,null,null,null,null,null,null,"Unica Dosis Varicela","Ref SOT 1 año",null,"Ref SOT 1 año","Ref SOT 1 año",null,null,1,0,0,0,null,{"$f":"SUM(Y61:AB61)","v":1},{"$f":"IF(ISERROR(Z61/W56),0,(Z61/W56)*100)","v":0},null,null,null,"Aplic. Cargadas a Nomivac",null,null,null,null,null,null,null,null,null,0,null,null,null,null,null,null,null,null,null,null,null,null,null,null,null,null,null,null,null,null,null,null,null,null,null,null,null,null,null,null,"Flias con Huerta",null,null,null,null,null,null,null,null,null,{"$f":"IF(ISERROR(AL12/D12),0,(AL12/D12)*100)","v":0}]
["F con 3 o más <6 años",null,null,null,null,null,null,{"$f":"IF(ISERROR(BI10/D12),0,(BI10/D12)*100)","v":0}," DE IMPACTO",null,null,null,null,"%",null,"META",null,"4° Dosis o 1° Ref. Pentavalente",null,null,null,null,null,null,1,0,0,0,null,{"$f":"SUM(Y62:AB62)","v":1},{"$f":"IF(ISERROR(Z62/W56),0,(Z62/W56)*100)","v":0},null,null,null,"Total Aplic /AS",null,null,null,null,null,null,null,null,null,0,null,null,null,null,null,null,null,null,null,null,null,null,null,null,null,null,"Niños 2 a 5 Riesgo AP",null,null,null,null,null,null,null,null,{"$f":"IF(ISERROR(AT23/AJ23),0,(AT23/AJ23)*100)","v":0},null,null,null,null,"Flias con Granja",null,null,null,null,null,null,null,null,null,{"$f":"IF(ISERROR(AP12/D12),0,(AP12/D12)*100)","v":0}]
["Flias con Hacinamiento",null,null,null,null,null,null,{"$f":"IF(ISERROR(BL10/D12),0,(BL10/D12)*100)","v":0},"Agua Seg (Trat Red + Viv)",null,null,null,null,{"$f":"IF(ISERROR((AP41+AR41)/D12),0,((AP41+AR41)/D12)*100)","v":0},null,100,null,"2° AG 6m a 24m",null,null,null,null,6,null,null,0,0,0,null,{"$f":"SUM(Y63:AB63)","v":0},{"$f":"IF(ISERROR(Z63/W63),0,(Z63/W63)*100)","v":0},null," ",null,"VAC COVID APLIC EN LA RONDA",null,null,null,null,null,null,null,null,null,0,null,null,null,null,null,null,null,null,null,null,null,null,null,null,null,null,"U) A llenar en 1° Ronda del Año"]
["Flias con Analfabet",null,null,null,null,null,null,{"$f":"IF(ISERROR(BO10/D12),0,(BO10/D12)*100)","v":0},"DSE (Arrastre y letrinas)",null,null,null,null,{"$f":"IF(ISERROR((AV41+AX41+AZ41+BB41+BD41)/D12),0,((AV41+AX41+AZ41+BB41+BD41)/D12)*100)","v":0},null,100,null,"R) PRODUCCION Y RENDIMIENTO",null,null,null,null,null,null,null,null,null,null,null,null,null,null,null,null,null,null,null,null,null,null,null,null,null,null,null,null,null,null,null,null,null,null,null,null,null,null,null,null,null,null,null,"Piso",null,null,null,null,"Techo",null,null,null,null,"Paredes",null,null,null,null,null,null,null,null,null,"Cocina",null,null,null,null,"Tenencia"]
["Flias con Suicidio",null,null,null,null,null,null,{"$f":"IF(ISERROR(BT11/D12),0,(BT11/D12)*100)","v":0},"TSB (Recolección + Pozo)",null,null,null,null,{"$f":"IF(ISERROR((BH41+BK41)/D12),0,((BH41+BK41)/D12)*100)","v":0},null,100,null,"DIAS A TRAB. /RONDA",null,null,"DIAS INCLEM CLIMAT.",null,null,"DIAS Y NROS DE ARTICULOS TOMADOS",null,null,null,"CAPACITACIONES Y OTRAS ACTIVIDADES",null,null,null,null,null,null,null,null,null,null,null,null,null,null,null,null,null,null,null,null,null,null,"DIAS TRABAJADOS\nEN TERRENO",null,null,null,null,"PROM. DIARIO DE FLIAS VISIT.",null,null,null,null,null,"Mosaico/B.",null,null,null,0,"Losa",null,null,0,null,"Ladrillo",null,null,0,null,"Madera",null,null,null,0,"Gas",null,null,0,null,"Segura",null,null,0]
["Flias c /tentativa suicidio",null,null,null,null,null,null,{"$f":"IF(ISERROR(BV11/D12),0,(BV11/D12)*100)","v":0},"Emb Adolescente",null,null,null,null,{"$f":"IF(ISERROR(L20/J20),0,(L20/J20)*100)","v":0},null,null,null,null,null,null,null,null,null,0,null,null,null,0,null,null,null,null,null,null,null,null,null,null,0,null,null,null,null,null,null,null,null,null,null,null,null,null,null,null,null,null,null,null,null,null,null,"Cemento",null,null,null,0,"Chapa\nZinc",null,null,0,null,"Bloque",null,null,0,null,"Quincho",null,null,null,0,"Leña/\nCarb",null,null,0,null,"Inseg.",null,null,0]
["Flias con Alcoholismo",null,null,null,null,null,null,{"$f":"IF(ISERROR(BY11/D12),0,(BY11/D12)*100)","v":0},"Niños <2 Bajo Peso/MBP",null,null,null,null,{"$f":"IF(ISERROR((AL22+AN22)/(AJ22+AP22+AL22+AN22)),0,((AL22+AN22)/(AJ22+AP22+AL22+AN22))*100)","v":0},null,null,null,null,null,null,null,null,null,0,null,null,null,0,null,null,null,null,null,null,null,null,null,null,0,null,null,null,null,null,null,null,null,null,null,null,null,null,null,null,null,null,null,null,null,null,null,"Tierra",null,null,null,0,"Paja/\nBarro",null,null,0,null,"Adobe",null,null,0,null,"Carton/Pl",null,null,null,0,"Otros",null,null,0,null,"Hac",null,null,0,null,null,null,5]
["Flias c/ otras Adicciones",null,null,null,null,null,null,{"$f":"IF(ISERROR(CC11/D12),0,(CC11/D12)*100)","v":0},"Niños <2 a AP",null,null,null,null,{"$f":"IF(ISERROR(AP22/(AJ22+AP22+AL22+AN22)),0,(AP22/(AJ22+AP22+AL22+AN22))*100)","v":0},null,null,null,0,null,null,0,null,null,0,null,null,null,0,null,null,null,null,null,null,null,null,null,null,0,null,null,null,null,null,null,null,null,null,null,null,0,null,null,null,null,{"$f":"IF(ISERROR(G12/AY68),0,(G12/AY68))","v":0},null,null,null,null,null,"Otros",null,null,null,0,"Otros",null,null,0,null,"Piedra",null,null,0,null,"Otro",null,null,null,0,"Helad.",null,null,0]
["Flias con VIF",null,null,null,null,null,null,{"$f":"IF(ISERROR(CF11/D12),0,(CF11/D12)*100)","v":0},"Niños < 2 baja y MBT",null,null,null,null,{"$f":"IF(ISERROR((AZ22+BB22)/(AJ22+AP22+AL22+AN22)),0,((AZ22+BB22)/(AJ22+AP22+AL22+AN22))*100)","v":0},null,null,null,"S) DETALLE DE LAS DEFUNCIONES (Todas las del Sector)",null,null,null,null,null,null,null,null,null,null,null,null,null,null,null,null,null,null,null,null,null,null,null,null,null,null,null,null,null,null,null,null,null,null,null,null,null,null,null,null,null,null,null,"Agua",null,"Corriente a Domic",null,null,"Grifo Terr",null,null,"Grifo Público",null,null,"Bomba",null,null,"Pozo",null,null,null,"Camión Aguatero / Cisterna",null,"Vertiente/Rio/Aceq",null,null,"Laguna",null,null,"Lluvia/Aljibe"]
["Flias con Diabetes",null,null,null,null,null,null,{"$f":"IF(ISERROR(AB31/D12),0,(AB31/D12)*100)","v":0},"Niños 2 a 5 Bajo Peso/MBP",null,null,null,null,{"$f":"IF(ISERROR((AL23+AN23)/(AJ23+AP23+AL23+AN23)),0,((AL23+AN23)/(AJ23+AP23+AL23+AN23))*100)","v":0},null,null,null,"APELLIDO Y NOMBRE",null,null,null,null,null,null,"DOMICILIO",null,null,null,null,null,null,null,null,"NACIMIENTO",null,null,null,null,"DEFUNCION",null,null,null,"PESO\nAL NACER",null,null,null,"CAUSA",null,null,null,null,null,null,null,null,null,"CLASIFICAC."]
["Flias con Hipertensión",null,null,null,null,null,null,{"$f":"IF(ISERROR(AB32/D12),0,(AB32/D12)*100)","v":0},"Niños 2 a 5 AP",null,null,null,null,{"$f":"IF(ISERROR(AP23/(AJ23+AP23+AL23+AN23)),0,(AP23/(AJ23+AP23+AL23+AN23))*100)","v":0}]
[]
["Personas con otras enfermedades crónicas al cuidado de niños",null,null,null,null,null,null,{"$f":"IF(ISERROR(AB33/D12),0,(AB33/D12)*100)","v":0},"Niños 2 a 5 baja y MBT",null,null,null,null,{"$f":"IF(ISERROR((AZ23+BB23)/(AJ23+AP23+AL23+AN23)),0,((AZ23+BB23)/(AJ23+AP23+AL23+AN23))*100)","v":0},null,null,null,null,null,null,null,null,null,null,null,null,null,null,null,null,null,null,null,null,null,null,null,null,null,null,null,null,null,null,null,null,null,null,null,null,null,null,null,null,null,null,null,null,null,null,null,null,null,0,null,null,0,null,null,0,null,null,0,null,null,0,null,null,null,0,null,0,null,null,0,null,null,0]
["Pers c/O Social/Pob total",null,null,null,null,null,null,{"$f":"IF(ISERROR(CI27/CC28),0,(CI27/CC28)*100)","v":0}]
[]
[]
[]
[]
["BP+MBP Ronda Anterior Men2a: ",null,null,null,null,null,null,null,null,null,0]
["BP+MBP Ronda Anterior 2 a 6a: ",null,null,null,null,null,null,null,null,null,0]
["AP Ronda Anterior Men2a: ",null,null,null,null,null,null,null,null,null,0]
["AP Ronda Anterior 2 a 6a: ",null,null,null,null,null,null,null,null,null,3]
[]
[]
[]
[]
[]
["0 a 5m",null,null,"6 a 11m",null,null,"1 AÑO",null,"2 AÑOS",null,"3 AÑOS",null,"4 AÑOS",null,null,"5 AÑOS",null,null,"6 AÑOS",null,null,"7 A 9 AÑOS",null,null,null,"10 AÑOS",null,"11 AÑOS",null,null,"12 A 14",null,null,null,null,null,"15 A 19",null,null,"20 A 24",null,null,null,"25 A 29",null,null,null,"30 A 34",null,null,null,"35 A 39",null,null,null,"40 A 44",null,null,null,null,"45 A 49",null,null,null,"50 A 54",null,null,null,"55 A 59",null,null,null,"60 A 64",null,null,null,"65 y +",null,null,null,"TOTAL",null,null,null,null,"MUJERES\n10 A 49"]
["M",null,"F","M",null,"F","M","F","M","F","M","F","M",null,"F","M",null,"F","M",null,"F","M",null,"F",null,"M","F","M",null,"F","M",null,null,"F",null,null,"M","F",null,"M",null,"F",null,"M",null,null,"F","M",null,null,"F","M",null,"F",null,"M",null,null,"F",null,"M",null,"F",null,"M",null,"F",null,"M",null,"F",null,"M",null,"F",null,"M",null,null,"F","M",null,"F"]
[0,null,0,0,null,0,0,0,0,0,0,0,0,null,0,0,null,0,0,null,0,0,null,0,null,0,0,0,null,0,0,null,null,0,null,null,0,0,null,0,null,0,null,0,null,null,0,0,null,null,0,0,null,0,null,0,null,null,0,null,0,null,0,null,0,null,0,null,0,null,0,null,0,null,0,null,0,null,null,0,{"$f":"SUM(A90,D90,G90,I90,K90,M90,P90,S90,V90,Z90,AB90,AE90,AK90,AN90,AR90,AV90,AZ90,BD90,BI90,BM90,BQ90,BU90,BY90)","v":0},null,{"$f":"SUM(C90,F90,H90,J90,L90,O90,R90,U90,X90,AA90,AD90,AH90,AL90,AP90,AU90,AY90,BB90,BG90,BK90,BO90,BS90,BW90,CB90)","v":0},null,null,{"$f":"SUM(AA90,AD90,AH90,AL90,AP90,AU90,AY90,BB90,BG90,BK90)","v":0}]
[{"$f":"SUM(A90:C90)","v":0},null,null,{"$f":"SUM(D90,F90)","v":0},null,null,{"$f":"SUM(G90,H90)","v":0},null,{"$f":"SUM(I90,J90)","v":0},null,{"$f":"SUM(K90,L90)","v":0},null,{"$f":"SUM(M90,O90)","v":0},null,null,{"$f":"SUM(P90,R90)","v":0},null,null,{"$f":"SUM(S90,U90)","v":0},null,null,{"$f":"SUM(V90,X90)","v":0},null,null,null,{"$f":"SUM(Z90,AA90)","v":0},null,{"$f":"SUM(AB90,AD90)","v":0},null,null,{"$f":"SUM(AE90,AH90)","v":0},null,null,null,null,null,{"$f":"SUM(AK90,AL90)","v":0},null,null,{"$f":"SUM(AN90,AP90)","v":0},null,null,null,{"$f":"SUM(AR90,AU90)","v":0},null,null,null,{"$f":"SUM(AV90,AY90)","v":0},null,null,null,{"$f":"SUM(AZ90,BB90)","v":0},null,null,null,{"$f":"SUM(BD90,BG90)","v":0},null,null,null,null,{"$f":"SUM(BI90,BK90)","v":0},null,null,null,{"$f":"SUM(BM90,BO90)","v":0},null,null,null,{"$f":"SUM(BQ90,BS90)","v":0},null,null,null,{"$f":"SUM(BU90,BW90)","v":0},null,null,null,{"$f":"SUM(BY90,CB90)","v":0},null,null,null,{"$f":"A91+D91+G91+I91+K91+M91+P91+S91+V91+Z91+AB91+AE91+AK91+AN91+AR91+AV91+AZ91+BD91+BI91+BM91+BQ91+BU91+BY91","v":0}]
["Mejor Población: 1° - 2019",null,null,null,null,null,null,null,null,null,null,null,null,null,null,null,null,null,null,null,null,null,null,null,null,null,null,null,null,null,null,null,null,null,null,null,null,null,null,null,null,null,null,null,null,null,null,null,null,null,null,null,null,null,null,null,null,null,null,null,null,null,null,null,null,null,null,null,null,null,null,null,null,null,null,null,null,null,null,null,{"$f":"SUM(CC91,CE91)","v":0}]
["Cobertura: 1%"]

{"sheet":"SAN LORENZO","index":33,"n_rows":93,"n_cols":94,"rows_kept":93,"cut":false,"hidden":false,"merged":[[61,30,61,31],[62,30,62,31],[89,85,90,85],[90,0,90,2],[90,3,90,5],[90,6,90,7],[90,8,90,9],[90,10,90,11],[90,12,90,14],[90,15,90,17],[90,18,90,20],[90,21,90,24],[89,70,89,71],[89,72,89,73],[89,74,89,75],[89,76,89,78],[89,80,89,81],[89,82,89,84],[89,58,89,59],[89,51,89,52],[89,53,89,54],[89,55,89,57],[89,23,89,24],[89,27,89,28],[89,30,89,32],[89,33,89,35],[89,37,89,38],[89,39,89,40],[90,72,90,75],[90,76,90,79],[90,80,90,84],[90,47,90,50],[90,51,90,54],[90,55,90,59],[90,60,90,63],[90,64,90,67],[90,68,90,71],[90,25,90,26],[90,27,90,29],[90,30,90,35],[90,36,90,38],[90,39,90,42],[90,43,90,46],[89,0,89,1],[89,3,89,4],[89,12,89,13],[89,15,89,16],[89,18,89,19],[89,21,89,22],[88,62,88,63],[88,64,88,65],[88,66,88,67],[88,68,88,69],[88,70,88,71],[88,72,88,73],[88,47,88,49],[88,51,88,52],[88,53,88,54],[88,55,88,57],[88,58,88,59],[88,60,88,61],[88,30,88,32],[88,33,88,35],[88,37,88,38],[88,39,88,40],[88,41,88,42],[88,43,88,45],[89,60,89,61],[89,62,89,63],[89,64,89,65],[89,66,89,67],[89,68,89,69],[89,41,89,42],[89,43,89,45],[89,47,89,49],[87,80,87,84],[87,85,88,85],[88,0,88,1],[88,3,88,4],[88,12,88,13],[88,15,88,16],[88,18,88,19],[88,21,88,22],[88,23,88,24],[88,27,88,28],[87,55,87,59],[87,60,87,63],[87,64,87,67],[87,68,87,71],[87,72,87,75],[87,76,87,79],[87,30,87,35],[87,36,87,38],[87,39,87,42],[87,43,87,46],[87,47,87,50],[87,51,87,54],[87,12,87,14],[87,15,87,17],[87,18,87,20],[87,21,87,24],[87,25,87,26],[87,27,87,29],[88,74,88,75],[88,76,88,78],[88,80,88,81],[88,82,88,84],[75,17,75,23],[75,24,75,32],[75,38,75,41],[75,42,75,45],[75,46,75,55],[87,0,87,2],[87,3,87,5],[87,6,87,7],[87,8,87,9],[87,10,87,11],[73,42,73,45],[73,46,73,55],[73,56,73,60],[74,17,74,23],[74,24,74,32],[74,38,74,41],[74,42,74,45],[74,46,74,55],[72,75,73,78],[72,79,73,80],[72,81,73,83],[72,84,73,86],[72,87,73,89],[73,0,73,6],[73,17,73,23],[73,24,73,32],[73,33,73,37],[73,38,73,41],[72,46,72,55],[72,56,72,60],[72,63,73,65],[72,66,73,68],[72,69,73,71],[72,72,73,74],[71,56,71,60],[72,0,72,6],[72,8,73,12],[72,13,73,14],[72,15,73,16],[72,17,72,23],[72,24,72,32],[72,33,72,37],[72,38,72,41],[72,42,72,45],[68,87,71,89],[68,69,71,71],[68,72,71,74],[68,75,71,78],[68,79,71,80],[68,81,71,83],[71,46,71,55],[69,46,69,55],[69,56,69,60],[70,0,71,6],[70,7,71,7],[70,8,71,12],[70,13,71,14],[70,15,71,16],[70,17,70,23],[70,24,70,32],[70,33,70,37],[69,0,69,6],[69,8,69,12],[69,13,69,14],[69,15,69,16],[69,17,69,23],[69,24,69,32],[69,33,69,37],[69,38,69,41],[69,42,69,45],[68,84,71,86],[67,81,67,83],[67,84,67,85],[68,0,68,6],[68,8,68,12],[68,13,68,14],[68,15,68,16],[68,17,68,60],[68,61,73,62],[68,63,71,65],[68,66,71,68],[67,61,67,64],[67,66,67,68],[67,69,67,70],[67,71,67,73],[67,74,67,75],[67,76,67,79],[67,20,67,22],[67,23,67,26],[67,27,67,37],[67,38,67,49],[67,50,67,54],[67,55,67,60],[70,38,70,41],[70,42,70,45],[70,46,70,55],[70,56,70,60],[71,17,71,23],[71,24,71,32],[71,33,71,37],[71,38,71,41],[71,42,71,45],[63,0,63,6],[63,8,63,12],[63,13,63,14],[63,15,63,16],[63,17,63,60],[63,61,63,65],[63,66,63,70],[63,71,63,80],[63,81,63,85],[66,69,66,70],[66,71,66,73],[66,74,66,75],[65,76,65,79],[65,81,65,83],[65,84,65,85],[65,86,65,88],[66,0,66,6],[66,8,66,12],[66,13,66,14],[66,15,66,16],[66,23,66,26],[66,27,66,37],[65,15,65,16],[65,23,65,26],[65,27,65,37],[65,38,65,49],[64,55,66,60],[64,61,64,64],[64,66,64,68],[64,69,64,70],[64,74,64,75],[64,86,64,88],[64,20,66,22],[64,23,64,26],[64,27,64,49],[64,50,66,54],[65,0,65,6],[65,8,65,12],[65,13,65,14],[66,86,67,88],[66,89,67,89],[67,0,67,6],[67,8,67,12],[67,13,67,14],[67,15,67,16],[67,17,67,19],[66,38,66,49],[66,61,66,64],[66,66,66,68],[64,76,64,79],[65,61,65,64],[65,66,65,68],[65,69,65,70],[65,74,65,75],[66,76,66,79],[66,81,66,83],[66,84,66,85],[62,0,62,6],[62,8,62,12],[62,13,62,14],[62,15,62,16],[62,32,62,33],[62,34,62,43],[64,81,64,83],[64,84,64,85],[61,87,61,89],[61,32,61,33],[61,34,61,43],[61,44,61,60],[62,44,62,60],[60,87,60,89],[61,0,61,6],[61,8,61,12],[61,13,61,14],[61,15,61,16],[60,0,60,6],[60,17,60,21],[60,27,60,28],[60,30,60,31],[60,34,60,43],[60,44,60,60],[63,86,63,89],[64,0,64,6],[64,8,64,12],[64,13,64,14],[64,15,64,16],[64,17,66,19],[60,75,60,84],[60,85,60,86],[62,61,62,89],[58,75,58,84],[58,85,58,86],[59,61,60,69],[59,70,60,71],[59,72,60,74],[59,75,59,84],[58,34,58,43],[58,44,59,46],[58,47,58,49],[58,51,58,53],[58,55,58,56],[58,57,58,58],[59,55,59,56],[59,57,59,58],[61,61,61,69],[61,70,61,71],[61,72,61,74],[61,75,61,84],[61,85,61,86],[57,87,57,89],[58,0,59,6],[58,7,59,7],[58,8,58,13],[58,15,58,16],[58,17,58,21],[58,27,58,28],[58,30,58,31],[57,55,57,56],[57,57,57,58],[57,59,57,60],[57,61,57,69],[57,70,57,71],[57,72,57,74],[59,85,59,86],[59,87,59,89],[57,47,57,49],[57,51,57,53],[58,87,58,89],[59,8,60,13],[59,14,60,14],[59,15,60,16],[59,17,59,21],[59,27,59,28],[59,30,59,31],[59,34,59,43],[59,47,59,49],[59,51,59,53],[58,59,59,60],[58,61,58,69],[58,70,58,71],[58,72,58,74],[56,27,56,28],[56,30,56,31],[56,34,56,43],[56,44,57,46],[56,47,56,49],[55,59,56,60],[55,61,55,69],[55,70,55,71],[55,72,55,74],[55,75,55,84],[55,85,55,86],[56,75,56,84],[56,85,56,86],[55,34,55,43],[55,44,55,46],[55,47,55,49],[55,51,55,53],[55,55,55,56],[55,57,55,58],[57,75,57,84],[57,85,57,86],[55,0,55,6],[55,8,55,13],[55,15,55,16],[55,17,55,21],[55,27,55,28],[55,30,55,31],[55,32,60,33],[54,47,54,49],[54,51,54,53],[54,55,54,56],[54,57,54,58],[54,61,54,69],[54,70,54,71],[56,87,56,89],[57,0,57,6],[57,8,57,13],[57,15,57,16],[57,17,57,21],[57,27,57,28],[57,30,57,31],[57,34,57,43],[56,51,56,53],[56,55,56,56],[56,57,56,58],[56,61,56,69],[56,70,56,71],[56,72,56,74],[55,87,55,89],[56,0,56,6],[56,8,56,13],[56,15,56,16],[56,17,56,21],[53,87,53,89],[54,0,54,6],[54,8,54,13],[54,15,54,16],[54,17,54,21],[54,27,54,28],[54,30,54,31],[54,34,54,43],[54,44,54,46],[53,57,53,58],[53,59,54,60],[53,61,53,69],[53,70,53,71],[53,72,53,74],[53,75,53,84],[54,72,54,74],[54,75,54,84],[54,85,54,86],[54,87,54,89],[51,75,51,84],[51,85,51,86],[51,87,51,89],[52,0,52,6],[52,8,52,13],[52,15,52,16],[52,17,52,21],[52,27,52,28],[52,30,52,31],[51,51,51,53],[51,55,51,56],[51,57,51,58],[51,59,52,60],[51,61,51,69],[51,70,51,71],[52,61,52,69],[52,70,52,71],[52,72,52,74],[52,75,52,84],[52,85,52,86],[52,87,52,89],[52,34,52,43],[52,44,53,46],[52,47,52,49],[52,51,52,53],[52,55,52,56],[52,57,52,58],[53,34,53,43],[53,47,53,49],[53,51,53,53],[53,55,53,56],[53,85,53,86],[51,0,51,6],[51,8,51,13],[51,15,51,16],[51,17,51,21],[51,27,51,28],[51,30,51,31],[51,34,51,43],[51,47,51,49],[50,34,50,43],[50,47,50,49],[50,51,50,53],[50,55,50,56],[50,57,50,58],[50,61,50,69],[49,72,49,74],[48,44,51,46],[48,47,48,49],[48,51,48,53],[49,47,49,49],[49,51,49,53],[50,30,50,31],[50,32,54,33],[51,72,51,74],[53,0,53,6],[53,8,53,13],[53,15,53,16],[53,17,53,21],[53,27,53,28],[53,30,53,31],[48,85,48,86],[48,87,48,89],[49,0,49,5],[49,8,49,13],[49,15,49,16],[49,17,49,21],[49,27,49,28],[49,30,49,31],[49,34,49,43],[48,55,48,56],[48,57,48,58],[48,59,50,60],[48,61,48,69],[48,70,48,71],[48,72,48,74],[49,55,49,56],[49,57,49,58],[49,61,49,69],[49,70,49,71],[48,30,48,31],[48,32,49,33],[48,34,48,43],[50,70,50,71],[50,72,50,74],[47,72,47,74],[47,75,47,84],[47,85,47,86],[47,87,47,89],[48,0,48,5],[48,8,48,13],[48,15,48,16],[48,17,48,21],[48,22,49,23],[48,27,48,28],[47,51,47,53],[47,55,47,56],[47,57,47,58],[47,59,47,60],[47,61,47,69],[47,70,47,71],[47,27,47,28],[47,30,47,31],[47,32,47,33],[47,34,47,43],[47,44,47,46],[47,47,47,49],[49,75,50,84],[49,85,50,86],[49,87,50,89],[50,0,50,6],[50,8,50,13],[50,15,50,16],[50,17,50,21],[50,22,54,23],[50,27,50,28],[48,75,48,84],[46,70,46,71],[46,72,46,74],[46,75,46,84],[46,85,46,86],[46,87,46,89],[47,0,47,5],[47,8,47,13],[47,15,47,16],[47,17,47,21],[47,22,47,23],[46,0,46,5],[46,8,46,13],[46,15,46,16],[46,17,46,33],[46,34,46,60],[46,61,46,69],[44,65,44,68],[44,69,44,72],[44,73,44,76],[44,77,44,84],[44,85,44,89],[45,0,45,89],[42,23,44,23],[42,24,44,25],[42,26,44,27],[42,28,44,29],[42,30,44,31],[42,32,44,33],[42,17,44,17],[42,18,44,18],[42,19,44,19],[42,20,44,20],[42,73,43,76],[42,77,43,84],[42,85,43,89],[44,41,44,45],[44,46,44,48],[44,49,44,50],[44,51,44,52],[44,53,44,55],[44,56,44,60],[44,61,44,64],[42,51,43,52],[42,53,43,55],[42,56,43,60],[42,61,43,64],[42,65,43,68],[42,69,43,72],[42,34,44,35],[42,36,44,38],[42,39,44,40],[42,41,43,45],[42,46,43,48],[42,49,43,50],[42,21,44,21],[42,22,44,22],[42,10,44,11],[42,12,44,12],[42,13,44,13],[42,14,44,14],[42,15,44,15],[42,16,44,16],[40,86,40,89],[41,41,41,52],[41,53,41,64],[41,65,41,76],[41,77,41,89],[42,0,44,1],[42,2,44,3],[42,4,44,5],[42,6,44,7],[42,8,44,9],[40,66,40,68],[40,69,40,71],[40,72,40,75],[40,76,40,79],[40,80,40,81],[40,82,40,85],[40,51,40,52],[40,53,40,54],[40,55,40,56],[40,57,40,58],[40,59,40,61],[40,62,40,65],[40,36,41,38],[40,39,41,40],[40,41,40,42],[40,43,40,45],[40,47,40,48],[40,49,40,50],[40,24,41,25],[40,26,41,27],[40,28,41,29],[40,30,41,31],[40,32,41,33],[40,34,41,35],[40,18,41,18],[40,19,41,19],[40,20,41,20],[40,21,41,21],[40,22,41,22],[40,23,41,23],[40,12,41,12],[40,13,41,13],[40,14,41,14],[40,15,41,15],[40,16,41,16],[40,17,41,17],[40,0,41,1],[40,2,41,3],[40,4,41,5],[40,6,41,7],[40,8,41,9],[40,10,41,11],[38,66,39,68],[38,69,39,71],[38,72,39,75],[38,76,39,79],[39,12,39,13],[39,14,39,15],[39,16,39,17],[39,18,39,19],[39,47,39,48],[39,49,39,50],[38,46,39,46],[38,47,38,52],[38,53,38,56],[38,57,39,58],[38,59,39,61],[38,62,39,65],[39,51,39,52],[39,53,39,54],[39,55,39,56],[38,24,39,27],[38,28,39,31],[38,32,39,35],[38,36,39,40],[38,41,39,42],[38,43,39,45],[38,0,39,3],[36,41,36,68],[36,69,36,89],[37,41,37,46],[37,47,37,58],[37,59,37,68],[37,69,37,79],[37,80,39,81],[37,82,39,85],[37,86,39,89],[34,10,34,11],[34,12,35,14],[34,21,35,26],[34,27,35,32],[35,3,35,5],[35,6,35,7],[35,8,35,9],[35,10,35,11],[34,0,35,2],[34,3,34,5],[34,6,34,7],[34,8,34,9],[31,21,31,26],[31,27,31,29],[31,30,31,32],[32,0,32,2],[32,3,32,4],[32,8,32,9],[32,10,32,11],[32,21,33,26],[32,27,33,29],[32,30,33,32],[38,4,39,7],[38,8,39,11],[38,12,38,19],[38,20,39,21],[38,22,39,23],[36,0,37,40],[30,21,30,26],[30,27,30,29],[30,30,30,32],[31,0,31,2],[31,3,31,4],[31,8,31,9],[31,10,31,11],[31,12,32,14],[31,15,32,17],[31,18,32,20],[29,30,29,32],[29,33,35,89],[30,0,30,2],[30,3,30,5],[30,6,30,7],[30,8,30,9],[30,10,30,11],[30,12,30,14],[30,15,30,17],[30,18,30,20],[29,0,29,2],[29,3,29,7],[29,8,29,14],[29,15,29,20],[29,21,29,26],[29,27,29,29],[33,0,33,2],[33,3,33,7],[33,8,33,11],[33,12,33,14],[33,15,35,17],[33,18,35,20],[27,64,27,67],[27,68,27,71],[27,72,27,75],[27,76,27,79],[27,80,27,84],[28,0,28,14],[28,15,28,20],[28,21,28,32],[27,39,27,42],[27,43,27,46],[27,47,27,50],[27,51,27,54],[27,55,27,59],[27,60,27,63],[27,18,27,20],[27,21,27,24],[27,25,27,26],[27,27,27,29],[27,30,27,35],[27,36,27,38],[22,12,22,15],[22,16,22,19],[22,20,22,23],[22,24,22,28],[26,85,27,85],[26,86,27,87],[26,88,27,89],[27,0,27,2],[27,3,27,5],[27,6,27,7],[27,8,27,9],[27,10,27,11],[27,12,27,14],[27,15,27,17],[26,70,26,71],[26,72,26,73],[26,74,26,75],[26,76,26,78],[26,80,26,81],[26,82,26,84],[26,58,26,59],[26,60,26,61],[26,62,26,63],[26,64,26,65],[26,66,26,67],[26,68,26,69],[26,41,26,42],[26,43,26,45],[26,47,26,49],[26,51,26,52],[26,53,26,54],[26,55,26,57],[26,37,26,38],[26,39,26,40],[26,0,26,1],[26,3,26,4],[26,12,26,13],[26,15,26,16],[26,18,26,19],[26,21,26,22],[25,64,25,65],[25,66,25,67],[25,68,25,69],[25,70,25,71],[25,72,25,73],[25,74,25,75],[25,51,25,52],[25,53,25,54],[25,55,25,57],[25,58,25,59],[25,60,25,61],[25,62,25,63],[25,33,25,35],[25,37,25,38],[25,39,25,40],[25,41,25,42],[25,43,25,45],[25,47,25,49],[25,30,25,32],[26,23,26,24],[26,27,26,28],[26,30,26,32],[26,33,26,35],[24,88,25,89],[25,0,25,1],[25,3,25,4],[25,12,25,13],[25,15,25,16],[25,18,25,19],[25,21,25,22],[25,23,25,24],[25,27,25,28],[24,68,24,71],[24,72,24,75],[24,76,24,79],[24,80,24,84],[24,85,25,85],[24,86,25,87],[25,76,25,78],[25,80,25,81],[25,82,25,84],[24,43,24,46],[24,47,24,50],[24,51,24,54],[24,55,24,59],[24,60,24,63],[24,64,24,67],[24,21,24,24],[24,25,24,26],[24,27,24,29],[24,30,24,35],[24,36,24,38],[24,39,24,42],[21,76,21,79],[22,76,22,79],[21,43,21,44],[21,45,21,46],[21,47,21,49],[21,51,21,52],[21,53,21,54],[21,56,21,57],[21,12,21,15],[21,16,21,19],[21,29,21,31],[21,32,21,34],[21,41,21,42],[23,0,23,89],[24,0,24,2],[24,3,24,5],[24,6,24,7],[24,8,24,9],[24,10,24,11],[24,12,24,14],[24,15,24,17],[24,18,24,20],[22,51,22,52],[22,53,22,54],[22,56,22,57],[22,58,22,60],[22,61,22,62],[22,63,22,65],[22,37,22,38],[22,39,22,40],[22,41,22,42],[21,0,22,2],[22,29,22,31],[22,32,22,34],[22,35,22,36],[21,58,21,60],[21,61,21,62],[21,63,21,65],[21,66,22,73],[22,43,22,44],[22,45,22,46],[22,47,22,49],[19,68,20,69],[19,70,20,71],[19,72,20,73],[17,29,20,31],[17,32,20,34],[17,35,20,36],[19,74,20,75],[17,37,20,38],[17,39,20,40],[17,41,20,42],[21,74,22,75],[19,76,20,79],[19,51,20,52],[19,53,20,54],[19,55,20,55],[19,58,20,60],[19,61,20,62],[19,66,20,67],[17,63,20,65],[16,66,18,67],[16,68,18,69],[16,70,18,71],[16,72,18,73],[16,74,18,75],[16,76,18,79],[19,45,20,46],[19,47,20,49],[19,50,20,50],[17,43,18,46],[17,47,18,50],[17,51,18,55],[17,56,20,57],[17,58,18,62],[19,43,20,44],[11,0,14,2],[16,0,18,2],[16,6,18,6],[16,7,18,7],[16,8,18,8],[16,9,18,9],[16,10,18,10],[16,11,18,11],[16,12,18,13],[16,14,18,15],[16,16,16,17],[16,18,18,19],[19,18,19,19],[19,20,19,21],[19,23,19,24],[19,25,19,26],[19,27,19,28],[17,16,18,16],[17,17,18,17],[17,22,18,22],[17,23,18,24],[17,25,18,26],[17,27,18,28],[14,85,14,89],[15,12,15,19],[15,20,15,28],[15,29,15,65],[15,66,15,75],[11,28,14,30],[11,31,14,36],[11,37,14,40],[11,41,14,46],[11,47,11,68],[11,69,11,89],[11,14,14,16],[11,17,14,18],[11,3,14,5],[11,6,14,7],[11,8,14,9],[11,10,14,11],[11,12,14,13],[13,75,13,78],[13,79,13,80],[12,85,12,89],[13,47,13,52],[13,63,13,68],[13,69,13,74],[12,47,12,52],[12,63,12,68],[12,53,12,55],[12,56,12,59],[12,60,12,62],[13,53,13,55],[14,53,14,55],[14,56,14,59],[14,60,14,62],[11,19,14,20],[11,21,14,23],[11,24,14,25],[11,26,14,27],[9,69,9,72],[9,73,9,74],[9,76,9,78]],"merged_total":1135,"flags":["merged_cut"]}
[null,null,null,null,null,null,null,null,null,null,null,null,null,null,null,null,null,null,null,null,null,null,null,null,null,null,null,"DIRECCION - PROGRAMA  APS \nSUBSECRETARIA DE MEDICINA SOCIAL\nRONDA N°:___192__   AÑO:_2025__",null,null,null,null,null,null,null,null,null,null,null,null,null,null,null,null,null,null,null,null,null,null,null,null,null,null,"1r","2r","3r",null,"4r",null,"T",null,null,null,null,null,null,null,null,null,null,null,null,null,null,null,null,null,null,null,"Informe y orden de Ronda: ",6,null,null,null,null,2]
[null,null,null,null,null,null,null,"Area Operativa N°: ",4,null,null,null,null,null,"Nombre: ","MORILLO",null,null,null,null,null,null,null,null,null,null,null,null,null,null,null,null,null,null,null,null,null,null,null,null,null,null,null,null,null,null,"Mort. Mater. Acum. Año",null,null,null,null,null,null,null,0,{"$f":"CE41","v":0},0,null,{"$f":"CE41","v":0},null,{"$f":"SUM(BC2:BG2)","v":0},null,null,null,null,"Sector:",null,"SAN LORENZO",null,null,null,null,null,null,null,null,null,null,null,null,null,null,null,null,null,"N°",25]
[null,null,null,null,null,null,null,null,null,null,null,null,null,null,null,null,null,null,null,null,null,null,null,null,null,null,null,null,null,null,null,null,null,null,null,null,null,null,null,null,null,null,null,null,null,null,"Mort. 0-1 año Acum Año",null,null,null,null,null,null,null,0,{"$f":"BR41+BU41+BY41","v":0},0,null,{"$f":"BR41+BU41+BY41","v":0},null,{"$f":"SUM(BC3:BG3)","v":0},null,null,null,null,null,"Etnia: ","CRIOLLO",null,null,null,null,null,null,null,null,null,null,null,null,null,null,null,null,null,"Sector Riesgo:","NO"]
[null,null,null,null,null,null,null,"Establec. Base: ","HOSPITAL MORILLO",null,null,null,null,null,null,null,null,null,null,null,null,null,null,null,null,null,null,null,null,null,null,null,null,null,null,null,null,null,null,null,null,null,null,null,null,null,"Mort. 1-4 años Acum Año",null,null,null,null,null,null,null,0,{"$f":"CC41","v":0},0,null,{"$f":"CC41","v":0},null,{"$f":"SUM(BC4:BG4)","v":0},null,null,null,null,null,null,null,null,null,null,null,null,"Desde: ","07/03/2025",null,null,null,null,null,null,null,null,"Hasta: ","05/06/2026"]
[null,null,null,null,null,null,null,null,null,null,null,null,null,null,null,null,null,null,null,null,null,null,null,null,null,null,null,null,null,null,null,null,null,null,null,null,null,null,null,null,null,null,null,null,null,null,null,null,null,null,null,null,null,null,null,null,null,null,null,null,null,null,null,null,null,null,null,null,null,null,null,null,null,null,null,null,null,null,null,"Cobertura: ","CUBIERTO"]
[null,null,null,null,null,null,null,"Sup. Intermedio: ","MIGUEL CORREA",null,null,null,null,null,null,null,null,null,null,null,null,null,null,null,null,null,null,null,null,null,null,null,"Responsable A.P.S.: ","Dr. Abel Ibarra",null,null,null,null,null,null,null,null,null,null,null,null,null,null,null,null,null,null,null,null,null,null,"Agente Sanitario: ","NILDA CAMPOS",null,null,null,null,null,null,null,null,null,null,null,null,null,null,null,null,"Sit. Revista: ","PLANTA PERMANENTE",null,null,null,null,null,"Reg. Horario: ","30 HS."]
[]
["A) FAMILIAS VISITADAS EN LA RONDA",null,null,null,null,null,null,null,null,null,null,null,null,null,null,null,null,null,null,null,null,null,null,null,null,null,null,null,null,null,null,null,null,null,null,null,null,null,null,null,null,null,null,null,null,null,null,"B) FACTORES DE PRIORIZACION DE VISITAS"]
["ASIGNADAS",null,null,"VISITADAS",null,null,"TOTAL\nVISITAS",null,"NO VISITADAS",null,null,null,null,null,null,null,null,"FLIAS ORIG.",null,"FLIAS. URB.",null,"FLIAS. PERIURB",null,null,"FLIAS. RURALES",null,"GOLON\nMIGRANTES",null,null,null,null,"FLIAS. CON PL. SOCIALES",null,null,null,null,null,"PRODUCCION\nFAMILIAR",null,null,null,null,null,null,null,null,null,1,null,2,null,3,null,null,4,null,5,null,6,null,7,null,null,8,null,null,9,null,null,10,null,null,null,11,null,null,12,null,null,null,13,null,null,14,null,null,15]
[null,null,null,null,null,null,null,null,"RECHAZO TOTAL",null,"AUSEN\n-TE",null,"NO VISITADAS",null,"TOT NO VISIT.",null,null,null,null,null,null,null,null,null,null,null,"HACIA\nEL AO",null,"DESDE\nEL AO",null,null,null,null,null,null,null,null,"HUERTA",null,null,null,"GRANJA",null,null,null,null,null,0,null,0,null,0,null,null,0,null,0,null,0,null,0,null,null,0,null,null,0,null,null,"Total",null,null,null,"Tot",null,"Trat","Tot.",null,null,"Trat.","Tot.","Trat.",null,"Tot.",null,"Trat","Total"]
[null,null,null,null,null,null,null,null,null,null,0,null,null,null,null,null,null,null,null,null,null,null,null,null,null,null,null,null,null,null,null,null,null,null,null,null,null,null,null,null,null,null,null,null,null,null,null,null,null,null,null,null,null,null,null,null,null,null,null,null,null,null,null,null,null,null,null,null,null,0,null,null,null,0,null,0,0,null,null,0,0,0,null,0,null,0,0]
[0,null,null,0,null,null,0,null,0,null,0,null,0,null,{"$f":"M12+K12+I12","v":0},null,null,0,null,0,null,0,null,null,0,null,0,null,0,null,null,0,null,null,null,null,null,0,null,null,null,0,null,null,null,null,null,"C) VISITAS A FLIAS. PRIORIZADAS",null,null,null,null,null,null,null,null,null,null,null,null,null,null,null,null,null,null,null,null,null,"D) SUPERV. A FLIAS. "]
[null,null,null,null,null,null,null,null,null,null,null,null,null,null,null,null,null,null,null,null,null,null,null,null,null,null,null,null,null,null,null,null,null,null,null,null,null,null,null,null,null,null,null,null,null,null,null,"PRIORIDAD",null,null,null,null,null,1,null,null,2,null,null,null,3,null,null,"Total",null,null,null,null,null,"PRIORIDAD",null,null,null,null,null,3,null,null,null,2,null,1,null,null,null,"TOTAL"]
[null,null,null,null,null,null,null,null,null,null,null,null,null,null,null,null,null,null,null,null,null,null,null,null,null,null,null,null,null,null,null,null,null,null,null,null,null,null,null,null,null,null,null,null,null,null,null,"N° FAMILIAS",null,null,null,null,null,0,null,null,0,null,null,null,0,null,null,{"$f":"SUM(BB14:BI14)","v":0},null,null,null,null,null,"INTERMEDIA",null,null,null,null,null,0,null,null,null,0,null,0,null,null,null,{"$f":"SUM(BX14:CD14)","v":0}]
[null,null,null,null,null,null,null,null,null,null,null,null,null,null,null,null,null,null,null,null,null,null,null,null,null,null,null,null,null,null,null,null,null,null,null,null,null,null,null,null,null,null,null,null,null,null,null,"VISITAS",null,null,null,null,null,0,null,null,0,null,null,null,0,null,null,{"$f":"SUM(BB15:BI15)","v":0},null,null,null,null,null,"PROFESIONAL",null,null,null,null,null,0,null,null,null,0,null,0,null,null,null,{"$f":"SUM(BX15:CB15)","v":0}]
["E) EDAD FERTIL",null,null,null,null,"F) EMBARAZADAS",null,null,null,null,null,null,"G) PARTOS",null,null,null,null,null,null,null,"H) R.N. EN LA RONDA",null,null,null,null,null,null,null,null,"I) EVALUACION ANTROPOMETRICA",null,null,null,null,null,null,null,null,null,null,null,null,null,null,null,null,null,null,null,null,null,null,null,null,null,null,null,null,null,null,null,null,null,null,null,null,"NIÑ MBP/BP/RBP CTRL. INT.",null,null,null,null,null,null,null,null,null,"LACT. MATERNA"]
["PAP",null,null,0,null,"CAPT. 1er TRIMESTRE","ESP EN EL AÑO","ACUMULADAS","NUEVAS\nRONDA","TOTAL","DE RIESGO","<19 Años","TOTAL",null,"HOSPITALARIOS",null,"DOMIC.",null,"N° PUERPERAS",null,"NACIDOS VIVOS",null,"P AL NACER",null,null,null,null,null,null,"NIÑOS CONTROLADOS",null,null,null,null,null,null,null,null,null,null,null,null,null,null,null,null,null,null,null,null,null,null,null,null,null,null,null,null,null,null,null,null,null,null,null,null,"MELAN",null,"MED",null,"ENF.",null,"LAB",null,"NUTR",null,"< 6 M EN LA RONDA",null,null,null,{"$f":"CC20+CC22+CC23","v":0}]
[null,null,null,null,null,null,null,null,null,null,null,null,null,null,null,null,"DOM","ASIS",null,null,null,null,"ALTO PESO","ADEC",null,"BAJO PESO",null,"MB\nPESO",null,"EDAD",null,null,"A CONTROLAR",null,null,"ADECUADO",null,"BP\nBAJO PESO",null,"MBP\nMUY B. PESO",null,"ALTO PESO",null,"RIESGO",null,null,null,"RECUPERADOS",null,null,null,"TALLA / EDAD",null,null,null,null,"NUEVOS\nEPISODIOS",null,"PERDIDOS",null,null,null,null,"FALLECIDOS\nC/ANTEC. ANTROPOM."]
[]
["Antic.",null,null,0,null,0,{"$f":"IF(ISERROR(((CC92*1.8)/100)),0,(((CC92*1.8)/100)))","v":0},0,0,{"$f":"SUM(F23:L23)","v":0},0,0,{"$f":"O20+Q20+R20","v":0},null,0,null,0,0,0,null,{"$f":"W20+X20+Z20+AB20","v":0},null,0,0,null,0,null,0,null,null,null,null,null,null,null,null,null,null,null,null,null,null,null,"BP",null,"AP",null,"BP",null,null,"AP","BT",null,"MBT",null,"RGO\nBT",null,null,"BP\nMBP",null,null,"A.P.",null,null,null,null,0,null,0,null,0,null,0,null,0,null,"EXCLUSIVO",null,null,null,0]
[null,null,null,null,null,"CONTROLES",null,null,null,null,null,null," ",null,null,null,null,null,null,null,"PREMATUROS",null,null,null,"PESQUISA"]
["Aborto",null,null,0,null,"MELON",null,"MEL","MED","ENF","LAB","S/C","PUERP",null,null,null,"R.N.",null,null,null,null,null,null,null,null,null,null,null,null,"< 2 años",null,null,{"$f":"A27+C27+D27+F27+G27+H27","v":0},null,null,0,null,0,null,0,null,0,null,0,null,0,null,0,null,null,0,0,null,0,null,0,0,null,0,null,null,0,null,0,null,null,"CONTROLES EN DOMIC. NIÑO BP o MBP",null,null,null,null,null,null,null,0,null,"MIXTA",null,null,null,0]
[null,null,null,null,null,0,null,0,0,0,0,0,0,null,null,null,0,null,null,null,0,null,null,null,0,null,null,null,null,"2 a 6 años",null,null,{"$f":"I27+J27+K27+L27+M27+O27+P27+R27","v":0},null,null,0,null,0,null,0,null,0,null,0,null,0,null,0,null,null,0,0,null,0,null,0,0,null,0,null,null,0,null,0,null,null,null,null,null,null,null,null,null,null,null,null,"ARTIF",null,null,null,0]
["J) DATOS DE POBLACION"]
["0 a 5m",null,null,"6 a 11m",null,null,"1 AÑO",null,"2 AÑOS",null,"3 AÑOS",null,"4 AÑOS",null,null,"5 AÑOS",null,null,"6 AÑOS",null,null,"7 A 9 AÑOS",null,null,null,"10 AÑOS",null,"11 AÑOS",null,null,"12 A 14",null,null,null,null,null,"15 A 19",null,null,"20 A 24",null,null,null,"25 A 29",null,null,null,"30 A 34",null,null,null,"35 A 39",null,null,null,"40 A 44",null,null,null,null,"45 A 49",null,null,null,"50 A 54",null,null,null,"55 A 59",null,null,null,"60 A 64",null,null,null,"65 y +",null,null,null,"TOTAL",null,null,null,null,"MUJERES\n10 A 49","O. SOCIAL",null,"INDOCUM"]
["M",null,"F","M",null,"F","M","F","M","F","M","F","M",null,"F","M",null,"F","M",null,"F","M",null,"F",null,"M","F","M",null,"F","M",null,null,"F",null,null,"M","F",null,"M",null,"F",null,"M",null,null,"F","M",null,null,"F","M",null,"F",null,"M",null,null,"F",null,"M",null,"F",null,"M",null,"F",null,"M",null,"F",null,"M",null,"F",null,"M",null,null,"F","M",null,"F"]
[0,null,0,0,null,0,0,0,0,0,0,0,0,null,0,0,null,0,0,null,0,0,null,0,null,0,0,0,null,0,0,null,null,0,null,null,0,0,null,0,null,0,null,0,null,null,0,0,null,null,0,0,null,0,null,0,null,null,0,null,0,null,0,null,0,null,0,null,0,null,0,null,0,null,0,null,0,null,null,0,{"$f":"BY27+BU27+BQ27+BM27+BI27+BD27+AZ27+AV27+AR27+AN27+AK27+AE27+AB27+Z27+V27+S27+P27+M27+K27+I27+G27+D27+A27","v":0},null,{"$f":"CB27+BW27+BS27+BO27+BK27+BG27+BB27+AY27+AU27+AP27+AL27+AH27+AD27+AA27+X27+U27+R27+O27+L27+J27+H27+F27+C27","v":0},null,null,{"$f":"BK27+BG27+BB27+AY27+AU27+AP27+AL27+AH27+AD27+AA27","v":0},0,null,0]
[{"$f":"A27+C27","v":0},null,null,{"$f":"D27+F27","v":0},null,null,{"$f":"G27+H27","v":0},null,{"$f":"I27+J27","v":0},null,{"$f":"K27+L27","v":0},null,{"$f":"M27+O27","v":0},null,null,{"$f":"P27+R27","v":0},null,null,{"$f":"S27+U27","v":0},null,null,{"$f":"V27+X27","v":0},null,null,null,{"$f":"Z27+AA27","v":0},null,{"$f":"AB27+AD27","v":0},null,null,{"$f":"AE27+AH27","v":0},null,null,null,null,null,{"$f":"AL27+AK27","v":0},null,null,{"$f":"AN27+AP27","v":0},null,null,null,{"$f":"AR27+AU27","v":0},null,null,null,{"$f":"AV27+AY27","v":0},null,null,null,{"$f":"AZ27+BB27","v":0},null,null,null,{"$f":"BD27+BG27","v":0},null,null,null,null,{"$f":"BI27+BK27","v":0},null,null,null,{"$f":"BM27+BO27","v":0},null,null,null,{"$f":"BQ27+BS27","v":0},null,null,null,{"$f":"BU27+BW27","v":0},null,null,null,{"$f":"BY27+CB27","v":0},null,null,null,{"$f":"CC27+CE27","v":0}]
["K) TUBERCULOSIS ",null,null,null,null,null,null,null,null,null,null,null,null,null,null," CHAGAS ",null,null,null,null,null,"L) PERSONAS CON ENF. CRONICAS",null,null,null,null,null,null,null,null,null,null,null,"M) OBSERVACIONES"]
["Coef. Sint.Resp.: ",null,null,"MUESTRAS",null,null,null,null,"TRATAM. TBC",null,null,null,null,null,null,"TRATAMIENTOS CHAGAS",null,null,null,null,null,"PERSONAS CON",null,null,null,null,null,"TOTAL",null,null,"EN TRAT.",null,null," "]
[{"$f":"Control!H9","v":8},null,null,"DIAGNOSTICOS",null,null,"CONTROL",null,"Total",null,"TAES",null," ABANDONO",null,null,"INICIO ",null,null,0,null,null,"DIABETES",null,null,null,null,null,0,null,null,0]
["SINT. ESP..",null,null,"Tot",null,"(+)","Tot","(+)",0,null,0,null,0,null,null,"FINALIZACION ",null,null,0,null,null,"HIPERTENSION \nARTERIAL",null,null,null,null,null,0,null,null,0]
[{"$f":"IF(ISERROR(((AK91+AL91+AN91+AP91+AR91+AU91+AV91+AY91+AZ91+BB91+BD91+BG91+BI91+BK91+BM91+BO91+BQ91+BS91+BU91+BW91+BY91+CB91)*0.2)*A31/100),0,(((AK91+AL91+AN91+AP91+AR91+AU91+AV91+AY91+AZ91+BB91+BD91+BG91+BI91+BK91+BM91+BO91+BQ91+BS91+BU91+BW91+BY91+CB91)*0.2)*A31/100))","v":0},null,null,0,null,0,0,0,"QUIMIO Total",null,0,null,null,null,null,null,null,null,null,null,null,"PERSONAS CON OTRAS ENF. CRONICAS AL CUIDADO DE NIÑOS",null,null,null,null,null,0,null,null,0]
["SINT. DETEC.",null,null,"CONTACTO",null,null,null,null,"CTRL. MEDICO",null,null,null,"FINALIZAD0",null,null,"ABANDONO ",null,null,0]
[0,null,null,"< 14a",null,null,"> 15a",null,"Pcte/Rda",null,"A Cont",null,0,null,null,null,null,null,null,null,null,"ADULTOS MAYORES EN SITUACION DE RIESGO",null,null,null,null,null,0]
[null,null,null,0,null,null,0,null,0,null,0]
["N) DERIVACIONES",null,null,null,null,null,null,null,null,null,null,null,null,null,null,null,null,null,null,null,null,null,null,null,null,null,null,null,null,null,null,null,null,null,null,null,null,null,null,null,null,"Ñ) VIVIENDA Y SANEAMIENTO",null,null,null,null,null,null,null,null,null,null,null,null,null,null,null,null,null,null,null,null,null,null,null,null,null,null,null,"O) DEFUNCIONES EN LA RONDA"]
[null,null,null,null,null,null,null,null,null,null,null,null,null,null,null,null,null,null,null,null,null,null,null,null,null,null,null,null,null,null,null,null,null,null,null,null,null,null,null,null,null,"TRAT. AGUA",null,null,null,null,null,"DISP SANITARIA EXCRETAS",null,null,null,null,null,null,null,null,null,null,null,"TRATAM. SANIT BASURA",null,null,null,null,null,null,null,null,null,"MENORES 1 AÑO",null,null,null,null,null,null,null,null,null,null,"1 a 4 AÑOS",null,"MATERNA",null,null,null,"OTRAS"]
["EMB",null,null,null,"RN",null,null,null,"PUERP",null,null,null,"Menores de 6 años",null,null,null,null,null,null,null,"E.\nCRONICAS",null,"PAP",null,"CHAGAS",null,null,null,"TBC",null,null,null,"PSICOSOC",null,null,null,"TOTAL\nDERIVACIONES",null,null,null,null,"RED",null,"EN\nVIV",null,null,"S/T","ARRASTRE",null,null,null,null,null,"LETRINA",null,null,null,"S/T",null,"REC. DOMIC.",null,null,"POZO BASURA",null,null,null,"S/T",null,null,"<7d",null,null,"7 a 28d",null,null,null,"29d a 11 m"]
[null,null,null,null,null,null,null,null,null,null,null,null,"BP- MBP",null,"RGO BP",null,"Resp",null,"Diarr",null,null,null,null,null,null,null,null,null,null,null,null,null,null,null,null,null,null,null,null,null,null,null,null,null,null,null,null,"CLOACAS",null,"PC-CT",null,"PC-ST",null,"CT",null,"ST"]
["Env",null,"Rec",null,"Env",null,"Rec",null,"Env",null,"Rec",null,"Env","Rec","Env","Rec","Env","Rec","Env","Rec","Env","Rec","Env","Rec","Env",null,"Rec",null,"Env",null,"Rec",null,"Env",null,"Rec",null,"ENV",null,null,"Rec",null,0,null,0,null,null,0,0,null,0,null,0,null,0,null,0,null,0,null,0,null,null,0,null,null,null,0,null,null,0,null,null,0,null,null,null,0,null,null,null,0,null,0,null,null,null,0]
[null,null,null,null,null,null,null,null,null,null,null,null,null,null,null,null,null,null,null,null,null,null,null,null,null,null,null,null,null,null,null,null,null,null,null,null,null,null,null,null,null,"CASAS ",null,null,null,null,null,null,null,null,null,null,null,"CHAGAS",null,null,null,null,null,null,null,null,null,null,null,"DENGUE CHIKUNGUNYA",null,null,null,null,null,null,null,null,null,null,null,"P) PROM. SALUD"]
[0,null,0,null,0,null,0,null,0,null,0,null,0,0,0,0,0,0,0,0,0,0,0,0,0,null,0,null,0,null,0,null,0,null,0,null,{"$f":"AG43+AC43+Y43+W43+U43+S43+Q43+O43+M43+I43+E43+A43","v":0},null,null,{"$f":"AI43+AE43+AA43+X43+V43+T43+R43+P43+N43+K43+G43+C43","v":0},null,"ASIGNADAS",null,null,null,null,"VISITADAS",null,null,"VACIAS",null,"DESTRUIDAS",null,"EVALUADAS",null,null,"POSITIVAS",null,null,null,null,"TRATADAS",null,null,null,"EVALUADAS",null,null,null,"POSITIVAS",null,null,null,"TRATADAS",null,null,null,"PLANIFICADAS \nEN COMUNIDAD",null,null,null,null,null,null,null,0]
[]
[null,null,null,null,null,null,null,null,null,null,null,null,null,null,null,null,null,null,null,null,null,null,null,null,null,null,null,null,null,null,null,null,null,null,null,null,null,null,null,null,null,0,null,null,null,null,0,null,null,0,null,0,null,0,null,null,0,null,null,null,null,0,null,null,null,0,null,null,null,0,null,null,null,0,null,null,null,"REALIZADAS ",null,null,null,null,null,null,null,0]
["Q) INDICADORES"]
["DE ESTRUCTURA",null,null,null,null,null,"SI","NO","DE PRODUCCION",null,null,null,null,null,"%","META",null," DE INMUNIZACIONES",null,null,null,null,null,null,null,null,null,null,null,null,null,null,null,null," DE INMUNIZACIONES",null,null,null,null,null,null,null,null,null,null,null,null,null,null,null,null,null,null,null,null,null,null,null,null,null,null," DE RESULTADO",null,null,null,null,null,null,null,null,"%",null,"META",null,null," DE RESULTADO",null,null,null,null,null,null,null,null,null,"%",null,"META RDA"]
["Formularios",null,null,null,null,null,0,0,"Cobertura a Familias",null,null,null,null,null,{"$f":"IF(ISERROR(D12/A12),0,(D12/A12)*100)","v":0},100,null,"VACUNA",null,null,null,null,"P. REF",null,"1r","2r","3r","4r",null,"T","%",null,"META",null,"VACUNA",null,null,null,null,null,null,null,null,null,"P. REF",null,null,"1r",null,null,"2r","3r",null,null,"4r","T",null,"%",null,"META",null,"Ed Fértil c/Anticoncepción",null,null,null,null,null,null,null,null,{"$f":"IF(ISERROR(D20/CH27),0,(D20/CH27)*100)","v":0},null,null,null,null,"Niños 2 a 5 Recup BP",null,null,null,null,null,null,null,null,null,{"$f":"IF(ISERROR(AV23/K80),0,(AV23/K80)*100)","v":0},null,100]
["Equipo",null,null,null,null,null,0,0,"Niños < 2 años Controlados",null,null,null,null,null,{"$f":"IF(ISERROR(((AJ22+AL22+AN22+AP22)/(A28+D28+G28))),0,(((AJ22+AL22+AN22+AP22)/(A28+D28+G28)))*100)","v":0},100,null,"BCG RN",null,null,null,null,{"$f":"U20","v":0},null,3,0,0,0,null,{"$f":"SUM(Y49:AB49)","v":3},{"$f":"IF(ISERROR(Z49/W49),0,(Z49/W49)*100)","v":0},null,100,null,"2 Ref. Varicela Ingreso Esc",null,null,null,null,null,null,null,null,null,2,null,null,2,null,null,0,0,null,null,0,{"$f":"SUM(AV49:BC49)","v":2},null,{"$f":"IF(ISERROR(AY49/AS49),0,(AY49/AS49)*100)","v":0},null,25,null,"PAP",null,null,null,null,null,null,null,null,{"$f":"IF(ISERROR(D17/CH27),0,(D17/CH27)*100)","v":0},null,null,null,null,"Niños 2 a 5 Recup AP",null,null,null,null,null,null,null,null,null,{"$f":"IF(ISERROR(AY23/K82),0,(AY23/K82)*100)","v":0},null,100]
["Combustible",null,null,null,null,null,0,0,"Niños  (2 a 5 años) Controlados",null,null,null,null,null,{"$f":"IF(ISERROR(((AJ23+AL23+AN23+AP23)/(I28+K28+M28+P28))),0,(((AJ23+AL23+AN23+AP23)/(I28+K28+M28+P28)))*100)","v":0},100,null,"Hepatitis B RN","Hepatitis B RN",null,"Hepatitis B RN","Hepatitis B RN",null,null,3,0,0,0,null,{"$f":"SUM(Y50:AB50)","v":3},{"$f":"IF(ISERROR(Z50/W49),0,(Z50/W49)*100)","v":0},null,null,null,"2° Ref. Antipolio Ingreso Escolar",null,null,null,null,null,null,null,null,null,null,null,null,2,null,null,0,0,null,null,0,{"$f":"SUM(AV50:BC50)","v":2},null,{"$f":"IF(ISERROR(AY50/AS49),0,(AY50/AS49)*100)","v":0},null,null,null,"Embarazadas Con MELON",null,null,null,null,null,null,null,null,{"$f":"IF(ISERROR(F23/J20),0,(F23/J20)*100)","v":0},null,80,null,null,"Niños 6 meses con LME",null,null,null,null,null,null,null,null,null,{"$f":"IF(ISERROR(CC20/CC17),0,(CC20/CC17)*100)","v":0},null,80]
[" DE DIAGNOSTICO",null,null,null,null,null,null,"%","Conc. Vis. Flias Prio",null,null,null,null,null,{"$f":"IF(ISERROR((BB15+BE15)/(BB14+BE14)),0,((BB15+BE15)/(BB14+BE14)))","v":0},25,null,"2° Neumococo < 1a","3ª SOT/Salk < 1a",null,"3ª SOT/Salk < 1a","3ª SOT/Salk < 1a",{"$f":"A91+C91+D91+F91","v":0},null,0,0,0,0,null,{"$f":"SUM(Y51:AB51)","v":0},{"$f":"IF(ISERROR(Z51/W51),0,(Z51/W51)*100)","v":0},null,100,null,"2° Ref. DPT Ingreso Escolar",null,null,null,null,null,null,null,null,null,null,null,null,2,null,null,0,0,null,null,0,{"$f":"SUM(AV51:BC51)","v":2},null,{"$f":"IF(ISERROR(AY51/AS49),0,(AY51/AS49)*100)","v":0},null,null,null,"Partos Hospitalarios",null,null,null,null,null,null,null,null,{"$f":"IF(ISERROR(O20/M20),0,(O20/M20)*100)","v":0},null,100]
["Flias Priorizadas 3 + 2:",null,null,null,null,null,null,{"$f":"IF(ISERROR((BB14+BE14)/D12),0,(BB14+BE14)/D12*100)","v":0},"Conc.C.Dom Niños Bp/MBP",null,null,null,null,null,{"$f":"IF(ISERROR(BW22/(AL22+AN22+AL23+AN23)),0,(BW22/(AL22+AN22+AL23+AN23)))","v":0},3,null,"2° Rotavirus <1 a","3º Pentavalente <1 a",null,"3º Pentavalente <1 a","3º Pentavalente <1 a",null,null,0,0,0,0,null,{"$f":"SUM(Y52:AB52)","v":0},{"$f":"IF(ISERROR(Z52/W51),0,(Z52/W51)*100)","v":0},null,null,null,"2° TV Ingreso Escolar",null,null,null,null,null,null,null,null,null,null,null,null,2,null,null,0,0,null,null,0,{"$f":"SUM(AV52:BC52)","v":2},null,{"$f":"IF(ISERROR(AY52/AS49),0,(AY52/AS49)*100)","v":0},null,100,null,"Conc Control Médico a RN",null,null,null,null,null,null,null,null,{"$f":"IF(ISERROR(Q23/M20),0,(Q23/M20))","v":0},null,4,null,null,"% Niños BP MBP y RBP con MELaN",null,null,null,null,null,null,null,null,null,{"$f":"IF(ISERROR(BO20/(AL22+AN22+AR22+AL23+AN23+AR23)),0,(BO20/(AL22+AN22+AR22+AL23+AN23+AR23))*100)","v":0},null,100]
["Flias Urbanas",null,null,null,null,null,null,{"$f":"IF(ISERROR(T12/D12),0,(T12/D12)*100)","v":0},"Rel. Muestra/Sint Resp.",null,null,null,null,null,{"$f":"IF(ISERROR(D33/A35),0,(D33/A35))","v":0},2,null,"2° Meningococo < 1a",null,null,null,null,null,null,0,0,0,0,null,{"$f":"SUM(Y53:AB53)","v":0},{"$f":"IF(ISERROR(Z53/W51),0,(Z53/W51)*100)","v":0},null,null,null,"dTpa 11 años",null,null,null,null,null,null,null,null,null,8,null,null,8,null,null,0,0,null,null,0,{"$f":"SUM(AV53:BC53)","v":8},null,{"$f":"IF(ISERROR(AY53/AS53),0,(AY53/AS53)*100)","v":0},null,null,null,"Conc Control Méd. a puérpera",null,null,null,null,null,null,null,null,{"$f":"IF(ISERROR(M23/S20),0,(M23/S20))","v":0},null,4,null,null,"Sint Resp Detect. Seg zona",null,null,null,null,null,null,null,null,null,{"$f":"IF(ISERROR((A35*100)/(((20*(AK28+AN28+AR28+AV28+AZ28+BD28+BI28+BM28+BQ28+BU28+BY28))/100)*A31)),0,(A35*100)/((((20*(AK28+AN28+AR28+AV28+AZ28+BD28+BI28+BM28+BQ28+BU28+BY28))/100)*A31)/100))","v":0},null,"S/Z"]
["Flias Periurbanas",null,null,null,null,null,null,{"$f":"IF(ISERROR(V12/D12),0,(V12/D12)*100)","v":0},"Casas Evaluadas Chagas",null,null,null,null,null,{"$f":"IF(ISERROR(BB45/AU45),0,(BB45/AU45)*100)","v":0},100,null,"3° Antipolio < 1 año","2ª Rotavirus < 1 año",null,"2ª Rotavirus < 1 año","2ª Rotavirus < 1 año",null,null,0,0,0,0,null,{"$f":"SUM(Y54:AB54)","v":0},{"$f":"IF(ISERROR(Z54/W51),0,(Z54/W51)*100)","v":0},null,null,null,"U.D. Meningococo",null,null,null,null,null,null,null,null,null,null,null,null,8,null,null,0,0,null,null,0,{"$f":"SUM(AV54:BC54)","v":8},null,{"$f":"IF(ISERROR(AY54/AS53),0,(AY54/AS53)*100)","v":0},null,"95% AL 1° SEM",null,"RN con Pesquisa",null,null,null,null,null,null,null,null,{"$f":"IF(ISERROR(Y23/U20),0,(Y23/U20)*100)","v":0},null,100,null,null,"Pacientes TBC con Control Médico",null,null,null,null,null,null,null,null,null,{"$f":"IF(ISERROR(I36/I32),0,(I36/I32)*100)","v":0},null,100]
["Flias Rurales",null,null,null,null,null,null,{"$f":"IF(ISERROR(Y12/D12),0,(Y12/D12)*100)","v":0},"Casas Tratadas Chagas",null,null,null,null,null,{"$f":"IF(ISERROR(BJ45/BE45),0,(BJ45/BE45)*100)","v":0},100,null,"3° Pentavalente <1 año","TV 1 año",null,"TV 1 año","TV 1 año",null,null,0,0,0,0,null,{"$f":"SUM(Y55:AB55)","v":0},{"$f":"IF(ISERROR(Z55/W51),0,(Z55/W51)*100)","v":0},null,null,null,"1° HPV Niñas cumplen 11 a en año en curso",null,null,null,null,null,null,null,null,null,4,null,null,4,null,null,0,0,null,null,0,{"$f":"SUM(AV55:BC55)","v":4},null,{"$f":"IF(ISERROR(AY55/AS55),0,(AY55/AS55)*100)","v":0},null,null,null,"Derivaciones Enviadas/Recibidas",null,null,null,null,null,null,null,null,{"$f":"IF(ISERROR(AN43/AK43),0,(AN43/AK43)*100)","v":0},null,100,null,null,"Contactos TBC Controlados",null,null,null,null,null,null,null,null,null,{"$f":"IF(ISERROR(K36/(D36+G36)),0,(K36/(D36+G36)))*100","v":0},null,100]
["Flias Originarias",null,null,null,null,null,null,{"$f":"IF(ISERROR(R12/D12),0,(R12/D12)*100)","v":0},"Casas Evaluadas Dengue",null,null,null,null,null,{"$f":"IF(ISERROR(BN45/AU45),0,(BN45/AU45)*100)","v":0},100,null,"1° TV","A HA 1 año",null,"A HA 1 año","A HA 1 año",{"$f":"G91+H91","v":0},null,3,0,0,0,null,{"$f":"SUM(Y56:AB56)","v":3},{"$f":"IF(ISERROR(Z56/W56),0,(Z56/W56)*100)","v":0},null,100,null,"1° HPV Niños cumplen 11 a en año en curso",25,25,null,null,null,null,null,null,null,4,null,null,4,null,null,0,0,null,null,0,{"$f":"SUM(AV56:BC56)","v":4},null,{"$f":"IF(ISERROR(AY56/AS56),0,(AY56/AS56)*100)","v":0},null,"95% AL 1° SEM",null,"Niños < 2 a Riesgo BP",null,null,null,null,null,null,null,null,{"$f":"IF(ISERROR(AR22/AJ22),0,(AR22/AJ22)*100)","v":0},null,null,null,null,"TAES de TBC",null,null,null,null,null,null,null,null,null,{"$f":"IF(ISERROR(K32/I32),0,(K32/I32)*100)","v":0},null,100]
["Flias Migr. desde AO",null,null,null,null,null,null,{"$f":"IF(ISERROR(AC12/A12),0,(AC12/A12)*100)","v":0},"Casas Tratadas Dengue",null,null,null,null,null,{"$f":"IF(ISERROR(BV45/BR45),0,(BV45/BR45)*100)","v":0},100,null,"2° TV","A HA 1 año",null,"A HA 1 año","A HA 1 año",null,null,0,0,0,0,null,{"$f":"SUM(Y57:AB57)","v":0},{"$f":"IF(ISERROR(Z57/W56),0,(Z57/W56)*100)","v":0},null,null,null,"Emb. con dTpa",null,null,null,null,null,null,null,null,null,2,null,null,2,null,null,0,0,null,null,0,{"$f":"SUM(AV57:BC57)","v":2},null,{"$f":"IF(ISERROR(AY57/AS57),0,(AY57/AS57)*100)","v":0},null,null,null,"Niños < 2 a Riesgo AP",null,null,null,null,null,null,null,null,{"$f":"IF(ISERROR(AT22/AJ22),0,(AT22/AJ22)*100)","v":0},null,null,null,null,"Ptes. con tratamiento por Chagas",null,null,null,null,null,null,null,null,null,{"$f":"S31","v":0}]
["Flias Migr. hacia el AO",null,null,null,null,null,null,{"$f":"IF(ISERROR(AA12/A12),0,(AA12/A12)*100)","v":0},"Superv Int. a la Familia",null,null,null,null,null,{"$f":"IF(ISERROR((CH14*100)/BL14),0,((CH14*100)/BL14))","v":0},20,null,"Unica Dosis A HA",null,null,null,null,null,null,2,0,0,0,null,{"$f":"SUM(Y58:AB58)","v":2},{"$f":"IF(ISERROR(Z58/W56),0,(Z58/W56)*100)","v":0},null,null,null,"Emb. con Vac Sinsicial",null,null,null,null,null,null,null,null,null,null,null,null,1,null,null,0,0,null,null,0,{"$f":"SUM(AV58:BC58)","v":1},null,{"$f":"IF(ISERROR(AY58/AS57),0,(AY58/AS57)*100)","v":0},null,100,null,"Niños < 2 Recup BP",null,null,null,null,null,null,null,null,{"$f":"IF(ISERROR(AV22/K79),0,(AV22/K79)*100)","v":0},null,100,null,null,"Casas positivas Chagas",null,null,null,null,null,null,null,null,null,{"$f":"IF(ISERROR(BE45/BB45),0,(BE45/BB45)*100)","v":0},null,0]
["Flias con planes sociales",null,null,null,null,null,null,{"$f":"IF(ISERROR(AF12/D12),0,(AF12/D12)*100)","v":0},"Superv Prof. Flias Prio (3v)",null,null,null,null,null,{"$f":"IF(ISERROR(CH15/(BB14+BE14)),0,(CH15/(BB14+BE14))*100)","v":0},70,null,"Ref Neumococo 1 año","Ref Neumoc 1 año",null,"Ref Neumoc 1 año","Ref Neumoc 1 año",null,null,2,0,0,0,null,{"$f":"SUM(Y59:AB59)","v":2},{"$f":"IF(ISERROR(Z59/W56),0,(Z59/W56)*100)","v":0},null,null,null,"dT  Vigente > 65 a",null,null,null,null,null,null,null,null,null,54,null,null,0,null,null,0,0,null,null,0,{"$f":"SUM(AV59:BC59)","v":0},null,{"$f":"IF(ISERROR(AY59/AS59),0,(AY59/AS59)*100)","v":0},null,100,null,"Niños < 2 Recup AP",null,null,null,null,null,null,null,null,{"$f":"IF(ISERROR(AY22/K81),0,(AY22/K81)*100)","v":0},null,100,null,null,"Casas Positivas Aedes",null,null,null,null,null,null,null,null,null,{"$f":"IF(ISERROR(BR45/BN45),0,(BR45/BN45)*100)","v":0},null," "]
[null,null,null,null,null,null,null,null,"% Activ Prom.Salud Comunitarias",null,null,null,null,null,{"$f":"IF(ISERROR(CH45/CH43),0,(CH45/CH43)*100)","v":0},100,null,"Ref. Meningococo 1 año","Ref Cuádruple 1 año",null,"Ref Cuádruple 1 año","Ref Cuádruple 1 año",null,null,1,0,0,0,null,{"$f":"SUM(Y60:AB60)","v":1},{"$f":"IF(ISERROR(Z60/W56),0,(Z60/W56)*100)","v":0},null,null,null,"Neumo 20 > 65 años",null,null,null,null,null,null,null,null,null,null,null,null,0,null,null,0,0,null,null,0,{"$f":"SUM(AV60:BC60)","v":0},null,{"$f":"IF(ISERROR(AY60/AS59),0,(AY60/AS59)*100)","v":0},null,null,null,"Niños 2 a 5 Riesgo BP",null,null,null,null,null,null,null,null,{"$f":"IF(ISERROR(AR23/AJ23),0,(AR23/AJ23)*100)","v":0},null,null,null,null,"UROCS 1/SEC",null,null,null,null,null,null,null,null,null,0,null,"1/SEC"]
["Flias. c/Antec Mort Mat Inf",null,null,null,null,null,null,{"$f":"IF(ISERROR(AV10/D12),0,(AV10/D12)*100)","v":0},null,null,null,null,null,null,null,null,null,"Unica Dosis Varicela","Ref SOT 1 año",null,"Ref SOT 1 año","Ref SOT 1 año",null,null,1,0,0,0,null,{"$f":"SUM(Y61:AB61)","v":1},{"$f":"IF(ISERROR(Z61/W56),0,(Z61/W56)*100)","v":0},null,null,null,"Aplic. Cargadas a Nomivac",null,null,null,null,null,null,null,null,null,0,null,null,null,null,null,null,null,null,null,null,null,null,null,null,null,null,null,null,null,null,null,null,null,null,null,null,null,null,null,null,"Flias con Huerta",null,null,null,null,null,null,null,null,null,{"$f":"IF(ISERROR(AL12/D12),0,(AL12/D12)*100)","v":0}]
["F con 3 o más <6 años",null,null,null,null,null,null,{"$f":"IF(ISERROR(BI10/D12),0,(BI10/D12)*100)","v":0}," DE IMPACTO",null,null,null,null,"%",null,"META",null,"4° Dosis o 1° Ref. Pentavalente",null,null,null,null,null,null,1,0,0,0,null,{"$f":"SUM(Y62:AB62)","v":1},{"$f":"IF(ISERROR(Z62/W56),0,(Z62/W56)*100)","v":0},null,null,null,"Total Aplic /AS",null,null,null,null,null,null,null,null,null,0,null,null,null,null,null,null,null,null,null,null,null,null,null,null,null,null,"Niños 2 a 5 Riesgo AP",null,null,null,null,null,null,null,null,{"$f":"IF(ISERROR(AT23/AJ23),0,(AT23/AJ23)*100)","v":0},null,null,null,null,"Flias con Granja",null,null,null,null,null,null,null,null,null,{"$f":"IF(ISERROR(AP12/D12),0,(AP12/D12)*100)","v":0}]
["Flias con Hacinamiento",null,null,null,null,null,null,{"$f":"IF(ISERROR(BL10/D12),0,(BL10/D12)*100)","v":0},"Agua Seg (Trat Red + Viv)",null,null,null,null,{"$f":"IF(ISERROR((AP41+AR41)/D12),0,((AP41+AR41)/D12)*100)","v":0},null,100,null,"2° AG 6m a 24m",null,null,null,null,7,null,0,0,0,0,null,{"$f":"SUM(Y63:AB63)","v":0},{"$f":"IF(ISERROR(Z63/W63),0,(Z63/W63)*100)","v":0},null," ",null,"VAC COVID APLIC EN LA RONDA",null,null,null,null,null,null,null,null,null,0,null,null,null,null,null,null,null,null,null,null,null,null,null,null,null,null,"U) A llenar en 1° Ronda del Año"]
["Flias con Analfabet",null,null,null,null,null,null,{"$f":"IF(ISERROR(BO10/D12),0,(BO10/D12)*100)","v":0},"DSE (Arrastre y letrinas)",null,null,null,null,{"$f":"IF(ISERROR((AV41+AX41+AZ41+BB41+BD41)/D12),0,((AV41+AX41+AZ41+BB41+BD41)/D12)*100)","v":0},null,100,null,"R) PRODUCCION Y RENDIMIENTO",null,null,null,null,null,null,null,null,null,null,null,null,null,null,null,null,null,null,null,null,null,null,null,null,null,null,null,null,null,null,null,null,null,null,null,null,null,null,null,null,null,null,null,"Piso",null,null,null,null,"Techo",null,null,null,null,"Paredes",null,null,null,null,null,null,null,null,null,"Cocina",null,null,null,null,"Tenencia"]
["Flias con Suicidio",null,null,null,null,null,null,{"$f":"IF(ISERROR(BT11/D12),0,(BT11/D12)*100)","v":0},"TSB (Recolección + Pozo)",null,null,null,null,{"$f":"IF(ISERROR((BH41+BK41)/D12),0,((BH41+BK41)/D12)*100)","v":0},null,100,null,"DIAS A TRAB. /RONDA",null,null,"DIAS INCLEM CLIMAT.",null,null,"DIAS Y NROS DE ARTICULOS TOMADOS",null,null,null,"CAPACITACIONES Y OTRAS ACTIVIDADES",null,null,null,null,null,null,null,null,null,null,null,null,null,null,null,null,null,null,null,null,null,null,"DIAS TRABAJADOS\nEN TERRENO",null,null,null,null,"PROM. DIARIO DE FLIAS VISIT.",null,null,null,null,null,"Mosaico/B.",null,null,null,0,"Losa",null,null,0,null,"Ladrillo",null,null,0,null,"Madera",null,null,null,0,"Gas",null,null,0,null,"Segura",null,null,0]
["Flias c /tentativa suicidio",null,null,null,null,null,null,{"$f":"IF(ISERROR(BV11/D12),0,(BV11/D12)*100)","v":0},"Emb Adolescente",null,null,null,null,{"$f":"IF(ISERROR(L20/J20),0,(L20/J20)*100)","v":0},null,null,null,null,null,null,null,null,null,0,null,null,null,0,null,null,null,null,null,null,null,null,null,null,0,null,null,null,null,null,null,null,null,null,null,null,null,null,null,null,null,null,null,null,null,null,null,"Cemento",null,null,null,0,"Chapa\nZinc",null,null,0,null,"Bloque",null,null,0,null,"Quincho",null,null,null,0,"Leña/\nCarb",null,null,0,null,"Inseg.",null,null,0]
["Flias con Alcoholismo",null,null,null,null,null,null,{"$f":"IF(ISERROR(BY11/D12),0,(BY11/D12)*100)","v":0},"Niños <2 Bajo Peso/MBP",null,null,null,null,{"$f":"IF(ISERROR((AL22+AN22)/(AJ22+AP22+AL22+AN22)),0,((AL22+AN22)/(AJ22+AP22+AL22+AN22))*100)","v":0},null,null,null,null,null,null,null,null,null,0,null,null,null,0,null,null,null,null,null,null,null,null,null,null,0,null,null,null,null,null,null,null,null,null,null,null,null,null,null,null,null,null,null,null,null,null,null,"Tierra",null,null,null,0,"Paja/\nBarro",null,null,0,null,"Adobe",null,null,0,null,"Carton/Pl",null,null,null,0,"Otros",null,null,0,null,"Hac",null,null,0,null,null,null,5]
["Flias c/ otras Adicciones",null,null,null,null,null,null,{"$f":"IF(ISERROR(CC11/D12),0,(CC11/D12)*100)","v":0},"Niños <2 a AP",null,null,null,null,{"$f":"IF(ISERROR(AP22/(AJ22+AP22+AL22+AN22)),0,(AP22/(AJ22+AP22+AL22+AN22))*100)","v":0},null,null,null,0,null,null,0,null,null,0,null,null,null,0,null,null,null,null,null,null,null,null,null,null,0,null,null,null,null,null,null,null,null,null,null,null,0,null,null,null,null,{"$f":"IF(ISERROR(G12/AY68),0,(G12/AY68))","v":0},null,null,null,null,null,"Otros",null,null,null,0,"Otros",null,null,0,null,"Piedra",null,null,0,null,"Otro",null,null,null,0,"Helad.",null,null,0]
["Flias con VIF",null,null,null,null,null,null,{"$f":"IF(ISERROR(CF11/D12),0,(CF11/D12)*100)","v":0},"Niños < 2 baja y MBT",null,null,null,null,{"$f":"IF(ISERROR((AZ22+BB22)/(AJ22+AP22+AL22+AN22)),0,((AZ22+BB22)/(AJ22+AP22+AL22+AN22))*100)","v":0},null,null,null,"S) DETALLE DE LAS DEFUNCIONES (Todas las del Sector)",null,null,null,null,null,null,null,null,null,null,null,null,null,null,null,null,null,null,null,null,null,null,null,null,null,null,null,null,null,null,null,null,null,null,null,null,null,null,null,null,null,null,null,"Agua",null,"Corriente a Domic",null,null,"Grifo Terr",null,null,"Grifo Público",null,null,"Bomba",null,null,"Pozo",null,null,null,"Camión Aguatero / Cisterna",null,"Vertiente/Rio/Aceq",null,null,"Laguna",null,null,"Lluvia/Aljibe"]
["Flias con Diabetes",null,null,null,null,null,null,{"$f":"IF(ISERROR(AB31/D12),0,(AB31/D12)*100)","v":0},"Niños 2 a 5 Bajo Peso/MBP",null,null,null,null,{"$f":"IF(ISERROR((AL23+AN23)/(AJ23+AP23+AL23+AN23)),0,((AL23+AN23)/(AJ23+AP23+AL23+AN23))*100)","v":0},null,null,null,"APELLIDO Y NOMBRE",null,null,null,null,null,null,"DOMICILIO",null,null,null,null,null,null,null,null,"NACIMIENTO",null,null,null,null,"DEFUNCION",null,null,null,"PESO\nAL NACER",null,null,null,"CAUSA",null,null,null,null,null,null,null,null,null,"CLASIFICAC."]
["Flias con Hipertensión",null,null,null,null,null,null,{"$f":"IF(ISERROR(AB32/D12),0,(AB32/D12)*100)","v":0},"Niños 2 a 5 AP",null,null,null,null,{"$f":"IF(ISERROR(AP23/(AJ23+AP23+AL23+AN23)),0,(AP23/(AJ23+AP23+AL23+AN23))*100)","v":0}]
[]
["Personas con otras enfermedades crónicas al cuidado de niños",null,null,null,null,null,null,{"$f":"IF(ISERROR(AB33/D12),0,(AB33/D12)*100)","v":0},"Niños 2 a 5 baja y MBT",null,null,null,null,{"$f":"IF(ISERROR((AZ23+BB23)/(AJ23+AP23+AL23+AN23)),0,((AZ23+BB23)/(AJ23+AP23+AL23+AN23))*100)","v":0},null,null,null,null,null,null,null,null,null,null,null,null,null,null,null,null,null,null,null,null,null,null,null,null,null,null,null,null,null,null,null,null,null,null,null,null,null,null,null,null,null,null,null,null,null,null,null,null,null,0,null,null,0,null,null,0,null,null,0,null,null,0,null,null,null,0,null,0,null,null,0,null,null,0]
["Pers c/O Social/Pob total",null,null,null,null,null,null,{"$f":"IF(ISERROR(CI27/CC28),0,(CI27/CC28)*100)","v":0}]
[]
[]
[]
[]
["BP+MBP Ronda Anterior Men2a: ",null,null,null,null,null,null,null,null,null,0]
["BP+MBP Ronda Anterior 2 a 6a: ",null,null,null,null,null,null,null,null,null,0]
["AP Ronda Anterior Men2a: ",null,null,null,null,null,null,null,null,null,0]
["AP Ronda Anterior 2 a 6a: ",null,null,null,null,null,null,null,null,null,0]
[]
[]
[]
[]
[]
["0 a 5m",null,null,"6 a 11m",null,null,"1 AÑO",null,"2 AÑOS",null,"3 AÑOS",null,"4 AÑOS",null,null,"5 AÑOS",null,null,"6 AÑOS",null,null,"7 A 9 AÑOS",null,null,null,"10 AÑOS",null,"11 AÑOS",null,null,"12 A 14",null,null,null,null,null,"15 A 19",null,null,"20 A 24",null,null,null,"25 A 29",null,null,null,"30 A 34",null,null,null,"35 A 39",null,null,null,"40 A 44",null,null,null,null,"45 A 49",null,null,null,"50 A 54",null,null,null,"55 A 59",null,null,null,"60 A 64",null,null,null,"65 y +",null,null,null,"TOTAL",null,null,null,null,"MUJERES\n10 A 49"]
["M",null,"F","M",null,"F","M","F","M","F","M","F","M",null,"F","M",null,"F","M",null,"F","M",null,"F",null,"M","F","M",null,"F","M",null,null,"F",null,null,"M","F",null,"M",null,"F",null,"M",null,null,"F","M",null,null,"F","M",null,"F",null,"M",null,null,"F",null,"M",null,"F",null,"M",null,"F",null,"M",null,"F",null,"M",null,"F",null,"M",null,null,"F","M",null,"F"]
[0,null,0,0,null,0,0,0,0,0,0,0,0,null,0,0,null,0,0,null,0,0,null,0,null,0,0,0,null,0,0,null,null,0,null,null,0,0,null,0,null,0,null,0,null,null,0,0,null,null,0,0,null,0,null,0,null,null,0,null,0,null,0,null,0,null,0,null,0,null,0,null,0,null,0,null,0,null,null,0,{"$f":"SUM(A90,D90,G90,I90,K90,M90,P90,S90,V90,Z90,AB90,AE90,AK90,AN90,AR90,AV90,AZ90,BD90,BI90,BM90,BQ90,BU90,BY90)","v":0},null,{"$f":"SUM(C90,F90,H90,J90,L90,O90,R90,U90,X90,AA90,AD90,AH90,AL90,AP90,AU90,AY90,BB90,BG90,BK90,BO90,BS90,BW90,CB90)","v":0},null,null,{"$f":"SUM(AA90,AD90,AH90,AL90,AP90,AU90,AY90,BB90,BG90,BK90)","v":0}]
[{"$f":"SUM(A90:C90)","v":0},null,null,{"$f":"SUM(D90,F90)","v":0},null,null,{"$f":"SUM(G90,H90)","v":0},null,{"$f":"SUM(I90,J90)","v":0},null,{"$f":"SUM(K90,L90)","v":0},null,{"$f":"SUM(M90,O90)","v":0},null,null,{"$f":"SUM(P90,R90)","v":0},null,null,{"$f":"SUM(S90,U90)","v":0},null,null,{"$f":"SUM(V90,X90)","v":0},null,null,null,{"$f":"SUM(Z90,AA90)","v":0},null,{"$f":"SUM(AB90,AD90)","v":0},null,null,{"$f":"SUM(AE90,AH90)","v":0},null,null,null,null,null,{"$f":"SUM(AK90,AL90)","v":0},null,null,{"$f":"SUM(AN90,AP90)","v":0},null,null,null,{"$f":"SUM(AR90,AU90)","v":0},null,null,null,{"$f":"SUM(AV90,AY90)","v":0},null,null,null,{"$f":"SUM(AZ90,BB90)","v":0},null,null,null,{"$f":"SUM(BD90,BG90)","v":0},null,null,null,null,{"$f":"SUM(BI90,BK90)","v":0},null,null,null,{"$f":"SUM(BM90,BO90)","v":0},null,null,null,{"$f":"SUM(BQ90,BS90)","v":0},null,null,null,{"$f":"SUM(BU90,BW90)","v":0},null,null,null,{"$f":"SUM(BY90,CB90)","v":0},null,null,null,{"$f":"A91+D91+G91+I91+K91+M91+P91+S91+V91+Z91+AB91+AE91+AK91+AN91+AR91+AV91+AZ91+BD91+BI91+BM91+BQ91+BU91+BY91","v":0}]
["Mejor Población: 1° - 2019",null,null,null,null,null,null,null,null,null,null,null,null,null,null,null,null,null,null,null,null,null,null,null,null,null,null,null,null,null,null,null,null,null,null,null,null,null,null,null,null,null,null,null,null,null,null,null,null,null,null,null,null,null,null,null,null,null,null,null,null,null,null,null,null,null,null,null,null,null,null,null,null,null,null,null,null,null,null,null,{"$f":"SUM(CC91,CE91)","v":0}]
["Cobertura: 1%"]

{"sheet":"Sector__","index":34,"n_rows":93,"n_cols":94,"rows_kept":93,"cut":false,"hidden":true,"merged":[[21,66,22,73],[21,74,22,75],[21,76,21,79],[21,80,21,81],[21,82,22,86],[21,87,22,89],[22,76,22,79],[22,80,22,81],[15,66,15,75],[15,76,15,81],[16,66,18,67],[16,68,18,69],[16,70,18,71],[16,72,18,73],[16,74,18,75],[16,76,18,79],[16,80,18,81],[16,82,18,86],[16,87,18,89],[19,66,20,67],[19,68,20,69],[19,70,20,71],[19,72,20,73],[19,74,20,75],[19,76,20,79],[19,80,20,81],[19,82,20,86],[19,87,20,89],[32,10,32,11],[32,21,33,26],[32,27,33,29],[32,30,33,32],[33,0,33,2],[33,3,33,7],[33,8,33,11],[33,12,33,14],[33,15,35,17],[33,18,35,20],[34,0,35,2],[34,3,34,5],[34,6,34,7],[34,8,34,9],[34,10,34,11],[34,12,35,14],[34,21,35,26],[34,27,35,32],[35,3,35,5],[35,6,35,7],[35,8,35,9],[35,10,35,11],[28,15,28,20],[28,21,28,32],[29,0,29,2],[29,3,29,7],[29,8,29,14],[29,15,29,20],[29,21,29,26],[29,27,29,29],[29,30,29,32],[29,33,35,89],[30,3,30,5],[30,6,30,7],[30,8,30,9],[30,10,30,11],[30,12,30,14],[30,15,30,17],[30,18,30,20],[30,21,30,26],[30,27,30,29],[30,30,30,32],[31,0,31,2],[31,3,31,4],[31,8,31,9],[31,10,31,11],[31,12,32,14],[31,15,32,17],[31,18,32,20],[31,21,31,26],[31,27,31,29],[31,30,31,32],[32,0,32,2],[32,8,32,9],[56,34,56,43],[56,47,56,49],[56,51,56,53],[56,55,56,56],[56,57,56,58],[57,17,57,21],[57,27,57,28],[57,57,57,58],[57,59,57,60],[58,17,58,21],[58,27,58,28],[53,17,53,21],[53,27,53,28],[53,30,53,31],[53,34,53,43],[55,55,55,56],[55,57,55,58],[55,22,60,23],[55,32,60,33],[55,44,55,46],[56,44,57,46],[50,55,50,56],[53,47,53,49],[53,51,53,53],[53,55,53,56],[54,17,54,21],[54,27,54,28],[54,30,54,31],[54,34,54,43],[54,47,54,49],[54,51,54,53],[54,55,54,56],[50,57,50,58],[51,17,51,21],[51,27,51,28],[51,30,51,31],[51,34,51,43],[51,47,51,49],[51,51,51,53],[51,55,51,56],[51,57,51,58],[48,27,48,28],[48,30,48,31],[48,32,49,33],[48,34,48,43],[48,47,48,49],[48,51,48,53],[49,17,49,21],[49,27,49,28],[49,30,49,31],[49,34,49,43],[49,47,49,49],[49,51,49,53],[47,32,47,33],[47,34,47,43],[47,44,47,46],[55,17,55,21],[55,27,55,28],[55,30,55,31],[55,34,55,43],[55,47,55,49],[55,51,55,53],[50,51,50,53],[0,56,0,57],[0,58,0,59],[0,60,0,61],[1,46,1,53],[1,56,1,57],[1,58,1,59],[1,60,1,61],[2,46,2,53],[2,56,2,57],[2,58,2,59],[2,60,2,61],[3,46,3,53],[3,56,3,57],[3,58,3,59],[3,60,3,61],[46,17,46,33],[46,34,46,60],[13,58,13,62],[14,47,14,52],[14,53,14,57],[14,58,14,62],[16,22,16,28],[16,29,16,65],[16,16,16,17],[16,18,18,19],[21,63,21,65],[25,27,25,28],[24,64,24,67],[27,64,27,67],[1,67,1,84],[6,0,6,89],[28,0,28,14],[7,0,7,46],[7,47,7,89],[8,0,10,2],[8,3,10,5],[8,6,10,7],[8,8,8,16],[8,17,10,18],[8,19,10,20],[8,21,10,23],[4,80,4,87],[5,8,5,24],[5,33,5,46],[5,57,5,67],[5,75,5,77],[5,82,5,87],[1,86,1,87],[2,67,2,79],[2,86,2,87],[3,8,3,23],[3,74,3,79],[3,84,3,87],[0,27,3,45],[0,46,0,52],[0,81,0,84],[0,86,0,87],[1,8,1,9],[1,15,1,25],[8,86,8,89],[9,8,10,9],[9,10,10,11],[9,12,10,13],[9,14,10,16],[11,0,14,2],[11,3,14,5],[11,6,14,7],[11,8,14,9],[11,10,14,11],[11,12,14,13],[9,86,9,89],[10,69,10,72],[10,73,10,74],[10,76,10,78],[10,81,10,82],[10,83,10,84],[10,86,10,89],[9,66,10,68],[9,69,9,72],[9,73,9,74],[9,76,9,78],[9,81,9,82],[9,83,9,84],[9,51,10,53],[9,54,10,55],[9,56,10,57],[9,58,10,59],[9,60,10,62],[9,63,10,65],[9,26,10,27],[9,28,10,30],[9,37,10,40],[9,41,10,46],[9,47,10,48],[12,85,12,89],[13,47,13,52],[13,53,13,57],[13,63,13,68],[13,69,13,74],[11,28,14,30],[11,31,14,36],[11,37,14,40],[11,41,14,46],[11,47,11,68],[11,69,11,89],[12,47,12,52],[12,53,12,57],[12,58,12,62],[12,63,12,68],[8,24,10,25],[8,26,8,30],[8,31,10,36],[8,37,8,46],[8,47,8,48],[8,49,8,50],[9,49,10,50],[8,66,8,68],[8,69,8,72],[8,73,8,75],[8,76,8,79],[8,80,8,82],[8,83,8,85],[8,51,8,53],[8,54,8,55],[8,56,8,57],[8,58,8,59],[8,60,8,62],[8,63,8,65],[16,0,18,2],[16,3,18,5],[16,6,18,6],[16,7,18,7],[16,8,18,8],[16,9,18,9],[14,79,14,80],[14,81,14,84],[14,85,14,89],[15,0,15,5],[15,6,15,11],[15,12,15,19],[15,20,15,28],[15,29,15,65],[15,82,15,89],[13,75,13,78],[13,79,13,80],[13,81,13,84],[13,85,13,89],[14,63,14,68],[14,69,14,74],[14,75,14,78],[11,14,14,16],[11,17,14,18],[11,19,14,20],[11,21,14,23],[11,24,14,25],[11,26,14,27],[12,69,12,74],[12,75,12,78],[12,79,12,80],[12,81,12,84],[19,0,20,2],[19,3,20,5],[19,12,19,13],[19,14,19,15],[19,18,19,19],[19,20,19,21],[19,23,19,24],[17,37,20,38],[17,39,20,40],[17,41,20,42],[17,43,18,46],[17,47,18,50],[17,51,18,55],[19,51,20,52],[19,53,20,54],[19,55,20,55],[17,16,18,16],[17,17,18,17],[17,22,18,22],[17,23,18,24],[17,25,18,26],[16,20,18,21],[17,27,18,28],[17,29,20,31],[17,32,20,34],[17,35,20,36],[20,6,20,11],[20,12,20,19],[20,20,21,23],[20,24,21,28],[19,25,19,26],[19,27,19,28],[19,43,20,44],[19,45,20,46],[19,47,20,49],[19,50,20,50],[17,56,20,57],[17,58,18,62],[17,63,20,65],[16,10,18,10],[16,11,18,11],[16,12,18,13],[16,14,18,15],[22,12,22,15],[22,16,22,19],[22,20,22,23],[22,24,22,28],[22,29,22,31],[22,32,22,34],[22,35,22,36],[21,47,21,49],[21,51,21,52],[21,53,21,54],[21,56,21,57],[21,58,21,60],[21,61,21,62],[21,35,21,36],[21,37,21,38],[21,39,21,40],[21,41,21,42],[21,43,21,44],[21,45,21,46],[21,12,21,15],[21,16,21,19],[21,29,21,31],[21,32,21,34],[19,58,20,60],[19,61,20,62],[23,0,23,89],[24,0,24,2],[24,3,24,5],[24,6,24,7],[24,8,24,9],[24,10,24,11],[24,12,24,14],[24,15,24,17],[22,51,22,52],[22,53,22,54],[22,56,22,57],[22,58,22,60],[22,61,22,62],[22,63,22,65],[22,37,22,38],[22,39,22,40],[22,41,22,42],[22,43,22,44],[22,45,22,46],[22,47,22,49],[21,0,22,2],[21,3,22,5],[24,86,25,87],[24,88,25,89],[25,0,25,1],[25,3,25,4],[25,12,25,13],[25,15,25,16],[24,80,24,84],[24,85,25,85],[25,74,25,75],[25,76,25,78],[25,80,25,81],[25,82,25,84],[24,39,24,42],[24,43,24,46],[24,47,24,50],[24,51,24,54],[24,55,24,59],[24,60,24,63],[24,18,24,20],[24,21,24,24],[24,25,24,26],[24,27,24,29],[24,30,24,35],[24,36,24,38],[25,72,25,73],[25,47,25,49],[25,51,25,52],[25,53,25,54],[25,55,25,57],[25,58,25,59],[25,60,25,61],[25,30,25,32],[25,33,25,35],[25,37,25,38],[25,39,25,40],[25,41,25,42],[25,43,25,45],[25,18,25,19],[25,21,25,22],[25,23,25,24],[24,76,24,79],[26,23,26,24],[26,27,26,28],[26,30,26,32],[26,33,26,35],[26,37,26,38],[26,39,26,40],[26,0,26,1],[26,3,26,4],[26,12,26,13],[26,15,26,16],[26,18,26,19],[26,21,26,22],[25,62,25,63],[25,64,25,65],[25,66,25,67],[25,68,25,69],[25,70,25,71],[24,68,24,71],[24,72,24,75],[27,68,27,71],[27,72,27,75],[27,76,27,79],[27,80,27,84],[27,39,27,42],[27,43,27,46],[27,47,27,50],[27,51,27,54],[27,55,27,59],[27,60,27,63],[27,18,27,20],[27,21,27,24],[27,25,27,26],[27,27,27,29],[27,30,27,35],[27,36,27,38],[26,85,27,85],[26,76,26,78],[26,80,26,81],[26,82,26,84],[26,58,26,59],[26,60,26,61],[26,62,26,63],[26,64,26,65],[26,66,26,67],[26,68,26,69],[26,41,26,42],[26,43,26,45],[26,47,26,49],[26,51,26,52],[26,53,26,54],[26,55,26,57],[26,86,27,87],[26,88,27,89],[27,0,27,2],[27,3,27,5],[27,6,27,7],[27,8,27,9],[27,10,27,11],[27,12,27,14],[27,15,27,17],[26,70,26,71],[26,72,26,73],[26,74,26,75],[30,0,30,2],[38,4,39,7],[38,8,39,11],[38,12,38,19],[38,20,39,21],[38,22,39,23],[36,0,37,40],[36,41,36,68],[38,53,38,56],[38,57,39,58],[38,59,39,61],[38,62,39,65],[39,51,39,52],[39,53,39,54],[39,55,39,56],[38,24,39,27],[38,28,39,31],[38,32,39,35],[38,36,39,40],[38,41,39,42],[38,43,39,45],[38,0,39,3],[38,47,38,52],[32,3,32,4],[36,69,36,89],[37,41,37,46],[37,47,37,58],[37,59,37,68],[37,69,37,79],[37,80,39,81],[37,82,39,85],[37,86,39,89],[40,0,41,1],[40,2,41,3],[40,4,41,5],[40,6,41,7],[40,8,41,9],[40,10,41,11],[38,66,39,68],[38,69,39,71],[38,72,39,75],[38,76,39,79],[39,12,39,13],[39,14,39,15],[39,16,39,17],[39,18,39,19],[39,47,39,48],[39,49,39,50],[38,46,39,46],[40,47,40,48],[40,49,40,50],[40,24,41,25],[40,26,41,27],[40,28,41,29],[40,30,41,31],[40,32,41,33],[40,34,41,35],[40,18,41,18],[40,19,41,19],[40,20,41,20],[40,21,41,21],[40,22,41,22],[40,23,41,23],[40,12,41,12],[40,13,41,13],[40,14,41,14],[40,15,41,15],[40,16,41,16],[40,17,41,17],[42,10,44,11],[42,12,44,12],[42,13,44,13],[42,14,44,14],[42,15,44,15],[42,16,44,16],[40,86,40,89],[41,41,41,52],[41,53,41,64],[41,65,41,76],[41,77,41,89],[42,0,44,1],[42,2,44,3],[42,4,44,5],[42,6,44,7],[42,8,44,9],[40,66,40,68],[40,69,40,71],[40,72,40,75],[40,76,40,79],[40,80,40,81],[40,82,40,85],[40,51,40,52],[40,53,40,54],[40,55,40,56],[40,57,40,58],[40,59,40,61],[40,62,40,65],[40,36,41,38],[40,39,41,40],[40,41,40,42],[40,43,40,45],[44,46,44,48],[44,49,44,50],[44,51,44,52],[44,53,44,55],[44,56,44,60],[44,61,44,64],[42,51,43,52],[42,53,43,55],[42,56,43,60],[42,61,43,64],[42,65,43,68],[42,69,43,72],[42,34,44,35],[42,36,44,38],[42,39,44,40],[42,41,43,45],[42,46,43,48],[42,49,43,50],[42,85,43,89],[44,77,44,84],[44,85,44,89],[46,70,46,71],[46,72,46,74],[46,75,46,84],[46,85,46,86],[46,87,46,89],[47,0,47,5],[47,8,47,13],[47,15,47,16],[44,65,44,68],[44,69,44,72],[44,73,44,76],[45,0,45,89],[46,0,46,5],[46,8,46,13],[46,15,46,16],[46,61,46,69],[42,23,44,23],[42,24,44,25],[42,26,44,27],[42,28,44,29],[42,30,44,31],[42,32,44,33],[42,17,44,17],[42,18,44,18],[42,19,44,19],[42,20,44,20],[42,21,44,21],[42,22,44,22],[44,41,44,45],[47,87,47,89],[42,73,43,76],[48,0,48,5],[48,8,48,13],[48,15,48,16],[47,61,47,69],[47,70,47,71],[47,72,47,74],[47,75,47,84],[49,72,49,74],[49,75,50,84],[49,85,50,86],[49,87,50,89],[49,61,49,69],[49,70,49,71],[48,70,48,71],[48,72,48,74],[48,75,48,84],[48,85,48,86],[48,87,48,89],[49,0,49,5],[49,8,49,13],[49,15,49,16],[48,61,48,69],[50,70,50,71],[50,72,50,74],[50,61,50,69],[47,17,47,21],[47,22,47,23],[47,27,47,28],[47,30,47,31],[42,77,43,84],[50,0,50,6],[50,8,50,13],[50,15,50,16],[51,0,51,6],[51,8,51,13],[52,75,52,84],[52,85,52,86],[47,85,47,86],[49,55,49,56],[49,57,49,58],[50,17,50,21],[50,22,54,23],[50,27,50,28],[50,30,50,31],[50,32,54,33],[50,34,50,43],[50,47,50,49],[51,59,52,60],[52,17,52,21],[52,27,52,28],[52,30,52,31],[52,34,52,43],[48,55,48,56],[48,57,48,58],[48,59,50,60],[47,47,47,49],[47,51,47,53],[47,55,47,56],[47,57,47,58],[47,59,47,60],[48,17,48,21],[48,22,49,23],[52,87,52,89],[53,0,53,6],[53,8,53,13],[53,15,53,16],[52,61,52,69],[52,70,52,71],[51,70,51,71],[51,72,51,74],[51,75,51,84],[51,85,51,86],[51,87,51,89],[52,0,52,6],[52,8,52,13],[52,15,52,16],[51,15,51,16],[54,75,54,84],[54,85,54,86],[54,87,54,89],[52,47,52,49],[52,51,52,53],[52,55,52,56],[52,57,52,58],[54,57,54,58],[53,57,53,58],[53,59,54,60],[48,44,51,46],[52,44,53,46],[54,44,54,46],[51,61,51,69],[52,72,52,74],[54,70,54,71],[54,72,54,74],[55,0,55,6],[55,8,55,13],[55,15,55,16],[54,61,54,69],[53,70,53,71],[53,72,53,74],[53,75,53,84],[53,85,53,86],[53,87,53,89],[54,0,54,6],[54,8,54,13],[54,15,54,16],[53,61,53,69],[55,85,55,86],[55,87,55,89],[56,0,56,6],[56,8,56,13],[56,15,56,16],[55,61,55,69],[55,70,55,71],[55,72,55,74],[55,75,55,84],[56,85,56,86],[56,87,56,89],[56,61,56,69],[56,70,56,71],[56,72,56,74],[56,75,56,84],[55,59,56,60],[56,17,56,21],[56,27,56,28],[56,30,56,31],[58,85,58,86],[59,55,59,56],[59,57,59,58],[60,17,60,21],[60,27,60,28],[60,30,60,31],[60,34,60,43],[60,44,60,60],[59,72,60,74],[57,85,57,86],[57,30,57,31],[57,34,57,43],[57,47,57,49],[57,51,57,53],[57,55,57,56],[58,87,58,89],[58,61,58,69],[58,70,58,71],[58,72,58,74],[58,75,58,84],[59,61,60,69],[59,70,60,71],[57,87,57,89],[62,32,62,33],[57,75,57,84],[59,8,60,13],[59,14,60,14],[59,15,60,16],[58,30,58,31],[58,34,58,43],[58,44,59,46],[58,47,58,49],[58,51,58,53],[58,55,58,56],[58,57,58,58],[58,59,59,60],[59,17,59,21],[57,0,57,6],[57,8,57,13],[57,15,57,16],[61,32,61,33],[57,61,57,69],[57,70,57,71],[57,72,57,74],[61,29,62,29],[61,30,62,31],[61,34,61,43],[61,44,61,60],[62,34,62,43],[62,44,62,60],[61,85,61,86],[61,87,61,89],[60,85,60,86],[60,87,60,89],[61,0,61,6],[61,8,61,12],[61,13,61,14],[61,15,61,16],[59,75,59,84],[59,85,59,86],[59,87,59,89],[60,0,60,6],[60,75,60,84],[61,61,61,69],[61,70,61,71],[61,72,61,74],[61,75,61,84],[59,27,59,28],[59,30,59,31],[59,34,59,43],[59,47,59,49],[59,51,59,53],[58,0,59,6],[58,7,59,7],[58,8,58,13],[58,15,58,16],[61,17,62,21],[61,22,62,23],[61,24,62,24],[61,25,62,25],[61,26,62,26],[61,27,62,28],[63,66,63,70],[63,71,63,80],[63,81,63,85],[63,86,63,89],[64,0,64,6],[64,8,64,12],[64,13,64,14],[64,15,64,16],[64,17,66,19],[64,20,66,22],[62,61,62,89],[63,0,63,6],[63,8,63,12],[63,13,63,14],[63,15,63,16],[63,17,63,60],[63,61,63,65],[62,0,62,6],[62,8,62,12],[62,13,62,14],[62,15,62,16],[65,69,65,70],[65,74,65,75],[65,76,65,79],[65,81,65,83],[65,84,65,85],[65,86,65,88],[65,0,65,6],[65,8,65,12],[65,13,65,14],[65,15,65,16],[65,23,65,26],[67,71,67,73],[65,27,65,37],[64,69,64,70],[64,74,64,75],[64,76,64,79],[64,81,64,83],[64,84,64,85],[64,86,64,88],[64,23,64,26],[64,27,64,49],[64,50,66,54],[64,55,66,60],[64,61,64,64],[64,66,64,68],[65,38,65,49],[65,61,65,64],[65,66,65,68],[66,38,66,49],[66,81,66,83],[66,84,66,85],[66,86,67,88],[67,74,67,75],[67,76,67,79],[67,81,67,83],[67,23,67,26],[67,27,67,37],[67,38,67,49],[67,50,67,54],[67,55,67,60],[67,61,67,64],[68,0,68,6],[69,0,69,6],[69,8,69,12],[69,13,69,14],[69,15,69,16],[69,17,69,23],[69,24,69,32],[66,89,67,89],[67,0,67,6],[67,8,67,12],[67,13,67,14],[67,15,67,16],[67,17,67,19],[67,20,67,22],[66,61,66,64],[66,66,66,68],[66,69,66,70],[66,71,66,73],[66,74,66,75],[66,76,66,79],[66,0,66,6],[66,8,66,12],[66,13,66,14],[66,15,66,16],[66,23,66,26],[66,27,66,37],[67,84,67,85],[68,63,71,65],[68,66,71,68],[68,69,71,71],[67,66,67,68],[67,69,67,70],[72,0,72,6],[72,8,73,12],[72,13,73,14],[72,15,73,16],[72,17,72,23],[72,24,72,32],[70,56,70,60],[71,17,71,23],[71,24,71,32],[71,33,71,37],[71,38,71,41],[71,42,71,45],[71,46,71,55],[71,56,71,60],[70,17,70,23],[70,24,70,32],[70,33,70,37],[70,38,70,41],[70,0,71,6],[70,7,71,7],[70,8,71,12],[70,13,71,14],[70,15,71,16],[68,8,68,12],[68,13,68,14],[68,15,68,16],[68,17,68,60],[68,61,73,62],[87,27,87,29],[72,84,73,86],[72,87,73,89],[73,0,73,6],[73,17,73,23],[73,24,73,32],[73,33,73,37],[73,38,73,41],[73,42,73,45],[73,46,73,55],[73,56,73,60],[72,66,73,68],[72,69,73,71],[72,72,73,74],[72,75,73,78],[72,79,73,80],[72,81,73,83],[72,33,72,37]],"merged_total":1137,"flags":["merged_cut"]}
[null,null,null,null,null,null,null,null,null,null,null,null,null,null,null,null,null,null,null,null,null,null,null,null,null,null,null,"DIRECCION - PROGRAMA  APS \nSUBSECRETARIA DE MEDICINA SOCIAL\nRONDA N°:_____   AÑO:_2025__",null,null,null,null,null,null,null,null,null,null,null,null,null,null,null,null,null,null,null,null,null,null,null,null,null,null,"1r","2r","3r",null,"4r",null,"T",null,null,null,null,null,null,null,null,null,null,null,null,null,null,null,null,null,null,null,"Informe y orden de Ronda: "," ",null,null,null,null," "]
[null,null,null,null,null,null,null,"Area Operativa N°: ",0,null,null,null,null,null,"Nombre: ","poner el nombre ",null,null,null,null,null,null,null,null,null,null,null,null,null,null,null,null,null,null,null,null,null,null,null,null,null,null,null,null,null,null,"Mort. Mater. Acum. Año",null,null,null,null,null,null,null,{"$f":"CE41","v":0},{"$f":"CE41","v":0},0,null,0,null,{"$f":"SUM(BC2:BG2)","v":0},null,null,null,null,"Sector:",null,"poner el nombre ",null,null,null,null,null,null,null,null,null,null,null,null,null,null,null,null,null,"N°"," "]
[null,null,null,null,null,null,null,null,null,null,null,null,null,null,null,null,null,null,null,null,null,null,null,null,null,null,null,null,null,null,null,null,null,null,null,null,null,null,null,null,null,null,null,null,null,null,"Mort. 0-1 año Acum Año",null,null,null,null,null,null,null,{"$f":"BR41+BU41+BY41","v":0},0,{"$f":"BR41+BU41+BY41","v":0},null,0,null,{"$f":"SUM(BC3:BG3)","v":0},null,null,null,null,null,"Etnia: ","poner el nombre ",null,null,null,null,null,null,null,null,null,null,null,null,null,null,null,null,null,"Sector Riesgo:"]
[null,null,null,null,null,null,null,"Establec. Base: ","poner el nombre ",null,null,null,null,null,null,null,null,null,null,null,null,null,null,null,null,null,null,null,null,null,null,null,null,null,null,null,null,null,null,null,null,null,null,null,null,null,"Mort. 1-4 años Acum Año",null,null,null,null,null,null,null,{"$f":"CC41","v":0},0,{"$f":"CC41","v":0},null,0,null,{"$f":"SUM(BC4:BG4)","v":0},null,null,null,null,null,null,null,null,null,null,null,null,"Desde: "," ",null,null,null,null,null,null,null,null,"Hasta: "," "]
[null,null,null,null,null,null,null,null,null,null,null,null,null,null,null,null,null,null,null,null,null,null,null,null,null,null,null,null,null,null,null,null,null,null,null,null,null,null,null,null,null,null,null,null,null,null,null,null,null,null,null,null,null,null,null,null,null,null,null,null,null,null,null,null,null,null,null,null,null,null,null,null,null,null,null,null,null,null,null,"Cobertura: ","CUBIERTO"]
[null,null,null,null,null,null,null,"Sup. Intermedio: "," poner el nombre según dni sup intermedio",null,null,null,null,null,null,null,null,null,null,null,null,null,null,null,null,null,null,null,null,null,null,null,"Responsable A.P.S.: ","poner el nombre ",null,null,null,null,null,null,null,null,null,null,null,null,null,null,null,null,null,null,null,null,null,null,"Agente Sanitario: ","poner el nombre as según dni",null,null,null,null,null,null,null,null,null,null,null,null,null,null,null,null,"Sit. Revista: ",null,null,null,null,null,null,"Reg. Horario: "]
[]
["A) FAMILIAS VISITADAS EN LA RONDA",null,null,null,null,null,null,null,null,null,null,null,null,null,null,null,null,null,null,null,null,null,null,null,null,null,null,null,null,null,null,null,null,null,null,null,null,null,null,null,null,null,null,null,null,null,null,"B) FACTORES DE PRIORIZACION DE VISITAS"]
["ASIGNADAS",null,null,"VISITADAS",null,null,"TOTAL\nVISITAS",null,"NO VISITADAS",null,null,null,null,null,null,null,null,"FLIAS ORIG.",null,"FLIAS. URB.",null,"FLIAS. PERIURB",null,null,"FLIAS. RURALES",null,"GOLON\nMIGRANTES",null,null,null,null,"FLIAS. CON PL. SOCIALES",null,null,null,null,null,"PRODUCCION\nFAMILIAR",null,null,null,null,null,null,null,null,null,1,null,2,null,3,null,null,4,null,5,null,6,null,7,null,null,8,null,null,9,null,null,10,null,null,null,11,null,null,12,null,null,null,13,null,null,14,null,null,15]
[null,null,null,null,null,null,null,null,"RECHAZO TOTAL",null,"AUSEN\n-TE",null,"NO VISITADAS",null,"TOT NO VISIT.",null,null,null,null,null,null,null,null,null,null,null,"HACIA\nEL AO",null,"DESDE\nEL AO",null,null,null,null,null,null,null,null,"HUERTA",null,null,null,"GRANJA",null,null,null,null,null,0,null,0,null,0,null,null,0,null,0,null,0,null,0,null,null,0,null,null,0,null,null,"Total",null,null,null,"Tot",null,"Trat","Tot.",null,null,"Trat.","Tot.","Trat.",null,"Tot.",null,"Trat","Total"]
[null,null,null,null,null,null,null,null,null,null,0,null,null,null,null,null,null,null,null,null,null,null,null,null,null,null,null,null,null,null,null,null,null,null,null,null,null,null,null,null,null,null,null,null,null,null,null,null,null,null,null,null,null,null,null,null,null,null,null,null,null,null,null,null,null,null,null,null,null,0,null,null,null,0,null,0,0,null,null,0,0,0,null,0,null,0,0]
[0,null,null,0,null,null,0,null,0,null,0,null,0,null,{"$f":"M12+K12+I12","v":0},null,null,0,null,0,null,0,null,null,0,null,0,null,0,null,null,0,null,null,null,null,null,0,null,null,null,0,null,null,null,null,null,"C) VISITAS A FLIAS. PRIORIZADAS",null,null,null,null,null,null,null,null,null,null,null,null,null,null,null,null,null,null,null,null,null,"D) SUPERV. A FLIAS. "]
[null,null,null,null,null,null,null,null,null,null,null,null,null,null,null,null,null,null,null,null,null,null,null,null,null,null,null,null,null,null,null,null,null,null,null,null,null,null,null,null,null,null,null,null,null,null,null,"PRIORIDAD",null,null,null,null,null,3,null,null,null,null,2,null,null,null,null,"Total",null,null,null,null,null,"PRIORIDAD",null,null,null,null,null,3,null,null,null,2,null,1,null,null,null,"TOTAL"]
[null,null,null,null,null,null,null,null,null,null,null,null,null,null,null,null,null,null,null,null,null,null,null,null,null,null,null,null,null,null,null,null,null,null,null,null,null,null,null,null,null,null,null,null,null,null,null,"N° FAMILIAS",null,null,null,null,null,0,null,null,null,null,0,null,null,null,null,{"$f":"BG14+BB14","v":0},null,null,null,null,null,"INTERMEDIA",null,null,null,null,null,0,null,null,null,0,null,0,null,null,null,{"$f":"CB14+BX14","v":0}]
[null,null,null,null,null,null,null,null,null,null,null,null,null,null,null,null,null,null,null,null,null,null,null,null,null,null,null,null,null,null,null,null,null,null,null,null,null,null,null,null,null,null,null,null,null,null,null,"VISITAS",null,null,null,null,null,0,null,null,null,null,0,null,null,null,null,{"$f":"BG15+BB15","v":0},null,null,null,null,null,"PROFESIONAL",null,null,null,null,null,0,null,null,null,0,null,0,null,null,null,{"$f":"CB15+BX15","v":0}]
["E) EDAD FERTIL",null,null,null,null,null,"F) EMBARAZADAS",null,null,null,null,null,"G) PARTOS",null,null,null,null,null,null,null,"H) R.N. EN LA RONDA",null,null,null,null,null,null,null,null,"I) EVALUACION ANTROPOMETRICA",null,null,null,null,null,null,null,null,null,null,null,null,null,null,null,null,null,null,null,null,null,null,null,null,null,null,null,null,null,null,null,null,null,null,null,null,"NIÑ MBP/BP/RBP CTRL. INT.",null,null,null,null,null,null,null,null,null,"LACT. MATERNA",null,null,null,null,null,"leche entregada por AS"]
["PAP",null,null,0,null,null,"ESP EN EL AÑO","ACUMULADAS","NUEVAS\nRONDA","TOTAL","DE RIESGO","<19 Años","TOTAL",null,"HOSPITALARIOS",null,"DOMIC.",null,"N° PUERPERAS",null,"NACIDOS VIVOS",null,"P AL NACER",null,null,null,null,null,null,"NIÑOS CONTROLADOS",null,null,null,null,null,null,null,null,null,null,null,null,null,null,null,null,null,null,null,null,null,null,null,null,null,null,null,null,null,null,null,null,null,null,null,null,"MELAN",null,"MED",null,"ENF.",null,"LAB",null,"NUTR",null,"< 6 M EN LA RONDA",null,null,null,{"$f":"CC20+CC22+CC23","v":0},null,"Niños",null,null,null,null,0]
[null,null,null,null,null,null,null,null,null,null,null,null,null,null,null,null,"DOM","ASIS",null,null,null,null,"ALTO PESO","ADEC",null,"BAJO PESO",null,"MB\nPESO",null,"EDAD",null,null,"A CONTROLAR",null,null,"ADECUADO",null,"BP\nBAJO PESO",null,"MBP\nMUY B. PESO",null,"ALTO PESO",null,"RIESGO",null,null,null,"RECUPERADOS",null,null,null,"TALLA / EDAD",null,null,null,null,"NUEVOS\nEPISODIOS",null,"PERDIDOS",null,null,null,null,"FALLECIDOS\nC/ANTEC. ANTROPOM."]
[]
["Antic.",null,null,0,null,null,{"$f":"IF(ISERROR(((CC91*2.5)/100)),0,(((CC91*2.5)/100)))","v":0},0,0,{"$f":"G23+H23+I23+J23+K23+L23","v":0},0,0,{"$f":"O20+Q20+R20","v":0},null,0,null,0,0,0,null,{"$f":"W20+X20+Z20+AB20","v":0},null,0,0,null,0,null,0,null,null,null,null,null,null,null,null,null,null,null,null,null,null,null,"BP",null,"AP",null,"BP",null,null,"AP","BT",null,"MBT",null,"RGO\nBT",null,null,"BP\nMBP",null,null,"A.P.",null,null,null,null,0,null,0,null,0,null,0,null,0,null,"EXCLUSIVO",null,null,null,0,null,"EMB.",null,null,null,null,0]
[null,null,null,null,null,null,"CONTROLES",null,null,null,null,null," ",null,null,null,null,null,null,null,"PREMATUROS",null,null,null,"PESQUISA"]
["Aborto",null,null,0,null,null,"MELON","MEL","MED","ENF","LAB","S/C","PUERP",null,null,null,"R.N.",null,null,null,null,null,null,null,null,null,null,null,null,"< 2 años",null,null,{"$f":"A27+C27+D27+F27+G27+H27","v":0},null,null,0,null,0,null,0,null,0,null,0,null,0,null,0,null,null,0,0,null,0,null,0,0,null,0,null,null,0,null,0,null,null,"CONTROLES EN DOMIC. NIÑO BP o MBP",null,null,null,null,null,null,null,0,null,"MIXTA",null,null,null,0,null,"TOTAL",null,null,null,null,{"$f":"CJ20+CJ17","v":0}]
[null,null,null,null,null,null,0,0,0,0,0,0,0,null,null,null,0,null,null,null,0,null,null,null,0,null,null,null,null,"2 a 6 años",null,null,{"$f":"I27+J27+K27+L27+M27+O27+P27+R27","v":0},null,null,0,null,0,null,0,null,0,null,0,null,0,null,0,null,null,0,0,null,0,null,0,0,null,0,null,null,0,null,0,null,null,null,null,null,null,null,null,null,null,null,null,"ARTIF",null,null,null,0]
["J) DATOS DE POBLACION"]
["0 a 5m",null,null,"6 a 11m",null,null,"1 AÑO",null,"2 AÑOS",null,"3 AÑOS",null,"4 AÑOS",null,null,"5 AÑOS",null,null,"6 AÑOS",null,null,"7 A 9 AÑOS",null,null,null,"10 AÑOS",null,"11 AÑOS",null,null,"12 A 14",null,null,null,null,null,"15 A 19",null,null,"20 A 24",null,null,null,"25 A 29",null,null,null,"30 A 34",null,null,null,"35 A 39",null,null,null,"40 A 44",null,null,null,null,"45 A 49",null,null,null,"50 A 54",null,null,null,"55 A 59",null,null,null,"60 A 64",null,null,null,"65 y +",null,null,null,"TOTAL",null,null,null,null,"MUJERES\n10 A 49","O. SOCIAL",null,"INDOCUM"]
["M",null,"F","M",null,"F","M","F","M","F","M","F","M",null,"F","M",null,"F","M",null,"F","M",null,"F",null,"M","F","M",null,"F","M",null,null,"F",null,null,"M","F",null,"M",null,"F",null,"M",null,null,"F","M",null,null,"F","M",null,"F",null,"M",null,null,"F",null,"M",null,"F",null,"M",null,"F",null,"M",null,"F",null,"M",null,"F",null,"M",null,null,"F","M",null,"F"]
[0,null,0,0,null,0,0,0,0,0,0,0,0,null,0,0,null,0,0,null,0,0,null,0,null,0,0,0,null,0,0,null,null,0,null,null,0,0,null,0,null,0,null,0,null,null,0,0,null,null,0,0,null,0,null,0,null,null,0,null,0,null,0,null,0,null,0,null,0,null,0,null,0,null,0,null,0,null,null,0,{"$f":"BY27+BU27+BQ27+BM27+BI27+BD27+AZ27+AV27+AR27+AN27+AK27+AE27+AB27+Z27+V27+S27+P27+M27+K27+I27+G27+D27+A27","v":0},null,{"$f":"CB27+BW27+BS27+BO27+BK27+BG27+BB27+AY27+AU27+AP27+AL27+AH27+AD27+AA27+X27+U27+R27+O27+L27+J27+H27+F27+C27","v":0},null,null,{"$f":"BK27+BG27+BB27+AY27+AU27+AP27+AL27+AH27+AD27+AA27","v":0},0,null,0]
[{"$f":"A27+C27","v":0},null,null,{"$f":"D27+F27","v":0},null,null,{"$f":"G27+H27","v":0},null,{"$f":"I27+J27","v":0},null,{"$f":"K27+L27","v":0},null,{"$f":"M27+O27","v":0},null,null,{"$f":"P27+R27","v":0},null,null,{"$f":"S27+U27","v":0},null,null,{"$f":"V27+X27","v":0},null,null,null,{"$f":"Z27+AA27","v":0},null,{"$f":"AB27+AD27","v":0},null,null,{"$f":"AE27+AH27","v":0},null,null,null,null,null,{"$f":"AL27+AK27","v":0},null,null,{"$f":"AN27+AP27","v":0},null,null,null,{"$f":"AR27+AU27","v":0},null,null,null,{"$f":"AV27+AY27","v":0},null,null,null,{"$f":"AZ27+BB27","v":0},null,null,null,{"$f":"BD27+BG27","v":0},null,null,null,null,{"$f":"BI27+BK27","v":0},null,null,null,{"$f":"BM27+BO27","v":0},null,null,null,{"$f":"BQ27+BS27","v":0},null,null,null,{"$f":"BU27+BW27","v":0},null,null,null,{"$f":"BY27+CB27","v":0},null,null,null,{"$f":"CC27+CE27","v":0}]
["K) TUBERCULOSIS ",null,null,null,null,null,null,null,null,null,null,null,null,null,null," CHAGAS ",null,null,null,null,null,"L) PERSONAS CON ENF. CRONICAS",null,null,null,null,null,null,null,null,null,null,null,"M) OBSERVACIONES"]
["Coef. Sint.Resp.: ",null,null,"MUESTRAS",null,null,null,null,"TRATAM. TBC",null,null,null,null,null,null,"TRATAMIENTOS CHAGAS",null,null,null,null,null,"PERSONAS CON",null,null,null,null,null,"TOTAL",null,null,"EN TRAT.",null,null," "]
[{"$f":"Control!H9","v":8},null,null,"DIAGNOSTICOS",null,null,"CONTROL",null,"Total",null,"TAES",null," ABANDONO",null,null,"INICIO ",null,null,0,null,null,"DIABETES",null,null,null,null,null,0,null,null,0]
["SINT. ESP..",null,null,"Tot",null,"(+)","Tot","(+)",0,null,0,null,0,null,null,"FINALIZACION ",null,null,0,null,null,"HIPERTENSION \nARTERIAL",null,null,null,null,null,0,null,null,0]
[{"$f":"IF(ISERROR(((AK90+AL90+AN90+AP90+AR90+AU90+AV90+AY90+AZ90+BB90+BD90+BG90+BI90+BK90+BM90+BO90+BQ90+BS90+BU90+BW90+BY90+CB90)*0.2)*A31/100),0,(((AK90+AL90+AN90+AP90+AR90+AU90+AV90+AY90+AZ90+BB90+BD90+BG90+BI90+BK90+BM90+BO90+BQ90+BS90+BU90+BW90+BY90+CB90)*0.2)*A31/100))","v":0},null,null,0,null,0,0,0,"QUIMIO Total",null,0,null,null,null,null,null,null,null,null,null,null,"PERSONAS CON OTRAS ENF. CRONICAS AL CUIDADO DE NIÑOS",null,null,null,null,null,0,null,null,0]
["SINT. DETEC.",null,null,"CONTACTO",null,null,null,null,"CTRL. MEDICO",null,null,null,"FINALIZAD0",null,null,"ABANDONO ",null,null,0]
[0,null,null,"< 14a",null,null,"> 15a",null,"Pcte/Rda",null,"A Cont",null,0,null,null,null,null,null,null,null,null,"ADULTOS MAYORES EN SITUACION DE RIESGO",null,null,null,null,null,0]
[null,null,null,0,null,null,0,null,0,null,0]
["N) DERIVACIONES",null,null,null,null,null,null,null,null,null,null,null,null,null,null,null,null,null,null,null,null,null,null,null,null,null,null,null,null,null,null,null,null,null,null,null,null,null,null,null,null,"Ñ) VIVIENDA Y SANEAMIENTO",null,null,null,null,null,null,null,null,null,null,null,null,null,null,null,null,null,null,null,null,null,null,null,null,null,null,null,"O) DEFUNCIONES EN LA RONDA"]
[null,null,null,null,null,null,null,null,null,null,null,null,null,null,null,null,null,null,null,null,null,null,null,null,null,null,null,null,null,null,null,null,null,null,null,null,null,null,null,null,null,"TRAT. AGUA",null,null,null,null,null,"DISP SANITARIA EXCRETAS",null,null,null,null,null,null,null,null,null,null,null,"TRATAM. SANIT BASURA",null,null,null,null,null,null,null,null,null,"MENORES 1 AÑO",null,null,null,null,null,null,null,null,null,null,"1 a 4 AÑOS",null,"MATERNA",null,null,null,"OTRAS"]
["EMB",null,null,null,"RN",null,null,null,"PUERP",null,null,null,"Menores de 6 años",null,null,null,null,null,null,null,"E.\nCRONICAS",null,"PAP",null,"CHAGAS",null,null,null,"TBC",null,null,null,"PSICOSOC",null,null,null,"TOTAL\nDERIVACIONES",null,null,null,null,"RED",null,"EN\nVIV",null,null,"S/T","ARRASTRE",null,null,null,null,null,"LETRINA",null,null,null,"S/T",null,"REC. DOMIC.",null,null,"POZO BASURA",null,null,null,"S/T",null,null,"<7d",null,null,"7 a 28d",null,null,null,"29d a 11 m"]
[null,null,null,null,null,null,null,null,null,null,null,null,"BP- MBP",null,"RGO BP",null,"Resp",null,"Diarr",null,null,null,null,null,null,null,null,null,null,null,null,null,null,null,null,null,null,null,null,null,null,null,null,null,null,null,null,"CLOACAS",null,"PC-CT",null,"PC-ST",null,"CT",null,"ST"]
["Env",null,"Rec",null,"Env",null,"Rec",null,"Env",null,"Rec",null,"Env","Rec","Env","Rec","Env","Rec","Env","Rec","Env","Rec","Env","Rec","Env",null,"Rec",null,"Env",null,"Rec",null,"Env",null,"Rec",null,"ENV",null,null,"Rec",null,0,null,0,null,null,0,0,null,0,null,0,null,0,null,0,null,0,null,0,null,null,0,null,null,null,0,null,null,0,null,null,0,null,null,null,0,null,null,null,0,null,0,null,null,null,0]
[null,null,null,null,null,null,null,null,null,null,null,null,null,null,null,null,null,null,null,null,null,null,null,null,null,null,null,null,null,null,null,null,null,null,null,null,null,null,null,null,null,"CASAS ",null,null,null,null,null,null,null,null,null,null,null,"CHAGAS",null,null,null,null,null,null,null,null,null,null,null,"DENGUE CHIKUNGUNYA",null,null,null,null,null,null,null,null,null,null,null,"P) PROM. SALUD"]
[0,null,0,null,0,null,0,null,0,null,0,null,0,0,0,0,0,0,0,0,0,0,0,0,0,null,0,null,0,null,0,null,0,null,0,null,{"$f":"AG43+AC43+Y43+W43+U43+S43+Q43+O43+M43+I43+E43+A43","v":0},null,null,{"$f":"AI43+AE43+AA43+X43+V43+T43+R43+P43+N43+K43+G43+C43","v":0},null,"ASIGNADAS",null,null,null,null,"VISITADAS",null,null,"VACIAS",null,"DESTRUIDAS",null,"EVALUADAS",null,null,"POSITIVAS",null,null,null,null,"TRATADAS",null,null,null,"EVALUADAS",null,null,null,"POSITIVAS",null,null,null,"TRATADAS",null,null,null,"PLANIFICADAS \nEN COMUNIDAD",null,null,null,null,null,null,null,0]
[]
[null,null,null,null,null,null,null,null,null,null,null,null,null,null,null,null,null,null,null,null,null,null,null,null,null,null,null,null,null,null,null,null,null,null,null,null,null,null,null,null,null,0,null,null,null,null,0,null,null,0,null,0,null,0,null,null,0,null,null,null,null,0,null,null,null,0,null,null,null,0,null,null,null,0,null,null,null,"REALIZADAS ",null,null,null,null,null,null,null,0]
["Q) INDICADORES"]
["DE ESTRUCTURA",null,null,null,null,null,"SI","NO","DE PRODUCCION",null,null,null,null,null,"%","META",null," DE INMUNIZACIONES",null,null,null,null,null,null,null,null,null,null,null,null,null,null,null,null," DE INMUNIZACIONES",null,null,null,null,null,null,null,null,null,null,null,null,null,null,null,null,null,null,null,null,null,null,null,null,null,null," DE RESULTADO",null,null,null,null,null,null,null,null,"%",null,"META",null,null," DE RESULTADO",null,null,null,null,null,null,null,null,null,"%",null,"META RDA"]
["Formularios",null,null,null,null,null,null,null,"Cobertura a Familias",null,null,null,null,null,{"$f":"IF(ISERROR(D12/A12),0,(D12/A12)*100)","v":0},100,null,"VACUNA",null,null,null,null,"P. REF",null,"1r","2r","3r","4r",null,"T","%",null,"META",null,"VACUNA",null,null,null,null,null,null,null,null,null,"P. REF",null,null,"1r",null,null,"2r","3r",null,null,"4r","T",null,"%",null,"META",null,"Ed Fértil c/Anticoncepción",null,null,null,null,null,null,null,null,{"$f":"IF(ISERROR(D20/CH27),0,(D20/CH27)*100)","v":0},null,null,null,null,"Niños 2 a 5 Recup BP",null,null,null,null,null,null,null,null,null,{"$f":"IF(ISERROR(AV23/K80),0,(AV23/K80)*100)","v":0},null,100]
["Equipo",null,null,null,null,null,null,null,"Niños < 2 años Controlados",null,null,null,null,null,{"$f":"IF(ISERROR(((AJ22+AL22+AN22+AP22)/(A28+D28+G28))),0,(((AJ22+AL22+AN22+AP22)/(A28+D28+G28)))*100)","v":0},100,null,"BCG RN",null,null,null,null,{"$f":"U20","v":0},null,0,0,0,0,null,{"$f":"SUM(Y49:AC49)","v":0},{"$f":"IF(ISERROR(AB49/W49),0,(AB49/W49)*100)","v":0},null,100,null,"2 Ref. Varicela Ingreso Esc",null,null,null,null,null,null,null,null,null,0,null,null,0,null,null,0,0,null,null,0,{"$f":"SUM(AV49:BC49)","v":0},null,{"$f":"IF(ISERROR(BC49/AS49),0,(BC49/AS49)*100)","v":0},null,25,null,"PAP",null,null,null,null,null,null,null,null,{"$f":"IF(ISERROR(D17/CH27),0,(D17/CH27)*100)","v":0},null,null,null,null,"Niños 2 a 5 Recup AP",null,null,null,null,null,null,null,null,null,{"$f":"IF(ISERROR(AY23/K82),0,(AY23/K82)*100)","v":0},null,100]
["Combustible",null,null,null,null,null,null,null,"Niños  (2 a 5 años) Controlados",null,null,null,null,null,{"$f":"IF(ISERROR(((AJ23+AL23+AN23+AP23)/(I28+K28+M28+P28))),0,(((AJ23+AL23+AN23+AP23)/(I28+K28+M28+P28)))*100)","v":0},100,null,"Hepatitis B RN","Hepatitis B RN",null,"Hepatitis B RN","Hepatitis B RN",null,null,0,0,0,0,null,0,{"$f":"IF(ISERROR(AB50/W49),0,(AB50/W49)*100)","v":0},null,null,null,"2° Ref. Antipolio Ingreso Escolar",null,null,null,null,null,null,null,null,null,null,null,null,0,null,null,0,0,null,null,0,0,null,{"$f":"IF(ISERROR(BC50/AS49),0,(BC50/AS49)*100)","v":0},null,null,null,"Embarazadas Con MELON",null,null,null,null,null,null,null,null,{"$f":"IF(ISERROR(G23/J20),0,(G23/J20)*100)","v":0},null,80,null,null,"Niños 6 meses con LME",null,null,null,null,null,null,null,null,null,{"$f":"IF(ISERROR(CI20/CI17),0,(CI20/CI17)*100)","v":0},null,80]
[" DE DIAGNOSTICO",null,null,null,null,null,null,"%","Conc. Vis. Flias Prio",null,null,null,null,null,{"$f":"IF(ISERROR(BL15/BL14),0,(BL15/BL14))","v":0},25,null,"2° Neumococo < 1a","3ª SOT/Salk < 1a",null,"3ª SOT/Salk < 1a","3ª SOT/Salk < 1a",{"$f":"A91+C91+D91+F91","v":0},null,0,0,0,0,null,0,{"$f":"IF(ISERROR(AB51/W51),0,(AB51/W51)*100)","v":0},null,100,null,"2° Ref. DPT Ingreso Escolar",null,null,null,null,null,null,null,null,null,null,null,null,0,null,null,0,0,null,null,0,0,null,{"$f":"IF(ISERROR(BC51/AS49),0,(BC51/AS49)*100)","v":0},null,null,null,"Partos Hospitalarios",null,null,null,null,null,null,null,null,{"$f":"IF(ISERROR(O20/M20),0,(O20/M20)*100)","v":0},null,100]
["Flias Priorizadas 3 + 2:",null,null,null,null,null,null,{"$f":"IF(ISERROR(BL14/D12),0,(BL14/D12)*100)","v":0},"Conc.C.Dom Niños Bp/MBP",null,null,null,null,null,{"$f":"IF(ISERROR(CB21/(AL22+AN22+AL23+AN23)),0,(CB21/(AL22+AN22+AL23+AN23)))","v":0},3,null,"2° Rotavirus <1 a","3º Pentavalente <1 a",null,"3º Pentavalente <1 a","3º Pentavalente <1 a",null,null,0,0,0,0,null,0,{"$f":"IF(ISERROR(AB52/W51),0,(AB52/W51)*100)","v":0},null,null,null,"2° TV Ingreso Escolar",null,null,null,null,null,null,null,null,null,null,null,null,0,null,null,0,0,null,null,0,0,null,{"$f":"IF(ISERROR(BC52/AS49),0,(BC52/AS49)*100)","v":0},null,100,null,"Conc Control Médico a RN",null,null,null,null,null,null,null,null,{"$f":"IF(ISERROR(Q23/M20),0,(Q23/M20))","v":0},null,4,null,null,"% Niños BP MBP y RBP con MELaN",null,null,null,null,null,null,null,null,null,{"$f":"IF(ISERROR(BO21/(AL22+AN22+AR22+AL23+AN23+AR23)),0,(BO21/(AL22+AN22+AR22+AL23+AN23+AR23))*100)","v":0},null,100]
["Flias Urbanas",null,null,null,null,null,null,{"$f":"IF(ISERROR(T12/D12),0,(T12/D12)*100)","v":0},"Rel. Muestra/Sint Resp.",null,null,null,null,null,{"$f":"IF(ISERROR(A33/J31),0,(A33/J31))","v":0},2,null,"2° Meningococo < 1a",null,null,null,null,null,null,0,0,0,0,null,0,{"$f":"IF(ISERROR(AB53/W51),0,(AB53/W51)*100)","v":0},null,null,null,"dTpa 11 años",null,null,null,null,null,null,null,null,null,0,null,null,0,null,null,0,0,null,null,0,0,null,{"$f":"IF(ISERROR(BC53/AS53),0,(BC53/AS53)*100)","v":0},null,null,null,"Conc Control Méd. a puérpera",null,null,null,null,null,null,null,null,{"$f":"IF(ISERROR(M23/S20),0,(M23/S20))","v":0},null,4,null,null,"Sint Resp Detect. Seg zona",null,null,null,null,null,null,null,null,null,{"$f":"IF(ISERROR((A35*100)/(((20*(AK28+AN28+AR28+AV28+AZ28+BD28+BI28+BM28+BQ28+BU28+BY28))/100)*A31)),0,(A35*100)/((((20*(AK28+AN28+AR28+AV28+AZ28+BD28+BI28+BM28+BQ28+BU28+BY28))/100)*A31)/100))","v":0},null,"S/Z"]
["Flias Periurbanas",null,null,null,null,null,null,{"$f":"IF(ISERROR(V12/D12),0,(V12/D12)*100)","v":0},"Casas Evaluadas Chagas",null,null,null,null,null,{"$f":"IF(ISERROR(BB45/AU45),0,(BB45/AU45)*100)","v":0},100,null,"3° Antipolio < 1 año","2ª Rotavirus < 1 año",null,"2ª Rotavirus < 1 año","2ª Rotavirus < 1 año",null,null,0,0,0,0,null,0,{"$f":"IF(ISERROR(AB54/W51),0,(AB54/W51)*100)","v":0},null,null,null,"U.D. Meningococo",null,null,null,null,null,null,null,null,null,null,null,null,0,null,null,0,0,null,null,0,0,null,{"$f":"IF(ISERROR(BC53/AS53),0,(BC54/AS53)*100)","v":0},null,"95% AL 1° SEM",null,"RN con Pesquisa",null,null,null,null,null,null,null,null,{"$f":"IF(ISERROR(Y23/U20),0,(Y23/U20)*100)","v":0},null,100,null,null,"Pacientes TBC con Control Médico",null,null,null,null,null,null,null,null,null,{"$f":"IF(ISERROR(I36/I32),0,(I36/I32)*100)","v":0},null,100]
["Flias Rurales",null,null,null,null,null,null,{"$f":"IF(ISERROR(Y12/D12),0,(Y12/D12)*100)","v":0},"Casas Tratadas Chagas",null,null,null,null,null,{"$f":"IF(ISERROR(BJ45/BE45),0,(BJ45/BE45)*100)","v":0},100,null,"3° Pentavalente <1 año","TV 1 año",null,"TV 1 año","TV 1 año",null,null,0,0,0,0,null,0,{"$f":"IF(ISERROR(AB55/W51),0,(AB55/W51)*100)","v":0},null,null,null,"1° HPV Niñas cumplen 11 a en año en curso",null,null,null,null,null,null,null,null,null,0,null,null,0,null,null,0,0,null,null,0,0,null,{"$f":"IF(ISERROR(BC55/AS55),0,(BC55/AS55)*100)","v":0},null,null,null,"Derivaciones Enviadas/Recibidas",null,null,null,null,null,null,null,null,{"$f":"IF(ISERROR(AN43/AK43),0,(AN43/AK43)*100)","v":0},null,100,null,null,"Contactos TBC Controlados",null,null,null,null,null,null,null,null,null,{"$f":"IF(ISERROR(K36/(D36+G36)),0,(K36/(D36+G36)))*100","v":0},null,100]
["Flias Originarias",null,null,null,null,null,null,{"$f":"IF(ISERROR(R12/D12),0,(R12/D12)*100)","v":0},"Casas Evaluadas Dengue",null,null,null,null,null,{"$f":"IF(ISERROR(BN45/AU45),0,(BN45/AU45)*100)","v":0},100,null,"1° TV","A HA 1 año",null,"A HA 1 año","A HA 1 año",{"$f":"G91+H91","v":0},null,0,0,0,0,null,0,{"$f":"IF(ISERROR(AB56/W56),0,(AB56/W56)*100)","v":0},null,100,null,"1° HPV Niños cumplen 11 a en año en curso",25,25,null,null,null,null,null,null,null,0,null,null,0,null,null,0,0,null,null,0,0,null,{"$f":"IF(ISERROR(BC56/AS56),0,(BC56/AS56)*100)","v":0},null,"95% AL 1° SEM",null,"Niños < 2 a Riesgo BP",null,null,null,null,null,null,null,null,{"$f":"IF(ISERROR(AR22/AJ22),0,(AR22/AJ22)*100)","v":0},null,null,null,null,"TAES de TBC",null,null,null,null,null,null,null,null,null,{"$f":"IF(ISERROR(K32/I32),0,(K32/I32)*100)","v":0},null,100]
["Flias Migr. desde AO",null,null,null,null,null,null,{"$f":"IF(ISERROR(AC12/A12),0,(AC12/A12)*100)","v":0},"Casas Tratadas Dengue",null,null,null,null,null,{"$f":"IF(ISERROR(BV45/BR45),0,(BV45/BR45)*100)","v":0},100,null,"Unica Dosis A HA",null,null,null,null,null,null,0,0,0,0,null,0,{"$f":"IF(ISERROR(AB57/W56),0,(AB57/W56)*100)","v":0},null,null,null,"Emb. con dTpa",null,null,null,null,null,null,null,null,null,{"$f":"A91+C91+D91+F91","v":0},null,null,0,null,null,0,0,null,null,0,0,null,{"$f":"IF(ISERROR(BC57/AS57),0,(BC57/AS57)*100)","v":0},null,null,null,"Niños < 2 a Riesgo AP",null,null,null,null,null,null,null,null,{"$f":"IF(ISERROR(AT22/AJ22),0,(AT22/AJ22)*100)","v":0},null,null,null,null,"Ptes. con tratamiento por Chagas",null,null,null,null,null,null,null,null,null,{"$f":"S31","v":0}]
["Flias Migr. hacia el AO",null,null,null,null,null,null,{"$f":"IF(ISERROR(AA12/A12),0,(AA12/A12)*100)","v":0},"Superv Int. a la Familia",null,null,null,null,null,{"$f":"IF(ISERROR(CH14/BL14),0,(CH14/BL14)*100)","v":0},70,null,"Ref Neumococo 1 año","Ref Neumoc 1 año",null,"Ref Neumoc 1 año","Ref Neumoc 1 año",null,null,0,0,0,0,null,0,{"$f":"IF(ISERROR(AB58/W56),0,(AB58/W56)*100)","v":0},null,null,null,"Emb. con Vac Sinsicial",null,null,null,null,null,null,null,null,null,null,null,null,0,null,null,0,0,null,null,0,0,null,{"$f":"IF(ISERROR(BC58/AS58),0,(BC58/AS57)*100)","v":0},null,100,null,"Niños < 2 Recup BP",null,null,null,null,null,null,null,null,{"$f":"IF(ISERROR(AV22/K79),0,(AV22/K79)*100)","v":0},null,100,null,null,"Casas positivas Chagas",null,null,null,null,null,null,null,null,null,{"$f":"IF(ISERROR(BE45/BB45),0,(BE45/BB45)*100)","v":0},null,0]
["Flias con planes sociales",null,null,null,null,null,null,{"$f":"IF(ISERROR(AF12/D12),0,(AF12/D12)*100)","v":0},"Superv Prof. Flias Prio (3v)",null,null,null,null,null,{"$f":"IF(ISERROR(BX15/BB14),0,(BX15/BB14)*100)","v":0},70,null,"Ref. Meningococo 1 año","Ref Cuádruple 1 año",null,"Ref Cuádruple 1 año","Ref Cuádruple 1 año",null,null,0,0,0,0,null,0,{"$f":"IF(ISERROR(AB58/W56),0,(AB58/W56)*100)","v":0},null,null,null,"dT  Vigente > 65 a",null,null,null,null,null,null,null,null,null,{"$f":"BY91+CB91","v":0},null,null,0,null,null,0,0,null,null,0,0,null,{"$f":"IF(ISERROR(BC59/AS59),0,(BC59/AS59)*100)","v":0},null,100,null,"Niños < 2 Recup AP",null,null,null,null,null,null,null,null,{"$f":"IF(ISERROR(AY22/K81),0,(AY22/K81)*100)","v":0},null,100,null,null,"Casas Positivas Aedes",null,null,null,null,null,null,null,null,null,{"$f":"IF(ISERROR(BR45/BN45),0,(BR45/BN45)*100)","v":0},null," "]
[null,null,null,null,null,null,null,null,"% Activ Prom.Salud Comunitarias",null,null,null,null,null,{"$f":"IF(ISERROR(CH45/CH43),0,(CH45/CH43)*100)","v":0},100,null,"Unica Dosis Varicela","Ref SOT 1 año",null,"Ref SOT 1 año","Ref SOT 1 año",null,null,0,0,0,0,null,0,{"$f":"IF(ISERROR(AB60/W56),0,(AB60/W56)*100)","v":0},null,null,null,"Neumo 20 > 65 años",null,null,null,null,null,null,null,null,null,null,null,null,0,null,null,0,0,null,null,0,0,null,{"$f":"IF(ISERROR(BC60/AS59),0,(BC60/AS59)*100)","v":0},null,null,null,"Niños 2 a 5 Riesgo BP",null,null,null,null,null,null,null,null,{"$f":"IF(ISERROR(AR23/AJ23),0,(AR23/AJ23)*100)","v":0},null,null,null,null,"UROCS 1/SEC",null,null,null,null,null,null,null,null,null,0,null,"1/SEC"]
["Flias. c/Antec Mort Mat Inf",null,null,null,null,null,null,{"$f":"IF(ISERROR(AV10/D12),0,(AV10/D12)*100)","v":0},null,null,null,null,null,null,null,null,null,"4° Dosis o 1° Ref. Pentavalente",null,null,null,null,null,null,0,0,0,0,null,0,{"$f":"IF(ISERROR(AB61/W56),0,(AB61/W56)*100)","v":0},null,null,null,"Aplic. Cargadas a Nomivac",null,null,null,null,null,null,null,null,null,0,null,null,null,null,null,null,null,null,null,null,null,null,null,null,null,null,null,null,null,null,null,null,null,null,null,null,null,null,null,null,"Flias con Huerta",null,null,null,null,null,null,null,null,null,{"$f":"IF(ISERROR(AL12/D12),0,(AL12/D12)*100)","v":0}]
["F con 3 o más <6 años",null,null,null,null,null,null,{"$f":"IF(ISERROR(BI10/D12),0,(BI10/D12)*100)","v":0}," DE IMPACTO",null,null,null,null,"%",null,"META",null,"2° AG 6m a 24m",null,null,null,null,{"$f":"D90+F90+G90+H90","v":0},null,0,0,0,0,null,{"$f":"SUM(Y63:AC63)","v":0},{"$f":"IF(ISERROR(AB62/W62),0,(AB62/W62)*100)","v":0},null,null,null,"Total Aplic /AS",null,null,null,null,null,null,null,null,null,0,null,null,null,null,null,null,null,null,null,null,null,null,null,null,null,null,"Niños 2 a 5 Riesgo AP",null,null,null,null,null,null,null,null,{"$f":"IF(ISERROR(AT23/AJ23),0,(AT23/AJ23)*100)","v":0},null,null,null,null,"Flias con Granja",null,null,null,null,null,null,null,null,null,{"$f":"IF(ISERROR(AP12/D12),0,(AP12/D12)*100)","v":0}]
["Flias con Hacinamiento",null,null,null,null,null,null,{"$f":"IF(ISERROR(BL10/D12),0,(BL10/D12)*100)","v":0},"Agua Seg (Trat Red + Viv)",null,null,null,null,{"$f":"IF(ISERROR((AP41+AR41)/D12),0,((AP41+AR41)/D12)*100)","v":0},null,100,null,null,null,null,null,null,null,null,null,null,null,null,null,null,null,null," ",null,"VAC COVID APLIC EN LA RONDA",null,null,null,null,null,null,null,null,null,0,null,null,null,null,null,null,null,null,null,null,null,null,null,null,null,null,"U) A llenar en 1° Ronda del Año"]
["Flias con Analfabet",null,null,null,null,null,null,{"$f":"IF(ISERROR(BO10/D12),0,(BO10/D12)*100)","v":0},"DSE (Arrastre y letrinas)",null,null,null,null,{"$f":"IF(ISERROR((AV41+AX41+AZ41+BB41+BD41)/D12),0,((AV41+AX41+AZ41+BB41+BD41)/D12)*100)","v":0},null,100,null,"R) PRODUCCION Y RENDIMIENTO",null,null,null,null,null,null,null,null,null,null,null,null,null,null,null,null,null,null,null,null,null,null,null,null,null,null,null,null,null,null,null,null,null,null,null,null,null,null,null,null,null,null,null,"Piso",null,null,null,null,"Techo",null,null,null,null,"Paredes",null,null,null,null,null,null,null,null,null,"Cocina",null,null,null,null,"Tenencia"]
["Flias con Suicidio",null,null,null,null,null,null,{"$f":"IF(ISERROR(BT11/D12),0,(BT11/D12)*100)","v":0},"TSB (Recolección + Pozo)",null,null,null,null,{"$f":"IF(ISERROR((BH41+BK41)/D12),0,((BH41+BK41)/D12)*100)","v":0},null,100,null,"DIAS A TRAB. /RONDA",null,null,"DIAS INCLEM CLIMAT.",null,null,"DIAS Y NROS DE ARTICULOS TOMADOS",null,null,null,"CAPACITACIONES Y OTRAS ACTIVIDADES",null,null,null,null,null,null,null,null,null,null,null,null,null,null,null,null,null,null,null,null,null,null,"DIAS TRABAJADOS\nEN TERRENO",null,null,null,null,"PROM. DIARIO DE FLIAS VISIT.",null,null,null,null,null,"Mosaico/B.",null,null,null,0,"Losa",null,null,0,null,"Ladrillo",null,null,0,null,"Madera",null,null,null,0,"Gas",null,null,0,null,"Segura",null,null,0]
["Flias c /tentativa suicidio",null,null,null,null,null,null,{"$f":"IF(ISERROR(BV11/D12),0,(BV11/D12)*100)","v":0},"Emb Adolescente",null,null,null,null,{"$f":"IF(ISERROR(L20/J20),0,(L20/J20)*100)","v":0},null,null,null,null,null,null,null,null,null,0,null,null,null,0,null,null,null,null,null,null,null,null,null,null,0,null,null,null,null,null,null,null,null,null,null,null,null,null,null,null,null,null,null,null,null,null,null,"Cemento",null,null,null,0,"Chapa\nZinc",null,null,0,null,"Bloque",null,null,0,null,"Quincho",null,null,null,0,"Leña/\nCarb",null,null,0,null,"Inseg.",null,null,0]
["Flias con Alcoholismo",null,null,null,null,null,null,{"$f":"IF(ISERROR(BY11/D12),0,(BY11/D12)*100)","v":0},"Niños <2 Bajo Peso/MBP",null,null,null,null,{"$f":"IF(ISERROR((AL22+AN22)/(AJ22+AP22+AL22+AN22)),0,((AL22+AN22)/(AJ22+AP22+AL22+AN22))*100)","v":0},null,null,null,null,null,null,null,null,null,0,null,null,null,0,null,null,null,null,null,null,null,null,null,null,0,null,null,null,null,null,null,null,null,null,null,null,null,null,null,null,null,null,null,null,null,null,null,"Tierra",null,null,null,0,"Paja/\nBarro",null,null,0,null,"Adobe",null,null,0,null,"Carton/Pl",null,null,null,0,"Otros",null,null,0,null,"Hac",null,null,0,null,null,null,5]
["Flias c/ otras Adicciones",null,null,null,null,null,null,{"$f":"IF(ISERROR(CC11/D12),0,(CC11/D12)*100)","v":0},"Niños <2 a AP",null,null,null,null,{"$f":"IF(ISERROR(AP22/(AJ22+AP22+AL22+AN22)),0,(AP22/(AJ22+AP22+AL22+AN22))*100)","v":0},null,null,null,0,null,null,0,null,null,0,null,null,null,0,null,null,null,null,null,null,null,null,null,null,0,null,null,null,null,null,null,null,null,null,null,null,0,null,null,null,null,{"$f":"IF(ISERROR(G12/AY68),0,(G12/AY68))","v":0},null,null,null,null,null,"Otros",null,null,null,0,"Otros",null,null,0,null,"Piedra",null,null,0,null,"Otro",null,null,null,0,"Helad.",null,null,0]
["Flias con VIF",null,null,null,null,null,null,{"$f":"IF(ISERROR(CF11/D12),0,(CF11/D12)*100)","v":0},"Niños < 2 baja y MBT",null,null,null,null,{"$f":"IF(ISERROR((AZ22+BB22)/(AJ22+AP22+AL22+AN22)),0,((AZ22+BB22)/(AJ22+AP22+AL22+AN22))*100)","v":0},null,null,null,"S) DETALLE DE LAS DEFUNCIONES (Todas las del Sector)",null,null,null,null,null,null,null,null,null,null,null,null,null,null,null,null,null,null,null,null,null,null,null,null,null,null,null,null,null,null,null,null,null,null,null,null,null,null,null,null,null,null,null,"Agua",null,"Corriente a Domic",null,null,"Grifo Terr",null,null,"Grifo Público",null,null,"Bomba",null,null,"Pozo",null,null,null,"Camión Aguatero / Cisterna",null,"Vertiente/Rio/Aceq",null,null,"Laguna",null,null,"Lluvia/Aljibe"]
["Flias con Diabetes",null,null,null,null,null,null,{"$f":"IF(ISERROR(AB31/D12),0,(AB31/D12)*100)","v":0},"Niños 2 a 5 Bajo Peso/MBP",null,null,null,null,{"$f":"IF(ISERROR((AL23+AN23)/(AJ23+AP23+AL23+AN23)),0,((AL23+AN23)/(AJ23+AP23+AL23+AN23))*100)","v":0},null,null,null,"APELLIDO Y NOMBRE",null,null,null,null,null,null,"DOMICILIO",null,null,null,null,null,null,null,null,"NACIMIENTO",null,null,null,null,"DEFUNCION",null,null,null,"PESO\nAL NACER",null,null,null,"CAUSA",null,null,null,null,null,null,null,null,null,"CLASIFICAC."]
["Flias con Hipertensión",null,null,null,null,null,null,{"$f":"IF(ISERROR(AB32/D12),0,(AB32/D12)*100)","v":0},"Niños 2 a 5 AP",null,null,null,null,{"$f":"IF(ISERROR(AP23/(AJ23+AP23+AL23+AN23)),0,(AP23/(AJ23+AP23+AL23+AN23))*100)","v":0}]
[]
["Personas con otras enfermedades crónicas al cuidado de niños",null,null,null,null,null,null,{"$f":"IF(ISERROR(AB33/D12),0,(AB33/D12)*100)","v":0},"Niños 2 a 5 baja y MBT",null,null,null,null,{"$f":"IF(ISERROR((AZ23+BB23)/(AJ23+AP23+AL23+AN23)),0,((AZ23+BB23)/(AJ23+AP23+AL23+AN23))*100)","v":0},null,null,null,null,null,null,null,null,null,null,null,null,null,null,null,null,null,null,null,null,null,null,null,null,null,null,null,null,null,null,null,null,null,null,null,null,null,null,null,null,null,null,null,null,null,null,null,null,null,0,null,null,0,null,null,0,null,null,0,null,null,0,null,null,null,0,null,0,null,null,0,null,null,0]
["Pers c/O Social/Pob total",null,null,null,null,null,null,{"$f":"IF(ISERROR(CI27/CC28),0,(CI27/CC28)*100)","v":0}]
[]
[]
[]
[]
["BP+MBP Ronda Anterior Men2a: ",null,null,null,null,null,null,null,null,null,0]
["BP+MBP Ronda Anterior 2 a 6a: ",null,null,null,null,null,null,null,null,null,0]
["AP Ronda Anterior Men2a: ",null,null,null,null,null,null,null,null,null,0]
["AP Ronda Anterior 2 a 6a: ",null,null,null,null,null,null,null,null,null,0]
[]
[]
[]
[]
[]
["0 a 5m",null,null,"6 a 11m",null,null,"1 AÑO",null,"2 AÑOS",null,"3 AÑOS",null,"4 AÑOS",null,null,"5 AÑOS",null,null,"6 AÑOS",null,null,"7 A 9 AÑOS",null,null,null,"10 AÑOS",null,"11 AÑOS",null,null,"12 A 14",null,null,null,null,null,"15 A 19",null,null,"20 A 24",null,null,null,"25 A 29",null,null,null,"30 A 34",null,null,null,"35 A 39",null,null,null,"40 A 44",null,null,null,null,"45 A 49",null,null,null,"50 A 54",null,null,null,"55 A 59",null,null,null,"60 A 64",null,null,null,"65 y +",null,null,null,"TOTAL",null,null,null,null,"MUJERES\n10 A 49"]
["M",null,"F","M",null,"F","M","F","M","F","M","F","M",null,"F","M",null,"F","M",null,"F","M",null,"F",null,"M","F","M",null,"F","M",null,null,"F",null,null,"M","F",null,"M",null,"F",null,"M",null,null,"F","M",null,null,"F","M",null,"F",null,"M",null,null,"F",null,"M",null,"F",null,"M",null,"F",null,"M",null,"F",null,"M",null,"F",null,"M",null,null,"F","M",null,"F"]
[0,null,0,0,null,0,0,0,0,0,0,0,0,null,0,0,null,0,0,null,0,0,null,0,null,0,0,0,null,0,0,null,null,0,null,null,0,0,null,0,null,0,null,0,null,null,0,0,null,null,0,0,null,0,null,0,null,null,0,null,0,null,0,null,0,null,0,null,0,null,0,null,0,null,0,null,0,null,null,0,{"$f":"SUM(A90,D90,G90,I90,K90,M90,P90,S90,V90,Z90,AB90,AE90,AK90,AN90,AR90,AV90,AZ90,BD90,BI90,BM90,BQ90,BU90,BY90)","v":0},null,{"$f":"SUM(C90,F90,H90,J90,L90,O90,R90,U90,X90,AA90,AD90,AH90,AL90,AP90,AU90,AY90,BB90,BG90,BK90,BO90,BS90,BW90,CB90)","v":0},null,null,{"$f":"SUM(AA90,AD90,AH90,AL90,AP90,AU90,AY90,BB90,BG90,BK90)","v":0}]
[{"$f":"SUM(A90:C90)","v":0},null,null,{"$f":"SUM(D90,F90)","v":0},null,null,{"$f":"SUM(G90,H90)","v":0},null,{"$f":"SUM(I90,J90)","v":0},null,{"$f":"SUM(K90,L90)","v":0},null,{"$f":"SUM(M90,O90)","v":0},null,null,{"$f":"SUM(P90,R90)","v":0},null,null,{"$f":"SUM(S90,U90)","v":0},null,null,{"$f":"SUM(V90,X90)","v":0},null,null,null,{"$f":"SUM(Z90,AA90)","v":0},null,{"$f":"SUM(AB90,AD90)","v":0},null,null,{"$f":"SUM(AE90,AH90)","v":0},null,null,null,null,null,{"$f":"SUM(AK90,AL90)","v":0},null,null,{"$f":"SUM(AN90,AP90)","v":0},null,null,null,{"$f":"SUM(AR90,AU90)","v":0},null,null,null,{"$f":"SUM(AV90,AY90)","v":0},null,null,null,{"$f":"SUM(AZ90,BB90)","v":0},null,null,null,{"$f":"SUM(BD90,BG90)","v":0},null,null,null,null,{"$f":"SUM(BI90,BK90)","v":0},null,null,null,{"$f":"SUM(BM90,BO90)","v":0},null,null,null,{"$f":"SUM(BQ90,BS90)","v":0},null,null,null,{"$f":"SUM(BU90,BW90)","v":0},null,null,null,{"$f":"SUM(BY90,CB90)","v":0},null,null,null,{"$f":"SUM(CC90,CE90)","v":0}]
["Mejor Población: 1° - 2019"]
["Cobertura: 1%"]